{"text_format":"1","workbook":"xlsx","n_sheets":28,"sheets":["Planned Maint v6.2 CSV File","Contractor##","Project Overheads & Scaffold","Summary","Packet Rate Library","1-44 Denyer House ","1-10 Lissenden Mansions ","25 Troyes House ","11-20 Lissenden Mansions-","5 Gillies Street","8 Dale Road","11 Gillies Street A-B","30 Grove Terrace Flats A-C","25 Elaine Grove","130 Prince of Wales Road","25 Herbert Street Flats A-B","128 Prince of Wales","10 Gillies Street","17 Ascham Street","13 Doynton Street","111 Chetwynd Road","19 Ascham Street Flats A-B","66LevertonStreet(Flats A-B) ","13 Oseney Crescent ","29 Grove TerraceFlatsA-C-","28 Leighton Road Flats A-B","13 Mortimer Terrace","13 Winscombe Terrace"],"not_rendered":{"charts":0,"images":1,"macros":1,"external_links":3,"defined_names":473,"comments":1,"pivot_tables":0},"unopened":[],"bounds":{"document_bytes":16777216,"sheet_cells":100000,"rows_first":2000,"rows_last":500,"rows_between":2000,"halvings":0,"cell_chars":16384,"cell_head_chars":4096},"cells_cut":0,"cells_raw":0,"read":"whole","date_system":"1900"}

{"sheet":"Planned Maint v6.2 CSV File","index":0,"n_rows":3198,"n_cols":10,"rows_kept":3198,"cut":false,"hidden":true,"merged":[]}
[null,null,null,null,null,null,null,"Contractor ###"]
["Code","Short","Element","Section","SubSection","UOM","Rate","%","Rate","Medium"]
["0011AA","KERB:RENEW 127X254MM PCC KERB","GROUNDWORKS","Kerbs, Channels and Edges","Kerbs - Precast Conctete","LM",19.510000000000002,{"$f":"SUMIF('Contractor##'!C:C,'Planned Maint v6.2 CSV File'!C:C,'Contractor##'!F:F)","v":-0.1777},{"$f":"(1+H3)*G3","v":16.043073000000003},"Kerb:Renew precast concrete kerb, straight or curved by carefully taking up existing kerb and haunching, remove spoil, clean up concrete bed, supply and lay new 127x254mm precast concrete kerb and haunch to both sides including pointing, formwork and make good to existing finishes."]
["0011AB","KERB:LAY NEW 127X254MM PCC KERB","GROUNDWORKS","Kerbs, Channels and Edges","Kerbs - Precast Conctete","LM",27.02,{"$f":"SUMIF('Contractor##'!C:C,'Planned Maint v6.2 CSV File'!C:C,'Contractor##'!F:F)","v":-0.1777},{"$f":"(1+H4)*G4","v":22.218546},"Kerb:Excavate, remove waste and debris, subsequently backfill as necessary, level and compact bottom of excavations, supply and lay 127x254mm precast concrete kerb, straight or curved, on and including 200x100mm concrete bed and haunch both sides and pointing, all necessary formwork and make good to existing finishes."]
["0011AC","KERB:REBED ANY TYPE OF PCC KERB","GROUNDWORKS","Kerbs, Channels and Edges","Kerbs - Precast Conctete","LM",15.64,{"$f":"SUMIF('Contractor##'!C:C,'Planned Maint v6.2 CSV File'!C:C,'Contractor##'!F:F)","v":-0.1777},12.860772000000001,"Kerb:Rebed precast concrete kerb, straight or curved on plan, by carefully taking up existing kerb and haunching, remove waste and debris, clean up concrete bed and bed and haunch to existing 127x254mm precast concrete kerb to both sides including pointing, formwork and make good to existing finishes."]
["0013AA","CHANNEL:RENEW NE 250X125MM","GROUNDWORKS","Kerbs, Channels and Edges","Channels - Precast Conctete","LM",19.39,{"$f":"SUMIF('Contractor##'!C:C,'Planned Maint v6.2 CSV File'!C:C,'Contractor##'!F:F)","v":-0.1777},15.944397,"Channel:Renew PCC channel, take up existing including haunching, remove spoil, clean up existing bed, supply and lay new up to 250x125mm PCC channel including haunch both sides, pointing, formwork and make good to existing finishes."]
["0013AB","CHANNEL:REBED NE 250X125MM","GROUNDWORKS","Kerbs, Channels and Edges","Channels - Precast Conctete","LM",15.64,{"$f":"SUMIF('Contractor##'!C:C,'Planned Maint v6.2 CSV File'!C:C,'Contractor##'!F:F)","v":-0.1777},12.860772000000001,"Channel:Rebed precast concrete channel, take up existing including haunching, remove waste and debris, clean up existing bed, and clean and relay ne 250x125mm precast concrete channel including haunch both sides, pointing, formwork and make good to existing finishes."]
["0015AA","EDGING:RENEW 50X152MM PCC EDGING","GROUNDWORKS","Kerbs, Channels and Edges","Edgings - Precast Conctete","LM",14.2,{"$f":"SUMIF('Contractor##'!C:C,'Planned Maint v6.2 CSV File'!C:C,'Contractor##'!F:F)","v":-0.1777},11.67666,"Edging:Renew precast concrete edging, straight or curved by carefully taking up existing edging and haunching, remove spoil, clean up concrete bed, supply and bed up to 50x152mm precast concrete edging, haunch both sides, point including all formwork and make good to finishes."]
["0015AB","EDGING:RENEW 25X150MM TIMBER","GROUNDWORKS","Kerbs, Channels and Edges","Edgings - Precast Conctete","LM",5.91,{"$f":"SUMIF('Contractor##'!C:C,'Planned Maint v6.2 CSV File'!C:C,'Contractor##'!F:F)","v":-0.1777},4.8597930000000007,"Edging:Renew or supply and fix new 25x150mm tanalised softwood edging board to and including 50x50x600mm long tanalised pegs at 900mm centres driven firmly into the ground including all necessary excavation and make good to existing finishes."]
["0015AC","EDGING:LAY 50X152MM PCC EDGING","GROUNDWORKS","Kerbs, Channels and Edges","Edgings - Timber","LM",20.56,{"$f":"SUMIF('Contractor##'!C:C,'Planned Maint v6.2 CSV File'!C:C,'Contractor##'!F:F)","v":-0.1777},16.906488,"Edging:Excavate, remove waste and debris, backfill as necessary, level and compact bottom of excavations lay concrete bed 200x100mm and supply and lay 50x152mm precast concrete edging, straight or curved, haunch to both sides, point including all formwork and make good to existing finishes."]
["0015AD","EDGING:REBED STRAIGHT AND CURVED PCC EDGING","GROUNDWORKS","Kerbs, Channels and Edges","Edgings - Precast Conctete","LM",12.13,{"$f":"SUMIF('Contractor##'!C:C,'Planned Maint v6.2 CSV File'!C:C,'Contractor##'!F:F)","v":-0.1777},9.9744990000000016,"Edging:Rebed any precast concrete edging, straight or curved on plan, by carefully taking up existing edging and haunching, remove waste and debris, clean up concrete bed and edging and relay including haunch both sides, point including all formwork and make good to existing finishes."]
["0030AA","PATH:EXCAVATE LAY NE 100MM CONCRETE BED","GROUNDWORKS","Paths and Pavings","Paving - Insitu Conctete","SM",58.8,{"$f":"SUMIF('Contractor##'!C:C,'Planned Maint v6.2 CSV File'!C:C,'Contractor##'!F:F)","v":-0.1777},48.351239999999997,"Path:Excavate 250mm below required finished level, remove waste and debris, level and compact bottoms of excavations and fill, 150mm hardcore bed, blinded and ne 100mm concrete trowelled smooth including dishing to gullies and the like and all formwork."]
["0030AB","PATH:RENEW NE 100MM CONCRETE BED AND SUB-BASE","GROUNDWORKS","Kerbs, Channels and Edges","Edgings - Timber","SM",62.78,{"$f":"SUMIF('Contractor##'!C:C,'Planned Maint v6.2 CSV File'!C:C,'Contractor##'!F:F)","v":-0.1777},51.623994000000003,"Path:Renew concrete path by breaking up existing concrete and excavating 250mm below existing level, remove waste and debris, fill soft spots, level and compact bottoms of excavations and fill, 150mm hardcore bed, blinded and ne 100mm concrete trowelled smooth including dishing to gullies and the like and all formwork"]
["0030AC","FINISH:EXTRA FOR NON-SLIP FINISH TO PATH","GROUNDWORKS","Paths and Pavings","Paving - Insitu Conctete","SM",3.22,{"$f":"SUMIF('Contractor##'!C:C,'Planned Maint v6.2 CSV File'!C:C,'Contractor##'!F:F)","v":-0.1777},2.6478060000000001,"Finish:Extra for non-slip surface to concrete- carborundum grains at the rate of 1kg/sm."]
["0030BA","DRIVE:RENEW 100MM CONCRETE BED AND SUB-BASE","GROUNDWORKS","Paths and Pavings","Paving - Insitu Conctete","SM",87.34,{"$f":"SUMIF('Contractor##'!C:C,'Planned Maint v6.2 CSV File'!C:C,'Contractor##'!F:F)","v":-0.1777},71.819682,"Drive:Renew concrete drive or hardstanding by breaking up existing concrete and excavating 450mm below existing level, remove spoil, fill soft spots, level or grade and compact bottoms of excavations and fill, 350mm hardcore bed, blinded and 100mm concrete with mesh reinforcement, surface tamped or trowelled smooth including dishing to gullies and the like and all formwork."]
["0030CA","PATH:REMOVE AND INFILL WITH TOPSOIL","GROUNDWORKS","Paths and Pavings","Paving - Insitu Conctete","SM",42.93,{"$f":"SUMIF('Contractor##'!C:C,'Planned Maint v6.2 CSV File'!C:C,'Contractor##'!F:F)","v":-0.1777},35.301338999999999,"Path:Break up and remove any thickness existing path and bed under and remove waste and debris, import topsoil and deposit to make up levels and grade to suit existing contours."]
["0050AA","PAVING:RENEW 70MM MACADAM AND 75MM SUB-BASE","GROUNDWORKS","Paths and Pavings","Paving - Coated Macadam","SM",41.51,{"$f":"SUMIF('Contractor##'!C:C,'Planned Maint v6.2 CSV File'!C:C,'Contractor##'!F:F)","v":-0.1777},34.133673000000002,"Paving:Renew macadam by breaking up existing paving and excavations 145mm below existing level, remove spoil, fill soft spots, level and compact bottoms of excavations and fill in layers, 75mm crusher run of broken stone, blinding, 50mm base course of 20mm nominal size open textured macadam and 20mm wearing course of 6mm nominal size medium textured macadam laid to falls, crossfalls and slopes including joints to any existing finishes."]
["0050AB","MACADAM:EXCAVATE AND LAY 70MM PAVING","GROUNDWORKS","Paths and Pavings","Paving - Coated Macadam","SM",48.12,{"$f":"SUMIF('Contractor##'!C:C,'Planned Maint v6.2 CSV File'!C:C,'Contractor##'!F:F)","v":-0.1777},39.569076000000003,"Macadam:Excavate 145mm below required finished level, remove waste and debris, level and compact bottoms of excavations and fill in layers, 75mm crusher run of broken stone blinding, 50mm base course of 20mm nominal size open-textured macadam and 20mm wearing course of 6mm nominal medium textured macadam laid to falls, crossfalls and slopes."]
["0050BA","PAVING:RENEW 60MM MACADAM AND 140MM SUB-BASE","GROUNDWORKS","Paths and Pavings","Paving - Coated Macadam","SM",47.47,{"$f":"SUMIF('Contractor##'!C:C,'Planned Maint v6.2 CSV File'!C:C,'Contractor##'!F:F)","v":-0.1777},39.034581000000003,"Paving:Renew macadam by breaking up existing paving and excavations 200mm below existing level, remove spoil, fill soft spots, level or grade and compact bottoms of excavations and fill in layers, 140mm bed of granular sub-base material, blinding, 20mm dense basecourse macadam to a depth of 40mm, and a 6mm dense wearing course macadam to a depth of 20mm laid to falls, crossfalls and slopes including joints to any existing finishes."]
["0050CA","PAVING:RENEW 60MM MACADAM SURFACING","GROUNDWORKS","Paths and Pavings","Paving - Coated Macadam","SM",28.02,{"$f":"SUMIF('Contractor##'!C:C,'Planned Maint v6.2 CSV File'!C:C,'Contractor##'!F:F)","v":-0.1777},23.040846000000002,"Paving:Renew macadam by breaking up existing surfacing,remove spoil, fill soft spots or pot holes with granular material, level or grade and compact surface of sub-base, lay 20mm dense base course macadam to a depth of 40mm, and a 6mm dense wearing course macadam to a depth of 20mm laid to falls, crossfalls and slopes including joints to any existing finishes."]
["0050DA","PAVING:RENEW 90MM MACADAM SURFACING","GROUNDWORKS","Paths and Pavings","Paving - Coated Macadam","SM",44.44,{"$f":"SUMIF('Contractor##'!C:C,'Planned Maint v6.2 CSV File'!C:C,'Contractor##'!F:F)","v":-0.1777},36.543011999999997,"Paving:Renew macadam by breaking up existing surfacing,remove spoil, fill soft spots or pot holes with granular material, level or grade and compact surface of sub-base, lay 20mm dense base course macadam to a depth of 65mm, and a 6mm dense wearing course macadam to a depth of 25mm laid to falls, crossfalls and slopes including joints to any existing finishes."]
["0050DB","MACADAM:EXCAVATE AND LAY 90MM PAVING","GROUNDWORKS","Paths and Pavings","Paving - Coated Macadam","SM",51.12,{"$f":"SUMIF('Contractor##'!C:C,'Planned Maint v6.2 CSV File'!C:C,'Contractor##'!F:F)","v":-0.1777},42.035975999999998,"Macadam:Excavate 340mm below required finished level, remove waste and debris, level and compact bottoms of excavations and fill in layers, 250mm crusher run of broken stone blinding, 65mm base course of 20mm nominal size open-textured macadam and 25mm wearing course of 6mm nominal medium textured macadam laid to falls, crossfalls and slopes."]
["0060AA","LINE:FORM THERMOPLASTIC - 50MM","GROUNDWORKS","Paths and Pavings","Road Markings - Lines","LM",4.26,{"$f":"SUMIF('Contractor##'!C:C,'Planned Maint v6.2 CSV File'!C:C,'Contractor##'!F:F)","v":-0.1777},3.5029979999999998,"Line:Form 50mm thermoplastic line to road surface including setting out on site"]
["0060AB","LINE:FORM THERMOPLASTIC - 100MM","GROUNDWORKS","Paths and Pavings","Road Markings - Lines","LM",6.91,{"$f":"SUMIF('Contractor##'!C:C,'Planned Maint v6.2 CSV File'!C:C,'Contractor##'!F:F)","v":-0.1777},5.6820930000000001,"Line:Form 100mm thermoplastic line to road surface including setting out on site"]
["0060AC","LINE:FORM ROAD PAINT- 50MM","GROUNDWORKS","Paths and Pavings","Road Markings - Lines","LM",3.22,{"$f":"SUMIF('Contractor##'!C:C,'Planned Maint v6.2 CSV File'!C:C,'Contractor##'!F:F)","v":-0.1777},2.6478060000000001,"Line:Form 50mm Road Marking Paint line to road surface including setting out on site"]
["0060AD","LINE:FORM ROAD PAINT- 100MM","GROUNDWORKS","Paths and Pavings","Road Markings - Lines","LM",4.8899999999999997,{"$f":"SUMIF('Contractor##'!C:C,'Planned Maint v6.2 CSV File'!C:C,'Contractor##'!F:F)","v":-0.1777},4.0210470000000003,"Line:Form 100mm Road Marking Paint line to road surface including setting out on site"]
["0060AE","LINE:BURN OFF 50MM WIDE","GROUNDWORKS","Paths and Pavings","Road Markings - Lines","LM",4.37,{"$f":"SUMIF('Contractor##'!C:C,'Planned Maint v6.2 CSV File'!C:C,'Contractor##'!F:F)","v":-0.1777},3.5934510000000004,"Line: Burn off and completely opliteraterate 50 mm line"]
["0060AF","LINE:BURN OFF 100MM WIDE","GROUNDWORKS","Paths and Pavings","Road Markings - Lines","LM",5.62,{"$f":"SUMIF('Contractor##'!C:C,'Planned Maint v6.2 CSV File'!C:C,'Contractor##'!F:F)","v":-0.1777},4.6213259999999998,"Line: Burn off and completely opliteraterate 100 mm line"]
["0061AA","WORD:FORM IN THERMOPLASTIC -50MM LINES-PER LETTER","GROUNDWORKS","Paths and Pavings","Road Markings - Symbols, Words","NO",20,{"$f":"SUMIF('Contractor##'!C:C,'Planned Maint v6.2 CSV File'!C:C,'Contractor##'!F:F)","v":-0.1777},16.446000000000002,"Word:Form letters of words (Exit, Welcome etc) in 50mm thermoplastic line to road surface including setting out on site- per leter of word"]
["0061AB","WORD:FORM IN THERMOPLASTIC -100MM LINES-PER LETTER","GROUNDWORKS","Paths and Pavings","Road Markings - Symbols, Words","NO",35.869999999999997,{"$f":"SUMIF('Contractor##'!C:C,'Planned Maint v6.2 CSV File'!C:C,'Contractor##'!F:F)","v":-0.1777},29.495901,"Word:Form letters of words (Exit, Welcome etc) in 100mm thermoplastic line to road surface including setting out on site- per letter of word"]
["0061AC","ARROW:FORM IN THERMOPLASTIC - 50MM","GROUNDWORKS","Paths and Pavings","Road Markings - Symbols, Words","NO",27.75,{"$f":"SUMIF('Contractor##'!C:C,'Planned Maint v6.2 CSV File'!C:C,'Contractor##'!F:F)","v":-0.1777},22.818825,"Line:Form Directional Arrow in 50mm thermoplastic line to road surface including setting out on site- standard size"]
["0061AD","ARROW:FORM IN THERMOPLASTIC - 100MM","GROUNDWORKS","Paths and Pavings","Road Markings - Symbols, Words","NO",48.12,{"$f":"SUMIF('Contractor##'!C:C,'Planned Maint v6.2 CSV File'!C:C,'Contractor##'!F:F)","v":-0.1777},39.569076000000003,"Line:Form Directional Arrow in 100mm thermoplastic line to road surface including setting out on site- standard size"]
["0061AE","SYMBOL:FORM DISABLED IN THERMOPLASTIC ","GROUNDWORKS","Paths and Pavings","Road Markings - Symbols, Words","NO",34.75,{"$f":"SUMIF('Contractor##'!C:C,'Planned Maint v6.2 CSV File'!C:C,'Contractor##'!F:F)","v":-0.1777},28.574925,"Symbol:Form Disabled symbol in thermoplastic to car park surface including setting out on site- standard size"]
["0061AF","SYMBOL:FORM MOTHER AND CHILD IN THERMOPLASTIC ","GROUNDWORKS","Paths and Pavings","Road Markings - Symbols, Words","NO",34.75,{"$f":"SUMIF('Contractor##'!C:C,'Planned Maint v6.2 CSV File'!C:C,'Contractor##'!F:F)","v":-0.1777},28.574925,"Symbol:Form Mother and Child symbol in thermoplastic to car park surface including setting out on site- standard size"]
["0070AA","PAVING:LIFT AND REBED PCC PAVING FLAGS","GROUNDWORKS","Paths and Pavings","Paving - Precast Concrete Flag","SM",8.3699999999999992,{"$f":"SUMIF('Contractor##'!C:C,'Planned Maint v6.2 CSV File'!C:C,'Contractor##'!F:F)","v":-0.1777},6.8826509999999992,"Paving:Lift any size existing precast concrete paving flags, fill and compact hardcore to soft spots and rebed existing flags on 25mm bed of cement mortar (1:4) and point up joints."]
["0070BA","PAVING:RENEW NON STANDARD PCC PAVING FLAGS - 50MM","GROUNDWORKS","Paths and Pavings","Paving - Precast Concrete Flag","SM",48.11,{"$f":"SUMIF('Contractor##'!C:C,'Planned Maint v6.2 CSV File'!C:C,'Contractor##'!F:F)","v":-0.1777},39.560853000000002,"Paving:Lift remnants of existing non-standard size precast concrete paving flags, remove from site to approved tip, fill and compact hardcore to soft spots and lay 50mm non-standard size precast concrete paving flags on 25mm bed of cement mortar (1:4), point up joints including any additional cutting and fitting to suit."]
["0070BC","PAVING:RENEW STANDARD PCC PAVING FLAGS","GROUNDWORKS","Paths and Pavings","Paving - Precast Concrete Flag","SM",28.53,{"$f":"SUMIF('Contractor##'!C:C,'Planned Maint v6.2 CSV File'!C:C,'Contractor##'!F:F)","v":-0.1777},23.460219000000002,"Paving:Lift remnants of existing precast concrete paving flags, remove from site to approved tip, fill and compact hardcore to soft spots and lay 50mm standard size precast concrete paving flags on 25mm bed of cement mortar (1:4), point up joints including any additional cutting and fitting to suit."]
["0070BD","FLAG:EXCAVATE AND LAY NEW PRECAST CONCRETE – 50 MM","GROUNDWORKS","Paths and Pavings","Paving - Precast Concrete Flag","SM",45.94,{"$f":"SUMIF('Contractor##'!C:C,'Planned Maint v6.2 CSV File'!C:C,'Contractor##'!F:F)","v":-0.1777},37.776462000000002,"Flag:Excavate 150mm below required finished level, remove waste and debris, and fill in layers, including compacting 75mm crusher run of broken stone blinding and lay 50mm standard size precast concrete paving flags on 25mm bed of cement mortar (1:4) including point up joints and all cutting and dishing to gullies, covers and the like."]
["0070BE","FLAG:EXCAVATE AND LAY NEW  PRECAST CONCRETE - 63MM","GROUNDWORKS","Paths and Pavings","Paving - Precast Concrete Flag","SM",47.94,{"$f":"SUMIF('Contractor##'!C:C,'Planned Maint v6.2 CSV File'!C:C,'Contractor##'!F:F)","v":-0.1777},39.421061999999999,"Flag:Excavate 150mm below required finished level, remove waste and debris, and fill in layers, including compacting 75mm crusher run of broken stone blinding and lay 63mm standard size precast concrete paving flags on 25mm bed of cement mortar (1:4) including point up joints and all cutting and dishing to gullies, covers and the like."]
["0070BF","FLAG:LIFT AND REBED SINGLE PCC PAVING","GROUNDWORKS","Paths and Pavings","Paving - Precast Concrete Flag","NO",6.68,{"$f":"SUMIF('Contractor##'!C:C,'Planned Maint v6.2 CSV File'!C:C,'Contractor##'!F:F)","v":-0.1777},5.4929639999999997,"Flag:Lift any size existing precast concrete paving flag, fill and compact hardcore to soft spots and rebed existing flag on 25mm bed of cement mortar (1:4) and point up joints."]
["0070BG","PAVING:RENEW NON STANDARD PCC PAVING FLAGS - 63MM","GROUNDWORKS","Paths and Pavings","Paving - Precast Concrete Flag","SM",44.07,{"$f":"SUMIF('Contractor##'!C:C,'Planned Maint v6.2 CSV File'!C:C,'Contractor##'!F:F)","v":-0.1777},36.238761000000004,"Paving:Lift remnants of existing non-standard size precast concrete paving flags, remove from site to approved tip, fill and compact hardcore to soft spots and lay 63mm non-standard size precast concrete paving flags on 25mm bed of cement mortar (1:4), point up joints including any additional cutting and fitting to suit."]
["0070BH","FLAG:RENEW SINGLE PCC PAVING FLAG-50MM","GROUNDWORKS","Paths and Pavings","Paving - Precast Concrete Flag","NO",10.67,{"$f":"SUMIF('Contractor##'!C:C,'Planned Maint v6.2 CSV File'!C:C,'Contractor##'!F:F)","v":-0.1777},8.7739410000000007,"Flag:Lift remnants of existing 50mm standard size precast concrete paving flag, remove waste and debris, fill and compact hardcore to soft spots and lay new flag on 25mm bed of cement mortar (1:4), point up joints including any additional cutting and fitting to suit."]
["0070BJ","FLAG:RENEW SINGLE PCC PAVING FLAG-63MM","GROUNDWORKS","Paths and Pavings","Paving - Precast Concrete Flag","NO",11.39,{"$f":"SUMIF('Contractor##'!C:C,'Planned Maint v6.2 CSV File'!C:C,'Contractor##'!F:F)","v":-0.1777},9.3659970000000001,"Flag:Lift remnants of existing 63mm standard size precast concrete paving flag, remove waste and debris, fill and compact hardcore to soft spots and lay new flag on 25mm bed of cement mortar (1:4), point up joints including any additional cutting and fitting to suit."]
["0070BK","PAVING:RENEW STANDARD PCC PAVING FLAGS-63MM","GROUNDWORKS","Paths and Pavings","Paving - Precast Concrete Flag","SM",30.73,{"$f":"SUMIF('Contractor##'!C:C,'Planned Maint v6.2 CSV File'!C:C,'Contractor##'!F:F)","v":-0.1777},25.269279000000001,"Paving:Lift remnants of existing precast concrete paving flags, remove from site to approved tip, fill and compact hardcore to soft spots and lay 63mm standard size precast concrete paving flags on 25mm bed of cement mortar (1:4), point up joints including any additional cutting and fitting to suit."]
["0070CA","PAVING:REGROUT PCC PAVING FLAGS","GROUNDWORKS","Paths and Pavings","Paving - Precast Concrete Flag","SM",7.8,{"$f":"SUMIF('Contractor##'!C:C,'Planned Maint v6.2 CSV File'!C:C,'Contractor##'!F:F)","v":-0.1777},6.4139400000000002,"Paving:Regrout PCC paving, rake out joints, repoint with cement mortar (1:4)."]
["0070CB","PAVING:FILLET POINT JOINT TO WALL FLAGS","GROUNDWORKS","Paths and Pavings","Paving - Precast Concrete Flag","LM",1.69,{"$f":"SUMIF('Contractor##'!C:C,'Planned Maint v6.2 CSV File'!C:C,'Contractor##'!F:F)","v":-0.1777},1.3896870000000001,"Paving:Rake out existing and/or fillet point in cement mortar (1:4) joint between edges of paving and wall/abutment."]
["0071AA","FLAG:EXCAVATE AND LAY NEW PCC TACTILE –50 MM","GROUNDWORKS","Paths and Pavings","Paving - PCC Hazard Warning","SM",53,{"$f":"SUMIF('Contractor##'!C:C,'Planned Maint v6.2 CSV File'!C:C,'Contractor##'!F:F)","v":-0.1777},43.581900000000005,"Flag:Excavate 150mm below required finished level, remove waste and debris, and fill in layers, including compacting 75mm crusher run of broken stone blinding and lay 50mm standard size precast concrete Blister type Tactile paving flags on 25mm bed of cement mortar (1:4) including point up joints and all cutting and dishing to gullies, covers and the like."]
["0071AB","FLAG:EXCAVATE AND LAY NEW PCC TACTILE – 63MM","GROUNDWORKS","Paths and Pavings","Paving - PCC Hazard Warning","SM",56,{"$f":"SUMIF('Contractor##'!C:C,'Planned Maint v6.2 CSV File'!C:C,'Contractor##'!F:F)","v":-0.1777},46.0488,"Flag:Excavate 150mm below required finished level, remove waste and debris, and fill in layers, including compacting 75mm crusher run of broken stone blinding and lay 63mm standard size precast concrete Blister Type Tactile paving flags on 25mm bed of cement mortar (1:4) including point up joints and all cutting and dishing to gullies, covers and the like."]
["0071AC","FLAG:EXCAVATE AND LAY NEW PCC HAZARD STRIP –50 MM","GROUNDWORKS","Paths and Pavings","Paving - PCC Hazard Warning","LM",33.619999999999997,{"$f":"SUMIF('Contractor##'!C:C,'Planned Maint v6.2 CSV File'!C:C,'Contractor##'!F:F)","v":-0.1777},27.645726,"Flag:Excavate 150mm below required finished level, remove waste and debris, and fill in layers, including compacting 75mm crusher run of broken stone blinding and lay n.e. 450mm wide strip of 50mm standard size precast concrete Corduroy type Hazard Warning paving flags on 25mm bed of cement mortar (1:4) including point up joints and all cutting and dishing to gullies, covers and the like."]
["0071AD","FLAG:EXCAVATE AND LAY NEW PCC HAZARD STRIP – 63MM","GROUNDWORKS","Paths and Pavings","Paving - PCC Hazard Warning","LM",35.119999999999997,{"$f":"SUMIF('Contractor##'!C:C,'Planned Maint v6.2 CSV File'!C:C,'Contractor##'!F:F)","v":-0.1777},28.879175999999998,"Flag:Excavate 150mm below required finished level, remove waste and debris, and fill in layers, including compacting 75mm crusher run of broken stone blinding and lay n.e. 450mm wide strip of 63mm standard size precast concrete Blister Type Tactile paving flags on 25mm bed of cement mortar (1:4) including point up joints and all cutting and dishing to gullies, covers and the like."]
["0071AE","FLAG:RENEW SINGLE 50 MM PCC CORDUROY PAVING FLAG","GROUNDWORKS","Paths and Pavings","Paving - PCC Hazard Warning","NO",17.190000000000001,{"$f":"SUMIF('Contractor##'!C:C,'Planned Maint v6.2 CSV File'!C:C,'Contractor##'!F:F)","v":-0.1777},14.135337000000002,"Flag:Lift remnants of existing 50mm standard Corduroy type Hazard Warning precast concrete paving flag, remove waste and debris, fill and compact hardcore to soft spots and lay new flag on 25mm bed of cement mortar (1:4), point up joints including any additional cutting and fitting to suit."]
["0071AF","FLAG:RENEW SINGLE 50 MMPCC TACTILE PAVING FLAG","GROUNDWORKS","Paths and Pavings","Paving - PCC Hazard Warning","NO",15.14,{"$f":"SUMIF('Contractor##'!C:C,'Planned Maint v6.2 CSV File'!C:C,'Contractor##'!F:F)","v":-0.1777},12.449622000000002,"Flag:Lift remnants of existing 50mm standard Blister type Tacktile precast concrete paving flag, remove waste and debris, fill and compact hardcore to soft spots and lay new flag on 25mm bed of cement mortar (1:4), point up joints including any additional cutting and fitting to suit."]
["0071AG","FLAG:RENEW SINGLE 63 MM PCC CORDUROY PAVING FLAG","GROUNDWORKS","Paths and Pavings","Paving - PCC Hazard Warning","NO",19.190000000000001,{"$f":"SUMIF('Contractor##'!C:C,'Planned Maint v6.2 CSV File'!C:C,'Contractor##'!F:F)","v":-0.1777},15.779937000000002,"Flag:Lift remnants of existing 50mm standard Corduroy type Hazard Warning precast concrete paving flag, remove waste and debris, fill and compact hardcore to soft spots and lay new flag on 25mm bed of cement mortar (1:4), point up joints including any additional cutting and fitting to suit."]
["0071AH","FLAG:RENEW SINGLE 63MM PCC TACTILE PAVING FLAG","GROUNDWORKS","Paths and Pavings","Paving - PCC Hazard Warning","NO",16.260000000000002,{"$f":"SUMIF('Contractor##'!C:C,'Planned Maint v6.2 CSV File'!C:C,'Contractor##'!F:F)","v":-0.1777},13.370598000000001,"Flag:Lift remnants of existing 50mm standard Blister type Tacktile precast concrete paving flag, remove waste and debris, fill and compact hardcore to soft spots and lay new flag on 25mm bed of cement mortar (1:4), point up joints including any additional cutting and fitting to suit."]
["0071AJ","PAVING:RENEW TACTILE PCC PAVING FLAGS - 50MM","GROUNDWORKS","Paths and Pavings","Paving - PCC Hazard Warning","SM",36.54,{"$f":"SUMIF('Contractor##'!C:C,'Planned Maint v6.2 CSV File'!C:C,'Contractor##'!F:F)","v":-0.1777},30.046842000000002,"Paving:Lift remnants of existing precast concrete paving flags, remove from site to approved tip, fill and compact hardcore to soft spots and lay 50mm  standard Blister type Tactile precast concrete paving flags on 25mm bed of cement mortar (1:4), point up joints including any additional cutting and fitting to suit."]
["0071AK","PAVING:RENEW TACTILE PCC PAVING FLAGS - 63MM","GROUNDWORKS","Paths and Pavings","Paving - PCC Hazard Warning","SM",38.61,{"$f":"SUMIF('Contractor##'!C:C,'Planned Maint v6.2 CSV File'!C:C,'Contractor##'!F:F)","v":-0.1777},31.749003000000002,"Paving:Lift remnants of existing precast concrete paving flags, remove from site to approved tip, fill and compact hardcore to soft spots and lay 63mm  standard Blister type Tactile precast concrete paving flags on 25mm bed of cement mortar (1:4), point up joints including any additional cutting and fitting to suit."]
["0071AL","PAVING:RENEW PCC HAZARD STRIP –50 MM","GROUNDWORKS","Paths and Pavings","Paving - PCC Hazard Warning","LM",24.95,{"$f":"SUMIF('Contractor##'!C:C,'Planned Maint v6.2 CSV File'!C:C,'Contractor##'!F:F)","v":-0.1777},20.516385,"Paving:Lift remnants of existing precast concrete paving flags, remove from site to approved tip, fill and compact hardcore to soft spots and lay n.e. 450mm wide strip of 50mm standard size precast concrete Corduroy type Hazard Warning paving flags on 25mm bed of cement mortar (1:4) including point up joints and all cutting and dishing to gullies, covers and the like."]
["0071AM","PAVING:RENEW PCC HAZARD STRIP –63 MM","GROUNDWORKS","Paths and Pavings","Paving - PCC Hazard Warning","LM",26,{"$f":"SUMIF('Contractor##'!C:C,'Planned Maint v6.2 CSV File'!C:C,'Contractor##'!F:F)","v":-0.1777},21.379799999999999,"Paving:Lift remnants of existing precast concrete paving flags, remove from site to approved tip, fill and compact hardcore to soft spots and lay n.e. 450mm wide strip of 63mm standard size precast concrete Corduroy type Hazard Warning paving flags on 25mm bed of cement mortar (1:4) including point up joints and all cutting and dishing to gullies, covers and the like."]
["0090AA","PAVING:REBED BRICK PAVING-MORTAR OR SAND","GROUNDWORKS","Paths and Pavings","Paving - Brick","SM",57.17,{"$f":"SUMIF('Contractor##'!C:C,'Planned Maint v6.2 CSV File'!C:C,'Contractor##'!F:F)","v":-0.1777},47.010891000000001,"Paving:Take up loose brick paving, set aside, clean bed and bricks, and relay brick paving including jointing and pointing in cement mortar (1:4) or joint filling sand including all bonding."]
["0090BA","PAVING:RENEW BRICK PAVING-MORTAR OR SAND","GROUNDWORKS","Paths and Pavings","Paving - Brick","SM",67,{"$f":"SUMIF('Contractor##'!C:C,'Planned Maint v6.2 CSV File'!C:C,'Contractor##'!F:F)","v":-0.1777},55.094100000000005,"Paving:Renew brick paving including take up existing, remove suplus spoil, fill and compact hardcore to soft spots and lay new paving on 25mm bed of cement mortar (1:4) or 50mm sand bed including all pointing and cutting and bonding."]
["0090BB","PAVING:LAY NEW BRICK PAVING-MORTAR OR SAND","GROUNDWORKS","Paths and Pavings","Paving - Brick","SM",84.33,{"$f":"SUMIF('Contractor##'!C:C,'Planned Maint v6.2 CSV File'!C:C,'Contractor##'!F:F)","v":-0.1777},69.344559000000004,"Paving:Supply and lay new brick paving including excavate to level, lay 100mm hardcore bed and lay new paving on 25mm bed of cement mortar (1:4) or 50mm sand bed including all pointing and cutting and bonding."]
["0090CA","PAVING:RENEW GRAVEL PAVING 30MM","GROUNDWORKS","Paths and Pavings","Paving - Gravel","SM",5.45,{"$f":"SUMIF('Contractor##'!C:C,'Planned Maint v6.2 CSV File'!C:C,'Contractor##'!F:F)","v":-0.1777},4.481535,"Paving:Renew gravel paving to paths and driveways ne 30mm thick including take up and clear away existing, supply, spread and level washed gravel to existing surfaces."]
["0090DA","PAVING:RENEW HOGGIN  PAVING 30MM","GROUNDWORKS","Paths and Pavings","Paving - Hoggin","SM",6.75,{"$f":"SUMIF('Contractor##'!C:C,'Planned Maint v6.2 CSV File'!C:C,'Contractor##'!F:F)","v":-0.1777},5.5505250000000004,"Paving:Renew gravel paving to paths and driveways ne 30mm thick including take up and clear away existing, supply, spread and level and compact natural hoggin to existing surfaces."]
["0091AA","PAVING:REBED GRANITE SETT","GROUNDWORKS","Paths and Pavings","Paving - Setts","SM",51.78,{"$f":"SUMIF('Contractor##'!C:C,'Planned Maint v6.2 CSV File'!C:C,'Contractor##'!F:F)","v":-0.1777},42.578694000000006,"Paving:Take up loose granite sett paving, set aside, clean bed and setts, lay and point setts in cement mortar (1:4) including all bonding."]
["0091BA","PAVING:RENEW 150MM GRANITE SETT","GROUNDWORKS","Paths and Pavings","Paving - Setts","SM",91.45,{"$f":"SUMIF('Contractor##'!C:C,'Planned Maint v6.2 CSV File'!C:C,'Contractor##'!F:F)","v":-0.1777},75.199335000000005,"Paving:Renew 150x150mmx150mm granite sett paving including take up existing and clear away, fill and compact hardcore to soft spots and lay newsetts on 30mm bed of cement mortar (1:4) including all pointing, cutting and bonding."]
["0091BB","PAVING:RENEW 200MM GRANITE SETT","GROUNDWORKS","Paths and Pavings","Paving - Setts","SM",87.48,{"$f":"SUMIF('Contractor##'!C:C,'Planned Maint v6.2 CSV File'!C:C,'Contractor##'!F:F)","v":-0.1777},71.934804,"Paving:Renew 200x150mmx150mm granite sett paving including take up existing and clear away, fill and compact hardcore to soft spots and lay new setts on 30mm bed of cement mortar (1:4) including all pointing, cutting and bonding."]
["0091CA","PAVING:RENEW RECLAIMED 150MM GRANITE SETT","GROUNDWORKS","Paths and Pavings","Paving - Setts","SM",75.760000000000005,{"$f":"SUMIF('Contractor##'!C:C,'Planned Maint v6.2 CSV File'!C:C,'Contractor##'!F:F)","v":-0.1777},62.29744800000001,"Paving:Renew 150x150mmx150mm granite sett paving including take up existing and clear away, fill and compact hardcore to soft spots and lay reclaimed setts on 30mm bed of cement mortar (1:4) including all pointing, cutting and bonding."]
["0091CB","PAVING:RENEW RECLAIMED 200MM GRANITE SETT","GROUNDWORKS","Paths and Pavings","Paving - Setts","SM",71.790000000000006,{"$f":"SUMIF('Contractor##'!C:C,'Planned Maint v6.2 CSV File'!C:C,'Contractor##'!F:F)","v":-0.1777},{"$f":"(1+H68)*G68","v":59.032917000000005},"Paving:Renew 200x150mmx150mm granite sett paving including take up existing and clear away, fill and compact hardcore to soft spots and lay reclaimed setts on 30mm bed of cement mortar(1:4) including all pointing, cutting and bonding."]
["0091DA","PAVING:REBED ARTSTONE SETT","GROUNDWORKS","Paths and Pavings","Paving - Artstone Setts","SM",47.1,{"$f":"SUMIF('Contractor##'!C:C,'Planned Maint v6.2 CSV File'!C:C,'Contractor##'!F:F)","v":-0.1777},38.730330000000002,"Paving:Take up loose artstone (tegula) sett paving, set aside, clean bed and setts, lay and point setts in cement mortar (1:4) including all bonding."]
["0091DB","PAVING:RENEW 60MM ARTSTONE SETT","GROUNDWORKS","Paths and Pavings","Paving - Artstone Setts","SM",62.5,{"$f":"SUMIF('Contractor##'!C:C,'Planned Maint v6.2 CSV File'!C:C,'Contractor##'!F:F)","v":-0.1777},51.393750000000004,"Paving:Renew random sized 60mm artstone (tegula) sett paving including take up existing and clear away, fill and compact hardcore to soft spots and lay newsetts on 30mm bed of cement mortar (1:4) including all pointing, cutting and bonding."]
["0091DC","PAVING:RENEW 80MM ARTSTONE SETT","GROUNDWORKS","Paths and Pavings","Paving - Artstone Setts","SM",69.12,{"$f":"SUMIF('Contractor##'!C:C,'Planned Maint v6.2 CSV File'!C:C,'Contractor##'!F:F)","v":-0.1777},56.837376000000006,"Paving:Renew random sized 80 mm artstone (tegula) sett paving including take up existing and clear away, fill and compact hardcore to soft spots and lay new setts on 30mm bed of cement mortar (1:4) including all pointing, cutting and bonding."]
["0092AA","PAVING:REBED COBBLES","GROUNDWORKS","Paths and Pavings","Paving - Cobbles","SM",47.1,{"$f":"SUMIF('Contractor##'!C:C,'Planned Maint v6.2 CSV File'!C:C,'Contractor##'!F:F)","v":-0.1777},38.730330000000002,"Paving:Take up existing cobble paving:50-75mm, set aside, clean off, relay, bedding 30mm thick in cement mortar (1:4) jointing to a height of two thirds of the cobble in dry mortar tightly butted, washed and brushed."]
["0092BA","PAVING:RENEW COBBLES","GROUNDWORKS","Paths and Pavings","Paving - Cobbles","SM",67.040000000000006,{"$f":"SUMIF('Contractor##'!C:C,'Planned Maint v6.2 CSV File'!C:C,'Contractor##'!F:F)","v":-0.1777},55.126992000000008,"Paving:Renew cobble paving including taking up existing and clear away, fill and compact hardcore to softspots and lay new cobble paving:50-75mm, bedding 30mm thick in cement mortar (1:4) jointing to a height of two thirds of the cobble in dry mortar tightly butted, washed and brushed."]
["0093AA","PAVING:REBED INTERLOCK BLOCKS","GROUNDWORKS","Paths and Pavings","Paving - Interlock Blocks","SM",28.59,{"$f":"SUMIF('Contractor##'!C:C,'Planned Maint v6.2 CSV File'!C:C,'Contractor##'!F:F)","v":-0.1777},23.509557000000001,"Paving:Take up loose interlocking paving blocks, set aside, clean blocks, make up levels and soft spots to sand bed as necessary, relay blocks including bonding, compacting with plate vibrator, jointing and pointing with approved joint filling sand."]
["0093BA","PAVING:RENEW 60MM INTERLOCK","GROUNDWORKS","Paths and Pavings","Paving - Interlock Blocks","SM",54.27,{"$f":"SUMIF('Contractor##'!C:C,'Planned Maint v6.2 CSV File'!C:C,'Contractor##'!F:F)","v":-0.1777},44.626221000000001,"Paving:Renew upto 60mm thick interlocking precast concrete paving blocks including take up existing and clear away, fill and compact hardcore to soft spots and lay new paving on 60mm bed of sand including bonding, compacting with plate vibrator, jointing and pointing with approved joint filling sand."]
["0093CA","PAVING:RENEW 80MM INTERLOCK","GROUNDWORKS","Paths and Pavings","Paving - Interlock Blocks","SM",65.27,{"$f":"SUMIF('Contractor##'!C:C,'Planned Maint v6.2 CSV File'!C:C,'Contractor##'!F:F)","v":-0.1777},53.671520999999998,"Paving:Renew 80mm thick interlocking precast concrete paving blocks including take up existing and clear away, fill and compact hardcore to soft spots and lay new paving on 60mm bed of sand including bonding, compacting with plate vibrator, jointing and pointing with approved joint filling sand."]
["0094AA","PAVING:REBED CHAMFER EDGE BLOCKS","GROUNDWORKS","Paths and Pavings","Paving - Chamfer Edge Blocks","SM",28.59,{"$f":"SUMIF('Contractor##'!C:C,'Planned Maint v6.2 CSV File'!C:C,'Contractor##'!F:F)","v":-0.1777},23.509557000000001,"Paving:Take up loose chamfered edge concrete block paving, set aside, clean blocks, make up levels and soft spots to sand bed as necessary, relay blocks including bonding, compacting with plate vibrator, jointing and pointing with approved joint filling sand."]
["0094BA","PAVING:RENEW CHAMFER EDGE BLOCK","GROUNDWORKS","Paths and Pavings","Paving - Chamfer Edge Blocks","SM",54.44,{"$f":"SUMIF('Contractor##'!C:C,'Planned Maint v6.2 CSV File'!C:C,'Contractor##'!F:F)","v":-0.1777},44.766011999999996,"Paving:Renew 200x100x65mm thick concrete paving blocks with chamfered edge including take up existing and clear away, fill and compact hardcore to soft spots and lay new paving on 60mm bed of sand including bonding, compacting with plate vibrator, jointing and pointing with approved joint filling sand."]
["0095AA","PAVING:REBED GRASS CONCRETE","GROUNDWORKS","Paths and Pavings","Paving - Grass Concrete","SM",22.06,{"$f":"SUMIF('Contractor##'!C:C,'Planned Maint v6.2 CSV File'!C:C,'Contractor##'!F:F)","v":-0.1777},18.139938000000001,"Paving:Take up loose grass concrete paving units, set aside, clean units, make up levels and soft spots to sand bed as necessary, relay units, voids filled with topsoil and sown with grass seed."]
["0095BA","PAVING:RENEW GRASS CONCRETE","GROUNDWORKS","Paths and Pavings","Paving - Grass Concrete","SM",45.21,{"$f":"SUMIF('Contractor##'!C:C,'Planned Maint v6.2 CSV File'!C:C,'Contractor##'!F:F)","v":-0.1777},37.176183000000002,"Paving:Renew 120mm thick precast concrete perforated paving units including take up existing and clear away, fill and compact hardcore to soft spots and lay new units on 25mm bed of sand, voids filled with topsoil and sown with grass seed."]
["0096AA","TREE:GRILLE-BRICK:1350X1350MM:450 HOLE","GROUNDWORKS","Paths and Pavings","Paving - Tree Grilles","NO",312.5,{"$f":"SUMIF('Contractor##'!C:C,'Planned Maint v6.2 CSV File'!C:C,'Contractor##'!F:F)","v":-0.1777},256.96875,"Tree:Grille:supply and lay special quality paving bricks in grid size 1350 x 1350mm around tree on 50mm bed of sharp sand, well tamped and pointed in sand, with 450 x 450mm hole for tree"]
["0096AB","TREE:GRILLE-BRICK:1800X1800MM:450 HOLE","GROUNDWORKS","Paths and Pavings","Paving - Tree Grilles","NO",528.19000000000005,{"$f":"SUMIF('Contractor##'!C:C,'Planned Maint v6.2 CSV File'!C:C,'Contractor##'!F:F)","v":-0.1777},434.33063700000008,"Tree:Grille:supply and lay special quality paving bricks in grid size 1800 x 1800mm around tree on 50mm bed of sharp sand, well tamped and pointed in sand, with 450 x 450mm hole for tree"]
["0096AC","TREE:GRILLE-BRICK:2250X22500MM:450 HOLE","GROUNDWORKS","Paths and Pavings","Paving - Tree Grilles","NO",806.87,{"$f":"SUMIF('Contractor##'!C:C,'Planned Maint v6.2 CSV File'!C:C,'Contractor##'!F:F)","v":-0.1777},663.48920099999998,"Tree:Grille:supply and lay special quality paving bricks in grid size 2250 x 2250mm around tree on 50mm bed of sharp sand, well tamped and pointed in sand, with 450 x 450mm hole for tree"]
["0096AD","TREE:GRILLE-BRICK:2700X2700MM:450 HOLE","GROUNDWORKS","Paths and Pavings","Paving - Tree Grilles","NO",1151.25,{"$f":"SUMIF('Contractor##'!C:C,'Planned Maint v6.2 CSV File'!C:C,'Contractor##'!F:F)","v":-0.1777},946.67287500000009,"Tree:Grille:supply and lay special quality paving bricks in grid size 2700 x 2700mm around tree on 50mm bed of sharp sand, well tamped and pointed in sand, with 450 x 450mm hole for tree"]
["0096AE","TREE:GRILLE–GRANITE SETT:1000X1000MM:400 HOLE","GROUNDWORKS","Paths and Pavings","Paving - Tree Grilles","NO",184.37,{"$f":"SUMIF('Contractor##'!C:C,'Planned Maint v6.2 CSV File'!C:C,'Contractor##'!F:F)","v":-0.1777},151.607451,"Tree:Grille:supply and lay granite setts in grid size 1000 x 1000mm around tree on 50mm bed of sharp sand, well tamped and pointed in sand, with 450 x 450mm hole for tree"]
["0096AF","TREE:GRILLE–GRANITE SETT:1400X1400MM:400 HOLE","GROUNDWORKS","Paths and Pavings","Paving - Tree Grilles","NO",334.06,{"$f":"SUMIF('Contractor##'!C:C,'Planned Maint v6.2 CSV File'!C:C,'Contractor##'!F:F)","v":-0.1777},274.69753800000001,"Tree:Grille:supply and lay granite setts in grid size 1400 x 1400mm around tree on 50mm bed of sharp sand, well tamped and pointed in sand, with 450 x 450mm hole for tree"]
["0096AG","TREE:GRILLE–GRANITE SETT:1800X1800MM:400 HOLE","GROUNDWORKS","Paths and Pavings","Paving - Tree Grilles","NO",527.19000000000005,{"$f":"SUMIF('Contractor##'!C:C,'Planned Maint v6.2 CSV File'!C:C,'Contractor##'!F:F)","v":-0.1777},433.50833700000004,"Tree:Grille:supply and lay granite setts in grid size 1800 x 1800mm around tree on 50mm bed of sharp sand, well tamped and pointed in sand, with 450 x 450mm hole for tree"]
["0096AH","TREE:GRILLE–GRANITE SETT:2000X2000MM:400 HOLE","GROUNDWORKS","Paths and Pavings","Paving - Tree Grilles","NO",644.37,{"$f":"SUMIF('Contractor##'!C:C,'Planned Maint v6.2 CSV File'!C:C,'Contractor##'!F:F)","v":-0.1777},529.86545100000001,"Tree:Grille:supply and lay granite setts in grid size 2000 x 2000mm around tree on 50mm bed of sharp sand, well tamped and pointed in sand, with 450 x 450mm hole for tree"]
["0096AI","TREE:GRILLE:RENEW GRAVEL PAVING 30MM TO TREE GRID","GROUNDWORKS","Paths and Pavings","Paving - Tree Grilles","NO",6.39,{"$f":"SUMIF('Contractor##'!C:C,'Planned Maint v6.2 CSV File'!C:C,'Contractor##'!F:F)","v":-0.1777},5.2544969999999998,"Paving:Renew gravel paving to tree grid or grille ne 30mm thick including take up grill and set aside, take up gravel and clear away existing, resey grid to level and supply, spread and level washed gravel."]
["0097AA","PAVING:TEMPORARY CONCRETE REPAIR","GROUNDWORKS","Paths and Pavings","Paving - Temporary Repairs","IT",27.43,{"$f":"SUMIF('Contractor##'!C:C,'Planned Maint v6.2 CSV File'!C:C,'Contractor##'!F:F)","v":-0.1777},22.555689000000001,"Paving:Break out existing defective paving of any type if necessary ne 100mm thick and clear away, remove waste and debris, fill in void with lean mix concrete ensuring flush edges to existing finishes in areas ne 1.00sm."]
["0098AA","HARDCORE:ADDITIONAL SUB-BASE OR BED NE 150","GROUNDWORKS","Paths and Pavings","Hardcore","SM",24.27,{"$f":"SUMIF('Contractor##'!C:C,'Planned Maint v6.2 CSV File'!C:C,'Contractor##'!F:F)","v":-0.1777},19.957221000000001,"Hardcore:Extra for additional hardcore sub-base or bed ne 150mm thick laid under any type of paving including excavate, remove spoil, level and compact bottoms, remove waste and debris, (to be charged only when specifically ordered by Client’s Representative)."]
["0130AA","STEP:FORM OR RENEW STEP IN CONCRETE PAVING","GROUNDWORKS","Steps, Stairs and Ramps","Steps, Stairs and Ramps - Institu and Precast Concrete","IT",29.14,{"$f":"SUMIF('Contractor##'!C:C,'Planned Maint v6.2 CSV File'!C:C,'Contractor##'!F:F)","v":-0.1777},23.961822000000002,"Step:Form step ne 1000x300x200mm in concrete paving including all necessary excavation, hardcore, extra concrete and all formwork with surfaces trowelled smooth, make good to adjacent finishes and remove waste and debris."]
["0130AB","STEP:FORM OR RENEW PCC STEP IN PAVING","GROUNDWORKS","Steps, Stairs and Ramps","Steps, Stairs and Ramps - Institu and Precast Concrete","IT",34.24,{"$f":"SUMIF('Contractor##'!C:C,'Planned Maint v6.2 CSV File'!C:C,'Contractor##'!F:F)","v":-0.1777},28.155552000000004,"Step:Form step in precast concrete paving ne 1000x300x200mm including all extra excavation, hardcore, blinding and bed precast concrete flags to steps and risers on 25mm mortar bed including all cutting, make good to adjacent finishes and remove waste and debris."]
["0130AC","STEP:FORM BRICK ON EDGE STEP","GROUNDWORKS","Steps, Stairs and Ramps","Steps, Stairs and Ramps - Institu and Precast Concrete","LM",16.489999999999998,{"$f":"SUMIF('Contractor##'!C:C,'Planned Maint v6.2 CSV File'!C:C,'Contractor##'!F:F)","v":-0.1777},13.559726999999999,"Step:Form step with approved brick on edge, bedded and pointed in cement mortar (1:4)."]
["0130AD","STEP:REPAIR DAMAGED CONCRETE","GROUNDWORKS","Steps, Stairs and Ramps","Steps, Stairs and Ramps - Institu and Precast Concrete","IT",14.67,{"$f":"SUMIF('Contractor##'!C:C,'Planned Maint v6.2 CSV File'!C:C,'Contractor##'!F:F)","v":-0.1777},12.063141,"Step:Cut out damaged section and repair step as necessary with concrete (1:1:5:3) or cement and sand polymer enhanced cementitious mortar including formwork and trowel finish."]
["0130DB","STEP:REFIX AND BED LOOSE STEP","GROUNDWORKS","Steps, Stairs and Ramps","Steps, Stairs and Ramps - Institu and Precast Concrete","IT",5.42,{"$f":"SUMIF('Contractor##'!C:C,'Planned Maint v6.2 CSV File'!C:C,'Contractor##'!F:F)","v":-0.1777},4.4568659999999998,"Step:Rebed loose precast concrete step or loose bricks to brick step including remove existing, clean off as necessary and rebed in cement mortar (1:4) (per step)."]
["0130EA","RAMP:CONSTRUCT CONCRETE RAMP","GROUNDWORKS","Steps, Stairs and Ramps","Steps, Stairs and Ramps - Institu and Precast Concrete","LM",79.08,{"$f":"SUMIF('Contractor##'!C:C,'Planned Maint v6.2 CSV File'!C:C,'Contractor##'!F:F)","v":-0.1777},65.027484000000001,"Ramp:Construct insitu concrete ramp average 150mm thick, ne 1.5m wide overall with 50mm high insitu concrete kerbs to both sides, laid to gradient 1:12 with pinked finish including all excavation, hardcore, reinforcement and formwork."]
["0130FA","NOSING:RENEW INSET NOSING TO PCC STEP ","GROUNDWORKS","Steps, Stairs and Ramps","Steps - Institu PCC Concrete","LM",24.94,{"$f":"SUMIF('Contractor##'!C:C,'Planned Maint v6.2 CSV File'!C:C,'Contractor##'!F:F)","v":-0.1777},20.508162000000002,"Nosing:Renew Ferodo type Inset nosing to step in precast concrete paving ne 200mm wide including all jointing, bedding and pointing as required and all cutting, make good to adjacent finishes and remove waste and debris."]
["0130FB","NOSING:REFIX BED LOOSE INSET NOSING TO PCC STEP","GROUNDWORKS","Steps, Stairs and Ramps","Steps - Institu PCC Concrete","IT",12.94,{"$f":"SUMIF('Contractor##'!C:C,'Planned Maint v6.2 CSV File'!C:C,'Contractor##'!F:F)","v":-0.1777},10.640561999999999,"Step:Rebed loose Ferodo type inset nosing to precast concrete step including remove existing, clean off as necessary and rebed as required(per step)."]
["0150AA","FLOOR:RENEW INTERNAL CONCRETE","FOUNDATIONS","Floors","Concrete Internal Renewal","SM",91.26,{"$f":"SUMIF('Contractor##'!C:C,'Planned Maint v6.2 CSV File'!C:C,'Contractor##'!F:F)","v":-0.2702},66.601548000000008,"Floor:Renew complete any floor with new concrete floor including break up existing floor, applied finish and sub-base under and remove from site, excavate as necessary, compact bottoms and lay and compact up to 175mm hardcore bed blinded with sand, lay 1200 gauge polythene damp proof membrane and 100mm concrete slab (1:2:4) with 50mm cement and sand floor screed trowelled smooth to receive floor finish,remove and refix skirtings as necessary and make good all finishes."]
["0150AB","FLOOR:RENEW INTERNAL CONCRETE INSULATION","FOUNDATIONS","Floors","Concrete Internal Renewal","SM",123.62,{"$f":"SUMIF('Contractor##'!C:C,'Planned Maint v6.2 CSV File'!C:C,'Contractor##'!F:F)","v":-0.2702},90.217876000000004,"Floor:Renew complete any floor with new concrete floor including break up existing floor, applied finish and sub-base under and remove from site, excavate as necessary, compact bottoms and lay and compact up to 175mm hardcore bed blinded with sand, lay 1200 gauge polythene damp proof membrane, 50mm Jablite or other equal and approved insulation board, both membrane and board turned up 150mm at edges, 150mm concrete slab (1:2:4) with mesh reinforcement and upto 65mm cement and sand floor screed trowelled smooth to receive floor finish, remove and refix skirtings as necessary and make good all finishes."]
["0150AC","FLOOR:RENEW INTERNAL REINFORCED CONCRETE","FOUNDATIONS","Floors","Concrete Internal Renewal","SM",83.87,{"$f":"SUMIF('Contractor##'!C:C,'Planned Maint v6.2 CSV File'!C:C,'Contractor##'!F:F)","v":-0.2702},61.208326000000007,"Floor:Renew complete any floor with new concrete floor including break up existing floor, applied finish and sub-base under and remove from site, excavate as necessary, compact bottoms and lay and compact up to 175mm hardcore bed blinded with sand, lay 1200 gauge polythene damp proof membrane and 100mm concrete slab (1:2:4) with mesh reinforcement 50mm cement and sand floor screed trowelled smooth to receive floor finish, remove and refix skirtings as necessary and make good all finishes."]
["0155AA","FLOOR:HARDCORE FILL UNDER FLOOR","SPECIALIST TREATMENTS","Fungus and Beetle Eradication and DPC Works","Works to Sub-Floors due to Fungus and Beetle Eradication or DPC Works","CM",57.78,{"$f":"SUMIF('Contractor##'!C:C,'Planned Maint v6.2 CSV File'!C:C,'Contractor##'!F:F)","v":-0.27500000000000002},41.890500000000003,"Floor:Fill under floor with clean broken and graded hardcore or other filling to approval of Client’s Representative, consolidate and blind ready to receive PVC membrane and concrete floor slab as specified all in conjunction with injected dpc wall treatment."]
["0171AD","FENCING:RENEW 1.8M BOARD - TIMBER POST","FENCING AND GATES","Fencing","Fencing - Boarded","LM",93.18,{"$f":"SUMIF('Contractor##'!C:C,'Planned Maint v6.2 CSV File'!C:C,'Contractor##'!F:F)","v":-0.17899999999999999},76.500780000000006,"Fencing:Renew or provide new 1.65m tanalised timber vertical board fencing including for taking down remnants of existing fence and posts set in concrete, remove from site to approved tip, and set 125x125mm x 2.65m long softwood posts in concrete at ne 1.80m centres with three 69x44mm softwood rails bolted to posts and 144x20mm vertical boards nailed to rails, softwood gravel board with centre prop (measured per metre run of fencing)."]
["0171AE","FENCING:RENEW 1.2M BOARD PCC POST GRAVEL BOARD","FENCING AND GATES","Fencing","Fencing - Boarded","LM",66.959999999999994,{"$f":"SUMIF('Contractor##'!C:C,'Planned Maint v6.2 CSV File'!C:C,'Contractor##'!F:F)","v":-0.17899999999999999},54.974159999999991,"Fencing:Renew or provide new 1.05m tanalised timber vertical board fencing including for taking down remnants of existing fence and posts set in concrete, remove waste and debris, and set 100x100mm x 1.65m long concrete posts in concrete at ne 1.80m centres with two 69x44mm softwood rails bolted to posts and 144x20mm vertical boards nailed to rails, precast concrete gravel board with centre prop (measured per metre run of fencing)."]
["0171AF","FENCING:RENEW 1.2M BOARD TIMBER POST","FENCING AND GATES","Fencing","Fencing - Boarded","LM",63.85,{"$f":"SUMIF('Contractor##'!C:C,'Planned Maint v6.2 CSV File'!C:C,'Contractor##'!F:F)","v":-0.17899999999999999},52.420850000000002,"Fencing:Renew or provide new 1.05m tanalised timber vertical board fencing including for taking down remnants of existing fence and posts set in concrete, remove waste and debris, and set 100x100mm x 1.65m long softwood posts in concrete at ne 1.80m centres with two 69x44mm softwood rails bolted to posts and 144x20mm vertical boards nailed to rails, softwood gravel board with centre prop (measured per metre run of fencing)."]
["0171AG","FENCING:RENEW 1.8M BOARD PCC POST","FENCING AND GATES","Fencing","Fencing - Boarded","LM",98.81,{"$f":"SUMIF('Contractor##'!C:C,'Planned Maint v6.2 CSV File'!C:C,'Contractor##'!F:F)","v":-0.17899999999999999},81.123009999999994,"Fencing:Renew or provide new 1.65m high tanalised timber vertical board fencing including for taking down remnants of existing fence and posts set in concrete, remove waste and debris, and set 125x125mm x 2.25m long concrete posts in concrete at ne 1.80m centres with three softwood rails 69x44mm bolted to posts and 144x20mm vertical boards nailed to rails 25x150mm softwood gravel board with centre prop (measured per metre run of fencing)."]
["0171AH","FENCING:RENEW 1.8M BOARD PCC POST GRAVEL BOARD","FENCING AND GATES","Fencing","Fencing - Boarded","LM",93.18,{"$f":"SUMIF('Contractor##'!C:C,'Planned Maint v6.2 CSV File'!C:C,'Contractor##'!F:F)","v":-0.17899999999999999},76.500780000000006,"Fencing:Renew or provide new 1.65m high tanalised timber vertical board fencing including for taking down remnants of existing fence and posts set in concrete, remove waste and debris, and set 125x125mm x 2.25m long concrete posts in concrete at ne 1.80m centres with three softwood rails 69x44mm bolted to posts and 144x20mm vertical boards nailed to rails precast concrete gravel board with centre prop (measured per metre run of fencing)."]
["0171AJ","FENCING:REMOVE BOARD FENCE","FENCING AND GATES","Fencing","Fencing - Boarded","LM",7.02,{"$f":"SUMIF('Contractor##'!C:C,'Planned Maint v6.2 CSV File'!C:C,'Contractor##'!F:F)","v":-0.17899999999999999},5.7634199999999991,"Fencing:Take down and remove any height vertical board fence consisting of concrete and or timber posts set in concrete, softwood rails, gravel board and vertical boards and remove waste and debris, fill post holes with top soil."]
["0171AK","FENCING:RENEW TIMBER GRAVEL BOARD","FENCING AND GATES","Fencing","Fencing - Boarded","NO",12.4,{"$f":"SUMIF('Contractor##'!C:C,'Planned Maint v6.2 CSV File'!C:C,'Contractor##'!F:F)","v":-0.17899999999999999},10.180400000000001,"Fencing:Renew or supply and fix new 25x150mm tanalised softwood gravel board and centre prop including remove existing, excavate as necessary, cut and or trim existing fence boards as necessary and fix gravel board with galvanised nails, remove waste and debris."]
["0171AL","FENCING:RENEW PCC GRAVEL BOARD","FENCING AND GATES","Fencing","Fencing - Boarded","NO",14,{"$f":"SUMIF('Contractor##'!C:C,'Planned Maint v6.2 CSV File'!C:C,'Contractor##'!F:F)","v":-0.17899999999999999},11.494,"Fencing:Renew or supply and fix new ne 50x225mm precast concrete gravel board and centre prop including remove existing, excavate as necessary, cut and or trim existing fence boards as necessary and fix gravel board with cleats and or bolts, remove waste and debris."]
["0171BA","FENCING:RENEW 1.2M CLOSE BOARD PCC POST","FENCING AND GATES","Fencing","Fencing - Close Boarded","LM",66.959999999999994,{"$f":"SUMIF('Contractor##'!C:C,'Planned Maint v6.2 CSV File'!C:C,'Contractor##'!F:F)","v":-0.17899999999999999},54.974159999999991,"Fencing:Renew or provide new tanalised timber closeboard fencing including for taking down remnants of existing fence and posts set in concrete, remove from site to approved tip, and set 100x100x1650mm long concrete posts in concrete at 1.80m centres with two 69x44mm softwood arris rails bolted to posts and 144x20mm vertical boards 1.05m high nailed to rails, provide and fix 25x150mm tanalised softwood gravel board with centre prop. (measured per metre run of fencing)."]
["0171BB","FENCING:RENEW 1.2M CLOSE BOARD TIMBER POST","FENCING AND GATES","Fencing","Fencing - Close Boarded","LM",63.85,{"$f":"SUMIF('Contractor##'!C:C,'Planned Maint v6.2 CSV File'!C:C,'Contractor##'!F:F)","v":-0.17899999999999999},52.420850000000002,"Fencing:Renew or provide new tanalised timber closeboard fencing including for taking down remnants of existing fence and posts set in concrete, remove from site to approved tip, and set 100x100x1650mm long tanalised softwood posts in concrete at 1.80m centres with two 69x44mm softwood arris rails bolted to posts with 144x20mm vertical boards 1.05m high nailed to rails, provide and fix 25x150mm tanalised softwood gravel board with centre prop. (measured per metre run of fencing)."]
["0171BC","FENCING:RENEW 1.8M CLOSE BOARD PCC POST","FENCING AND GATES","Fencing","Fencing - Close Boarded","LM",98.81,{"$f":"SUMIF('Contractor##'!C:C,'Planned Maint v6.2 CSV File'!C:C,'Contractor##'!F:F)","v":-0.17899999999999999},81.123009999999994,"Fencing:Renew or provide new tanalised timber closeboard fencing including for taking down remnants of existing fence and posts set in concrete, remove from site to approved tip, and set 125x125x2250mm long concrete posts in concrete at 1.80m centres with three softwood arris rails 69x44mm bolted to posts and 144x20mm vertical boards 1.675m high nailed to rails, provide and fix 25x150mm tanalised softwood gravel board with centre prop. (measured per metre run of fencing)."]
["0171BD","FENCING:RENEW 1.8M CLOSE BOARD TIMBER POST","FENCING AND GATES","Fencing","Fencing - Close Boarded","LM",93.18,{"$f":"SUMIF('Contractor##'!C:C,'Planned Maint v6.2 CSV File'!C:C,'Contractor##'!F:F)","v":-0.17899999999999999},76.500780000000006,"Fencing:Renew or provide new tanalised timber closeboard fencing including for taking down remnants of existing fence and posts set in concrete, remove from site to approved tip, and set 125x125x2250mm long tanalised softwood posts in concrete at 1.80m centres, with three softwood arris rails 69x44mm bolted to posts and 144x20mm vertical boards 1.675m high nailed to rails, provide and fix 25x150mm tanalised gravel board with centre prop. (measured per metre run of fencing)."]
["0172AB","FENCING:RENEW CHESTNUT NE 1.5M AND POSTS","FENCING AND GATES","Fencing","Fencing - Chestnut Pale","LM",16.510000000000002,{"$f":"SUMIF('Contractor##'!C:C,'Planned Maint v6.2 CSV File'!C:C,'Contractor##'!F:F)","v":-0.17899999999999999},13.55471,"Fencing:Renew chestnut pale fencing ne 1.50m high including for taking down remnants of existing fence and posts, remove waste and debris, and renew by driving in 60mm diameter sweet chestnut posts at 2.22m centres including galvanised accessories and sweet chestnut struts and chestnut pales at 75mm centres, fixed at head and bottom with galvanised straining wire (measured per metre run of fencing)."]
["0172AD","FENCING:RENEW CHESTNUT NE 1.5M","FENCING AND GATES","Fencing","Fencing - Chestnut Pale","LM",13.87,{"$f":"SUMIF('Contractor##'!C:C,'Planned Maint v6.2 CSV File'!C:C,'Contractor##'!F:F)","v":-0.17899999999999999},11.387269999999999,"Fencing:Renew existing pales and wire on existing posts by carefully removing, remove waste and debris, and renew with chestnut pales ne 1.50m high at 75mm centres fixed at head and bottom with galvanised straining wire (measured per metre run of fencing)."]
["0172AE","FENCING:LINE WIRE SUPPORT","FENCING AND GATES","Fencing","Fencing - Chestnut Pale","LM",2.13,{"$f":"SUMIF('Contractor##'!C:C,'Planned Maint v6.2 CSV File'!C:C,'Contractor##'!F:F)","v":-0.17899999999999999},1.7487299999999999,"Fencing:Renew or fix new galvanised or PVC coated line wire to support cleft chestnut paling fence, fix wire to posts and fencing with galvanised staples and ties including remove and refix fencing as found expedient (measured per run of line wire)."]
["0172AF","FENCING:RENEW INDIVIDUAL CHESTNUT PALE","FENCING AND GATES","Fencing","Fencing - Chestnut Pale","NO",4.96,{"$f":"SUMIF('Contractor##'!C:C,'Planned Maint v6.2 CSV File'!C:C,'Contractor##'!F:F)","v":-0.17899999999999999},4.0721599999999993,"Fencing:Renew cleft chestnut pale to fence including remove existing and remove waste and debris and fix new to match existing."]
["0172AG","FENCING:RENEW 75MM STRAIN POST","FENCING AND GATES","Fencing","Fencing - Chestnut Pale","NO",12.65,{"$f":"SUMIF('Contractor##'!C:C,'Planned Maint v6.2 CSV File'!C:C,'Contractor##'!F:F)","v":-0.17899999999999999},10.38565,"Fencing:Renew 75mm timber sweet chestnut straining post 1.60m long to chestnut pale fencing including connecting bolt strainers, remove waste and debris."]
["0173AA","FENCING:RENEW 1.8M HIGH PANEL","FENCING AND GATES","Fencing","Fencing - Interwoven and Overlap Fence Panels","NO",42.65,{"$f":"SUMIF('Contractor##'!C:C,'Planned Maint v6.2 CSV File'!C:C,'Contractor##'!F:F)","v":-0.17899999999999999},35.015649999999994,"Fencing:Renew any interwoven or overlap fence panel ne 1.8x1.8m fixed with galvanised metal support brackets to existing posts, remove and dismantle existing and cart away debris to tip."]
["0173AB","FENCING:RENEW 1.2M HIGH PANEL","FENCING AND GATES","Fencing","Fencing - Interwoven and Overlap Fence Panels","NO",40.64,{"$f":"SUMIF('Contractor##'!C:C,'Planned Maint v6.2 CSV File'!C:C,'Contractor##'!F:F)","v":-0.17899999999999999},33.36544,"Fencing:Renew any interwoven or overlap fence panel ne 1.8x1.2m fixed with galvanised metal support brackets to existing posts, remove and dismantle existing and cart away debris to tip."]
["0173AC","FENCING:RENEW 1.2M WIDE PANEL","FENCING AND GATES","Fencing","Fencing - Interwoven  Panels","NO",45.19,{"$f":"SUMIF('Contractor##'!C:C,'Planned Maint v6.2 CSV File'!C:C,'Contractor##'!F:F)","v":-0.17899999999999999},37.100989999999996,"Fencing:Renew any interwoven or overlap fence panel ne 1.20x1.80m fixed with galvanised metal support brackets to existing posts, remove and dismantle existing and remove waste and debris."]
["0173AD","FENCING:RENEW 0.9M HIGH PANEL","FENCING AND GATES","Fencing","Fencing - Interwoven  Panels","NO",43.62,{"$f":"SUMIF('Contractor##'!C:C,'Planned Maint v6.2 CSV File'!C:C,'Contractor##'!F:F)","v":-0.17899999999999999},35.812019999999997,"Fencing:Renew any interwoven or overlap fence panel ne 1.80x0.90m fixed with galvanised metal support brackets to existing posts, remove and dismantle existing and remove waste and debris."]
["0173BA","FENCING:RENEW 1.8M PANEL WITH TIMBER POSTS","FENCING AND GATES","Fencing","Fencing - Interwoven and Overlap Fence Panels","LM",47.47,{"$f":"SUMIF('Contractor##'!C:C,'Planned Maint v6.2 CSV File'!C:C,'Contractor##'!F:F)","v":-0.17899999999999999},38.972869999999993,"Fencing:Renew interwoven or overlap panel fencing complete consisting of 1.80x1.80m high interwoven or overlap fencing panels fixed with galvanised metal support brackets to and including 75x75mm tanalised fence posts, allow for all necessary excavation including excavation for posts, concrete, backfill and remove surplus to approved tip, reinstate paths and gardens as necessary (measured per metre run of fencing)."]
["0173BB","FENCING:RENEW 1.2M PANEL WITH TIMBER POSTS","FENCING AND GATES","Fencing","Fencing - Interwoven and Overlap Fence Panels","LM",43.05,{"$f":"SUMIF('Contractor##'!C:C,'Planned Maint v6.2 CSV File'!C:C,'Contractor##'!F:F)","v":-0.17899999999999999},35.344049999999996,"Fencing:Renew interwoven or overlap panel fencing complete consisting of 1.80x1.20m high interwoven or overlap fencing panels fixed with galvanised metal support brackets to and including 75x75mm tanalised fence posts, set in concrete, provide and fix 25x150mm tanalised softwood gravel board with centre prop, allow for all necessary excavation including excavation for posts, concrete, backfill and remove surplus to approved tip, reinstate paths and gardens as necessary (measured per metre run of fencing)."]
["0173CA","FENCING:RENEW 1.8M PANEL WITH PCC POSTS","FENCING AND GATES","Fencing","Fencing - Interwoven and Overlap Fence Panels","LM",52.35,{"$f":"SUMIF('Contractor##'!C:C,'Planned Maint v6.2 CSV File'!C:C,'Contractor##'!F:F)","v":-0.17899999999999999},42.979349999999997,"Fencing:Renew interwoven or overlap panel fencing complete consisting of 1.80x1.80m high interwoven or overlap fencing panels fixed with galvanised metal support brackets to and including 100x100mm PCC posts, allow for all necessary excavation including excavation for posts, concrete, backfill and remove surplus to approved tip, reinstate paths and gardens as necessary (measured per metre run of fencing)."]
["0173CB","FENCING:RENEW 1.2M PANEL WITH PCC POSTS","FENCING AND GATES","Fencing","Fencing - Interwoven and Overlap Fence Panels","LM",47.35,{"$f":"SUMIF('Contractor##'!C:C,'Planned Maint v6.2 CSV File'!C:C,'Contractor##'!F:F)","v":-0.17899999999999999},38.87435,"Fencing:Renew interwoven or overlap panel fencing complete consisting of 1.80x1.20m high interwoven or overlap fencing panels fixed with galvanised metal support brackets to and including 100x100mm PCC posts set in concrete, provide and fix 25x150mm precast concrete gravel board, allow for all necessary excavation including excavation for posts, concrete, backfill and remove surplus to approved tip, reinstate paths and gardens as necessary (measured per metre run of fencing)."]
["0173CD","FENCING:ERECT 1.8M HIGH PANEL WITH TIMBER POSTS","FENCING AND GATES","Fencing","Fencing - Interwoven  Panels","LM",52.12,{"$f":"SUMIF('Contractor##'!C:C,'Planned Maint v6.2 CSV File'!C:C,'Contractor##'!F:F)","v":-0.17899999999999999},42.790519999999994,"Fencing:Erect tanalised 1.80m high interwoven or overlap panel fencing complete consisting of interwoven or overlap fencing panels fixed with galvanised metal support brackets to and including 75x75mm fence posts, posts set in concrete, capping, 25x150mm gravel board with centre prop, allow for all necessary excavation including excavation for posts, concrete, backfill and remove waste and debris, reinstate paving and gardens as necessary (measured per metre run of fencing)."]
["0173CE","FENCING:ERECT 1.2M HIGH PANEL WITH TIMBER POSTS","FENCING AND GATES","Fencing","Fencing - Interwoven  Panels","LM",47.22,{"$f":"SUMIF('Contractor##'!C:C,'Planned Maint v6.2 CSV File'!C:C,'Contractor##'!F:F)","v":-0.17899999999999999},38.767619999999994,"Fencing:Erect tanalised 1.20m high interwoven or overlap panel fencing complete consisting of interwoven or overlap fencing panels fixed with galvanised metal support brackets to and including 75x75mm fence posts, posts set in concrete, capping, 25x150mm gravel board with with centre prop, allow for all necessary excavation including excavation for posts, concrete, backfill and remove waste and debris, reinstate paving and gardens as necessary (measured per metre run of fencing)."]
["0173CF","FENCING:ERECT 0.9M HIGH PANEL WITH TIMBER POSTS","FENCING AND GATES","Fencing","Fencing - Interwoven  Panels","LM",42.88,{"$f":"SUMIF('Contractor##'!C:C,'Planned Maint v6.2 CSV File'!C:C,'Contractor##'!F:F)","v":-0.17899999999999999},35.204479999999997,"Fencing:Erect tanalised 0.90m high interwoven or overlap panel fencing complete consisting of interwoven or overlap fencing panels fixed with galvanised metal support brackets to and including 75x75mm fence posts, posts set in concrete, capping, 25x150mm gravel board with centre prop, allow for all necessary excavation including excavation for posts, concrete, backfill and remove waste and debris, reinstate paving and gardens as necessary (measured per metre run of fencing)."]
["0173CG","FENCING:ERECT 1.8M HIGH PANEL WITH PCC POSTS","FENCING AND GATES","Fencing","Fencing - Interwoven  Panels","LM",57.53,{"$f":"SUMIF('Contractor##'!C:C,'Planned Maint v6.2 CSV File'!C:C,'Contractor##'!F:F)","v":-0.17899999999999999},{"$f":"(1+H132)*G132","v":47.232129999999998},"Fencing:Erect tanalised 1.80m high interwoven or overlap panel fencing complete consisting of 1 interwoven or overlap fencing panels fixed with galvanised metal support brackets to and including 100x100mm pcc posts, posts set in concrete, capping 25x150mm precast concrete gravel board, allow for all necessary excavation including excavation for posts, concrete, backfill and remove waste and debris, reinstate paving and gardens as necessary (measured per metre run of fencing)."]
["0173CH","FENCING:ERECT 1.2M HIGH PANEL WITH PCC POSTS","FENCING AND GATES","Fencing","Fencing - Interwoven  Panels","LM",51.97,{"$f":"SUMIF('Contractor##'!C:C,'Planned Maint v6.2 CSV File'!C:C,'Contractor##'!F:F)","v":-0.17899999999999999},42.667369999999998,"Fencing:Erect tanalised 1.20m high interwoven or overlap panel fencing complete consisting of 1 interwoven or overlap fencing panels fixed with galvanised metal support brackets to and including 100x100mm pcc posts, posts set in concrete, capping 25x150mm precast concrete gravel board, allow for all necessary excavation including excavation for posts, concrete, backfill and remove waste and debris, reinstate paving and gardens as necessary (measured per metre run of fencing)."]
["0173CJ","FENCING:ERECT 0.9M HIGH PANEL WITH PCC POSTS","FENCING AND GATES","Fencing","Fencing - Interwoven  Panels","LM",47.31,{"$f":"SUMIF('Contractor##'!C:C,'Planned Maint v6.2 CSV File'!C:C,'Contractor##'!F:F)","v":-0.17899999999999999},38.84151,"Fencing:Erect tanalised 0.90m high interwoven or overlap panel fencing complete consisting of 1 interwoven or overlap fencing panels fixed with galvanised metal support brackets to and including 100x100mm pcc posts, posts set in concrete, capping 25x150mm precast concrete gravel board, allow for all necessary excavation including excavation for posts, concrete, backfill and remove waste and debris, reinstate paving and gardens as necessary (measured per metre run of fencing)."]
["0173CK","FENCING:REMOVE PANEL FENCE COMPLETE","FENCING AND GATES","Fencing","Fencing - Interwoven  Panels","LM",6.08,{"$f":"SUMIF('Contractor##'!C:C,'Planned Maint v6.2 CSV File'!C:C,'Contractor##'!F:F)","v":-0.17899999999999999},4.9916799999999997,"Fencing:Remove any panel fencing complete including timber or concrete posts, gravel boards etc and remove waste and debris, fill post holes with top soil and reinstate paths and gardens (measured per metre run of fencing)."]
["0173DA","TRELLIS:RENEW 1.8M PANEL WITH PCC POSTS","FENCING AND GATES","Fencing","Fencing - Trellis  Panels","LM",50.75,{"$f":"SUMIF('Contractor##'!C:C,'Planned Maint v6.2 CSV File'!C:C,'Contractor##'!F:F)","v":-0.17899999999999999},41.665749999999996,"Trellis:Renew Timber Trellis panel fencing complete consisting of 1.80x1.80m high trellis fencing panels fixed with galvanised metal support brackets to and including 100x100mm PCC posts, allow for all necessary excavation including excavation for posts, concrete, backfill and remove surplus to approved tip, reinstate paths and gardens as necessary (measured per metre run of fencing)."]
["0173DB","TRELLIS:ERECT 1.8M HIGH PANEL WITH PCC POSTS","FENCING AND GATES","Fencing","Fencing - Trellis  Panels","LM",54.31,{"$f":"SUMIF('Contractor##'!C:C,'Planned Maint v6.2 CSV File'!C:C,'Contractor##'!F:F)","v":-0.17899999999999999},44.588509999999999,"Trellis:Erect tanalised 1.80m high Trellis panel fencing complete consisting of trellis fencing panels fixed with galvanised metal support brackets to and including 100x100mm pcc posts, posts set in concrete, capping 25x150mm precast concrete gravel board, allow for all necessary excavation including excavation for posts, concrete, backfill and remove waste and debris, reinstate paving and gardens as necessary (measured per metre run of fencing)."]
["0173EA","FENCING:RENEW HAIRPIN METAL ON EXISTING POSTS 1.2M","FENCING AND GATES","Fencing","Fencing - Metal - Hairpin","LM",110,{"$f":"SUMIF('Contractor##'!C:C,'Planned Maint v6.2 CSV File'!C:C,'Contractor##'!F:F)","v":-0.17899999999999999},90.309999999999988,"Fencing:Renew Hairpin top decorative metal fencing 1.20m high on existing posts, including removal of old and remove from site to approved tip, supply and fix new galvanised steel fencing panels including all bars, rails,fittings,boltsetc. (measured per metre run of fencing)."]
["0173EB","FENCING:ERECT HAIRPIN TOP METAL FENCE POSTS 1.2M","FENCING AND GATES","Fencing","Fencing - Metal - Hairpin","LM",135,{"$f":"SUMIF('Contractor##'!C:C,'Planned Maint v6.2 CSV File'!C:C,'Contractor##'!F:F)","v":-0.17899999999999999},110.83499999999999,"Fencing:Erect new Hairpin top decorative fencing 1.20m high with 100x100mm x 2.35m galvanised steel posts cast into concrete at n.e. 2.4m centres and galvanised steel fencing panels including all bars, rails, fittings, bolts etc. and all excavation, concrete backfill and remove waste and debris, reinstatement of paving, gardens and the like (measured per metre run of fencing)."]
["0173FA","FENCING:RENEW DECORATIVE METAL ON EXIST POSTS 1.8M","FENCING AND GATES","Fencing","Fencing - Decorative Metal","LM",165,{"$f":"SUMIF('Contractor##'!C:C,'Planned Maint v6.2 CSV File'!C:C,'Contractor##'!F:F)","v":-0.17899999999999999},135.465,"Fencing:Renew decorative metal fencing 1.80m high on existing posts, including removal of old and remove from site to approved tip, supply and fix new galvanised steel fencing panels including all bars, rails,fittings,boltsetc. (measured per metre run of fencing)."]
["0173FB","FENCING:ERECT DECORATIVE METAL FENCE POSTS 1.8M","FENCING AND GATES","Fencing","Fencing - Decorative Metal","LM",190,{"$f":"SUMIF('Contractor##'!C:C,'Planned Maint v6.2 CSV File'!C:C,'Contractor##'!F:F)","v":-0.17899999999999999},155.98999999999998,"Fencing:Erect new decorative metal fencing 1.80m high with 100x100mm x 2.35m galvanised steel posts cast into concrete at n.e. 2.4m centres and galvanised steel fencing panels including all bars, rails, fittings, bolts etc. and all excavation, concrete backfill and remove waste and debris, reinstatement of paving, gardens and the like (measured per metre run of fencing)."]
["0173GA","FENCING:RENEW PVC WELDMESH SECURITY 1.8M","FENCING AND GATES","Fencing","Fencing - PVC Weldmesh ","LM",54,{"$f":"SUMIF('Contractor##'!C:C,'Planned Maint v6.2 CSV File'!C:C,'Contractor##'!F:F)","v":-0.17899999999999999},44.333999999999996,"Fencing:Renew pvc weldmesh security fencing 1.80m high on existing posts, including excavate to remove old buried section and supply and fix new weldmesh fencing, mesh size 38x75mm including 3.15mm pvc coated mild steel wires and all fittings, ties etc. Fence set 600mm into ground (overall mesh height =2.40m),backfill trench, remove surplus and spoil to approved tip, make good ( measured per metre run of fencing)"]
["0173GB","FENCING:ERECT NEW PVC WELDMESH SECURITY 1.8M","FENCING AND GATES","Fencing","Fencing - PVC Weldmesh ","LM",65,{"$f":"SUMIF('Contractor##'!C:C,'Planned Maint v6.2 CSV File'!C:C,'Contractor##'!F:F)","v":-0.17899999999999999},53.364999999999995,"Fencing:Erect new pvc weldmesh security fencing 1.80m high on 100 x 100 concrete or pvc coated mild steel posts set in concrete at 1.80m centres, supply and fix new weldmesh fencing, mesh size 38x75mm including 3.15mm pvc coated mild steel wires and all fittings, ties etc. Fence set 600mm into ground (overall mesh height =2.40m). Allow for all necessary excavations,concrete (C25)backfill pits and trenches, remove surplus and spoil to approved tip, , reinstatement of paving, gardens and the like ( measured per metre run of fencing)"]
["0173HA","FENCING:RENEW GALV WELDMESH SECURITY 1.8M","FENCING AND GATES","Fencing","Fencing - Galvanised  Weldmesh ","LM",52,{"$f":"SUMIF('Contractor##'!C:C,'Planned Maint v6.2 CSV File'!C:C,'Contractor##'!F:F)","v":-0.17899999999999999},42.692,"Fencing:Renew galvanised weldmesh security fencing 1.80m high on existing posts, including excavate to remove old buried section and supply and fix new weldmesh fencing, mesh size 38x75mm including 3.15mm galvanised mild steel wires and all fittings, ties etc. Fence set 600mm into ground (overall mesh height =2.40m),backfill trench, remove surplus and spoil to approved tip, make good ( measured per metre run of fencing)"]
["0173HB","FENCING:ERECT NEW GALV WELDMESH SECURITY 1.8M","FENCING AND GATES","Fencing","Fencing - Galvanised  Weldmesh ","LM",63,{"$f":"SUMIF('Contractor##'!C:C,'Planned Maint v6.2 CSV File'!C:C,'Contractor##'!F:F)","v":-0.17899999999999999},51.722999999999999,"Fencing:Erect new galvanisedweldmesh security fencing 1.80m high on 100 x 100 concrete or galvanised mild steel posts set in concrete at 1.80m centres, supply and fix new weldmesh fencing, mesh size 38x75mm including 3.15mm galv mild steel wires and all fittings, ties etc. Fence set 600mm into ground (overall mesh height =2.40m). Allow for allnecessary excavations,concrete (C25)backfill pits and trenches, remove surplus and spoil to approved tip, , reinstatement of paving, gardens and the like ( measured per metre run of fencing)"]
["0174AA","CHAINLINK:RENEW ON EXISTING POSTS 0.9M","FENCING AND GATES","Fencing","Fencing - Chainlink","LM",8.39,{"$f":"SUMIF('Contractor##'!C:C,'Planned Maint v6.2 CSV File'!C:C,'Contractor##'!F:F)","v":-0.17899999999999999},6.8881899999999998,"Chainlink:Renew chainlink fencing 0.9m high on existing posts, including removal of old and remove from site to approved tip, supply and fix new galvanised or plastic coated steel chainlink wire fencing including three 2.50mm diameter galvanised mild steel line wires and all fittings, ties etc. (measured per metre run of fencing)."]
["0174AB","CHAINLINK:RENEW ON EXISTING POSTS 1.2M","FENCING AND GATES","Fencing","Fencing - Chainlink","LM",9.24,{"$f":"SUMIF('Contractor##'!C:C,'Planned Maint v6.2 CSV File'!C:C,'Contractor##'!F:F)","v":-0.17899999999999999},7.5860399999999997,"Chainlink:Renew chainlink fencing 1.20m high on existing posts, including removal of old and remove from site to approved tip, supply and fix new galvanised or plastic coated steel chainlink wire fencing including three 2.50mm diameter galvanised mild steel line wires and all fittings, ties etc. (measured per metre run of fencing)."]
["0174AC","CHAINLINK:RENEW ON EXISTING POSTS 1.8M","FENCING AND GATES","Fencing","Fencing - Chainlink","LM",11.29,{"$f":"SUMIF('Contractor##'!C:C,'Planned Maint v6.2 CSV File'!C:C,'Contractor##'!F:F)","v":-0.17899999999999999},9.2690899999999985,"Chainlink:Renew chainlink fencing 1.80m high on existing posts, including removal of old and remove from site to approved tip, supply and fix new galvanised or plastic coated steel chainlink wire fencing including three 2.50mm diameter galvanised mild steel line wires and all fittings, ties etc. (measured per metre run of fencing)."]
["0174AD","FENCING:ERECT CHAINLINK FENCE AND POSTS 1.2M","FENCING AND GATES","Fencing","Fencing - Chainlink","LM",34.270000000000003,{"$f":"SUMIF('Contractor##'!C:C,'Planned Maint v6.2 CSV File'!C:C,'Contractor##'!F:F)","v":-0.17899999999999999},28.135670000000001,"Fencing:1.20m high with 100x100mm x 1.625m concrete posts cast into concrete with three 2.5mm diameter galvanised mild steel line wires and galvanised or plastic coated steel chainlink fencing including all fittings, ties etc. and all excavation, concrete backfill and remove waste and debris, reinstatement of paving, gardens and the like (measured per metre run of fencing)."]
["0174AE","FENCING:ERECT CHAINLINK FENCE AND POSTS 1.8M","FENCING AND GATES","Fencing","Fencing - Chainlink","LM",38.619999999999997,{"$f":"SUMIF('Contractor##'!C:C,'Planned Maint v6.2 CSV File'!C:C,'Contractor##'!F:F)","v":-0.17899999999999999},31.707019999999996,"Fencing:Erect new chainlink fencing 1.80m high with 100x100mm x 2.35m concrete posts cast into concrete with three 2.5mm diameter galvanised mild steel line wires and galvanised or plastic coated steel chainlink fencing including all fittings, ties etc. and all excavation, concrete backfill and remove waste and debris, reinstatement of paving, gardens and the like (measured per metre run of fencing)."]
["0174BA","CHAINLINK:RESECURE LOOSE FENCE","FENCING AND GATES","Fencing","Fencing - Chainlink","LM",1.06,{"$f":"SUMIF('Contractor##'!C:C,'Planned Maint v6.2 CSV File'!C:C,'Contractor##'!F:F)","v":-0.17899999999999999},0.87026000000000003,"Chainlink:Resecure loose chainlink fencing including tightening straining wires as necessary."]
["0174BB","FENCING:REMOVE CHAINLINK COMPLETE","FENCING AND GATES","Fencing","Fencing - Chainlink","LM",6.08,{"$f":"SUMIF('Contractor##'!C:C,'Planned Maint v6.2 CSV File'!C:C,'Contractor##'!F:F)","v":-0.17899999999999999},4.9916799999999997,"Fencing:Remove any height chainlink fencing complete with concrete posts and remove waste and debris, fill holes with topsoil and reinstate paving and gardens as necessary."]
["0174DA","FENCING:RENEW WIRES TO EXISTING POSTS 1.2M","FENCING AND GATES","Fencing","Fencing - Post and Wire","LM",4.29,{"$f":"SUMIF('Contractor##'!C:C,'Planned Maint v6.2 CSV File'!C:C,'Contractor##'!F:F)","v":-0.17899999999999999},3.5220899999999999,"Fencing:Renew wire fencing 1.20m high on existing posts, including removal of old and remove waste and debris, supply and fix three new galvanised or plastic coated steel 2.50mm diameter line wires and all fittings, ties etc. (measured per metre run of fencing)."]
["0174EA","FENCING:RENEW POST AND WIRE 0.9M HIGH","FENCING AND GATES","Fencing","Fencing - Post and Wire","LM",14.36,{"$f":"SUMIF('Contractor##'!C:C,'Planned Maint v6.2 CSV File'!C:C,'Contractor##'!F:F)","v":-0.17899999999999999},11.789559999999998,"Fencing:Renew 900mm high post and wire fencing complete, concrete posts with rounded tops and struts at 2743mm centres set 600mm into ground in and including concrete (1:3:6), three strands of 2.50mm galvanised mild or plastic coated steel line wires, including all fittings, ties etc., and including all excavation, concrete, backfill and remove waste and debris, reinstate paving, gardens and the like as necessary (measured per metre run of fencing)."]
["0174FA","FENCING:RENEW POST AND WIRE 1.05M HIGH","FENCING AND GATES","Fencing","Fencing - Post and Wire","LM",16.68,{"$f":"SUMIF('Contractor##'!C:C,'Planned Maint v6.2 CSV File'!C:C,'Contractor##'!F:F)","v":-0.17899999999999999},13.694279999999999,"Fencing:Renew 1050mm high post and wire fencing complete, concrete posts with rounded tops and struts at 2743mm centres set 600mm into ground in and including concrete (1:3:6), three strands of 2.50mm galvanised mild or plastic coated steel line wires, including all fittings, ties etc., and including all excavation, concrete, backfill and remove waste and debris, reinstate paving, gardens and the like as necessary (measured per metre run of fencing)."]
["0175AA","FENCING:RENEW GARDEN RAIL 0.575M HIGH","FENCING AND GATES","Fencing","Fencing - Garden Rail","LM",25.6,{"$f":"SUMIF('Contractor##'!C:C,'Planned Maint v6.2 CSV File'!C:C,'Contractor##'!F:F)","v":-0.17899999999999999},21.017600000000002,"Fencing:Renew with or supply and fix 575mm high tanalised softwood garden rail fencing comprising 50x225mm horizontal rail splayed on top, bolted to 75x75mm x 0.90m splayed on top posts set in concrete bases at ne 2.00m centres with two (2) 9mm diameter x 150mm galvanised mild steel round head bolts, including excavation, concrete, backfill and remove waste and debris including where necessary taking down remnants of existing fencing and posts, reinstate paving, gardens and the like as necessary (measured per metre run of fencing)."]
["0175AB","FENCING:REMOVE GARDEN RAIL 0.575M HIGH","FENCING AND GATES","Fencing","Fencing - Garden Rail","LM",4.5199999999999996,{"$f":"SUMIF('Contractor##'!C:C,'Planned Maint v6.2 CSV File'!C:C,'Contractor##'!F:F)","v":-0.17899999999999999},3.7109199999999993,"Fencing:Remove 575mm high garden rail fencing including posts and remove waste and debris, including fill in post holes with top soil and reinstate paving, gardens and the like as necessary."]
["0176AA","FENCING:RENEW HIT AND MISS 1.35M HIGH","FENCING AND GATES","Fencing","Fencing - Hit and Miss","LM",38.39,{"$f":"SUMIF('Contractor##'!C:C,'Planned Maint v6.2 CSV File'!C:C,'Contractor##'!F:F)","v":-0.17899999999999999},31.518189999999997,"Fencing:Renew with or supply and fix tanalised softwood hit and miss fence 1.35m high, comprising 100x100mm posts at ne 1.80m centres, 100x50mm rails, 100x25mm pales to both faces including all excavation, concrete, backfill and remove waste and debris, including where necessary taking down remnants of existing fencing and posts,, reinstate paving, gardens and the like as necessary (measured per metre run of fencing)."]
["0176AB","FENCING:RENEW HIT AND MISS 1.8M HIGH","FENCING AND GATES","Fencing","Fencing - Hit and Miss","LM",44.38,{"$f":"SUMIF('Contractor##'!C:C,'Planned Maint v6.2 CSV File'!C:C,'Contractor##'!F:F)","v":-0.17899999999999999},36.435980000000001,"Fencing:Renew with or supply and fix tanalised softwood hit and miss fence 1.80m high, comprising 100x100mm posts at ne 1.80m centres, 100x50mm rails, 100x25mm pales to both faces including all excavation, concrete, 100x25mm pales including all excavation, concrete backfill and remove waste and debris, including where necessary taking down remnants of existing fencing and posts, reinstate paving, gardens and the like as necessary (measured per metre run of fencing)."]
["0176BA","FENCING:RENEW HORIZONTAL HIT AND MISS 1.8M HIGH","FENCING AND GATES","Fencing","Fencing - Hit and Miss","LM",52.4,{"$f":"SUMIF('Contractor##'!C:C,'Planned Maint v6.2 CSV File'!C:C,'Contractor##'!F:F)","v":-0.17899999999999999},43.020399999999995,"Fencing:Renew with or supply and fix tanalised softwood horizontal hit and miss fence 1.80m high, comprising 100x100mm posts at ne 1.20m centres, posts fixed to and including concrete spur posts set in concrete, 100x50mm pales, 150x25mm rails to both faces including all excavation, concrete backfill and remove waste and debris, including where necessary taking down remnants of existing fencing and posts, reinstate paving, gardens and the like as necessary (measured per metre run of fencing)."]
["0176BB","FENCING:REMOVE HIT AND MISS","FENCING AND GATES","Fencing","Fencing - Hit and Miss","LM",7.64,{"$f":"SUMIF('Contractor##'!C:C,'Planned Maint v6.2 CSV File'!C:C,'Contractor##'!F:F)","v":-0.17899999999999999},6.2724399999999996,"Fencing:Remove any softwood hit and miss type of fencing including posts and and remove waste and debris, fill post holes with top soil and reinstate paving and gardens as necessary."]
["0176CA","FENCING:RENEW PALISADE 1.35M HIGH","FENCING AND GATES","Fencing","Fencing - Palisade","LM",42.32,{"$f":"SUMIF('Contractor##'!C:C,'Planned Maint v6.2 CSV File'!C:C,'Contractor##'!F:F)","v":-0.17899999999999999},34.744720000000001,"Fencing:Renew with or supply and fix tanalised softwood palisade fence 1.35m high with 100x100mm posts at ne 1.80m centres, 100x50mm rails, 75mm pales at 125mm centres including all excavation, concrete, backfill and remove waste and debris, including where necessary taking down remnants of existing fencing and posts, reinstate paving, gardens and the like as necessary (measured per metre run of fencing)."]
["0176CB","FENCING:RENEW PALISADE 1.8M HIGH","FENCING AND GATES","Fencing","Fencing - Palisade","LM",49.62,{"$f":"SUMIF('Contractor##'!C:C,'Planned Maint v6.2 CSV File'!C:C,'Contractor##'!F:F)","v":-0.17899999999999999},40.738019999999999,"Fencing:Renew with or supply and fix tanalised softwood palisade fence 1.80m high with 100x100mm posts at ne 1.80m centres, 100x50mm rails, 75mm pales at 125mm centres including all excavation, concrete, backfill and remove waste and debris, including where necessary taking down remnants of existing fencing and posts, reinstate paving, gardens and the like as necessary (measured per metre run of fencing)."]
["0176CC","FENCING:REMOVE PALISADE","FENCING AND GATES","Fencing","Fencing - Palisade","LM",8.7799999999999994,{"$f":"SUMIF('Contractor##'!C:C,'Planned Maint v6.2 CSV File'!C:C,'Contractor##'!F:F)","v":-0.17899999999999999},7.2083799999999991,"Fencing:Remove any palisade type of fencing including posts and remove waste and debris, fill post holes with top soil and reinstate paving and gardens as necessary."]
["0176GA","FENCING:RENEW POST AND 2 RAIL","FENCING AND GATES","Fencing","Fencing - Post and Rail","LM",30.62,{"$f":"SUMIF('Contractor##'!C:C,'Planned Maint v6.2 CSV File'!C:C,'Contractor##'!F:F)","v":-0.17899999999999999},25.139019999999999,"Fencing:Renew with or supply and fix tanalised softwood post and two rail fence with 75x125mm posts at ne 1.80m centres, 100x38mm rails, including all excavation, concrete, backfill and remove waste and debris, including where necessary taking down remnants of existing fencing and posts, reinstate paving, gardens and the like as necessary (measured per metre run of fencing)."]
["0176GB","FENCING:RENEW POST AND 3 RAIL","FENCING AND GATES","Fencing","Fencing - Post and Rail","LM",34.15,{"$f":"SUMIF('Contractor##'!C:C,'Planned Maint v6.2 CSV File'!C:C,'Contractor##'!F:F)","v":-0.17899999999999999},28.037149999999997,"Fencing:Renew with or supply and fix tanalised softwood post and three rail fence with 75x125mm posts at ne 1.80m centres, 100x38mm rails, including all excavation, concrete, backfill and remove waste and debris, including where necessary taking down remnants of existing fencing and posts, reinstate paving, gardens and the like as necessary (measured per metre run of fencing)."]
["0176HA","FENCING:ERECT POST AND WIRE 1.2M","FENCING AND GATES","Fencing","Fencing - Post and Wire","LM",20.9,{"$f":"SUMIF('Contractor##'!C:C,'Planned Maint v6.2 CSV File'!C:C,'Contractor##'!F:F)","v":-0.17899999999999999},17.158899999999999,"Fencing:Erect post and wire fencing 1.20m high with 100x100x1.625m concrete posts cast into concrete with three 2.5mm diameter galvanised mild or plastic coated steel line wires including all fittings, ties etc. and including all excavation, concrete, backfill and remove waste and debris, reinstate paving, gardens and the like as necessary (measured per metre run of fencing)."]
["0176HB","FENCING:RENEW OR FIX LINE WIRE","FENCING AND GATES","Fencing","Fencing - Post and Wire","LM",1.69,{"$f":"SUMIF('Contractor##'!C:C,'Planned Maint v6.2 CSV File'!C:C,'Contractor##'!F:F)","v":-0.17899999999999999},1.3874899999999999,"Fencing:Renew or fix new galvanised or PVC coated line wire to post and wire fence, fix wire to posts including remove and refix fencing as found expedient, remove waste and debris (measured per run of line wire)."]
["0177AA","FENCING:REMOVE PCC POST AND SLAB","FENCING AND GATES","Fencing","Fencing - Concrete Panel","LM",7.64,{"$f":"SUMIF('Contractor##'!C:C,'Planned Maint v6.2 CSV File'!C:C,'Contractor##'!F:F)","v":-0.17899999999999999},6.2724399999999996,"Fencing:Remove precast concrete post and slab fencing 1.20m high and remove waste and debris, fill post holes with top soil and reinstate paving gardens and the like as necessary (measured per metre run of fencing)."]
["0178AA","FENCING:MAKE SAFE FENCING","FENCING AND GATES","Fencing","Fencing - Concrete Panel","LM",10.62,{"$f":"SUMIF('Contractor##'!C:C,'Planned Maint v6.2 CSV File'!C:C,'Contractor##'!F:F)","v":-0.17899999999999999},8.7190199999999987,"Fencing:Make safe any unstable fence and or gate including but not limited to resecure and or refix fencing, brace and or reset and or refix post, rehang gate or resecure."]
["0178AB","FENCING:RENEW TIMBER PALE AND LAG","FENCING AND GATES","Fencing","Fencing - Sundry Repairs","NO",6.01,{"$f":"SUMIF('Contractor##'!C:C,'Planned Maint v6.2 CSV File'!C:C,'Contractor##'!F:F)","v":-0.17899999999999999},4.9342099999999993,"Fencing:Renew any type of fencing pale or lag with ne 25x150mm tanalised timber including all labours, remove waste and debris."]
["0178AC","FENCING:REFIX TIMBER PALE AND LAG","FENCING AND GATES","Fencing","Fencing - Sundry Repairs","NO",1.71,{"$f":"SUMIF('Contractor##'!C:C,'Planned Maint v6.2 CSV File'!C:C,'Contractor##'!F:F)","v":-0.17899999999999999},1.40391,"Fencing:Refix any type of fencing pale or lag including remove and refix as necessary."]
["0178AD","FENCING:FIX GALVANISED REPAIR BRACKET","FENCING AND GATES","Fencing","Fencing - Sundry Repairs","NO",6.1,{"$f":"SUMIF('Contractor##'!C:C,'Planned Maint v6.2 CSV File'!C:C,'Contractor##'!F:F)","v":-0.17899999999999999},5.0080999999999998,"Fencing:Supply and fix galvanised repair bracket to rail and post including all cutting and fitting to suit."]
["0190AA","FENCE POST:EXCAVATE REMOVE AND MAKE GOOD","FENCING AND GATES","Fencing","Fencing - Posts","NO",6.86,{"$f":"SUMIF('Contractor##'!C:C,'Planned Maint v6.2 CSV File'!C:C,'Contractor##'!F:F)","v":-0.17899999999999999},5.6320600000000001,"Fence Post:Excavate and remove remnants of damaged post with earth or concrete surround, fill hole with top soil, and remove waste and debris, reinstate paving, gardens and the like as necessary."]
["0190AB","FENCE POST:REFIX LOOSE POST","FENCING AND GATES","Fencing","Fencing - Posts","NO",7.7,{"$f":"SUMIF('Contractor##'!C:C,'Planned Maint v6.2 CSV File'!C:C,'Contractor##'!F:F)","v":-0.17899999999999999},6.3216999999999999,"Fence Post:Refix any type of loose post including reset any post set in earth or concrete without removing and refixing any post fixed to brickwork, concrete and make good."]
["0190BA","FENCE POST:RENEW TIMBER TO HARDCORE OR CONCRETE","FENCING AND GATES","Fencing","Fencing - Posts","NO",26.57,{"$f":"SUMIF('Contractor##'!C:C,'Planned Maint v6.2 CSV File'!C:C,'Contractor##'!F:F)","v":-0.17899999999999999},21.813969999999998,"Fence Post:Renew tanalised softwood fence post set in hardcore or concrete size 100x100mm and ne 2.40m long including any struts, excavate hole, place hardcore and or concrete, backfill, remove and refix fencing, and remove waste and debris, reinstate paving, gardens and the like as necessary."]
["0190BB","FENCE POST:RENEW TIMBER TO BRICKWORK","FENCING AND GATES","Fencing","Fencing - Posts","NO",24.42,{"$f":"SUMIF('Contractor##'!C:C,'Planned Maint v6.2 CSV File'!C:C,'Contractor##'!F:F)","v":-0.17899999999999999},20.048819999999999,"Post:Renew softwood tanalised fence post fixed to brickwork size 100x100mm and up to 2.4m long including remove and refix fencing and or gates and drill plug and screw and make good."]
["0190BC","FENCE POST:RENEW TIMBER IN METPOST","FENCING AND GATES","Fencing","Fencing - Posts","NO",23.7,{"$f":"SUMIF('Contractor##'!C:C,'Planned Maint v6.2 CSV File'!C:C,'Contractor##'!F:F)","v":-0.17899999999999999},19.457699999999999,"Fence Post:Renew 75x75mm tanalised softwood fence post ne 2.40m long with post fixed into driven or bolted Metpost including any struts, remove and refix fencing, remove spoil from site to approved tip, reinstate paving, gardens and the like as necessary."]
["0190CA","FENCE POST:RENEW PCC NE 1.5M","FENCING AND GATES","Fencing","Fencing - Posts","NO",28.47,{"$f":"SUMIF('Contractor##'!C:C,'Planned Maint v6.2 CSV File'!C:C,'Contractor##'!F:F)","v":-0.17899999999999999},23.373869999999997,"Fence Post:Renew precast concrete fence post or spur set in hardcore or concrete ne 100x100mm and ne 1.50m long including any struts, excavate hole, place hardcore and concrete, backfill, remove and refix fencing, and remove waste and debris, reinstate paving, gardens and the like as necessary."]
["0190CB","FENCE POST:RENEW PCC OVER 1.5M","FENCING AND GATES","Fencing","Fencing - Posts","NO",36.869999999999997,{"$f":"SUMIF('Contractor##'!C:C,'Planned Maint v6.2 CSV File'!C:C,'Contractor##'!F:F)","v":-0.17899999999999999},30.270269999999996,"Fence Post:Renew precast concrete fence post or spur set in hardcore or concrete ne 100x100mm and over 1.50m long including any struts, excavate hole, place hardcore or concrete, backfill, remove and refix fencing, and remove waste and debris, reinstate paving, gardens and the like as necessary."]
["0190DA","FENCE POST:FIX 50X100MM SW BATTEN","FENCING AND GATES","Fencing","Fencing - Posts","NO",15.05,{"$f":"SUMIF('Contractor##'!C:C,'Planned Maint v6.2 CSV File'!C:C,'Contractor##'!F:F)","v":-0.17899999999999999},12.35605,"Fence Post:Supply and fix 50x100mm tanalised softwood batten to precast concrete post ne 1.80m long including drill and bolt batten to post."]
["0190EA","FENCE POST:REPAIR WITH METSPUR","FENCING AND GATES","Fencing","Fencing - Posts","NO",16.2,{"$f":"SUMIF('Contractor##'!C:C,'Planned Maint v6.2 CSV File'!C:C,'Contractor##'!F:F)","v":-0.17899999999999999},13.300199999999998,"Fence Post:Repair broken post with ‘Metspur’ fitting including driving spur into ground and bolting to existing post, supply all necessary struts and reinstate paths and gardens on completion, and remove waste and debris."]
["0210AA","GATE:RENEW TIMBER NE 1.0SM","FENCING AND GATES","Fencing","Fencing - Timber Gates","NO",64.349999999999994,{"$f":"SUMIF('Contractor##'!C:C,'Planned Maint v6.2 CSV File'!C:C,'Contractor##'!F:F)","v":-0.17899999999999999},52.831349999999993,"Gate:Renew tanalised softwood single leaf gate ne 1.00sm overall, comprising of two 144x27mm ledges, five 144x20mm vertical boards at 175mm centres and one 144x27mm diagonal brace, including new galvanised steel strap hinges and hangers fixed to existing concrete post, new galvanised mild steel auto catch, prepare for and decorate, and remove waste and debris."]
["0210AB","GATE:RENEW TIMBER NE 1.5SM","FENCING AND GATES","Fencing","Fencing - Timber Gates","NO",73.72,{"$f":"SUMIF('Contractor##'!C:C,'Planned Maint v6.2 CSV File'!C:C,'Contractor##'!F:F)","v":-0.17899999999999999},60.524119999999996,"Gate:Renew tanalised softwood single leaf gate ne 1.50sm overall, comprising two 144x27mm ledges, five 144x20mm vertical boards at 175mm centres and one 144x27mm diagonal brace, including new galvanised steel strap hinges and hangers fixed to existing concrete post, new galvanised mild steel auto catch, prepare for and decorate, and remove waste and debris."]
["0210AC","GATE:RENEW PAIR TIMBER NE 2.5SM OVERALL","FENCING AND GATES","Fencing","Fencing - Timber Gates","NO",179.83,{"$f":"SUMIF('Contractor##'!C:C,'Planned Maint v6.2 CSV File'!C:C,'Contractor##'!F:F)","v":-0.17899999999999999},147.64043000000001,"Gate:Renew tanalised softwood two leaved gate ne 2.50sm overall, each leaf comprising two 144x27mm ledges six 144x20mm vertical boards at 175mm centres and one 144x27mm diagonal brace, including new galavanised steel strap hinges and hangers fixed to existing concrete posts, new galvanised mild steel auto catch, prepare for and decorate, to approved tip."]
["0210AD","GATE:RENEW TIMBER NE 2.SM OVERALL","FENCING AND GATES","Gates","Fencing - Timber Gates","NO",95.31,{"$f":"SUMIF('Contractor##'!C:C,'Planned Maint v6.2 CSV File'!C:C,'Contractor##'!F:F)","v":-0.17899999999999999},78.249510000000001,"Gate:Renew tanalised softwood single leaf gate ne 2.00sm overall, comprising of three 144x27mm ledges six 144x20mm vertical boards at 175mm centres and two 144x27mm diagonal braces, including new galavanised steel strap hinges and hangers fixed to existing concrete posts, new galvanised mild steel auto catch, prepare for and decorate, remove waste and debris."]
["0210AE","GATE:RENEW PAIR TIMBER NE 4SM OVERALL","FENCING AND GATES","Gates","Fencing - Timber Gates","NO",282.19,{"$f":"SUMIF('Contractor##'!C:C,'Planned Maint v6.2 CSV File'!C:C,'Contractor##'!F:F)","v":-0.17899999999999999},231.67798999999999,"Gate:Renew tanalised softwood two leaved gate ne 4.00sm overall, each leaf comprising three 144x27mm ledges six 144x20mm vertical boards at 175mm centres and two 144x27mm diagonal braces, including new galavanised steel strap hinges and hangers fixed to existing concrete posts, new galvanised mild steel auto catch, prepare for and decorate, to approved tip."]
["0210AF","GATE:RENEW PAIR TIMBER NE 8SM OVERALL","FENCING AND GATES","Gates","Fencing - Timber Gates","NO",618.12,{"$f":"SUMIF('Contractor##'!C:C,'Planned Maint v6.2 CSV File'!C:C,'Contractor##'!F:F)","v":-0.17899999999999999},507.47651999999999,"Gate:Renew tanalised softwood two leaved gate ne 8.00sm overall, each leaf comprising three 144x27mm ledges six 144x20mm vertical boards at 175mm centres and two 144x27mm diagonal braces, including new galavanised steel strap hinges and hangers fixed to existing concrete posts, new galvanised mild steel auto catch, prepare for and decorate, to approved tip."]
["0210BA","GATE:INSTALL TIMBER NE 1.0SM AND POSTS","FENCING AND GATES","Fencing","Fencing - Timber Gates","NO",131.04,{"$f":"SUMIF('Contractor##'!C:C,'Planned Maint v6.2 CSV File'!C:C,'Contractor##'!F:F)","v":-0.17899999999999999},107.58383999999998,"Gate:Install tanalised softwood single leaf gate ne 1.00sm overall, comprising of two 144x27mm ledges, five 144x20mm vertical boards at 175mm centres and one 144x27mm diagonal brace, including galvanised steel strap hinges and hangers fixed to and including precast concrete posts ne 1.65m long, galvanised mild steel auto catch, prepare for and decorate, posts set in concrete including all excavation, concrete, backfill, and remove waste and debris, reinstate paving, gardens and the like as necessary."]
["0210BB","GATE:INSTALL TIMBER NE 1.5SM AND POSTS","FENCING AND GATES","Fencing","Fencing - Timber Gates","NO",150.72,{"$f":"SUMIF('Contractor##'!C:C,'Planned Maint v6.2 CSV File'!C:C,'Contractor##'!F:F)","v":-0.17899999999999999},123.74112,"Gate:Install tanalised softwood single leaf gate ne 1.50sm overall, comprising two 144x27mm ledges, five 144x20mm vertical boards at 175mm centres and one 144x27mm diagonal brace, including galvanised steel strap hinges and hangers fixed to and including precast concrete posts ne 2.15m long, galvanised mild steel auto catch, prepare for and decorate, posts set in concrete including all excavation, concrete, backfill, and remove waste and debris, reinstate paving, gardens and the like as necessary."]
["0210BC","GATES:INSTALL PAIR TIMBER NE 2.5SM OVERALL & POSTS","FENCING AND GATES","Fencing","Fencing - Timber Gates","NO",259.88,{"$f":"SUMIF('Contractor##'!C:C,'Planned Maint v6.2 CSV File'!C:C,'Contractor##'!F:F)","v":-0.17899999999999999},213.36147999999997,"Gates:Install tanalised softwood two leaved gate ne 2.5sm overall, each leaf comprising two 144x27mm ledges, six 144x20mm vertical boards at 175mm centres and one 144x27mm diagonal brace, including steel strap hinges and hangers fixed to and including precaste concrete posts, galvanised mild steel auto catch, prepare for and decorate, posts set in concrete including all excavation, concrete, backfill and remove waste and debris, reinstate paving, gardens and like as necessary."]
["0210BD","GATE:INSTALL TIMBER NE 2.0SM AND POSTS","FENCING AND GATES","Gates","Fencing - Timber Gates","NO",189.37,{"$f":"SUMIF('Contractor##'!C:C,'Planned Maint v6.2 CSV File'!C:C,'Contractor##'!F:F)","v":-0.17899999999999999},155.47277,"Gate:Install tanalised softwood single leaf gate ne 2.00sm overall, comprising of three 144x27mm ledges, six 144x20mm vertical boards at 175mm centres and two 144x27mm diagonal braces, including galvanised steel strap hinges and hangers fixed to and including precast concrete posts ne 1.65m long, galvanised mild steel auto catch, prepare for and decorate, posts set in concrete including all excavation, concrete, backfill, and remove waste and debris, reinstate paving, gardens and the like as necessary. "]
["0210BF","GATES:INSTALL PAIR TIMBER NE 4SM OVERALL & POSTS","FENCING AND GATES","Gates","Fencing - Timber Gates","NO",377.49,{"$f":"SUMIF('Contractor##'!C:C,'Planned Maint v6.2 CSV File'!C:C,'Contractor##'!F:F)","v":-0.17899999999999999},309.91928999999999,"Gates:Install tanalised softwood two leaved gate ne 4.00sm overall, each leaf comprising three 144x27mm ledges, six 144x20mm vertical boards at 175mm centres and two 144x27mm diagonal braces, including steel strap hinges and hangers fixed to and including precaste concrete posts, galvanised mild steel auto catch, prepare for and decorate, posts set in concrete including all excavation, concrete, backfill and remove waste and debris, reinstate paving, gardens and like as necessary."]
["0210BG","GATES:INSTALL PAIR TIMBER NE 8SM OVERALL & POSTS","FENCING AND GATES","Gates","Fencing - Timber Gates","NO",774.37,{"$f":"SUMIF('Contractor##'!C:C,'Planned Maint v6.2 CSV File'!C:C,'Contractor##'!F:F)","v":-0.17899999999999999},635.75776999999994,"Gates:Install tanalised softwood two leaved gate ne 8.00sm overall, each leaf comprising three 144x27mm ledges, six 144x20mm vertical boards at 175mm centres and two 144x27mm diagonal braces, including steel strap hinges and hangers fixed to and including precaste concrete posts, galvanised mild steel auto catch, prepare for and decorate, posts set in concrete including all excavation, concrete, backfill and remove waste and debris, reinstate paving, gardens and like as necessary."]
["0210BH","GATE:INSTALL TIMBER PANEL 1.2M HIGH","FENCING AND GATES","Gates","Fencing - Timber Gates","NO",91.48,{"$f":"SUMIF('Contractor##'!C:C,'Planned Maint v6.2 CSV File'!C:C,'Contractor##'!F:F)","v":-0.17899999999999999},75.105080000000001,"Gate:Install tanalised softwood single leaf gate comprising 0 90m wide x 1.20m high interwoven or overlap panel with additional diagonal brace, including galvanised steel hinges fixed to and including 100x100mm treated softwood posts ne 1.85m long, galvanised mild steel auto catch, prepare for and decorate, posts set in concrete including all excavation, concrete, backfill, and remove waste and debris, reinstate paving, gardens and the like as necessary."]
["0210BJ","GATE:INSTALL TIMBER PANEL 1.8M HIGH","FENCING AND GATES","Gates","Fencing - Timber Gates","NO",105.51,{"$f":"SUMIF('Contractor##'!C:C,'Planned Maint v6.2 CSV File'!C:C,'Contractor##'!F:F)","v":-0.17899999999999999},{"$f":"(1+H196)*G196","v":86.623710000000003},"Gate:Install tanalised softwood single leaf gate comprising 0.90m wide x 1.80m high interwoven or overlap panel with additional diagonal brace, including galvanised steel hinges fixed to and including 100x100mm treated softwood posts ne 2.45m long, galvanised mild steel auto catch, prepare for and decorate, posts set in concrete including all excavation, concrete, backfill, and remove waste and debris, reinstate paving, gardens and the like as necessary."]
["0210CA","GATE:REPAIR AND EASE AND ADJUST TIMBER GATE","FENCING AND GATES","Gates","Fencing - Timber Gates","NO",19.420000000000002,{"$f":"SUMIF('Contractor##'!C:C,'Planned Maint v6.2 CSV File'!C:C,'Contractor##'!F:F)","v":-0.17899999999999999},15.943820000000001,"Gate:Repair any damaged timber gate including ease and adjust, remove and rehang as necessary including adjust stop, supply and fix new timbers and scarf new sections as required and redecorate to match existing."]
["0210CB","GATE:RENEW GATE AND FENCE CAPPING","FENCING AND GATES","Gates","Fencing - Timber Gates","LM",4.05,{"$f":"SUMIF('Contractor##'!C:C,'Planned Maint v6.2 CSV File'!C:C,'Contractor##'!F:F)","v":-0.17899999999999999},3.3250499999999996,"Gate:Renew any type and size of gate or fence capping with softwood tanalised capping to match and redecorate to match existing, remove waste and debris. "]
["0230AA","GATE:RENEW METAL NE 1.0SM","FENCING AND GATES","Fencing","Fencing - Metal Gates","NO",60.04,{"$f":"SUMIF('Contractor##'!C:C,'Planned Maint v6.2 CSV File'!C:C,'Contractor##'!F:F)","v":-0.17899999999999999},49.292839999999998,"Gate:Renew galvanised mild steel gate ne 1.00sm, overall consisting of 25x25x3mm angle frame with corners mitred and welded and seven 10x10mm balusters with ends welded to frame, including sliding bolt, stop and one pair of hanging lugs fixed to brickwork or concrete, prepare for and decorate, and remove waste and debris."]
["0230AB","GATE:RENEW METAL NE 2.0SM","FENCING AND GATES","Fencing","Fencing - Metal Gates","NO",134.57,{"$f":"SUMIF('Contractor##'!C:C,'Planned Maint v6.2 CSV File'!C:C,'Contractor##'!F:F)","v":-0.17899999999999999},110.48196999999999,"Gate:Renew galvanised mild steel gate ne 2.00sm overall consisting of 25x25x3mm angle frame with corners mitred and welded and seven 10x10mm balusters with ends welded to frame, including sliding bolt, stop and one pair of hanging lugs fixed to brickwork or concrete, prepare for and decorate, and remove waste and debris."]
["0230AC","GATES:RENEW PAIR METAL NE 4.0SM","FENCING AND GATES","Gates","Fencing - Metal Gates","NO",450,{"$f":"SUMIF('Contractor##'!C:C,'Planned Maint v6.2 CSV File'!C:C,'Contractor##'!F:F)","v":-0.17899999999999999},369.45,"Gates:Renew pair of galvanised mild steel gates ne 4.00sm overall each consisting of 25x25x3mm angle frame with corners mitred and welded and seven 10x10mm balusters with ends welded to frame, including sliding bolt, stop and one pair of hanging lugs fixed to brickwork or concrete, prepare for and decorate, and remove waste and debris."]
["0230AD","GATES:RENEW PAIR METAL NE 8.0SM","FENCING AND GATES","Gates","Fencing - Metal Gates","NO",853.75,{"$f":"SUMIF('Contractor##'!C:C,'Planned Maint v6.2 CSV File'!C:C,'Contractor##'!F:F)","v":-0.17899999999999999},700.92874999999992,"Gates:Renew pair of galvanised mild steel gates ne 8.00sm overall each consisting of 25x25x3mm angle frame with corners mitred and welded and seven 10x10mm balusters with ends welded to frame, including sliding bolt, stop and one pair of hanging lugs fixed to brickwork or concrete, prepare for and decorate, and remove waste and debris."]
["0230BA","GATE:REPAIR AND EASE AND ADJUST METAL GATE","FENCING AND GATES","Gates","Fencing - Metal Gates","NO",13.95,{"$f":"SUMIF('Contractor##'!C:C,'Planned Maint v6.2 CSV File'!C:C,'Contractor##'!F:F)","v":-0.17899999999999999},11.45295,"Gate:Ease and adjust any metal gate including remove and refix and carry out any minor repairs and or adjustments as necessary, make good paintwork to match existing."]
["0231AA","GATE LATCH:RENEW","FENCING AND GATES","Gates","Gate - Ironmongery","NO",23,{"$f":"SUMIF('Contractor##'!C:C,'Planned Maint v6.2 CSV File'!C:C,'Contractor##'!F:F)","v":-0.17899999999999999},18.882999999999999,"Gate Latch: Renew or supply and fix new galvanised steel ring type gate latch and keep fixed to timber"]
["0231AB","GATE BOLT:RENEW","FENCING AND GATES","Gates","Gate - Ironmongery","NO",27,{"$f":"SUMIF('Contractor##'!C:C,'Planned Maint v6.2 CSV File'!C:C,'Contractor##'!F:F)","v":-0.17899999999999999},22.166999999999998,"Gate Bolt: Renew or supply and fix new galvanised steel gate drop bolt and keep fixed to timber"]
["0250AA","GATE POST:RENEW TIMBER","FENCING AND GATES","Fencing","Fencing - Gate Posts","NO",46.41,{"$f":"SUMIF('Contractor##'!C:C,'Planned Maint v6.2 CSV File'!C:C,'Contractor##'!F:F)","v":-0.17899999999999999},38.102609999999991,"Gate Post:Renew gate post with tanalised softwood post, post size 100x125mm, set in concrete, including all excavation, concrete, backfill and remove waste and debris, reinstate paving, gardens and the like as necessary, remove and refix fencing and gates as necessary, transfer existing latch keep or gudgeon pins, redecorate to match existing."]
["0250BA","GATE POST:RENEW PCC","FENCING AND GATES","Fencing","Fencing - Gate Posts","NO",31.22,{"$f":"SUMIF('Contractor##'!C:C,'Planned Maint v6.2 CSV File'!C:C,'Contractor##'!F:F)","v":-0.17899999999999999},25.631619999999998,"Gate Post:Renew gate post with precast concrete ne 1.65m long, set in concrete, including all excavation, concrete, backfill and remove waste and debris, reinstate paving, gardens and the like as necessary, remove and refix fencing and gates as necessary, transfer existing latch keep or gudgeon pins."]
["0250CA","GATE FRAME:RENEW TIMBER","FENCING AND GATES","Gates","Gate - Posts","LM",26.61,{"$f":"SUMIF('Contractor##'!C:C,'Planned Maint v6.2 CSV File'!C:C,'Contractor##'!F:F)","v":-0.17899999999999999},21.846809999999998,"Gate Frame:Renew gate frame with tanalised softwood gate frame, including plug and screw frame to brickwork and redecorate to match existing, remove waste and debris."]
["0250DA","GATE POST:RENEW OR SUPPLY ANCHOR POST","FENCING AND GATES","Gates","Gate - Posts","NO",36.69,{"$f":"SUMIF('Contractor##'!C:C,'Planned Maint v6.2 CSV File'!C:C,'Contractor##'!F:F)","v":-0.17899999999999999},30.122489999999996,"Gate Post:Renew or supply and fix new gate anchor post of any type and size complete with all clips and fastenings, set in concrete, including all excavation, concrete, backfill, and remove waste and debris, reinstate paving, gardens and the like as necessary, remove and refix fencing and gates as necessary"]
["0250EA","GATE:RENEW 50X25MM STOP NE 2.0M","FENCING AND GATES","Gates","Gate - Posts","NO",6.51,{"$f":"SUMIF('Contractor##'!C:C,'Planned Maint v6.2 CSV File'!C:C,'Contractor##'!F:F)","v":-0.17899999999999999},5.3447099999999992,"Gate:Renew 50x25mm tanalised softwood gate stop ne 2.00m long fixed to gate frame and redecorate to match existing, remove waste and debris."]
["0250FA","GATE POST AND GATE:RENEW AND REPAIR ANY FITTING","FENCING AND GATES","Gates","Gate - Posts","NO",12.05,{"$f":"SUMIF('Contractor##'!C:C,'Planned Maint v6.2 CSV File'!C:C,'Contractor##'!F:F)","v":-0.17899999999999999},9.8930500000000006,"Gate Post and Gate:Renew or repair any single fitting to post or timber or metal gate including any gate hinge, gudgeon, band, pivot plate or pivot socket, spring, any post or gate catch or bolt, remove waste and debris (measured per complete fitting)."]
["0271AA","BALUSTRADE:TAKE DOWN AND REMOVE","GROUNDWORKS","Metal Stairs and Walkways and Balustrades","Balustrades - Isolated","LM",5.62,{"$f":"SUMIF('Contractor##'!C:C,'Planned Maint v6.2 CSV File'!C:C,'Contractor##'!F:F)","v":-0.1777},4.6213259999999998,"Balustrade:Take down existing balustrade, clear away and prepare mortices to receive new balustrade."]
["0271BA","BALUSTRADE:SUPPLY AND FIX-1.2M HIGH","GROUNDWORKS","Metal Stairs and Walkways and Balustrades","Balustrades - Isolated","LM",163.86,{"$f":"SUMIF('Contractor##'!C:C,'Planned Maint v6.2 CSV File'!C:C,'Contractor##'!F:F)","v":-0.1777},134.74207800000002,"Balustrade:Supply and fix galvanised mild steel balustrade 1200mm high comprising 6x50mm horizontal rails, 25x25mm standards, ragged at end at 2.00m centres and 12x12mm balusters all welded together and set mortices in mortar, rub down and prepare for and decorate to all surfaces."]
["0271BB","BALUSTRADE:SUPPLY AND FIX KEE KLAMP","GROUNDWORKS","Metal Stairs and Walkways and Balustrades","Balustrades - Isolated","LM",56.26,{"$f":"SUMIF('Contractor##'!C:C,'Planned Maint v6.2 CSV File'!C:C,'Contractor##'!F:F)","v":-0.1777},46.262597999999997,"Balustrade:Supply and fix galvanised mild steel tubular kee-klamp balustrade, 900mm high comprising 48mm diameter horizontal rails, 48mm diameter standards at 1m centres and set mortices in mortar, rub down, and prepare for and decorate to all surfaces."]
["0271BC","BALUSTRADE:REFIX ANY LOOSE TYPE","GROUNDWORKS","Metal Stairs and Walkways and Balustrades","Balustrades and Handrails - Sundry Repairs","LM",12.86,{"$f":"SUMIF('Contractor##'!C:C,'Planned Maint v6.2 CSV File'!C:C,'Contractor##'!F:F)","v":-0.1777},10.574778,"Balustrade:Refix any type of loose balustrade including remove if necessary, clean out and prepare mortices including reforming if required to ensure sound fixings and refix balustrade and make good decorations and finishes."]
["0273BA","HANDRAIL:6X50MM RAIL ON BRACKETS","GROUNDWORKS","Metal Stairs and Walkways and Balustrades","Handrails - Associated","LM",28.73,{"$f":"SUMIF('Contractor##'!C:C,'Planned Maint v6.2 CSV File'!C:C,'Contractor##'!F:F)","v":-0.1777},23.624679,"Handrail:Supply and fix 6x50mm galvanised mild steel rail welded to and including handrail brackets, plugged and screwed to brickwork, rub down, prepare for and decorate to all surfaces."]
["0273BB","HANDRAIL:48MM GALVANISED STEEL TUBULAR ON BRACKETS","GROUNDWORKS","Metal Stairs and Walkways and Balustrades","Handrails - Associated","LM",29.16,{"$f":"SUMIF('Contractor##'!C:C,'Planned Maint v6.2 CSV File'!C:C,'Contractor##'!F:F)","v":-0.1777},23.978268,"Handrail:Supply and fix 48mm diameter galvanised mild steel tubular handrail welded to and including handrail brackets, plugged and screwed to brickwork, rub down, prepare for and decorate to all surfaces."]
["0273BC","HANDRAIL:PVC TO CORE RAIL","GROUNDWORKS","Metal Stairs and Walkways and Balustrades","Handrails - Associated","LM",12.48,{"$f":"SUMIF('Contractor##'!C:C,'Planned Maint v6.2 CSV File'!C:C,'Contractor##'!F:F)","v":-0.1777},10.262304,"Handrail:Supply and fix PVC handrail to core rail including all ends, bends and ramps etc."]
["0273BD","HANDRAIL:RENEW MOPSTICK HANDRAIL","GROUNDWORKS","Metal Stairs and Walkways and Balustrades","Handrails - Associated","LM",6.88,{"$f":"SUMIF('Contractor##'!C:C,'Planned Maint v6.2 CSV File'!C:C,'Contractor##'!F:F)","v":-0.1777},5.6574239999999998,"Handrail:Renew or supply and fix new softwood mopstick handrail to existing brackets including all ends and refix handrail brackets including replugging if necessary, redecorate and make good finishes."]
["0273BE","HANDRAIL:REFIX ANY LOOSE TYPE","GROUNDWORKS","Metal Stairs and Walkways and Balustrades","Balustrades and Handrails - Sundry Repairs","LM",9.56,{"$f":"SUMIF('Contractor##'!C:C,'Planned Maint v6.2 CSV File'!C:C,'Contractor##'!F:F)","v":-0.1777},7.8611880000000003,"Handrail:Refix any type of loose handrail including remove if necessary, clean out and prepare mortices including reforming if required and or replug to ensure sound fixings and refix handrail, make good decorations and finishes."]
["0291AA","LINE:NEW DOMESTIC ROTARY AND BASE","GROUNDWORKS","Miscellaneous Fittings","Clothes Lines","NO",85.68,{"$f":"SUMIF('Contractor##'!C:C,'Planned Maint v6.2 CSV File'!C:C,'Contractor##'!F:F)","v":-0.1777},70.454664000000008,"Line:Erect domestic rotary clothes line with loose socket, excavate for and including concrete base and remove waste and debris and reinstate path or garden areas."]
["0291AB","LINE:COMMUNAL/HEAVY DUTY ROTARY AND BASE","GROUNDWORKS","Miscellaneous Fittings","Clothes Lines","NO",167.47,{"$f":"SUMIF('Contractor##'!C:C,'Planned Maint v6.2 CSV File'!C:C,'Contractor##'!F:F)","v":-0.1777},137.71058099999999,"Line:Erect communal or heavy duty rotary clothes line with loose socket, excavate for and including concrete base and remove waste and debris and reinstate path or garden areas."]
["0291BA","LINE:RENEW DOMESTIC ROTARY","GROUNDWORKS","Miscellaneous Fittings","Clothes Lines","NO",62.55,{"$f":"SUMIF('Contractor##'!C:C,'Planned Maint v6.2 CSV File'!C:C,'Contractor##'!F:F)","v":-0.1777},51.434865000000002,"Line:Renew domestic rotary clothes line, set in existing socket and clear away existing to approved tip."]
["0291BB","LINE:RENEW COMMUNAL/HEAVY DUTY ROTARY","GROUNDWORKS","Miscellaneous Fittings","Clothes Lines","NO",144.34,{"$f":"SUMIF('Contractor##'!C:C,'Planned Maint v6.2 CSV File'!C:C,'Contractor##'!F:F)","v":-0.1777},118.69078200000001,"Line:Renew communal or heavy duty rotary clothes line, set in existing socket and clear away existing to approved tip."]
["0291CA","LINE:RE-STRING CLOTHES LINE","GROUNDWORKS","Miscellaneous Fittings","Clothes Lines","NO",17.440000000000001,{"$f":"SUMIF('Contractor##'!C:C,'Planned Maint v6.2 CSV File'!C:C,'Contractor##'!F:F)","v":-0.1777},14.340912000000001,"Line:Re-string any clothes line including remove remains of existing line."]
["0291DA","LINE:NEW PCC CLOTHES POST AND BASE","GROUNDWORKS","Miscellaneous Fittings","Clothes Lines","NO",46.26,{"$f":"SUMIF('Contractor##'!C:C,'Planned Maint v6.2 CSV File'!C:C,'Contractor##'!F:F)","v":-0.1777},38.039597999999998,"Line:Erect 150x150x2700mm precast concrete clothes post, excavate for and including concrete base, and remove waste and debris and reinstate path or garden areas."]
["0291EA","LINE:NEW STEEL CLOTHES POST NE 3.0M","GROUNDWORKS","Miscellaneous Fittings","Clothes Lines","NO",56.73,{"$f":"SUMIF('Contractor##'!C:C,'Planned Maint v6.2 CSV File'!C:C,'Contractor##'!F:F)","v":-0.1777},46.649079,"Line:Erect 50mm diameter galvanised steel clothes post up to 3.00m long with pulleys, excavate for and including concrete base, and remove waste and debris and reinstate path or garden areas."]
["0291FA","LINE:RELOCATE ROTARY DRIER","GROUNDWORKS","Miscellaneous Fittings","Clothes Lines","NO",32.44,{"$f":"SUMIF('Contractor##'!C:C,'Planned Maint v6.2 CSV File'!C:C,'Contractor##'!F:F)","v":-0.1777},26.675411999999998,"Line:Relocate rotary clothes drier in new position carefully break out or renew aluminium tube socket, remove existing concrete base, excavate for and including new concrete base, and remove waste and debris and reinstate path or garden areas."]
["0291FB","LINE:RELOCATE PCC OR STEEL CLOTHES POST","GROUNDWORKS","Miscellaneous Fittings","Clothes Lines","NO",29.38,{"$f":"SUMIF('Contractor##'!C:C,'Planned Maint v6.2 CSV File'!C:C,'Contractor##'!F:F)","v":-0.1777},24.159174,"Line:Relocate precast concrete or steel clothes post in new position, carefully break out existing post, remove existing concrete base, excavate for and including new concrete base, and remove waste and debris and reinstate path or garden areas."]
["0293AA","SIGN:COLLECT AND FIX","GROUNDWORKS","Miscellaneous Fittings","Signs","NO",10,{"$f":"SUMIF('Contractor##'!C:C,'Planned Maint v6.2 CSV File'!C:C,'Contractor##'!F:F)","v":-0.1777},8.2230000000000008,"Sign:Collect sign from Client’s Office and screw to timber, plug and screw to masonry or bolt to metal posts."]
["0293AB","SIGN:NEW NO PARKING","GROUNDWORKS","Miscellaneous Fittings","Signs","NO",48.48,{"$f":"SUMIF('Contractor##'!C:C,'Planned Maint v6.2 CSV File'!C:C,'Contractor##'!F:F)","v":-0.1777},39.865104000000002,"Sign:Provide standard 'No Parking' sign and screw to timber, plug or screw to masonry or bolt to metal posts."]
["0293AC","SIGN:NEW NO BALL GAMES","GROUNDWORKS","Miscellaneous Fittings","Signs","NO",48.48,{"$f":"SUMIF('Contractor##'!C:C,'Planned Maint v6.2 CSV File'!C:C,'Contractor##'!F:F)","v":-0.1777},39.865104000000002,"Sign:Provide standard 'No Ball Games' sign and screw to timber, plug or screw to masonry or bolt to metal posts."]
["0293AD","SIGN:NEW NO DOGS","GROUNDWORKS","Miscellaneous Fittings","Signs","NO",48.48,{"$f":"SUMIF('Contractor##'!C:C,'Planned Maint v6.2 CSV File'!C:C,'Contractor##'!F:F)","v":-0.1777},39.865104000000002,"Sign:Provide standard 'No Dogs' sign and screw to timber, plug or screw to masonry or bolt to metal posts."]
["0293AE","SIGN:ANTI-CLIMB","GROUNDWORKS","Miscellaneous Fittings","Signs","NO",48.48,{"$f":"SUMIF('Contractor##'!C:C,'Planned Maint v6.2 CSV File'!C:C,'Contractor##'!F:F)","v":-0.1777},39.865104000000002,"Sign:Provide standard 'Anti-climbing' sign and screw to timber, plug or screw to masonry or bolt to metal posts."]
["0310AA","BOLLARD:RENEW OR FIX NEW LOCKABLE STEEL","GROUNDWORKS","Miscellaneous Fittings","Bollards","NO",155.38999999999999,{"$f":"SUMIF('Contractor##'!C:C,'Planned Maint v6.2 CSV File'!C:C,'Contractor##'!F:F)","v":-0.1777},127.77719699999999,"Bollard:Renew with or supply and fix new proprietary lockable steel bollard including remove old, position and set foundation bolts in concrete or brick paving, fix new bollard and make good all finishes disturbed, and remove waste and debris and reinstate paving or garden areas, supply two keys and hand to Client’s Representative."]
["0310AC","BOLLARD:RENEW OR FIX NEW 914MM HIGH STEEL","GROUNDWORKS","Miscellaneous Fittings","Bollards","NO",102.56,{"$f":"SUMIF('Contractor##'!C:C,'Planned Maint v6.2 CSV File'!C:C,'Contractor##'!F:F)","v":-0.1777},84.335087999999999,"Bollard:Renew with or supply and fix new 76mm diameter x 914mm high above ground steel fixed bollard bedded in concrete including remove old, excavate as necessary, fix new bollard including concrete foundation and make good all finishes disturbed and remove waste and debris and reinstate paving or garden areas."]
["0310BA","BOLLARD:RENEW OR FIX NEW PCC 900MM HIGH","GROUNDWORKS","Miscellaneous Fittings","Bollards","NO",78.72,{"$f":"SUMIF('Contractor##'!C:C,'Planned Maint v6.2 CSV File'!C:C,'Contractor##'!F:F)","v":-0.1777},64.731456000000009,"Bollard:Renew with or supply and fix new 225 to 150mm diameter tapered precast concrete bollard 900mm high above ground bedded in concrete including remove existing, excavate as necessary, fix new bollard including concrete foundation and make good all finishes disturbed and remove waste and debris and reinstate paving or garden areas."]
["0310CA","BOLLARD:RENEW OR FIX NEW 800MM TIMBER","GROUNDWORKS","Miscellaneous Fittings","Bollards","NO",50.4,{"$f":"SUMIF('Contractor##'!C:C,'Planned Maint v6.2 CSV File'!C:C,'Contractor##'!F:F)","v":-0.1777},41.443919999999999,"Bollard:Renew with or supply and fix new 150x150mm timber bollard, 800mm high above ground including remove existing, excavate as necessary, fix new bollard including concrete foundation and make good all finishes and remove waste and debris and reinstate paving or garden areas."]
["0310DA","TRAFFIC CALMING:ONE WAY DEVICE RESPONSE CALLOUT","GROUNDWORKS","Miscellaneous Fittings","Traffic Calming Devices","IT",20.75,{"$f":"SUMIF('Contractor##'!C:C,'Planned Maint v6.2 CSV File'!C:C,'Contractor##'!F:F)","v":-0.1777},17.062725,"Traffic Calming:Responive call-out to built in automatic full width, one way ’dragons teeth’ type set up, locate fault, report to Client’s Representative"]
["0311AA","RAISED KERB BARRIER:INSTALL","GROUNDWORKS","Miscellaneous Fittings","Car Parking Controls","IT",5250,{"$f":"SUMIF('Contractor##'!C:C,'Planned Maint v6.2 CSV File'!C:C,'Contractor##'!F:F)","v":-0.1777},4317.0749999999998,"Raised Kerb Barrier:Install high lift model as Frontier Pitts Ltd., Frontier Roadblocker or other equal and approved, rise 533, length 3000, comprising hydraulic system, control cabinets, key fob control, extra powered locking bolts, emergency hand pump, 2 No. traffic light signals complete with posts and supports, pit and all work in connection with forming same, 100mm diameter drain pipe connected to local pipe or manhole, 3 phase electric cable connected to existing system, drain and electric service trench, making good all work disturbed."]
["0311BA","RAISED ARM BARRIER:INSTALL","GROUNDWORKS","Miscellaneous Fittings","Car Parking Controls","IT",2677.5,{"$f":"SUMIF('Contractor##'!C:C,'Planned Maint v6.2 CSV File'!C:C,'Contractor##'!F:F)","v":-0.1777},2201.7082500000001,"Raised Arm Barrier:Install raised arm barrier Frontier Pitts Ltd., or other equal and approved length 3000, comprising control cabinet, key fob control, arm support post, 3 phase electric cable connected to existing system, electric service trench, making good all works disturbed."]
["0311CA","RAISED BARRIER:ADDITIONAL KEY FOBS","GROUNDWORKS","Miscellaneous Fittings","Car Parking Controls","NO",3.68,{"$f":"SUMIF('Contractor##'!C:C,'Planned Maint v6.2 CSV File'!C:C,'Contractor##'!F:F)","v":-0.1777},3.0260640000000003,"Raised Barrier:Provide additional key fobs to operate control panel."]
["0312AA","SHED:INSTALL PROPRIETARY STORAGE INCLUDING SLAB","GROUNDWORKS","Miscellaneous Fittings","Garden Sheds","IT",866.83,{"$f":"SUMIF('Contractor##'!C:C,'Planned Maint v6.2 CSV File'!C:C,'Contractor##'!F:F)","v":-0.1777},712.79430900000011,"Shed:Supply and install proprietary storage shed (PC Sum for supply and delvery to site £300.00 excluding VAT) approximate plan size 2400x1800mm complete with door, all ironmongery, locks etc., shed fixed to and including 150mm concrete slab laid on and including damp proof membrane on blinded hardcore bed, include for all excavation, remove waste and debris, compacting as necessary, and remove waste and debris."]
["0312BA","SHED:INSTALL PROPRIETARY STORAGE EXCLUDING SLAB","GROUNDWORKS","Miscellaneous Fittings","Garden Sheds","IT",759.34,{"$f":"SUMIF('Contractor##'!C:C,'Planned Maint v6.2 CSV File'!C:C,'Contractor##'!F:F)","v":-0.1777},624.40528200000006,"Shed:Supply and install proprietary storage shed (PC Sum for supply and delivery to site £300.00 excluding VAT) approximate plan size 2400x1800mm complete with door, all ironmongery, locks etc., shed fixed to existing concrete or precast concrete hardstanding."]
["0331AA","DRAIN:INSTALL 100MM CLAY NE 1M DEEP","DRAINAGE","Drainage Below Ground","Drainage - New - Clay Pipes","LM",90.98,{"$f":"SUMIF('Contractor##'!C:C,'Planned Maint v6.2 CSV File'!C:C,'Contractor##'!F:F)","v":-0.1714},75.38602800000001,"Drain:Excavate not exceeding 1.00m deep, level and compact bottoms of excavations, 150mm thick concrete bed and lay 100mm diameter clay pipe and haunch up in concrete and backfill, include for removing spoil and all connections, junctions and bends, allow for exposing, breaking out and removal of any existing drains including concrete beds and surrounds and all connections to existing pipework, testing."]
["0331AB","DRAIN:INSTALL 100MM CLAY 1-2M DEEP","DRAINAGE","Drainage Below Ground","Drainage - New - Clay Pipes","LM",150.99,{"$f":"SUMIF('Contractor##'!C:C,'Planned Maint v6.2 CSV File'!C:C,'Contractor##'!F:F)","v":-0.1714},125.110314,"Drain:Excavate exceeding 1.00m and ne 2m deep, level and compact bottoms of excavations, 150mm thick concrete bed and lay 100mm diameter clay pipe and haunch up in concrete and backfill, include for removing spoil and all connections, junctions and bends, allow for exposing, breaking out and removal of any existing drains including concrete beds and surrounds and all connections to existing pipework, testing."]
["0331AC","DRAIN:INSTALL 100MM CLAY 2-3M DEEP","DRAINAGE","Drainage Below Ground","Drainage - New - Clay Pipes","LM",217.56,{"$f":"SUMIF('Contractor##'!C:C,'Planned Maint v6.2 CSV File'!C:C,'Contractor##'!F:F)","v":-0.1714},180.270216,"Drain:Excavate exceeding 2.00m and ne 3m deep, level and compact bottoms of excavations, 150mm thick concrete bed and lay 100mm diameter clay pipe and haunch up in concrete and backfill, include for removing spoil and all connections, junctions and bends, allow for exposing, breaking out and removal of any existing drains including concrete beds and surrounds and all connections to existing pipework, testing."]
["0331AD","DRAIN:INSTALL 150MM CLAY NE 1M DEEP","DRAINAGE","Drainage Below Ground","Drainage - New - Clay Pipes","LM",92.98,{"$f":"SUMIF('Contractor##'!C:C,'Planned Maint v6.2 CSV File'!C:C,'Contractor##'!F:F)","v":-0.1714},77.043227999999999,"Drain:Excavate not exceeding 1.00m deep, level and compact bottoms of excavations, 150mm thick concrete bed and lay 150mm diameter clay pipe and haunch up in concrete and backfill, include for removing spoil and all connections, junctions and bends, allow for exposing, breaking out and removal of any existing drains including concrete beds and surrounds and all connections to existing pipework, testing."]
["0331AE","DRAIN:INSTALL 150MM CLAY 1-2M DEEP","DRAINAGE","Drainage Below Ground","Drainage - New - Clay Pipes","LM",152.99,{"$f":"SUMIF('Contractor##'!C:C,'Planned Maint v6.2 CSV File'!C:C,'Contractor##'!F:F)","v":-0.1714},126.76751400000001,"Drain:Excavate exceeding 1.00m and ne 2m deep, level and compact bottoms of excavations, 150mm thick concrete bed and lay 150mm diameter clay pipe and haunch up in concrete and backfill, include for removing spoil and all connections, junctions and bends, allow for exposing, breaking out and removal of any existing drains including concrete beds and surrounds and all connections to existing pipework, testing."]
["0331AF","DRAIN:INSTALL 150MM CLAY 2-3M DEEP","DRAINAGE","Drainage Below Ground","Drainage - New - Clay Pipes","LM",219.56,{"$f":"SUMIF('Contractor##'!C:C,'Planned Maint v6.2 CSV File'!C:C,'Contractor##'!F:F)","v":-0.1714},181.92741599999999,"Drain:Excavate exceeding 2.00m and ne 3m deep, level and compact bottoms of excavations, 150mm thick concrete bed and lay 150mm diameter clay pipe and haunch up in concrete and backfill, include for removing spoil and all connections, junctions and bends, allow for exposing, breaking out and removal of any existing drains including concrete beds and surrounds and all connections to existing pipework, testing."]
["0331AG","DRAIN:INSTALL 225MM CLAY NE 1M DEEP","DRAINAGE","Drainage Below Ground","Drainage - New - Clay Pipes","LM",105.35,{"$f":"SUMIF('Contractor##'!C:C,'Planned Maint v6.2 CSV File'!C:C,'Contractor##'!F:F)","v":-0.1714},87.293009999999995,"Drain:Excavate not exceeding 1.00m deep, level and compact bottoms of excavations, 150mm thick concrete bed and lay 225mm diameter clay pipe and haunch up in concrete and backfill, include for removing spoil and all connections, junctions and bends, allow for exposing, breaking out and removal of any existing drains including concrete beds and surrounds and all connections to existing pipework, testing."]
["0331AH","DRAIN:INSTALL 225MM CLAY 1-2M DEEP","DRAINAGE","Drainage Below Ground","Drainage - New - Clay Pipes","LM",174.74,{"$f":"SUMIF('Contractor##'!C:C,'Planned Maint v6.2 CSV File'!C:C,'Contractor##'!F:F)","v":-0.1714},144.78956400000001,"Drain:Excavate exceeding 1.00m and ne 2m deep, level and compact bottoms of excavations, 150mm thick concrete bed and lay 225mm diameter clay pipe and haunch up in concrete and backfill, include for removing spoil and all connections, junctions and bends, allow for exposing, breaking out and removal of any existing drains including concrete beds and surrounds and all connections to existing pipework, testing."]
["0331AJ","DRAIN:INSTALL 225MM CLAY 2-3M DEEP","DRAINAGE","Drainage Below Ground","Drainage - New - Clay Pipes","LM",252.1,{"$f":"SUMIF('Contractor##'!C:C,'Planned Maint v6.2 CSV File'!C:C,'Contractor##'!F:F)","v":-0.1714},208.89006000000001,"Drain:Excavate exceeding 2.00m and ne 3m deep, level and compact bottoms of excavations, 150mm thick concrete bed and lay 225mm diameter clay pipe and haunch up in concrete and backfill, include for removing spoil and all connections, junctions and bends, allow for exposing, breaking out and removal of any existing drains including concrete beds and surrounds and all connections to existing pipework, testing."]
["0331AK","DRAIN:INSTALL 300MM CLAY NE 1M DEEP","DRAINAGE","Drainage Below Ground","Drainage - New - Clay Pipes","LM",114.04,{"$f":"SUMIF('Contractor##'!C:C,'Planned Maint v6.2 CSV File'!C:C,'Contractor##'!F:F)","v":-0.1714},94.493544,"Drain:Excavate not exceeding 1.00m deep, level and compact bottoms of excavations, 150mm thick concrete bed and lay 300mm diameter clay pipe and haunch up in concrete and backfill, include for removing spoil and all connections, junctions and bends, allow for exposing, breaking out and removal of any existing drains including concrete beds and surrounds and all connections to existing pipework, testing."]
["0331AL","DRAIN:INSTALL 300MM CLAY 1-2M DEEP","DRAINAGE","Drainage Below Ground","Drainage - New - Clay Pipes","LM",188.12,{"$f":"SUMIF('Contractor##'!C:C,'Planned Maint v6.2 CSV File'!C:C,'Contractor##'!F:F)","v":-0.1714},155.87623200000002,"Drain:Excavate exceeding 1.00m and ne 2m deep, level and compact bottoms of excavations, 150mm thick concrete bed and lay 300mm diameter clay pipe and haunch up in concrete and backfill, include for removing spoil and all connections, junctions and bends, allow for exposing, breaking out and removal of any existing drains including concrete beds and surrounds and all connections to existing pipework, testing."]
["0331AM","DRAIN:INSTALL 300MM CLAY 2-3M DEEP","DRAINAGE","Drainage Below Ground","Drainage - New - Clay Pipes","LM",271.16000000000003,{"$f":"SUMIF('Contractor##'!C:C,'Planned Maint v6.2 CSV File'!C:C,'Contractor##'!F:F)","v":-0.1714},224.68317600000003,"Drain:Excavate exceeding 2.00m and ne 3m deep, level and compact bottoms of excavations, 150mm thick concrete bed and lay 300mm diameter clay pipe and haunch up in concrete and backfill, include for removing spoil and all connections, junctions and bends, allow for exposing, breaking out and removal of any existing drains including concrete beds and surrounds and all connections to existing pipework, testing."]
["0333AA","DRAIN:INSTALL 110MM PVCU NE 1M DEEP","DRAINAGE","Drainage Below Ground","Drainage - New - Plastic Pipes","LM",88.68,{"$f":"SUMIF('Contractor##'!C:C,'Planned Maint v6.2 CSV File'!C:C,'Contractor##'!F:F)","v":-0.1714},73.480248000000003,"Drain:Excavate not exceeding 1.00m deep, level and compact bottoms of excavations, 100mm thick bed of gravel and lay 110mm diameter PVCu pipe and backfill 210mm with selected granular material, compacted by hand and backfill, remove spoil including all bends, fittings, connections etc, allow for removal of any existing drains including concrete beds and surrounds and all connections to existing pipework, testing."]
["0333AB","DRAIN:INSTALL 110MM PVCU 1-2M DEEP","DRAINAGE","Drainage Below Ground","Drainage - New - Plastic Pipes","LM",146.49,{"$f":"SUMIF('Contractor##'!C:C,'Planned Maint v6.2 CSV File'!C:C,'Contractor##'!F:F)","v":-0.1714},121.38161400000001,"Drain:Excavate exceeding 1.00m and ne 2.00m deep level and compact bottoms of excavations, 100mm thick bed of gravel and lay 110mm diameter PVCu pipe and backfill 210mm with selected granular material, compacted by hand and backfill, remove spoil including all bends, fittings, connections etc, allow for removal of any existing drains including concrete beds and surrounds and all connections to existing pipework, testing."]
["0333AC","DRAIN:INSTALL 110MM PVCU 2-3M DEEP","DRAINAGE","Drainage Below Ground","Drainage - New - Plastic Pipes","LM",206.12,{"$f":"SUMIF('Contractor##'!C:C,'Planned Maint v6.2 CSV File'!C:C,'Contractor##'!F:F)","v":-0.1714},170.791032,"Drain:Excavate exceeding 2.00m and ne 3m deep level and compact bottoms of excavations, 100mm thick bed of gravel and lay 110mm diameter PVCu pipe and backfill 210mm with selected granular material, compacted by hand and backfill, remove spoil including all bends, fittings, connections etc, allow for removal of any existing drains including concrete beds and surrounds and all connections to existing pipework, testing."]
["0333AD","DRAIN:INSTALL 160MM PVCU NE 1M DEEP","DRAINAGE","Drainage Below Ground","Drainage - New - Plastic Pipes","LM",90.5,{"$f":"SUMIF('Contractor##'!C:C,'Planned Maint v6.2 CSV File'!C:C,'Contractor##'!F:F)","v":-0.1714},{"$f":"(1+H260)*G260","v":74.988299999999995},"Drain:Excavate not exceeding 1.00m deep, level and compact bottoms of excavations, 100mm thick bed of gravel and lay 160mm diameter PVCu pipe and backfill 210mm with selected granular material, compacted by hand and backfill, remove spoil including all bends, fittings, connections etc, allow for removal of any existing drains including concrete beds and surrounds and all connections to existing pipework, testing."]
["0333AE","DRAIN:INSTALL 160MM PVCU 1-2M DEEP","DRAINAGE","Drainage Below Ground","Drainage - New - Plastic Pipes","LM",149.31,{"$f":"SUMIF('Contractor##'!C:C,'Planned Maint v6.2 CSV File'!C:C,'Contractor##'!F:F)","v":-0.1714},123.718266,"Drain:Excavate exceeding 1.00m and ne 2m deep level and compact bottoms of excavations, 100mm thick bed of gravel and lay 160mm diameter PVCu pipe and backfill 210mm with selected granular material, compacted by hand and backfill, remove spoil including all bends, fittings, connections etc, allow for removal of any existing drains including concrete beds and surrounds and all connections to existing pipework, testing."]
["0333AF","DRAIN:INSTALL 160MM PVCU 2-3M DEEP","DRAINAGE","Drainage Below Ground","Drainage - New - Plastic Pipes","LM",208.12,{"$f":"SUMIF('Contractor##'!C:C,'Planned Maint v6.2 CSV File'!C:C,'Contractor##'!F:F)","v":-0.1714},172.44823200000002,"Drain:Excavate exceeding 2.00m and ne 3m deep level and compact bottoms of excavations, 100mm thick bed of gravel and lay 160mm diameter PVCu pipe and backfill 210mm with selected granular material, compacted by hand and backfill, remove spoil including all bends, fittings, connections etc, allow for removal of any existing drains including concrete beds and surrounds and all connections to existing pipework, testing."]
["0333AG","DRAIN:INSTALL 200MM PVCU NE 1M DEEP","DRAINAGE","Drainage Below Ground","Drainage - New - Plastic Pipes","LM",100.31,{"$f":"SUMIF('Contractor##'!C:C,'Planned Maint v6.2 CSV File'!C:C,'Contractor##'!F:F)","v":-0.1714},83.116866000000002,"Drain:Excavate not exceeding 1.00m deep, level and compact bottoms of excavations, 100mm thick bed of gravel and lay 200mm diameter PVCu pipe and backfill 210mm with selected granular material, compacted by hand and backfill, remove spoil including all bends, fittings, connections etc, allow for removal of any existing drains including concrete beds and surrounds and all connections to existing pipework, testing."]
["0333AH","DRAIN:INSTALL 200MM PVCU 1-2M DEEP","DRAINAGE","Drainage Below Ground","Drainage - New - Plastic Pipes","LM",168.49,{"$f":"SUMIF('Contractor##'!C:C,'Planned Maint v6.2 CSV File'!C:C,'Contractor##'!F:F)","v":-0.1714},139.610814,"Drain:Excavate exceeding 1.00m and ne 2m deep level and compact bottoms of excavations, 100mm thick bed of gravel and lay 200mm diameter PVCu pipe and backfill 210mm with selected granular material, compacted by hand and backfill, remove spoil including all bends, fittings, connections etc, allow for removal of any existing drains including concrete beds and surrounds and all connections to existing pipework, testing."]
["0333AJ","DRAIN:INSTALL 200MM PVCU 2-3M DEEP","DRAINAGE","Drainage Below Ground","Drainage - New - Plastic Pipes","LM",241.37,{"$f":"SUMIF('Contractor##'!C:C,'Planned Maint v6.2 CSV File'!C:C,'Contractor##'!F:F)","v":-0.1714},199.99918199999999,"Drain:Excavate exceeding 2.00m and ne 3m deep level and compact bottoms of excavations, 100mm thick bed of gravel and lay 200mm diameter PVCu pipe and backfill 210mm with selected granular material, compacted by hand and backfill, remove spoil including all bends, fittings, connections etc, allow for removal of any existing drains including concrete beds and surrounds and all connections to existing pipework, testing."]
["0333AK","DRAIN:INSTALL 250MM PVCU NE 1M DEEP","DRAINAGE","Drainage Below Ground","Drainage - New - Plastic Pipes","LM",107,{"$f":"SUMIF('Contractor##'!C:C,'Planned Maint v6.2 CSV File'!C:C,'Contractor##'!F:F)","v":-0.1714},88.660200000000003,"Drain:Excavate not exceeding 1.00m deep, level and compact bottoms of excavations, 100mm thick bed of gravel and lay 250mm diameter PVCu pipe and backfill 210mm with selected granular material, compacted by hand and backfill, remove spoil including all bends, fittings, connections etc, allow for removal of any existing drains including concrete beds and surrounds and all connections to existing pipework, testing."]
["0333AL","DRAIN:INSTALL 250MM PVCU 1-2M DEEP","DRAINAGE","Drainage Below Ground","Drainage - New - Plastic Pipes","LM",176.74,{"$f":"SUMIF('Contractor##'!C:C,'Planned Maint v6.2 CSV File'!C:C,'Contractor##'!F:F)","v":-0.1714},146.446764,"Drain:Excavate exceeding 1.00m and ne 2m deep level and compact bottoms of excavations, 100mm thick bed of gravel and lay 250mm diameter PVCu pipe and backfill 210mm with selected granular material, compacted by hand and backfill, remove spoil including all bends, fittings, connections etc, allow for removal of any existing drains including concrete beds and surrounds and all connections to existing pipework, testing."]
["0333AM","DRAIN:INSTALL 250MM PVCU 2-3M DEEP","DRAINAGE","Drainage Below Ground","Drainage - New - Plastic Pipes","LM",258.99,{"$f":"SUMIF('Contractor##'!C:C,'Planned Maint v6.2 CSV File'!C:C,'Contractor##'!F:F)","v":-0.1714},214.59911400000001,"Drain:Excavate exceeding 2.00m and ne 3m deep level and compact bottoms of excavations, 100mm thick bed of gravel and lay 250mm diameter PVCu pipe and backfill 210mm with selected granular material, compacted by hand and backfill, remove spoil including all bends, fittings, connections etc, allow for removal of any existing drains including concrete beds and surrounds and all connections to existing pipework, testing."]
["0333AN","DRAIN:INSTALL 315MM PVCU NE 1M DEEP","DRAINAGE","Drainage Below Ground","Drainage - New - Plastic Pipes","LM",116.25,{"$f":"SUMIF('Contractor##'!C:C,'Planned Maint v6.2 CSV File'!C:C,'Contractor##'!F:F)","v":-0.1714},96.324749999999995,"Drain:Excavate not exceeding 1.00m deep, level and compact bottoms of excavations, 100mm thick bed of gravel and lay 315mm diameter PVCu pipe and backfill 210mm with selected granular material, compacted by hand and backfill, remove spoil including all bends, fittings, connections etc, allow for removal of any existing drains including concrete beds and surrounds and all connections to existing pipework, testing."]
["0333AP","DRAIN:INSTALL 315MM PVCU 1-2M DEEP","DRAINAGE","Drainage Below Ground","Drainage - New - Plastic Pipes","LM",192.24,{"$f":"SUMIF('Contractor##'!C:C,'Planned Maint v6.2 CSV File'!C:C,'Contractor##'!F:F)","v":-0.1714},159.290064,"Drain:Excavate exceeding 1.00m and ne 2m deep level and compact bottoms of excavations, 100mm thick bed of gravel and lay 315mm diameter PVCu pipe and backfill 210mm with selected granular material, compacted by hand and backfill, remove spoil including all bends, fittings, connections etc, allow for removal of any existing drains including concrete beds and surrounds and all connections to existing pipework, testing."]
["0333AQ","DRAIN:INSTALL 315MM PVCU 2-3M DEEP","DRAINAGE","Drainage Below Ground","Drainage - New - Plastic Pipes","LM",274.49,{"$f":"SUMIF('Contractor##'!C:C,'Planned Maint v6.2 CSV File'!C:C,'Contractor##'!F:F)","v":-0.1714},227.44241400000001,"Drain:Excavate exceeding 2.00m and ne 3m deep level and compact bottoms of excavations, 100mm thick bed of gravel and lay 315mm diameter PVCu pipe and backfill 210mm with selected granular material, compacted by hand and backfill, remove spoil including all bends, fittings, connections etc, allow for removal of any existing drains including concrete beds and surrounds and all connections to existing pipework, testing."]
["0335AA","DRAIN:INSTALL 100MM PCC SAFTI-KERB CHANNEL DRAIN","DRAINAGE","Drainage Below Ground","Drainage - Channel Drains","LM",51.75,{"$f":"SUMIF('Contractor##'!C:C,'Planned Maint v6.2 CSV File'!C:C,'Contractor##'!F:F)","v":-0.1714},42.880049999999997,"Drain:Excavate not exceeding 1.00m deep, level and compact bottoms of excavations, 150mm thick concrete bed and lay 100mm internal diameter pcc safti-kerb channel drain and haunch up in concrete and backfill, include for removing spoil and all connections, junctions and bends, allow for exposing, breaking out and removal of any existing channel drains including concrete beds and surrounds and all connections to existing pipework, testing."]
["0335AB","DRAIN:INSTALL 150MM PCC SAFTI-KERB CHANNEL DRAIN","DRAINAGE","Drainage Below Ground","Drainage - Channel Drains","LM",60,{"$f":"SUMIF('Contractor##'!C:C,'Planned Maint v6.2 CSV File'!C:C,'Contractor##'!F:F)","v":-0.1714},49.716000000000001,"Drain:Excavate not exceeding 1.00m deep, level and compact bottoms of excavations, 150mm thick concrete bed and lay 150mm internal diameter pcc safti-kerb channel drain and haunch up in concrete and backfill, include for removing spoil and all connections, junctions and bends, allow for exposing, breaking out and removal of any existing channel drains including concrete beds and surrounds and all connections to existing pipework, testing."]
["0335AC","DRAIN:INSTALL PCC SAFTI-KERB CHANNEL SUMP","DRAINAGE","Drainage Below Ground","Drainage - Channel Drains","NO",90.94,{"$f":"SUMIF('Contractor##'!C:C,'Planned Maint v6.2 CSV File'!C:C,'Contractor##'!F:F)","v":-0.1714},75.352884000000003,"Drain:Excavate not exceeding 1.00m deep, level and compact bottoms of excavations, 150mm thick concrete bed and install 450 X 450mm internal size pcc safti-kerb channel sump and haunch up in concrete and backfill, include for Heavy duty grate and frame, removing spoil and all connections, junctions and bends, allow for exposing, breaking out and removal of any existing channel drains and sumps including concrete beds and surrounds and all connections to existing pipework, testing."]
["0335AD","DRAIN:INSTALL 100MM GRC CHANNEL DRAIN","DRAINAGE","Drainage Below Ground","Drainage - Channel Drains","LM",47.75,{"$f":"SUMIF('Contractor##'!C:C,'Planned Maint v6.2 CSV File'!C:C,'Contractor##'!F:F)","v":-0.1714},39.565649999999998,"Drain:Excavate not exceeding 1.00m deep, level and compact bottoms of excavations, 150mm thick concrete bed and lay any type of 100mm internal diameter grc channel drain , with heavy duty grating and haunch up in concrete and backfill, include for removing spoil and all connections, junctions and bends, allow for exposing, breaking out and removal of any existing channel drains including concrete beds and surrounds and all connections to existing pipework, testing."]
["0335AE","DRAIN:INSTALL 150MM GRC CHANNEL DRAIN","DRAINAGE","Drainage Below Ground","Drainage - Channel Drains","LM",62,{"$f":"SUMIF('Contractor##'!C:C,'Planned Maint v6.2 CSV File'!C:C,'Contractor##'!F:F)","v":-0.1714},51.373199999999997,"Drain:Excavate not exceeding 1.00m deep, level and compact bottoms of excavations, 150mm thick concrete bed and lay any type of 150mm internal diameter grc channel drain , with heavy duty grating and haunch up in concrete and backfill, include for removing spoil and all connections, junctions and bends, allow for exposing, breaking out and removal of any existing channel drains including concrete beds and surrounds and all connections to existing pipework, testing."]
["0335AF","DRAIN:INSTALL GRC CHANNEL SUMP","DRAINAGE","Drainage Below Ground","Drainage - Channel Drains","NO",80.94,{"$f":"SUMIF('Contractor##'!C:C,'Planned Maint v6.2 CSV File'!C:C,'Contractor##'!F:F)","v":-0.1714},67.066884000000002,"Drain:Excavate not exceeding 1.00m deep, level and compact bottoms of excavations, 150mm thick concrete bed and install 450 X 450mm internal size grc channel sump and haunch up in concrete and backfill, include for Heavy duty grate and frame, removing spoil and all connections, junctions and bends, allow for exposing, breaking out and removal of any existing channel drains and sumps including concrete beds and surrounds and all connections to existing pipework, testing."]
["0337AA","DRAIN:REPAIR 100MM PIPE NE 1M DEEP","DRAINAGE","Drainage Below Ground","Drainage - Existing - Repairs","NO",221.37,{"$f":"SUMIF('Contractor##'!C:C,'Planned Maint v6.2 CSV File'!C:C,'Contractor##'!F:F)","v":-0.1714},183.42718200000002,"Drain:Repair by locating damaged pipe, excavate not exceeding 1.00mm deep, for a length not exceeding 3.00m, remove pipe, concrete bed and surround and level and compact bottoms of excavations, 150mm thick concrete, bed and lay 100mm diameter clay pipe and backfill, include for all adaptors, junctions and bends, remove waste and debris and all connections to existing pipework, testing."]
["0337AB","DRAIN:REPAIR 100MM PIPE 1-2M DEEP","DRAINAGE","Drainage Below Ground","Drainage - Existing - Repairs","NO",343.24,{"$f":"SUMIF('Contractor##'!C:C,'Planned Maint v6.2 CSV File'!C:C,'Contractor##'!F:F)","v":-0.1714},284.40866399999999,"Drain:Repair by locating damaged pipe, excavate over 1.00m not exceeding 2.00m deep, for a length not exceeding 3.00m, remove pipe, concrete bed and surround and level and compact bottoms of excavations, 150mm thick concrete, bed and lay 100mm diameter clay pipe and backfill, include for all adaptors, junctions and bends, remove waste and debris and all connections to existing pipework testing."]
["0337AC","DRAIN:REPAIR 100MM PIPE 2-3M DEEP","DRAINAGE","Drainage Below Ground","Drainage - Existing - Repairs","NO",458.84,{"$f":"SUMIF('Contractor##'!C:C,'Planned Maint v6.2 CSV File'!C:C,'Contractor##'!F:F)","v":-0.1714},380.19482399999998,"Drain:Repair by locating damaged pipe, excavate over 2.00m not exceeding 3.00m deep, for a length not exceeding 3.00m, remove pipe, concrete bed and surround and level and compact bottoms of excavations, 150mm thick concrete, bed and lay 100mm diameter clay pipe and backfill, include for all adaptors, junctions and bends, remove waste and debris and all connections to existing pipework testing."]
["0337AD","DRAIN:REPAIR 150MM PIPE NE 1M DEEP","DRAINAGE","Drainage Below Ground","Drainage - Existing - Repairs","NO",259.04000000000002,{"$f":"SUMIF('Contractor##'!C:C,'Planned Maint v6.2 CSV File'!C:C,'Contractor##'!F:F)","v":-0.1714},214.64054400000001,"Drain:Repair by locating damaged pipe, excavate not exceeding 1.00m deep, for a length not exceeding 3.00m, remove pipe, concrete bed and surround and level and compact bottoms of excavations, 150mm thick concrete bed and lay 150mm diameter clay pipe and backfill, include for all adaptors, junctions and bends, remove waste and debris and all connections to existing pipework, testing."]
["0337AE","DRAIN:REPAIR 150MM PIPE 1-2M DEEP","DRAINAGE","Drainage Below Ground","Drainage - Existing - Repairs","NO",376.23,{"$f":"SUMIF('Contractor##'!C:C,'Planned Maint v6.2 CSV File'!C:C,'Contractor##'!F:F)","v":-0.1714},311.74417800000003,"Drain:Repair by locating damaged pipe, excavate over 1.00m not exceeding 2.00m deep, for a length not exceeding 3.00m, remove pipe, concrete bed and surround and level and compact bottoms of excavations, 150mm thick concrete, bed and lay 150mm diameter clay pipe and backfill, include for all adaptors, junctions and bends, remove waste and debris and all connections to existing pipework, testing."]
["0337AF","DRAIN:REPAIR 150MM PIPE 2-3M DEEP","DRAINAGE","Drainage Below Ground","Drainage - Existing - Repairs","NO",493.28,{"$f":"SUMIF('Contractor##'!C:C,'Planned Maint v6.2 CSV File'!C:C,'Contractor##'!F:F)","v":-0.1714},408.731808,"Drain:Repair by locating damaged pipe, excavate over 2.00m not exceeding 3.00m deep, for a length not exceeding 3.00m, remove pipe, concrete bed and surround and level and compact bottoms of excavations, 150mm thick concrete, bed and lay 150mm diameter clay pipe and backfill, include for all adaptors, junctions and bends, remove waste and debris and all connections to existing pipework, testing."]
["0337AG","DRAIN:REPAIR 225MM PIPE NE 1M DEEP","DRAINAGE","Drainage Below Ground","Drainage - Existing - Repairs","NO",261.24,{"$f":"SUMIF('Contractor##'!C:C,'Planned Maint v6.2 CSV File'!C:C,'Contractor##'!F:F)","v":-0.1714},216.46346400000002,"Drain:Repair by locating damaged pipe, excavate not exceeding 1.00m deep, for a length not exceeding 3.00m, remove pipe, concrete bed and surround and level and compact bottoms of excavations, 150mm thick concrete bed and lay 225mm diameter clay pipe and backfill, include for all adaptors, junctions and bends, remove waste and debris and all connections to existing pipework, testing."]
["0337AH","DRAIN:REPAIR 225MM PIPE 1-2M DEEP","DRAINAGE","Drainage Below Ground","Drainage - Existing - Repairs","NO",383.12,{"$f":"SUMIF('Contractor##'!C:C,'Planned Maint v6.2 CSV File'!C:C,'Contractor##'!F:F)","v":-0.1714},317.45323200000001,"Drain:Repair by locating damaged pipe, excavate over 1.00m not exceeding 2.00m deep, for a length not exceeding 3.00m, remove pipe, concrete bed and surround and level and compact bottoms of excavations, 150mm thick concrete, bed and lay 225mm diameter clay pipe and backfill, include for all adaptors, junctions and bends, remove waste and debris and all connections to existing pipework, testing."]
["0337AJ","DRAIN:REPAIR 225MM PIPE 2-3M DEEP","DRAINAGE","Drainage Below Ground","Drainage - Existing - Repairs","NO",500.61,{"$f":"SUMIF('Contractor##'!C:C,'Planned Maint v6.2 CSV File'!C:C,'Contractor##'!F:F)","v":-0.1714},414.80544600000002,"Drain:Repair by locating damaged pipe, excavate over 2.00m not exceeding 3.00m deep, for a length not exceeding 3.00m, remove pipe, concrete bed and surround and level and compact bottoms of excavations, 150mm thick concrete, bed and lay 225mm diameter clay pipe and backfill, include for all adaptors, junctions and bends, remove waste and debris and all connections to existing pipework, testing."]
["0337AK","DRAIN:REPAIR 300MM PIPE NE 1M DEEP","DRAINAGE","Drainage Below Ground","Drainage - Existing - Repairs","NO",306.24,{"$f":"SUMIF('Contractor##'!C:C,'Planned Maint v6.2 CSV File'!C:C,'Contractor##'!F:F)","v":-0.1714},253.75046400000002,"Drain:Repair by locating damaged pipe, excavate not exceeding 1.00m deep, for a length not exceeding 3.00m, remove pipe, concrete bed and surround and level and compact bottoms of excavations, 150mm thick concrete bed and lay 300mm diameter clay pipe and backfill, include for all adaptors, junctions and bends, remove waste and debris and all connections to existing pipework, testing."]
["0337AL","DRAIN:REPAIR 300MM PIPE 1-2M DEEP","DRAINAGE","Drainage Below Ground","Drainage - Existing - Repairs","NO",431.24,{"$f":"SUMIF('Contractor##'!C:C,'Planned Maint v6.2 CSV File'!C:C,'Contractor##'!F:F)","v":-0.1714},357.32546400000001,"Drain:Repair by locating damaged pipe, excavate over 1.00m not exceeding 2.00m deep, for a length not exceeding 3.00m, remove pipe, concrete bed and surround and level and compact bottoms of excavations, 150mm thick concrete, bed and lay 300mm diameter clay pipe and backfill, include for all adaptors, junctions and bends, remove waste and debris and all connections to existing pipework, testing."]
["0337AM","DRAIN:REPAIR 300MM PIPE 2-3M DEEP","DRAINAGE","Drainage Below Ground","Drainage - Existing - Repairs","NO",566.23,{"$f":"SUMIF('Contractor##'!C:C,'Planned Maint v6.2 CSV File'!C:C,'Contractor##'!F:F)","v":-0.1714},469.178178,"Drain:Repair by locating damaged pipe, excavate over 2.00m not exceeding 3.00m deep, for a length not exceeding 3.00m, remove pipe, concrete bed and surround and level and compact bottoms of excavations, 150mm thick concrete, bed and lay 300mm diameter clay pipe and backfill, include for all adaptors, junctions and bends, remove waste and debris and all connections to existing pipework, testing."]
["0350AA","GULLY:INSTALL CLAY BACK INLET GULLY","DRAINAGE","Drainage Below Ground","Gullies","NO",118.17,{"$f":"SUMIF('Contractor##'!C:C,'Planned Maint v6.2 CSV File'!C:C,'Contractor##'!F:F)","v":-0.1714},97.915661999999998,"Gully:Excavate, level and compact bottoms and set any type of vitrified clay gully with 100mm back inlet and grating including setting and surrounding in concrete, backfill, and remove waste and debris, and reinstate paving, gardens and the like as necessary, testing."]
["0350BA","GULLY:INSTALL PVCU BACK INLET GULLY","DRAINAGE","Drainage Below Ground","Gullies","NO",70.58,{"$f":"SUMIF('Contractor##'!C:C,'Planned Maint v6.2 CSV File'!C:C,'Contractor##'!F:F)","v":-0.1714},58.482588,"Gully:Excavate, level and compact bottoms and set any type of PVCu gully with 100mm back inlet and grating including setting and surrounding in concrete, backfill, and remove waste and debris, and reinstate paving, gardens and the like as necessary, testing."]
["0350CA","GULLY:RENEW ANY TYPE SURROUND AND KERB","DRAINAGE","Drainage Below Ground","Gullies","NO",16.45,{"$f":"SUMIF('Contractor##'!C:C,'Planned Maint v6.2 CSV File'!C:C,'Contractor##'!F:F)","v":-0.1714},13.630469999999999,"Gully:Renew precast concrete or brick gully surround or kerb bedded in cement mortar (1:4) including breaking up existing and remove waste and debris, and reinstate paving, gardens and the like as necessary."]
["0350DA","GULLY:REMOVE AND SEAL OFF AND MAKE GOOD","DRAINAGE","Drainage Below Ground","Gullies","NO",12.13,{"$f":"SUMIF('Contractor##'!C:C,'Planned Maint v6.2 CSV File'!C:C,'Contractor##'!F:F)","v":-0.1714},10.050918000000001,"Gully:Excavate, remove existing gully (any type) seal pipe, backfill and make good, remove waste and debris, and reinstate paving, gardens and the like as necessary."]
["0350EA","GULLY:RENEW GRATING","DRAINAGE","Drainage Below Ground","Gullies","NO",14.85,{"$f":"SUMIF('Contractor##'!C:C,'Planned Maint v6.2 CSV File'!C:C,'Contractor##'!F:F)","v":-0.1714},12.30471,"Gully:Renew missing or damaged any size or type of gully grating, remove waste and debris."]
["0350FA","GULLY:RENEW INSPECTION PLATE","DRAINAGE","Drainage Below Ground","Gullies","NO",32.229999999999997,{"$f":"SUMIF('Contractor##'!C:C,'Planned Maint v6.2 CSV File'!C:C,'Contractor##'!F:F)","v":-0.1714},26.705777999999999,"Gully:Renew missing or damaged any size or type of screwed down inspection plate to gully or rodding eye, remove waste and debris."]
["0370AA","MANHOLE:CONSTRUCT NEW BRICK NE 1.35M DEEP","DRAINAGE","Manholes","Manholes - Brick","IT",763.51,{"$f":"SUMIF('Contractor##'!C:C,'Planned Maint v6.2 CSV File'!C:C,'Contractor##'!F:F)","v":-0.1714},632.64438599999994,"Manhole:Construct manhole ne 1.35m deep to invert level in semi engineering bricks 225mm thick with 150mm thick concrete base, 100mm thick reinforced precast concrete cover slab, cover with frame bedded in cement mortar, build in ends of pipes and bed in all required channels, bends etc, testing, allow for all excavation, earth support, backfill and remove waste and debris, and reinstate paving, gardens and the like as necessary."]
["0370AB","MANHOLE:RENEW BRICK NE 1.35M DEEP","DRAINAGE","Manholes","Manholes - Brick","IT",788.18,{"$f":"SUMIF('Contractor##'!C:C,'Planned Maint v6.2 CSV File'!C:C,'Contractor##'!F:F)","v":-0.1714},653.08594799999992,"Manhole:Renew manhole ne 1.35m deep to invert level in semi engineering bricks 225mm thick with 150mm thick concrete base, 100mm thick reinforced precast concrete cover slab, cover with frame bedded in cement mortar, build in ends of pipes and bed in all required channels, bends etc, testing, allow for breaking out of existing manhole including any extra excavation required, all diversions to existing services, earth support, backfill and remove waste and debris, and reinstate paving, gardens and the like as necessary."]
["0370BA","INSPECTION CHAMBER:NEW SHALLOW POLYPROPYLENE","DRAINAGE","Manholes","Inspection Chambers - Polypropylene","IT",94.03,{"$f":"SUMIF('Contractor##'!C:C,'Planned Maint v6.2 CSV File'!C:C,'Contractor##'!F:F)","v":-0.1714},77.913257999999999,"Inspection Chamber:Construct polypropylene shallow inspection chamber ne 600mm deep for 110mm diameter PVCu pipe including cover and frame, connections to all pipework, testing and allow for all excavation, earth support, backfill and remove waste and debris, and reinstate paving, gardens and the like as necessary."]
["0370BB","INSPECTION CHAMBER:RENEW SHALLOW POLYPROPYLENE","DRAINAGE","Manholes","Inspection Chambers - Polypropylene","IT",110.5,{"$f":"SUMIF('Contractor##'!C:C,'Planned Maint v6.2 CSV File'!C:C,'Contractor##'!F:F)","v":-0.1714},91.560299999999998,"Inspection Chamber:Renew polypropylene shallow inspection chamber ne 600mm deep for 110mm diameter PVCu pipe including cover and frame, connections to all pipework, testing and allow for all excavation, earth support, backfill and remove waste and debris, and reinstate paving, gardens and the like as necessary, allow for breaking out existing including any extra excavation etc. required and all temporary diversions to existing services."]
["0370BC","INSPECTION CHAMBER:NEW UNIVERSAL POLYPROPYLENE","DRAINAGE","Manholes","Inspection Chambers - Polypropylene","IT",176,{"$f":"SUMIF('Contractor##'!C:C,'Planned Maint v6.2 CSV File'!C:C,'Contractor##'!F:F)","v":-0.1714},145.83359999999999,"Inspection Chamber:Construct polypropylene universal inspection chamber ne 1000mm deep for 110mm diameter PVCu pipe including cover and frame, connections to all pipework, testing and allow for all excavation, earth support, backfill and remove waste and debris, and reinstate paving, gardens and the like as necessary."]
["0370BD","INSPECTION CHAMBER:RENEW UNIVERSAL POLYPROPY","DRAINAGE","Manholes","Inspection Chambers - Polypropylene","IT",188.58,{"$f":"SUMIF('Contractor##'!C:C,'Planned Maint v6.2 CSV File'!C:C,'Contractor##'!F:F)","v":-0.1714},156.25738800000002,"Inspection Chamber:Renew polypropylene universal inspection chamber ne 1000mm deep for 110mm diameter PVCu pipe including cover and frame, connections to all pipework, testing and allow for all excavation, earth support, backfill and remove waste and debris, and r einstate paving, gardens and the like as necessary, allow for breaking out existing including any extra excavation etc. required and all temporary diversions to existing services."]
["0370CA","MANHOLE:RENEW PCC COVER SLAB","DRAINAGE","Manholes","Manhole - Covers and Slabs","NO",64.61,{"$f":"SUMIF('Contractor##'!C:C,'Planned Maint v6.2 CSV File'!C:C,'Contractor##'!F:F)","v":-0.1714},53.535845999999999,"Manhole:Renew precast cover slab not exceeding 1000x1500x100mm thick including bed in cement mortar (1:3), and remove waste and debris, and reinstate paving, gardens and the like as necessary."]
["0370CC","MANHOLE:REBED COVER AND OR FRAME","DRAINAGE","Manholes","Manhole - Covers and Slabs","NO",13.78,{"$f":"SUMIF('Contractor##'!C:C,'Planned Maint v6.2 CSV File'!C:C,'Contractor##'!F:F)","v":-0.1714},11.418108,"Manhole:Lift and rebed existing cover and frame, bed frame in cement mortar (1:3) including any breaking out of foundation required to ensure correct levels clean off cover and replace including reset in grease."]
["0370DA","MANHOLE:RENEW COVER LIGHT GRADE","DRAINAGE","Manholes","Manhole - Covers and Slabs","NO",20.37,{"$f":"SUMIF('Contractor##'!C:C,'Planned Maint v6.2 CSV File'!C:C,'Contractor##'!F:F)","v":-0.1714},16.878582000000002,"Manhole:Renew manhole cover and frame, light duty single seal, any size including bed frame in cement mortar (1:3), remove waste and debris, and reinstate paving, gardens and the like as necessary."]
["0370DB","MANHOLE:RENEW COVER MEDIUM GRADE","DRAINAGE","Manholes","Manhole - Covers and Slabs","NO",28.77,{"$f":"SUMIF('Contractor##'!C:C,'Planned Maint v6.2 CSV File'!C:C,'Contractor##'!F:F)","v":-0.1714},23.838822,"Manhole:Renew manhole cover and frame, medium duty, single seal, any size including bed frame in cement mortar (1:3), remove waste and debris, and reinstate paving, gardens and the like as necessary."]
["0370DE","MANHOLE:RENEW COVER-LIGHT-INTERNAL 610X475MM","DRAINAGE","Manholes","Manhole - Covers and Slabs","NO",60.41,{"$f":"SUMIF('Contractor##'!C:C,'Planned Maint v6.2 CSV File'!C:C,'Contractor##'!F:F)","v":-0.1714},50.055726,"Manhole:Renew manhole cover and frame with stainless steel double seal light duty recessed inspection cover and frame size ne 610x475mm including bed frame in cement mortar (1:3) and fill recessed cover with screed and floor finish to match existing and remove waste and debris, and reinstate flooring as necessary."]
["0370EA","INSPECTION COVER:RENEW-300X300MM","DRAINAGE","Manholes","Manhole - Covers and Slabs","NO",39.090000000000003,{"$f":"SUMIF('Contractor##'!C:C,'Planned Maint v6.2 CSV File'!C:C,'Contractor##'!F:F)","v":-0.1714},32.389974000000002,"Inspection Cover:Renew galvanised inspection cover and frame size 300x300mm including bed frame in cement mortar (1:3), and remove waste and debris, and reinstate paving, gardens and the like as necessary."]
["0370FA","MANHOLE:RENEW LOCKABLE COVER MEDIUM GRADE","DRAINAGE","Manholes","Manhole - Covers and Slabs","NO",52.5,{"$f":"SUMIF('Contractor##'!C:C,'Planned Maint v6.2 CSV File'!C:C,'Contractor##'!F:F)","v":-0.1714},43.5015,"Manhole:Renew manhole cover and frame, medium duty, single seal, lockable, any size including bed frame in cement mortar (1:3), remove waste and debris, and reinstate paving, gardens and the like as necessary: hand keys to Client’s Representative"]
["0370FB","MANHOLE:RENEW LOCKABLE COVER-LIGHT-INTERNAL ","DRAINAGE","Manholes","Manhole - Covers and Slabs","NO",103.44,{"$f":"SUMIF('Contractor##'!C:C,'Planned Maint v6.2 CSV File'!C:C,'Contractor##'!F:F)","v":-0.1714},85.710384000000005,"Manhole:Renew manhole cover and frame with stainless steel double seal light duty recessed, lockable, inspection cover and frame size ne 610x475mm including bed frame in cement mortar (1:3) and fill recessed cover with screed and floor finish to match existing and remove waste and debris, and reinstate flooring as necessary: hand keys to Client’s Representative"]
["0390AB","GULLY:CLEAR BLOCKAGE INCLUDING RODDING","DRAINAGE","Clearing Blockages,CCTV and Testing","Clearing Blockages","NO",8.44,{"$f":"SUMIF('Contractor##'!C:C,'Planned Maint v6.2 CSV File'!C:C,'Contractor##'!F:F)","v":-0.1714},6.9933839999999998,"Gully:Clear blockage to gully including rodding as necessary, flush with clean water and removal of debris to approved tip."]
["0390BA","DRAIN:JET BLOCKAGE","DRAINAGE","Clearing Blockages,CCTV and Testing","Clearing Blockages","HR",60,{"$f":"SUMIF('Contractor##'!C:C,'Planned Maint v6.2 CSV File'!C:C,'Contractor##'!F:F)","v":-0.1714},49.716000000000001,"Drain:Clear blocked drain run by pressure jet, remove and refix manhole covers and gratings, attend upon Client’s Representative during any inspection, including all hire charges and any temporary relocation, remove on completion, flush out, test and remove waste and debris (to be charged for hours worked on site only, rate includes for travelling and other non-productive time)."]
["0390CA","DRAIN:ROD BLOCKAGE","DRAINAGE","Clearing Blockages,CCTV and Testing","Clearing Blockages","IT",18.75,{"$f":"SUMIF('Contractor##'!C:C,'Planned Maint v6.2 CSV File'!C:C,'Contractor##'!F:F)","v":-0.1714},15.536250000000001,"Drain:Rod blocked drain run by rodding, remove and refix manhole covers and gratings as necessary, flush out, test and remove waste and debris."]
["0390CC","MANHOLE:CLEAR BLOCKAGE NE 3.0M DEEP","DRAINAGE","Clearing Blockages,CCTV and Testing","Clearing Blockages","IT",9.3699999999999992,{"$f":"SUMIF('Contractor##'!C:C,'Planned Maint v6.2 CSV File'!C:C,'Contractor##'!F:F)","v":-0.1714},7.7639819999999995,"Manhole:Clear out debris to manhole not exceeding 3.00m deep and remove from site, flush out and test and remove waste and debris."]
["0390DA","DRAIN:DESCALE PIPE ","DRAINAGE","Clearing Blockages,CCTV and Testing","Descaling","IT",26.25,{"$f":"SUMIF('Contractor##'!C:C,'Planned Maint v6.2 CSV File'!C:C,'Contractor##'!F:F)","v":-0.1714},21.75075,"Drain:Descale drain run by descaling, rod and pressure jet, remove and refix manhole covers and gratings as necessary, flush out, test and cart away debris."]
["0390EA","DRAIN:CCTV SURVEY","DRAINAGE","Clearing Blockages,CCTV and Testing","CCTV Surveys","HR",60,{"$f":"SUMIF('Contractor##'!C:C,'Planned Maint v6.2 CSV File'!C:C,'Contractor##'!F:F)","v":-0.1714},49.716000000000001,"Drain:Undertake CCTV survey of drain runs to identify fault or following repairs or jetting, remove and refix manhole covers and gratings as necessary, including all hire charges and any temporary relocation, remove on completion, supply report and video to Client’s Representative (to be charged for hours worked on site, rate includes for travelling and other non-productive time)."]
["0390FA","TEST:SMOKE OR PRESSURE TEST","DRAINAGE","Clearing Blockages,CCTV and Testing","Drain Testing","IT",23.3,{"$f":"SUMIF('Contractor##'!C:C,'Planned Maint v6.2 CSV File'!C:C,'Contractor##'!F:F)","v":-0.1714},19.306380000000001,"Test:Carry out smoke or pressure test to existing drain run and report to Client’s Representative (not to be claimed in association with any other works)."]
["0390GA","DRAIN:REMOVE TREE ROOTS","DRAINAGE","Clear Blockages, CCTV Testing","Clearing Blockages","IT",60,{"$f":"SUMIF('Contractor##'!C:C,'Planned Maint v6.2 CSV File'!C:C,'Contractor##'!F:F)","v":-0.1714},49.716000000000001,"Drain:Remove tree root from drainage using a rotary cutter from the nearest appropriate manhole, remove and refix manhole covers and gratings as necessary, flush out, test and cart away debris."]
["0390HA","DRAIN:SUCTION CLEAR","DRAINAGE","Clear Blockages, CCTV Testing","Clearing Blockages","LM",4.5,{"$f":"SUMIF('Contractor##'!C:C,'Planned Maint v6.2 CSV File'!C:C,'Contractor##'!F:F)","v":-0.1714},3.7286999999999999,"Drain:Suction blocked drain run not exceeding 30m in length, by suction machine, remove and refix manhole covers and gratings,  , flush out, test and remove waste and debris."]
["0390JA","WASTE:DISPOSAL OF DRAINAGE WASTE","DRAINAGE","Clear Blockages, CCTV Testing","Clearing Blockages","CM",128,{"$f":"SUMIF('Contractor##'!C:C,'Planned Maint v6.2 CSV File'!C:C,'Contractor##'!F:F)","v":-0.1714},106.0608,"Waste:Disposal of contaminated waste debris, silts etc, arising from the clearance of blocked drains, gullies and manholes of all types, waste to be disposed of to approved tip"]
["0390JB","CESSPIT:EMPTYING","DRAINAGE","Clear Blockages, CCTV Testing","Clearing Blockages","CM",30,{"$f":"SUMIF('Contractor##'!C:C,'Planned Maint v6.2 CSV File'!C:C,'Contractor##'!F:F)","v":-0.1714},24.858000000000001,"Cesspit:Empty cesspit or septic tank to isolated site, waste to be disposed to approved tip"]
["0410AA","LAND DRAIN:75MM NE 2.0M DEEP","DRAINAGE","Land Drainage","Land Drains","LM",207.63,{"$f":"SUMIF('Contractor##'!C:C,'Planned Maint v6.2 CSV File'!C:C,'Contractor##'!F:F)","v":-0.1714},172.04221799999999,"Land Drain:Excavate trench maximum 630mm wide over 1.00m not exceeding 2.00m deep, remove waste and debris, lay 50mm granular bed, 75mm concrete land drain pipe and matting, backfill trench in stone to within 200mm of existing ground level, level with topsoil, include for all necessary bends, junctions and connections."]
["0410DA","SOAKAWAY:CLEAR EXISTING","DRAINAGE","Land Drainage","Soakaways","CM",155.61000000000001,{"$f":"SUMIF('Contractor##'!C:C,'Planned Maint v6.2 CSV File'!C:C,'Contractor##'!F:F)","v":-0.1714},128.938446,"Soakaway:Excavate to locate soakaway ne 2.00m deep, lift turf and set aside, excavate soakaway, remove excavated material to temporary spoil heap where directed, clear debris from soakaway, refill with new and existing soakaway medium to within 250mm of existing ground level, backfill with excavated material from temporary spoil heap, dispose of surplus soil from temporary spoil heap and cleared debris to approved tip, relay turfs."]
["0410DB","SOAKAWAY:EXCAVATE NEW","DRAINAGE","Land Drainage and Soakaways","Soakaways","CM",164.6,{"$f":"SUMIF('Contractor##'!C:C,'Planned Maint v6.2 CSV File'!C:C,'Contractor##'!F:F)","v":-0.1714},136.38756000000001,"Soakaway:Excavate for new soakaway ne 2.00m deep, lift turf and set aside, excavate soakaway, remove excavated material to temporary spoil heap where directed, fill excavation with hard, dry, broken, masonry, stone or gravel ne 100mm gauge to within 250mm of existing ground level, backfill as necessary with excavated material from temporary debris heap, remove waste and debris from temporary spoil heap, relay turfs."]
["0431AA","MAIN:LAY 19MM ALKATHENE NE 1M DEEP","PLUMBING","Underground Water Mains","Water Mains - Alkathene Pipework","LM",85.04,{"$f":"SUMIF('Contractor##'!C:C,'Planned Maint v6.2 CSV File'!C:C,'Contractor##'!F:F)","v":-0.25890000000000002},{"$f":"(1+H324)*G324","v":63.023144000000002},"Main:Excavate ne 1.00m deep, compact bottoms, lay 150mm thick gravel bed and haunch, lay 19mm diameter alkathene pipe including all fittings backfill and remove waste and debris."]
["0431AB","MAIN:LAY 19MM ALKATHENE 1-2M DEEP","PLUMBING","Underground Water Mains","Water Mains - Alkathene Pipework","LM",143.11000000000001,{"$f":"SUMIF('Contractor##'!C:C,'Planned Maint v6.2 CSV File'!C:C,'Contractor##'!F:F)","v":-0.25890000000000002},106.05882100000001,"Main:Excavate over 1.00m not exceeding 2.00m deep, compact bottoms, lay 150mm thick gravel bed and haunch, lay 19mm diameter alkathene pipe including all fittings, backfill and remove waste and debris."]
["0433AA","MAIN:REPAIR UNDERGROUND BURST","PLUMBING","Underground Water Mains","Burst Water Mains - Copper Pipework","NO",86.67,{"$f":"SUMIF('Contractor##'!C:C,'Planned Maint v6.2 CSV File'!C:C,'Contractor##'!F:F)","v":-0.25890000000000002},64.231137000000004,"Main:Isolate water supply, drain down, cut out and renew length of 15mm diameter copper underground main not exceeding 1.00m long in trench, with straight connectors, including all necessary bends and fittings, wrapping with tape and reinstate water supply and test on completion, item allows for all excavation, earthwork support and subsequent backfill and remove waste and debris, reinstate topsoil and any turf."]
["0439XA","OIL PIPELINE:LAY PIPE NE 0.5M DEEP","HEATING","Underground Pipeline","Oil Pipeline","LM",44.13,{"$f":"SUMIF('Contractor##'!C:C,'Planned Maint v6.2 CSV File'!C:C,'Contractor##'!F:F)","v":-0.1},39.717000000000006,"Oil Pipeline:Excavate ne 0.5m deep, lift/reinstate turf, compact bottoms, lay 150mm thick gravel bed and haunch, lay oil pipeline including all fittings backfill and remove waste and debris.."]
["0450AA","STOPCOCK:RENEW EXTERNAL BOX AND PIPE","PLUMBING","Underground Water Mains","External Stopcocks","NO",61.78,{"$f":"SUMIF('Contractor##'!C:C,'Planned Maint v6.2 CSV File'!C:C,'Contractor##'!F:F)","v":-0.25890000000000002},45.785158000000003,"Stopcock:Renew stopcock box and salt glazed pipe ne 750mm deep including all necessary excavation and backfill and make good to existing finishes, and remove waste and debris."]
["0450AB","STOPCOCK:RENEW EXTERNAL BOX","PLUMBING","Underground Water Mains","External Stopcocks","NO",15.44,{"$f":"SUMIF('Contractor##'!C:C,'Planned Maint v6.2 CSV File'!C:C,'Contractor##'!F:F)","v":-0.25890000000000002},11.442584,"Stopcock:Renew stopcock box including remove existing and bed new in cement mortar (1:3) and make good existing finishes, and remove waste and debris."]
["0450BB","STOPCOCK:RENEW COPPER TO COPPER NE 22MM","PLUMBING","Underground Water Mains","External Stopcocks","NO",24.28,{"$f":"SUMIF('Contractor##'!C:C,'Planned Maint v6.2 CSV File'!C:C,'Contractor##'!F:F)","v":-0.25890000000000002},17.993908000000001,"Stopcock:Renew copper to copper mains stopcock ne 22mm diameter including turn water off/on, fix new stopcock including all couplings and connections and test, and remove waste and debris."]
["0450BC","STOPCOCK:RENEW ALKATHENE TO COPPER NE 22MM","PLUMBING","Underground Water Mains","External Stopcocks","NO",30.63,{"$f":"SUMIF('Contractor##'!C:C,'Planned Maint v6.2 CSV File'!C:C,'Contractor##'!F:F)","v":-0.25890000000000002},22.699892999999999,"Stopcock:Renew alkathene to copper mains stopcock up to 22mm diameter including turn water off/on, fix new stopcock including all couplings and connections and test, and remove waste and debris."]
["0460AA","GAS:EXCAVATE TRENCH","GROUNDWORKS","Builders Work in Connection with Incoming Services to New External Meter Positions","Gas Mains","LM",29.49,{"$f":"SUMIF('Contractor##'!C:C,'Planned Maint v6.2 CSV File'!C:C,'Contractor##'!F:F)","v":-0.1777},24.249627,"Gas:Excavate service trench average 750mm deep including breaking up surface pavings and reinstating including all planking and strutting, temporary supports to other services, backfilling, compacting and disposal of surplus excavated material, allow for all temporary barriers, lighting and watching and co-ordination with Statutory Supply Authority. "]
["0460AB","ELECTRIC:EXCAVATE TRENCH","GROUNDWORKS","Builders Work in Connection with Incoming Services to New External Meter Positions","Electric Mains","LM",29.49,{"$f":"SUMIF('Contractor##'!C:C,'Planned Maint v6.2 CSV File'!C:C,'Contractor##'!F:F)","v":-0.1777},24.249627,"Electric:Excavate service trench ave 750mm deep including breaking up surface pavings and reinstating including all planking and strutting, temporary supports to other services, backfilling, compacting and disposal of surplus excavated material, allow for all temporary barriers, lighting and watching and co-ordination with Statutory Supply Authority. "]
["0470AA","MAIN AND DRAIN:REINSTATE CONCRETE PAVING","DRAINAGE","Drainage Below Ground","Extra Over for Breaking Out and Reinstatement","LM",43.22,{"$f":"SUMIF('Contractor##'!C:C,'Planned Maint v6.2 CSV File'!C:C,'Contractor##'!F:F)","v":-0.1714},35.812092,"Main and Drain:Extra for breaking up, carting away and subsequently reinstating not exceeding 150mm thick concrete with hardcore sub-base under, not exceeding 600mm wide including joints and make good to existing finishes."]
["0470BA","MAIN AND DRAIN:REINSTATE MACADAM PAVING","DRAINAGE","Drainage Below Ground","Extra Over for Breaking Out and Reinstatement","LM",26.25,{"$f":"SUMIF('Contractor##'!C:C,'Planned Maint v6.2 CSV File'!C:C,'Contractor##'!F:F)","v":-0.1714},21.75075,"Main and Drain:Extra for breaking up carting away and subsequently reinstating not exceeding 100mm thick tarmacadam with hardcore sub-base under, not exceeding 600mm wide including joints and make good to existing finishes."]
["0470CA","MAIN AND DRAIN:REINSTATE FLAG PAVING","DRAINAGE","Drainage Below Ground","Extra Over for Breaking Out and Reinstatement","LM",8.08,{"$f":"SUMIF('Contractor##'!C:C,'Planned Maint v6.2 CSV File'!C:C,'Contractor##'!F:F)","v":-0.1714},6.6950880000000002,"Main and Drain:Extra for lifting, set aside and subsequently relaying flag paving and sub-base grout and point, not exceeding 600mm wide including any extra cutting and bonding to existing paving."]
["0470DA","MAIN AND DRAIN:REINSTATE BRICK PAVING","DRAINAGE","Drainage Below Ground","Extra Over for Breaking Out and Reinstatement","LM",33.700000000000003,{"$f":"SUMIF('Contractor##'!C:C,'Planned Maint v6.2 CSV File'!C:C,'Contractor##'!F:F)","v":-0.1714},27.923820000000003,"Main and Drain:Extra for lifting, set aside and subsequently relaying brick paviors and sub-base grout and point, not exceeding 600mm wide including all bonding to existing paving."]
["0470XA","OIL PIPELINE:REINSTATE CONCRETE PAVING","HEATING","Underground Pipeline","Oil Pipeline","LM",45.77,{"$f":"SUMIF('Contractor##'!C:C,'Planned Maint v6.2 CSV File'!C:C,'Contractor##'!F:F)","v":-0.1},41.193000000000005,"Oil Pipeline:Extra for breaking up, remove waste and debris and subsequently reinstating not exceeding 150mm thick concrete with hardcore sub-base under, not exceeding 600mm wide including joints and make good to existing finishes."]
["0470XB","OIL PIPELINE:REINSTATE MACADAM PAVING","HEATING","Underground Pipeline","Oil Pipeline","LM",28.67,{"$f":"SUMIF('Contractor##'!C:C,'Planned Maint v6.2 CSV File'!C:C,'Contractor##'!F:F)","v":-0.1},25.803000000000001,"Oil Pipeline:Extra for breaking up, remove waste and debris and subsequently reinstating not exceeding 100mm thick tarmacadam with hardcore sub-base under, not exceeding 600mm wide including joints and make good to existing finishes."]
["0470XC","OIL PIPELINE:REINSTATE FLAG PAVING","HEATING","Underground Pipeline","Oil Pipeline","LM",8.4499999999999993,{"$f":"SUMIF('Contractor##'!C:C,'Planned Maint v6.2 CSV File'!C:C,'Contractor##'!F:F)","v":-0.1},7.6049999999999995,"Oil Pipeline:Extra for lifting, set aside and subsequently relaying flag paving and sub-base grout and point, not exceeding 600mm wide including any extra cutting and bonding to existing paving."]
["0470XD","MAIN AND DRAIN:REINSTATE BRICK PAVING OIL PIPELINE","HEATING","Underground Pipeline","Oil Pipeline","LM",30.83,{"$f":"SUMIF('Contractor##'!C:C,'Planned Maint v6.2 CSV File'!C:C,'Contractor##'!F:F)","v":-0.1},27.747,"Main and Drain:Extra for lifting, set aside and subsequently relaying brick paviors and sub-base grout and point, not exceeding 600mm wide including all bonding to existing paving. Oil Pipeline."]
["0480TA","PAVING:LOWER FLAG PAVING PRIOR TO DPC INJECTION","SPECIALIST TREATMENTS","Fungus and Beetle Eradication and DPC Works","Reduce Existing Ground Level in Conjunction with DPC Wall Injection","SM",54.95,{"$f":"SUMIF('Contractor##'!C:C,'Planned Maint v6.2 CSV File'!C:C,'Contractor##'!F:F)","v":-0.27500000000000002},39.838749999999997,"Paving:Take up paving flag, set aside, excavate to lower paving to 150mm below new floor and relay flag paving on 50mm sand on 75mm compacted stone, remove waste and debris, all in conjunction with injected dpc wall treatment."]
["0480TB","PAVING:LOWER INSITU PAVING PRIOR TO DPC INJECTION","SPECIALIST TREATMENTS","Fungus and Beetle Eradication and DPC Works","Reduce Existing Ground Level in Conjunction with DPC Wall Injection","SM",74.98,{"$f":"SUMIF('Contractor##'!C:C,'Planned Maint v6.2 CSV File'!C:C,'Contractor##'!F:F)","v":-0.27500000000000002},54.360500000000002,"Paving:Break up insitu paving, excavate to lower paving to 150mm below new floor and lay new pcc flag paving on 50mm sand on 75mm compacted stone, remove waste and debris, all in conjunction with injected dpc wall treatment."]
["0480TC","GARDEN:LOWER GARDEN PRIOR TO DPC INJECTION","SPECIALIST TREATMENTS","Fungus and Beetle Eradication and DPC Works","Reduce Existing Ground Level in Conjunction with DPC Wall Injection","SM",14.25,{"$f":"SUMIF('Contractor##'!C:C,'Planned Maint v6.2 CSV File'!C:C,'Contractor##'!F:F)","v":-0.27500000000000002},10.331249999999999,"Garden:Excavate in earth to reduce levels to 150mm below new floor level and distribute surplus earth over garden areas or remove waste and debris, all in conjunction with injected dpc wall treatment."]
["0480TD","PAVING:LOWER MACADAM PAVING BEFORE DPC INJECTION","SPECIALIST TREATMENTS","Fungus and Beetle Eradication and DPC Works","Reduce Existing Ground Level in Conjunction with DPC Wall Injection","SM",72.209999999999994,{"$f":"SUMIF('Contractor##'!C:C,'Planned Maint v6.2 CSV File'!C:C,'Contractor##'!F:F)","v":-0.27500000000000002},52.352249999999991,"Paving:Break up existing macadam excavate to lower paving to 150mm below new floor, remove spoil, fill soft spots, level and compact bottoms of excavations and fill in layers. 75mm crusher run or broken stone, blinding, 50mm base course of 20mm nominal size open textured macadam and 20mm wearing course of 6mm nominal size medium textured macadam laid to falls, crossfalls and slopes including joints to any existing finishes all in conjunction with injected dpc wall treatment, remove waste and debris."]
["0490AA","FOUNDATIONS:EXCAVATE CONCRETE BRICKWORK","FOUNDATIONS","Foundations","Foundations in Trenches","LM",256.79000000000002,{"$f":"SUMIF('Contractor##'!C:C,'Planned Maint v6.2 CSV File'!C:C,'Contractor##'!F:F)","v":-0.2702},187.40534200000002,"Foundations:Excavate trench 600mm wide and ne 1.00m deep including all necessary planking and strutting, return, fill in and ram, remove surplus excavated material off site, level and ram, lay concrete (1:3:6) in trench to depth ne 775mm build cavity wall in engineering bricks and facings in cement mortar (1:3) upto and including dpc, build in stainless steel wall ties, fill cavity of wall with concrete (1:10), including all labours and remove waste and debris."]
["0490BA","EXCAVATE:PIT NE 1.00M","FOUNDATIONS","Foundations","Excavation","CM",64.06,{"$f":"SUMIF('Contractor##'!C:C,'Planned Maint v6.2 CSV File'!C:C,'Contractor##'!F:F)","v":-0.2702},46.750988,"Excavate:Excavate in any soil for pit not exceeding 1.00m deep, earthwork support and dispose of spoil to temporary spoil heap."]
["0490BB","EXCAVATE:PIT NE 2.00M","FOUNDATIONS","Foundations","Excavation","CM",85.93,{"$f":"SUMIF('Contractor##'!C:C,'Planned Maint v6.2 CSV File'!C:C,'Contractor##'!F:F)","v":-0.2702},62.711714000000008,"Excavate:Excavate in any soil for pit over 1.00 and not exceeding 2.00m deep, earthwork support and dispose of spoil to temporary spoil heap."]
["0490CA","EXCAVATE:TRENCH NE 1.00M","FOUNDATIONS","Foundations","Excavation","CM",93.75,{"$f":"SUMIF('Contractor##'!C:C,'Planned Maint v6.2 CSV File'!C:C,'Contractor##'!F:F)","v":-0.2702},68.418750000000003,"Excavate:Excavate in any soil for trench not exceeding 1.00m deep, earthwork support and dispose of spoil to temporary spoil heap."]
["0490CB","EXCAVATE:TRENCH NE 2.00M","FOUNDATIONS","Foundations","Excavation","CM",135.93,{"$f":"SUMIF('Contractor##'!C:C,'Planned Maint v6.2 CSV File'!C:C,'Contractor##'!F:F)","v":-0.2702},99.20171400000001,"Excavate:Excavate in any soil for trench over 1.00 and not exceeding 2.00m deep, earthwork support and dispose of spoil to temporary spoil heap."]
["0491AA","HARDCORE:FILLING","FOUNDATIONS","Floors","Hardcore Filling","CM",54.65,{"$f":"SUMIF('Contractor##'!C:C,'Planned Maint v6.2 CSV File'!C:C,'Contractor##'!F:F)","v":-0.2702},39.883569999999999,"Hardcore:Imported filling to beds, pits, trenches etc., laid and compacted in maximum 300mm layers."]
["0491AB","SAND:BLINDING","FOUNDATIONS","Floors","Hardcore Filling","SM",4.18,{"$f":"SUMIF('Contractor##'!C:C,'Planned Maint v6.2 CSV File'!C:C,'Contractor##'!F:F)","v":-0.2702},3.0505639999999996,"Sand:Blind surface of hardcore filling with 50mm building sand blinding, laid and compacted."]
["0501AA","CONCRETE:SUPPLY AND PLACE IN TRENCH","FOUNDATIONS","Foundations","Concrete Work","LM",21.66,{"$f":"SUMIF('Contractor##'!C:C,'Planned Maint v6.2 CSV File'!C:C,'Contractor##'!F:F)","v":-0.2702},15.807468,"Concrete:Supply and place concrete (1:3:6) in foundation 600mm wide and ne 300mm deep as directed including tamped finish, formwork as necessary."]
["0501AB","CONCRETE:SUPPLY AND PLACE IN BEDS","FOUNDATIONS","Foundations","Concrete Work","CM",121.72,{"$f":"SUMIF('Contractor##'!C:C,'Planned Maint v6.2 CSV File'!C:C,'Contractor##'!F:F)","v":-0.2702},88.831255999999996,"Concrete:Supply and place concrete (1:2:4) in beds, bases, plinths ne 300mm deep as directed including tamped finish, formwork as necessary."]
["0501BA","CONCRETE:SUPPLY AND PLACE IN MASS FOUNDATION","FOUNDATIONS","Foundations","Concrete Work","CM",117.03,{"$f":"SUMIF('Contractor##'!C:C,'Planned Maint v6.2 CSV File'!C:C,'Contractor##'!F:F)","v":-0.2702},85.408494000000005,"Concrete:Supply and place concrete (1:2:4) in beds, bases, plinths over 300mm deep as directed including tamped finish, formwork as necessary."]
["0501BB","CONCRETE:SUPPLY AND PLACE IN CAVITY","FOUNDATIONS","Foundations","Concrete Work","SM",8.27,{"$f":"SUMIF('Contractor##'!C:C,'Planned Maint v6.2 CSV File'!C:C,'Contractor##'!F:F)","v":-0.2702},6.0354459999999994,"Concrete:Supply and place concrete (1:2:4) in cavity fill 50mm wide to cavity of brick wall, formwork as necessary."]
["0501CA","MEMBRANE:LAY POLYTHENE","FOUNDATIONS","Floors","Foundation Sundries","SM",4.1399999999999997,{"$f":"SUMIF('Contractor##'!C:C,'Planned Maint v6.2 CSV File'!C:C,'Contractor##'!F:F)","v":-0.2702},3.0213719999999999,"Membrane:Lay 250mm polythene damp proof membrane sheeting, 100mm welted laps."]
["0501DA","REINFORCEMENT:LAY MESH","FOUNDATIONS","Floors","Foundation Sundries","SM",6.22,{"$f":"SUMIF('Contractor##'!C:C,'Planned Maint v6.2 CSV File'!C:C,'Contractor##'!F:F)","v":-0.2702},4.5393559999999997,"Reinforcement:Lay chicken wire mesh reinforcement in beds, 200mm side and end laps including tying wire, all cutting and bending, spacers and chairs."]
["0501EA","DUCT:FORM IN SURFACE OF CONCRETE BED","FOUNDATIONS","Floors","Foundation Sundries","LM",6.61,{"$f":"SUMIF('Contractor##'!C:C,'Planned Maint v6.2 CSV File'!C:C,'Contractor##'!F:F)","v":-0.2702},4.8239780000000003,"Duct:Form service duct ne 300mm wide and ne 75mm deep in surface of concrete bed including all formwork as necessary."]
["1011AA","WALL:DEMOLISH EXTERNAL 1/2B WALL","BRICKWORK","Brick/Block Walling","Walls - Demolition","SM",14.54,{"$f":"SUMIF('Contractor##'!C:C,'Planned Maint v6.2 CSV File'!C:C,'Contractor##'!F:F)","v":-0.27500000000000002},10.541499999999999,"Wall:Take down half brick wall and remove waste and debris."]
["1011AB","WALL:DEMOLISH EXTERNAL 1B WALL","BRICKWORK","Brick/Block Walling","Walls - Demolition","SM",24.4,{"$f":"SUMIF('Contractor##'!C:C,'Planned Maint v6.2 CSV File'!C:C,'Contractor##'!F:F)","v":-0.27500000000000002},17.689999999999998,"Wall:Take down one brick wall and remove waste and debris."]
["1011AC","WALL:DEMOLISH EXTERNAL 1-1/2B WALL","BRICKWORK","Brick/Block Walling","Walls - Demolition","SM",39.57,{"$f":"SUMIF('Contractor##'!C:C,'Planned Maint v6.2 CSV File'!C:C,'Contractor##'!F:F)","v":-0.27500000000000002},28.68825,"Wall:Take down one and a half brick wall and remove waste and debris."]
["1011AD","WALL:DEMOLISH EXTERNAL CAVITY WALL","BRICKWORK","Brick/Block Walling","Walls - Demolition","SM",23.12,{"$f":"SUMIF('Contractor##'!C:C,'Planned Maint v6.2 CSV File'!C:C,'Contractor##'!F:F)","v":-0.27500000000000002},16.762,"Wall:Take down cavity wall and remove waste and debris."]
["1011AE","WALL:DEMOLISH EXTERNAL BLOCKWORK NE 100MM","BRICKWORK","Brick/Block Walling","Walls - Demolition","SM",10.15,{"$f":"SUMIF('Contractor##'!C:C,'Planned Maint v6.2 CSV File'!C:C,'Contractor##'!F:F)","v":-0.27500000000000002},7.3587499999999997,"Wall:Take down ne 100mm thick block wall and remove waste and debris."]
["1011AF","WALL:DEMOLISH EXTERNAL BLOCKWORK NE 225MM","BRICKWORK","Brick/Block Walling","Walls - Demolition","SM",18.149999999999999,{"$f":"SUMIF('Contractor##'!C:C,'Planned Maint v6.2 CSV File'!C:C,'Contractor##'!F:F)","v":-0.27500000000000002},13.158749999999998,"Wall:Take down over 100mm and ne 225mm thick block wall and remove waste and debris."]
["1011BA","WALL:DEMOLISH PLASTERED 1/2B WALL","BRICKWORK","Brick/Block Walling","Walls - Demolition","SM",19.2,{"$f":"SUMIF('Contractor##'!C:C,'Planned Maint v6.2 CSV File'!C:C,'Contractor##'!F:F)","v":-0.27500000000000002},13.92,"Wall:Take down half brick or 100mm blockwork non-load bearing wall and remove waste and debris, including associated doors, frames, skirtings, plaster etc., make good the existing structure at intersection with internal and external walls, make good to existing floor/screeds, plaster ceiling and skirtings."]
["1011BB","WALL:DEMOLISH PLASTERED 1B WALL","BRICKWORK","Brick/Block Walling","Walls - Demolition","SM",30.91,{"$f":"SUMIF('Contractor##'!C:C,'Planned Maint v6.2 CSV File'!C:C,'Contractor##'!F:F)","v":-0.27500000000000002},22.409749999999999,"Wall:Take down one brick or over 100mm and ne 225mm blockwork non-load bearing wall and remove waste and debris, including associated doors, frames, skirtings, plaster etc., make good the existing structure at intersection with internal and external walls, make good to existing floor/screeds, plaster ceiling and skirtings."]
["1011CA","CHIMNEY BREAST:DEMOLISH","BRICKWORK","Brick/Block Walling","Walls - Demolition","SM",51.03,{"$f":"SUMIF('Contractor##'!C:C,'Planned Maint v6.2 CSV File'!C:C,'Contractor##'!F:F)","v":-0.27500000000000002},36.996749999999999,"Chimney Breast:Demolish chimney breast complete, including and remove waste and debris, make good structure, float and set to walls 12mm thick including dub out as necessary with cement and sand ne 25mm thick, supply and fix softwood skirting to match existing, primed for decoration, make out floor and ceiling finishes, including all labours and remove waste and debris."]
["1013AA","WALL:BUILD 1/2B WALL IN COMMONS","BRICKWORK","Brick/Block Walling","Walls - Construction","SM",52.88,{"$f":"SUMIF('Contractor##'!C:C,'Planned Maint v6.2 CSV File'!C:C,'Contractor##'!F:F)","v":-0.27500000000000002},38.338000000000001,"Wall:Supply and lay new common bricks in half brick wall bedded and pointed in cement lime mortar (1:1:6)."]
["1013AB","WALL:BUILD 1B WALL IN COMMONS","BRICKWORK","Brick/Block Walling","Walls - Construction","SM",93.22,{"$f":"SUMIF('Contractor##'!C:C,'Planned Maint v6.2 CSV File'!C:C,'Contractor##'!F:F)","v":-0.27500000000000002},67.584499999999991,"Wall:Supply and lay new common bricks in one brick wall bedded and pointed in cement lime mortar (1:1:6)."]
["1013AC","WALL:BUILD 1-1/2B WALL IN COMMONS","BRICKWORK","Brick/Block Walling","Walls - Construction","SM",133.41999999999999,{"$f":"SUMIF('Contractor##'!C:C,'Planned Maint v6.2 CSV File'!C:C,'Contractor##'!F:F)","v":-0.27500000000000002},96.729499999999987,"Wall:Supply and lay new common bricks in one and a half brick wall in cement lime mortar (1:1:6)."]
["1013AD","WALL:NEW CAVITY WALL IN COMMONS","BRICKWORK","Brick/Block Walling","Walls - Construction","SM",100.17,{"$f":"SUMIF('Contractor##'!C:C,'Planned Maint v6.2 CSV File'!C:C,'Contractor##'!F:F)","v":-0.27500000000000002},72.623249999999999,"Wall:Supply and lay new common bricks in cavity wall to match existing, bedded and pointed in cement lime mortar (1:1:6) including form cavity with 5 No. wall ties per square metre."]
["1013BA","WALL:BUILD 1/2B WALL IN FACINGS","BRICKWORK","Brick/Block Walling","Walls - Construction","SM",73.61,{"$f":"SUMIF('Contractor##'!C:C,'Planned Maint v6.2 CSV File'!C:C,'Contractor##'!F:F)","v":-0.27500000000000002},53.367249999999999,"Wall:Supply and lay new facing bricks in half brick wall bedded and pointed in cement lime mortar (1:1:6) as the work proceeds."]
["1013BB","WALL:BUILD 1B WALL IN FACINGS","BRICKWORK","Brick/Block Walling","Walls - Construction","SM",133.12,{"$f":"SUMIF('Contractor##'!C:C,'Planned Maint v6.2 CSV File'!C:C,'Contractor##'!F:F)","v":-0.27500000000000002},96.512,"Wall:Supply and lay new facing bricks in one brick wall bedded and pointed in cement lime mortar (1:1:6) as the work proceeds."]
["1013BC","WALL:NEW CAVITY WALL IN FACINGS","BRICKWORK","Brick/Block Walling","Walls - Construction","SM",135.38,{"$f":"SUMIF('Contractor##'!C:C,'Planned Maint v6.2 CSV File'!C:C,'Contractor##'!F:F)","v":-0.27500000000000002},98.150499999999994,"Wall:Supply and lay new facing bricks in cavity wall to match existing, bedded and pointed in cement lime mortar (1:1:6) as the work proceeds including form cavity with 5 No. wall ties per square metre."]
["1013CA","WALL:BUILD 1/2B WALL IN ENGINEERING","BRICKWORK","Brick/Block Walling","Walls - Construction","SM",58.28,{"$f":"SUMIF('Contractor##'!C:C,'Planned Maint v6.2 CSV File'!C:C,'Contractor##'!F:F)","v":-0.27500000000000002},42.253,"Wall:Supply and lay new class ‘B’ engineering bricks in half brick wall bedded and pointed in cement mortar (1:1:6) as the work proceeds."]
["1013CB","WALL:BUILD 1B WALL IN ENGINEERING","BRICKWORK","Brick/Block Walling","Walls - Construction","SM",106.83,{"$f":"SUMIF('Contractor##'!C:C,'Planned Maint v6.2 CSV File'!C:C,'Contractor##'!F:F)","v":-0.27500000000000002},77.45174999999999,"Wall:Supply and lay new class ‘B’ engineering bricks in one brick wall bedded and pointed in cement mortar (1:3) as the work proceeds."]
["1013CC","WALL:BUILD 1-1/2B WALL IN ENGINEERING","BRICKWORK","Brick/Block Walling","Walls - Construction","SM",136.81,{"$f":"SUMIF('Contractor##'!C:C,'Planned Maint v6.2 CSV File'!C:C,'Contractor##'!F:F)","v":-0.27500000000000002},99.187249999999992,"Wall:Supply and lay new class ‘B’ engineering bricks in one and a half brick wall bedded and pointed in cement mortar (1:3) as the work proceeds."]
["1013CD","WALL:BUILD 2B WALL IN ENGINEERING","BRICKWORK","Brick/Block Walling","Walls - Construction","SM",165.4,{"$f":"SUMIF('Contractor##'!C:C,'Planned Maint v6.2 CSV File'!C:C,'Contractor##'!F:F)","v":-0.27500000000000002},119.91500000000001,"Wall:Supply and lay newclass ‘B’ engineering bricks in two brick wall bedded and pointed in cement mortar (1:3) as the work proceeds."]
["1013CE","WALL:BUILD 2-1/2B WALL IN ENGINEERING","BRICKWORK","Brick/Block Walling","Walls - Construction","SM",194,{"$f":"SUMIF('Contractor##'!C:C,'Planned Maint v6.2 CSV File'!C:C,'Contractor##'!F:F)","v":-0.27500000000000002},140.65,"Wall:Supply and lay newclass ‘B’ engineering bricks in two and a half brick wall bedded and pointed in cement mortar (1:3) as the work proceeds."]
["1013DA","WALL:NEW 75MM BLOCK WALL","BRICKWORK","Brick/Block Walling","Walls - Construction","SM",27.37,{"$f":"SUMIF('Contractor##'!C:C,'Planned Maint v6.2 CSV File'!C:C,'Contractor##'!F:F)","v":-0.27500000000000002},19.843250000000001,"Wall:Supply and lay new 75mm thick blockwork in walls bedded and pointed in cement lime mortar (1:1:6)."]
["1013DB","WALL:NEW 100MM BLOCK WALL","BRICKWORK","Brick/Block Walling","Walls - Construction","SM",30.95,{"$f":"SUMIF('Contractor##'!C:C,'Planned Maint v6.2 CSV File'!C:C,'Contractor##'!F:F)","v":-0.27500000000000002},22.438749999999999,"Wall:Supply and lay new 100mm thick blockwork in walls,bedded and pointed in cement lime mortar (1:1:6)."]
["1013DC","WALL:NEW 225MM BLOCK WALL","BRICKWORK","Brick/Block Walling","Walls - Construction","SM",54.41,{"$f":"SUMIF('Contractor##'!C:C,'Planned Maint v6.2 CSV File'!C:C,'Contractor##'!F:F)","v":-0.27500000000000002},39.447249999999997,"Wall:Supply and lay new 225mm thick blockwork in walls, bedded and pointed in cement lime mortar (1:1:6)."]
["1013EA","PARTITION:NEW NON-LOADBEARING 75MM","BRICKWORK","Brick/Block Walling","Walls - Construction","SM",42.03,{"$f":"SUMIF('Contractor##'!C:C,'Planned Maint v6.2 CSV File'!C:C,'Contractor##'!F:F)","v":-0.27500000000000002},30.47175,"Partition:Supply and lay new 75mm blockwork in non-loadbearing partition, float and set 12 mm thick, softwood skirtings primed to receive decoration, form door openings including lintel, including all labours, clear debris."]
["1013EB","PARTITION:NEW NON-LOADBEARING 100MM","BRICKWORK","Brick/Block Walling","Walls - Construction","SM",47.18,{"$f":"SUMIF('Contractor##'!C:C,'Planned Maint v6.2 CSV File'!C:C,'Contractor##'!F:F)","v":-0.27500000000000002},34.205500000000001,"Partition:Supply and lay new 100mm blockwork in non-loadbearing partition, float and set 12 mm thick, softwood skirtings primed to receive decoration, form door openings including lintel, including all labours, clear debris."]
["1013FA","FIREWALL:NEW 1B WALL IN COMMONS","BRICKWORK","Brick/Block Walling","Walls - Construction","SM",102.6,{"$f":"SUMIF('Contractor##'!C:C,'Planned Maint v6.2 CSV File'!C:C,'Contractor##'!F:F)","v":-0.27500000000000002},74.384999999999991,"Firewall:Supply and lay new common bricks in one brick firewall in roof space, bedded and pointed in cement lime mortar (1:1:6), including all labours, clear debris. "]
["1015AA","WALL:REBUILD 1/2B WALL IN COMMONS","BRICKWORK","Brick/Block Walling","Walls - Rebuilding","SM",65.83,{"$f":"SUMIF('Contractor##'!C:C,'Planned Maint v6.2 CSV File'!C:C,'Contractor##'!F:F)","v":-0.27500000000000002},47.726749999999996,"Wall:Demolish as necessary, clean off and clear away, rebuild half brick wall, in common bricks bed and point in cement lime mortar (1:1:6) to match existing and remove waste and debris."]
["1015AB","WALL:REBUILD 1B WALL IN COMMONS","BRICKWORK","Brick/Block Walling","Walls - Rebuilding","SM",117.55,{"$f":"SUMIF('Contractor##'!C:C,'Planned Maint v6.2 CSV File'!C:C,'Contractor##'!F:F)","v":-0.27500000000000002},{"$f":"(1+H388)*G388","v":85.223749999999995},"Wall:Demolish as necessary, clean off and clear away, rebuild one brick wall in common bricks, bed and point in cement lime mortar (1:1:6) to match existing and remove waste and debris."]
["1015AC","WALL:REBUILD 1-1/2 B WALL IN COMMONS","BRICKWORK","Brick/Block Walling","Walls - Rebuilding","SM",169.05,{"$f":"SUMIF('Contractor##'!C:C,'Planned Maint v6.2 CSV File'!C:C,'Contractor##'!F:F)","v":-0.27500000000000002},122.56125,"Wall:Demolish as necessary, clean off and clear away, rebuild one and a half brick wall in common bricks, bed and point in cement lime mortar (1:1:6) to match existing and remove waste and debris."]
["1015BA","WALL:REBUILD 1/2B WALL IN FACINGS","BRICKWORK","Brick/Block Walling","Walls - Rebuilding","SM",88.12,{"$f":"SUMIF('Contractor##'!C:C,'Planned Maint v6.2 CSV File'!C:C,'Contractor##'!F:F)","v":-0.27500000000000002},63.887,"Wall:Demolish as necessary, clean off and clear away, rebuild half brick wall, in facing bricks bed and point in cement lime mortar (1:1:6) to match existing, and remove waste and debris."]
["1015BB","WALL:REBUILD 1B WALL IN FACINGS","BRICKWORK","Brick/Block Walling","Walls - Rebuilding","SM",155.88999999999999,{"$f":"SUMIF('Contractor##'!C:C,'Planned Maint v6.2 CSV File'!C:C,'Contractor##'!F:F)","v":-0.27500000000000002},113.02024999999999,"Wall:Demolish as necessary, clean off and clear away, rebuild one brick wall in facing bricks, bed and point in cement lime mortar (1:1:6) to match existing and remove waste and debris."]
["1015CA","WALL:REBUILD 1/2B WALL IN ENGINEERING","BRICKWORK","Brick/Block Walling","Walls - Rebuilding","SM",71.23,{"$f":"SUMIF('Contractor##'!C:C,'Planned Maint v6.2 CSV File'!C:C,'Contractor##'!F:F)","v":-0.27500000000000002},51.641750000000002,"Wall:Demolish as necessary, clean off and clear away, rebuild half brick wall, in class ‘B’ engineering bricks, bed and point in cement mortar (1:1:6) to match existing, and remove waste and debris."]
["1015CB","WALL:REBUILD 1B WALL IN ENGINEERING","BRICKWORK","Brick/Block Walling","Walls - Rebuilding","SM",131.16,{"$f":"SUMIF('Contractor##'!C:C,'Planned Maint v6.2 CSV File'!C:C,'Contractor##'!F:F)","v":-0.27500000000000002},95.090999999999994,"Wall:Demolish as necessary, clean off and clear away, rebuild one brick wall in class ‘B’ engineering bricks, bed and point in cement mortar (1:3) to match existing and remove waste and debris."]
["1015CD","WALL:REBUILD 1-1/2B WALL IN ENGINEERING","BRICKWORK","Brick/Block Walling","Walls - Rebuilding","SM",172.85,{"$f":"SUMIF('Contractor##'!C:C,'Planned Maint v6.2 CSV File'!C:C,'Contractor##'!F:F)","v":-0.27500000000000002},125.31625,"Wall:Demolish as necessary, clean off and clear away, rebuild one and a half brick wall in class ‘B’ engineering bricks, bed and point in cement mortar (1:3) to match existing and remove waste and debris."]
["1015CE","WALL:REBUILD 2B WALL IN ENGINEERING","BRICKWORK","Brick/Block Walling","Walls - Rebuilding","SM",211.27,{"$f":"SUMIF('Contractor##'!C:C,'Planned Maint v6.2 CSV File'!C:C,'Contractor##'!F:F)","v":-0.27500000000000002},153.17075,"Wall:Demolish as necessary, clean off and clear away, rebuild two brick wall in class ‘B’ engineering bricks, bed and point in cement mortar (1:3) to match existing and remove waste and debris."]
["1015CF","WALL:REBUILD 2-1/2B WALL IN ENGINEERING","BRICKWORK","Brick/Block Walling","Walls - Rebuilding","SM",249.69,{"$f":"SUMIF('Contractor##'!C:C,'Planned Maint v6.2 CSV File'!C:C,'Contractor##'!F:F)","v":-0.27500000000000002},181.02525,"Wall:Demolish as necessary, clean off and clear away, rebuild two and a half brick wall in class ‘B’ engineering bricks, bed and point in cement mortar (1:3) to match existing and remove waste and debris."]
["1015DA","WALL:REBUILD 75MM BLOCK WALL","BRICKWORK","Brick/Block Walling","Walls - Rebuilding","SM",32.93,{"$f":"SUMIF('Contractor##'!C:C,'Planned Maint v6.2 CSV File'!C:C,'Contractor##'!F:F)","v":-0.27500000000000002},23.87425,"Wall:Demolish as necessary, clean off and clear away, rebuild 75mm blockwork in cement lime mortar (1:1:6), bed and point to match existing and remove waste and debris."]
["1015DB","WALL:REBUILD 100MM BLOCK WALL","BRICKWORK","Brick/Block Walling","Walls - Rebuilding","SM",38.89,{"$f":"SUMIF('Contractor##'!C:C,'Planned Maint v6.2 CSV File'!C:C,'Contractor##'!F:F)","v":-0.27500000000000002},28.195249999999998,"Wall:Demolish as necessary, clean off and clear away, rebuild 100mm blockwork in cement lime mortar (1:1:6) bed and point to matchexisting and remove waste and debris."]
["1015DC","WALL:REBUILD 225MM BLOCK WALL","BRICKWORK","Brick/Block Walling","Walls - Rebuilding","SM",66.41,{"$f":"SUMIF('Contractor##'!C:C,'Planned Maint v6.2 CSV File'!C:C,'Contractor##'!F:F)","v":-0.27500000000000002},48.147249999999993,"Wall:Demolish as necessary, clean off and clear away, rebuild 225mm blockwork in cement lime mortar (1:1:6) bed and point to match existing and remove waste and debris."]
["1015EA","PARTITION:REBUILD NON-LOADBEARING 75MM","BRICKWORK","Brick/Block Walling","Walls - Rebuilding","SM",50.72,{"$f":"SUMIF('Contractor##'!C:C,'Planned Maint v6.2 CSV File'!C:C,'Contractor##'!F:F)","v":-0.27500000000000002},36.771999999999998,"Partition:Demolish as necessary, clean off and remove waste and debris, rebuild 75mm blockwork in non-loadbearing partition, float and set 12 mm thick, softwood skirtings primed to receive decoration, form door openings including lintel, including all labours, and remove waste and debris."]
["1015EB","PARTITION:REBUILD NON-LOADBEARING 100MM","BRICKWORK","Brick/Block Walling","Walls - Rebuilding","SM",58.24,{"$f":"SUMIF('Contractor##'!C:C,'Planned Maint v6.2 CSV File'!C:C,'Contractor##'!F:F)","v":-0.27500000000000002},42.223999999999997,"Partition:Demolish as necessary, clean off and clear away debrist to approved tip, rebuild 100mm blockwork in non-loadbearing partition, float and set 12 mm thick, softwood skirtings primed to receive decoration, form door openings including lintel, including all labours and remove waste and debris."]
["1015FA","FIREWALL:REBUILD 1B WALL IN COMMONS","BRICKWORK","Brick/Block Walling","Walls - Rebuilding","SM",119.78,{"$f":"SUMIF('Contractor##'!C:C,'Planned Maint v6.2 CSV File'!C:C,'Contractor##'!F:F)","v":-0.27500000000000002},86.840499999999992,"Firewall:Demolish as necessary, clean off, clear away and rebuild one brick firewall in roof space, in common bricks, bed and point in cement lime mortar (1:1:6), to match existing, all labours, and remove waste and debris."]
["1015GA","CHIMNEY BREAST:REBUILD IN ROOF SPACE","BRICKWORK","Brick/Block Walling","Walls - Rebuilding","SM",115.6,{"$f":"SUMIF('Contractor##'!C:C,'Planned Maint v6.2 CSV File'!C:C,'Contractor##'!F:F)","v":-0.27500000000000002},83.809999999999988,"Chimney Breast:Demolish as necessary, clean off, clear away and rebuild chimney breast in roof space, in common brick, bed and point in cement lime mortar (1:1:6), to match existing, all labours, and remove waste and debris."]
["1015GB","CHIMNEY BREAST:REBUILD FLUED COMPLETE","BRICKWORK","Brick/Block Walling","Walls - Rebuilding","SM",110.27,{"$f":"SUMIF('Contractor##'!C:C,'Planned Maint v6.2 CSV File'!C:C,'Contractor##'!F:F)","v":-0.27500000000000002},79.94574999999999,"Chimney Breast:Demolish as necessary, clean off, clear away and rebuild chimney breast, in common brick, bed and point in cement lime mortar (1:1:6), to match existing, float and set 12mm thick including dub out as necessary in cement and sand ne 25mm thick, form fire opening for gas fire including lintel, form flue for gas fire, supply and fix skirting to match existing, primed for decoration, make good floor and ceiling finishes, including all labours, and remove waste and debris."]
["1015GC","CHIMNEY BREAST:REBUILD NON-FLUED COMPLETE","BRICKWORK","Brick/Block Walling","Walls - Rebuilding","SM",87.04,{"$f":"SUMIF('Contractor##'!C:C,'Planned Maint v6.2 CSV File'!C:C,'Contractor##'!F:F)","v":-0.27500000000000002},63.103999999999999,"Chimney Breast:Demolish as necessary, clean off, clear away and rebuild chimney breast, in common brick, bed and point in cement lime mortar (1:1:6), to match existing, float and set 12mm thick including dub out as necessary in cement and sand ne 25mm thick, supply and fix skirting to match existing, primed for decoration, make good floor and ceiling finishes, including all labours, and remove waste and debris."]
["1016AA","WALLS:REBUILD SLEEPER WALLS","SPECIALIST TREATMENTS","Fungus and Beetle Eradication and DPC Works","Works to Sub-Floors due to Fungus and Beetle Eradication or DPC Works","LM",22.54,{"$f":"SUMIF('Contractor##'!C:C,'Planned Maint v6.2 CSV File'!C:C,'Contractor##'!F:F)","v":-0.27500000000000002},16.3415,"Walls:Take down unstable 113mm honeycombed sleeper walls, not exceeding 500mm high, clean off bricks and rebuild with salvaged bricks in cement mortar (1:3) including the provision of upto 20 per cent new common bricks, including bonding end into existing walls, and remove waste and debris."]
["1016AB","WALLS:BUILD PIERS FOR WALL PLATE","SPECIALIST TREATMENTS","Fungus and Beetle Eradication and DPC Works","Works to Sub-Floors due to Fungus and Beetle Eradication or DPC Works","NO",15.57,{"$f":"SUMIF('Contractor##'!C:C,'Planned Maint v6.2 CSV File'!C:C,'Contractor##'!F:F)","v":-0.27500000000000002},11.28825,"Walls:Build new 225x225mm common brick piers in cement mortar (1:3) to support new wall plate ne 500mm high."]
["1017AA","PIER:REBUILD 1B WIDE ATTACHED IN COMMONS","BRICKWORK","Brick/Block Walling","Piers","LM",21.51,{"$f":"SUMIF('Contractor##'!C:C,'Planned Maint v6.2 CSV File'!C:C,'Contractor##'!F:F)","v":-0.27500000000000002},15.594750000000001,"Pier:Demolish as necessary, clean off and clear away, rebuild attached pier in common bricks, one brick wide x half brick projection, bedded and pointed in cement lime mortar (1:1:6) to match existing and remove waste and debris."]
["1017AB","PIER:REBUILD 1B ISOLATED IN COMMONS","BRICKWORK","Brick/Block Walling","Piers","LM",71.5,{"$f":"SUMIF('Contractor##'!C:C,'Planned Maint v6.2 CSV File'!C:C,'Contractor##'!F:F)","v":-0.27500000000000002},51.837499999999999,"Pier:Demolish as necessary, clean off and clear away, rebuild one brick isolated pier in common bricks with brick on edge coping bedded and pointed in cement lime mortar (1:1:6) to match existing including building in any gudgeons, gate keeps or similar built in items and remove waste and debris."]
["1017AC","PIER:REBUILD 1-1/2B WIDE ATTACHED IN COMMONS","BRICKWORK","Brick/Block Walling","Piers","LM",37.08,{"$f":"SUMIF('Contractor##'!C:C,'Planned Maint v6.2 CSV File'!C:C,'Contractor##'!F:F)","v":-0.27500000000000002},26.882999999999999,"Pier:Demolish as necessary, clean off and clear away, rebuild attached pier in common bricks, one and a half brick wide, half brick projection, bedded and pointed in cement lime mortar (1:1:6) to match existing and remove waste and debris."]
["1017AD","PIER:REBUILD 1-1/2B ISOLATED IN COMMONS","BRICKWORK","Brick/Block Walling","Piers","LM",98.12,{"$f":"SUMIF('Contractor##'!C:C,'Planned Maint v6.2 CSV File'!C:C,'Contractor##'!F:F)","v":-0.27500000000000002},71.137,"Pier:Demolish as necessary, clean off and clear away, rebuild one and a half brick isolated pier in common bricks with brick on edge coping, bedded and pointed in cement lime mortar (1:1:6) to match existing including building in any gudgeons, gate keeps or similar built in items and remove waste and debris."]
["1017BA","PIER:REBUILD 1B WIDE ATTACHED IN FACINGS","BRICKWORK","Brick/Block Walling","Piers","LM",30.02,{"$f":"SUMIF('Contractor##'!C:C,'Planned Maint v6.2 CSV File'!C:C,'Contractor##'!F:F)","v":-0.27500000000000002},21.764499999999998,"Pier:Demolish as necessary, clean off and clear away, rebuild attached pier in facing bricks. one brick wide, half brick projection, bedded and pointed in cement lime mortar (1:1:6) to match existing and remove waste and debris."]
["1017BB","PIER:REBUILD 1B ISOLATED IN FACINGS","BRICKWORK","Brick/Block Walling","Piers","LM",81.58,{"$f":"SUMIF('Contractor##'!C:C,'Planned Maint v6.2 CSV File'!C:C,'Contractor##'!F:F)","v":-0.27500000000000002},59.145499999999998,"Pier:Demolish as necessary, clean off and clear away, rebuild one brick isolated pier in facing bricks with brick on edge coping bedded and pointed in cement lime mortar (1:1:6) to match existing including building in any gudgeons, gate keeps or similar built in items and remove waste and debris."]
["1017BC","PIER:REBUILD 1-1/2B WIDE ATTACHED IN FACINGS","BRICKWORK","Brick/Block Walling","Piers","LM",49.14,{"$f":"SUMIF('Contractor##'!C:C,'Planned Maint v6.2 CSV File'!C:C,'Contractor##'!F:F)","v":-0.27500000000000002},35.6265,"Pier:Demolish as necessary, clean off and clear away, rebuild attached pier in facing bricks, one and a half brick wide, half brick projection, bedded and pointed in cement lime mortar (1:1:6) to match existing and remove waste and debris."]
["1017BD","PIER:REBUILD 1-1/2B ISOLATED IN FACINGS","BRICKWORK","Brick/Block Walling","Piers","LM",117.57,{"$f":"SUMIF('Contractor##'!C:C,'Planned Maint v6.2 CSV File'!C:C,'Contractor##'!F:F)","v":-0.27500000000000002},85.238249999999994,"Pier:Demolish as necessary, clean off and clear away, rebuild one and a half brick isolated pier in facing bricks with brick on edge coping, bedded and pointed in cement lime mortar (1:1:6) to match existing including building in any gudgeons, gate keeps or similar built in items and remove waste and debris."]
["1019AA","WALL:REPAIR FRACTURE","BRICKWORK","Brick/Block Walling","Brick/Block Repairs","LM",44.12,{"$f":"SUMIF('Contractor##'!C:C,'Planned Maint v6.2 CSV File'!C:C,'Contractor##'!F:F)","v":-0.27500000000000002},31.986999999999998,"Fracture:Remove any applied finish and cut out bricks as necessary to either side of fracture, one face only, stitch in new bricks, bed and point to match existing in cement lime mortar (1:1:6), and make good any applied finishes, and remove waste and debris (measured over mean general line of fracture)."]
["1019AB","WALL:REPAIR SMALL PATCH IN COMMONS","BRICKWORK","Brick/Block Walling","Brick/Block Repairs","IT",18.93,{"$f":"SUMIF('Contractor##'!C:C,'Planned Maint v6.2 CSV File'!C:C,'Contractor##'!F:F)","v":-0.27500000000000002},13.72425,"Wall:Cut out bricks from face of wall, clean and clear away, lay upto 15 No. new common bricks in cement lime mortar (1:1:6), bond, bed and point to match existing and remove waste and debris."]
["1019AC","WALL:REPAIR LARGE PATCH IN COMMONS","BRICKWORK","Brick/Block Walling","Brick/Block Repairs","IT",98.12,{"$f":"SUMIF('Contractor##'!C:C,'Planned Maint v6.2 CSV File'!C:C,'Contractor##'!F:F)","v":-0.27500000000000002},71.137,"Wall:Cut out bricks from face of wall, clean and clear away, lay over 15 No. new common bricks up to 2sm in area in cement lime mortar (1:1:6), bond,bed and point to match existing and remove waste and debris."]
["1019BA","WALL:REPAIR SMALL PATCH IN FACINGS","BRICKWORK","Brick/Block Walling","Brick/Block Repairs","IT",21.92,{"$f":"SUMIF('Contractor##'!C:C,'Planned Maint v6.2 CSV File'!C:C,'Contractor##'!F:F)","v":-0.27500000000000002},15.892000000000001,"Wall:Cut out bricks from face of wall, clean and clear away, lay upto 15 No. new facing bricks in cement lime mortar (1:1:6), bond, bed and point to match existing and remove waste and debris."]
["1019BB","WALL:REPAIR LARGE PATCH IN FACINGS","BRICKWORK","Brick/Block Walling","Brick/Block Repairs","IT",114.45,{"$f":"SUMIF('Contractor##'!C:C,'Planned Maint v6.2 CSV File'!C:C,'Contractor##'!F:F)","v":-0.27500000000000002},82.976249999999993,"Wall:Cut out bricks from face of wall, clean and clear away, lay over 15 No. new facing bricks up to 2sm in area in cement lime mortar (1:1:6), bond,bed and point to match existing and remove waste and debris."]
["1019CA","WALL:RENEW INDIVIDUAL 100MM BLOCK","BRICKWORK","Brick/Block Walling","Brick/Block Repairs","NO",5.48,{"$f":"SUMIF('Contractor##'!C:C,'Planned Maint v6.2 CSV File'!C:C,'Contractor##'!F:F)","v":-0.27500000000000002},3.9730000000000003,"Wall:Cut out old 100mm block, clean and clear away, supply and lay new block in cement lime mortar (1:1:6), bond, bed and point to match existing and remove waste and debris (first block)."]
["1019CB","WALL:RENEW SUBSEQUENT 100MM BLOCKS","BRICKWORK","Brick/Block Walling","Brick/Block Repairs","NO",3.92,{"$f":"SUMIF('Contractor##'!C:C,'Planned Maint v6.2 CSV File'!C:C,'Contractor##'!F:F)","v":-0.27500000000000002},2.8420000000000001,"Wall:Cut out old 100mm block, clean and clear away, supply and lay new block in cement lime mortar (1:1:6), bond, bed and point to match existing and remove waste and debris (subsequent blocks)."]
["1019CC","WALL:RENEW INDIVIDUAL 225MM BLOCK","BRICKWORK","Brick/Block Walling","Brick/Block Repairs","NO",9.7100000000000009,{"$f":"SUMIF('Contractor##'!C:C,'Planned Maint v6.2 CSV File'!C:C,'Contractor##'!F:F)","v":-0.27500000000000002},7.0397500000000006,"Wall:Cut out old 225mm block, clean and clear away, supply and lay new block in cement lime mortar (1:1:6), bond, bed and point to match existing and remove waste and debris (first block)."]
["1019CD","WALL:RENEW SUBSEQUENT 225MM BLOCKS","BRICKWORK","Brick/Block Walling","Brick/Block Repairs","NO",8.15,{"$f":"SUMIF('Contractor##'!C:C,'Planned Maint v6.2 CSV File'!C:C,'Contractor##'!F:F)","v":-0.27500000000000002},5.9087500000000004,"Wall:Cut out old 225mm block, clean and clear away, supply and lay new block in cement lime mortar (1:1:6), bond, bed and point to match existing and remove waste and debris (subsequent blocks)."]
["1021AA","WALL:RAKE OUT AND REPOINT BRICKWORK","BRICKWORK","Brick/Block Walling","Repointing","SM",20.13,{"$f":"SUMIF('Contractor##'!C:C,'Planned Maint v6.2 CSV File'!C:C,'Contractor##'!F:F)","v":-0.27500000000000002},14.594249999999999,"Wall:Rake out existing joints of brickwork min 12mm and repoint brickwork in mortar to match existing and remove waste and debris."]
["1021BA","WALL:RAKE OUT AND REPOINT JOINT OF BRICKWORK","BRICKWORK","Brick/Block Walling","Repointing","LM",2.64,{"$f":"SUMIF('Contractor##'!C:C,'Planned Maint v6.2 CSV File'!C:C,'Contractor##'!F:F)","v":-0.27500000000000002},1.9139999999999999,"Wall:Rake out existing mortar joint as necessary min 12mm and repoint in mortar to match existing in joints to cills, sides of door/window frames or concrete cladding joints etc and remove waste and debris."]
["1022AA","STONE:REBUILD WALL NE 300MM NS IRREGULAR COURSES","MASONRY","Stoneworks","Natural Stone","SM",172.22,{"$f":"SUMIF('Contractor##'!C:C,'Planned Maint v6.2 CSV File'!C:C,'Contractor##'!F:F)","v":-0.27500000000000002},124.8595,"Stone:Rebuild stone wall ne 300mm thick, take down and clean off, set aside and rebuild irregular coursed natural stone wall including providing additional stone to match as necessary bed, joint and point to match existing in lime mortar (1:3) including copings and other features, and remove waste and debris."]
["1022AB","STONE:REBUILD WALL OVER 300MM NS IRREGULAR","MASONRY","Stoneworks","Natural Stone","SM",216.82,{"$f":"SUMIF('Contractor##'!C:C,'Planned Maint v6.2 CSV File'!C:C,'Contractor##'!F:F)","v":-0.27500000000000002},157.19449999999998,"Stone:Rebuild stone wall over 300mm thick take down and clean off, set aside and rebuild irregular coursed natural stone wall including providing additional stone to match as necessary bed, joint and point to match existing in lime mortar (1:3) including copings and other features, and remove waste and debris."]
["1022BA","STONE:REBUILD WALL NE 300MM NS REGULAR COURSES","MASONRY","Stoneworks","Natural Stone","SM",201.91,{"$f":"SUMIF('Contractor##'!C:C,'Planned Maint v6.2 CSV File'!C:C,'Contractor##'!F:F)","v":-0.27500000000000002},146.38475,"Stone:Rebuild stone wall ne 300mm thick take down and clean off, set aside and rebuild regular coursed natural stone wall including providing additional stone to match as necessary bed, joint and point to match existing in lime mortar (1:3) including copings and other features, and remove waste and debris."]
["1022BB","STONE:REBUILD WALL OVER 300MM NS REGULAR COURSES","MASONRY","Stoneworks","Natural Stone","SM",254.32,{"$f":"SUMIF('Contractor##'!C:C,'Planned Maint v6.2 CSV File'!C:C,'Contractor##'!F:F)","v":-0.27500000000000002},184.38199999999998,"Stone:Rebuild stone wall over 300mm thick take down and clean off, set aside and rebuild regular coursed natural stone wall including providing additional stone to match as necessary bed, joint and point to match existing in lime mortar (1:3) including copings and other features, and remove waste and debris."]
["1022CA","STONE:REBUILD WALL NE 300MM RS IRREGULAR COURSES","MASONRY","Stoneworks","Reconstructed Stone","SM",131.49,{"$f":"SUMIF('Contractor##'!C:C,'Planned Maint v6.2 CSV File'!C:C,'Contractor##'!F:F)","v":-0.27500000000000002},95.330250000000007,"Stone:Rebuild stone wall ne 300mm thick take down and clean off, set aside and rebuild irregular coursed reconstructed stone wall including providing additional stone to match as necessary bed, joint and point to match existing in gauged mortar (1:1:6) including copings and other features, and remove waste and debris."]
["1022CB","STONE:REBUILD WALL OVER 300MM RS IRREGULAR","MASONRY","Stoneworks","Reconstructed Stone","SM",167.47,{"$f":"SUMIF('Contractor##'!C:C,'Planned Maint v6.2 CSV File'!C:C,'Contractor##'!F:F)","v":-0.27500000000000002},121.41574999999999,"Stone:Rebuild stone wall over 300mm thick take down and clean off, set aside and rebuild irregular coursed reconstructed stone wall including providing additional stone to match as necessary bed, joint and point to match existing in gauged mortar (1:1:6) including copings and other features, and remove waste and debris."]
["1022DA","STONE:REBUILD WALL NE 300MM RS REGULAR COURSES","MASONRY","Stoneworks","Reconstructed Stone","SM",151.80000000000001,{"$f":"SUMIF('Contractor##'!C:C,'Planned Maint v6.2 CSV File'!C:C,'Contractor##'!F:F)","v":-0.27500000000000002},110.05500000000001,"Stone:Rebuild stone wall ne 300mm thick take down and clean off, set aside and rebuild regular coursed reconstructed stone wall including providing additional stone to match as necessary bed, joint and point to match existing in gauged mortar (1:1:6) including copings and other features, and remove waste and debris."]
["1022DB","STONE:REBUILD WALL OVER 300MM RS REGULAR COURSES","MASONRY","Stoneworks","Reconstructed Stone","SM",192.47,{"$f":"SUMIF('Contractor##'!C:C,'Planned Maint v6.2 CSV File'!C:C,'Contractor##'!F:F)","v":-0.27500000000000002},139.54075,"Stone:Rebuild stone wall over 300mm thick take down and clean off, set aside and rebuild regular coursed reconstructed stone wall including providing additional stone to match as necessary bed, joint and point to match existing in gauged mortar (1:1:6) including copings and other features, and remove waste and debris."]
["1022DC","STONE:REBUILD WALL CAVITY SKIN RS REGULAR COURSES","MASONRY","Stoneworks","Reconstructed Stone","SM",135.72999999999999,{"$f":"SUMIF('Contractor##'!C:C,'Planned Maint v6.2 CSV File'!C:C,'Contractor##'!F:F)","v":-0.27500000000000002},98.40424999999999,"Stone:Rebuild stone outer skin of cavity wall take down and clean off, set aside and rebuild 100mm regular coursed reconstructed stone outer skin including providing additional stone to match as necessary bed, joint and point to match existing in gauged mortar (1:1:6) including stainless steel wall ties, damp proof courses, seal cavity around openings, build in lintols, bonding to existing, and remove waste and debris."]
["1022DD","STONE:REBUILD WALL CAVITY SKIN RS IRREGULAR","MASONRY","Stoneworks","Reconstructed Stone","SM",112.71,{"$f":"SUMIF('Contractor##'!C:C,'Planned Maint v6.2 CSV File'!C:C,'Contractor##'!F:F)","v":-0.27500000000000002},81.714749999999995,"Stone:Rebuild stone outer skin of cavity wall take down and clean off, set aside and rebuild 100mm irregular coursed reconstructed stone outer skin including providing additional stone to match as necessary bed, joint and point to match existing in gauged mortar (1:1:6) including stainless steel wall ties, damp proof courses, seal cavity around openings, build in lintols, bonding to existing, and remove waste and debris."]
["1022EA","WALL:RAKE OUT AND REPOINT STONEWORK","MASONRY","Stoneworks","Repointing","SM",20.03,{"$f":"SUMIF('Contractor##'!C:C,'Planned Maint v6.2 CSV File'!C:C,'Contractor##'!F:F)","v":-0.27500000000000002},14.521750000000001,"Wall:Rake out existing joints of stonework minimum 20mm deep and repoint in cement or lime mortar to match existing and remove waste and debris."]
["1022EB","WALL:RAKE OUT REPOINT AND RESET STONEWORK","MASONRY","Stoneworks","Repointing","SM",86.61,{"$f":"SUMIF('Contractor##'!C:C,'Planned Maint v6.2 CSV File'!C:C,'Contractor##'!F:F)","v":-0.27500000000000002},62.792249999999996,"Wall:Rake out existing joints of stonework minimum 20mm deep allow for dubbing out and resetting stonework including provision of any new matching stonework and repoint in cement or lime mortar to match existing and remove waste and debris."]
["1022ZA","BRICK SLIPS:REPAIR SMALL PATCH TO WALL FACING","BRICKWORK","Brick/Block Walling","Brick Slip Facings - Repairs","IT",37.75,{"$f":"SUMIF('Contractor##'!C:C,'Planned Maint v6.2 CSV File'!C:C,'Contractor##'!F:F)","v":-0.27500000000000002},27.368749999999999,"Brick Slips:Cut out brick slips from facing of wall, clean backgrounds and clear away, lay upto 15 No. new facing brick slips in cement lime mortar (1:1:6), bond, bed and point to match existing and remove waste and debris."]
["1022ZB","BRICK SLIPS:REPAIR LARGE PATCH TO WALL FACING","BRICKWORK","Brick/Block Walling","Brick Slip Facings - Repairs","IT",132.5,{"$f":"SUMIF('Contractor##'!C:C,'Planned Maint v6.2 CSV File'!C:C,'Contractor##'!F:F)","v":-0.27500000000000002},96.0625,"Brick Slips:Cut out brick slips from facing of wall, clean backgrounds and clear away, lay over 15 No. new facing bricks up to 2sm in area in cement lime mortar (1:1:6), bond,bed and point to match existing and remove waste and debris."]
["1023AA","TELL TALE:BED IN GLASS TELL TALE","BRICKWORK","Brick/Block Walling","Tell Tales","NO",10.81,{"$f":"SUMIF('Contractor##'!C:C,'Planned Maint v6.2 CSV File'!C:C,'Contractor##'!F:F)","v":-0.27500000000000002},7.83725,"Tell Tale:Hack out cement joint in brickwork and provide and bed in glass tell tale in mortar (1:3)."]
["1023AB","TELL TALE:BED IN CALIBRATED TELL TALE","BRICKWORK","Brick/Block Walling","Tell Tales","NO",20.53,{"$f":"SUMIF('Contractor##'!C:C,'Planned Maint v6.2 CSV File'!C:C,'Contractor##'!F:F)","v":-0.27500000000000002},14.88425,"Tell Tale:Hack out cement joint in brickwork and provide and bed in calibrated tell tale in mortar (1:3). "]
["1025AA","WALL:CLEAR CAVITY AREAS NE 1.0SM","BRICKWORK","Brick/Block Walling","Cavities","IT",51.75,{"$f":"SUMIF('Contractor##'!C:C,'Planned Maint v6.2 CSV File'!C:C,'Contractor##'!F:F)","v":-0.27500000000000002},37.518749999999997,"Wall:Cut out bricks in areas ne 1sm for access into cavity, clear blockage including up to 0.5m from opening in any direction, take all necessary measures to prevent loss of any cavity insulation, remove and remove waste and debris, reinstate and make good cavity insulation to match existing as necessary, clean and replace bricks and bed and point in cement lime mortar (1:1:6) to match existing."]
["1025AB","WALL:CLEAR CAVITY","BRICKWORK","Brick/Block Walling","Cavities","LM",19.03,{"$f":"SUMIF('Contractor##'!C:C,'Planned Maint v6.2 CSV File'!C:C,'Contractor##'!F:F)","v":-0.27500000000000002},13.796750000000001,"Wall:Cut out facing bricks for access into cavity, clear debris from cavity, and remove waste and debris, clean and replace bricks and bed and point in cement lime mortar (1:1:6) to match existing."]
["1025BA","WALL:RENEW CAVITY TIES","BRICKWORK","Brick/Block Walling","Cavity Ties","SM",29.93,{"$f":"SUMIF('Contractor##'!C:C,'Planned Maint v6.2 CSV File'!C:C,'Contractor##'!F:F)","v":-0.27500000000000002},21.699249999999999,"Wall:Renew existing cavity wall ties with specialist replacement ties at the rate of 5no per sm fixed at 900mm centres horizontally and 450mm centres vertically with additional ties around openings, locate existing ties and remove through the outer cavity wall repoint bed joints and perpends with a rigid mortar pack all work to be in accordance with the Wall Tie Installation Federations recommendations and BRE’s requirements and shall have an insurance backed 25 year guarantee for the tie tye and system utilised, ties are to be to BS 1449 and BS 1243, including all making good and remove waste and debris."]
["1026AA","CAVITY WALL INSULATION:INJECT","BRICKWORK","Brick/Block Walling","Cavity Insulation","SM",4.3600000000000003,{"$f":"SUMIF('Contractor##'!C:C,'Planned Maint v6.2 CSV File'!C:C,'Contractor##'!F:F)","v":-0.27500000000000002},3.161,"Cavity Wall Insulation:Inject proprietary cavity wall insulation, drill walls as necessary, including all making good and remove waste and debris."]
["1027DB","HOLE:MAKE GOOD HOLE ANY DIAMETER","BRICKWORK","Brick/Block Walling","Openings - Minor","NO",5.0599999999999996,{"$f":"SUMIF('Contractor##'!C:C,'Planned Maint v6.2 CSV File'!C:C,'Contractor##'!F:F)","v":-0.27500000000000002},3.6684999999999994,"Hole:Make good any diameter hole after removal or around any diameter existing pipe passing through brick/block wall, including make good finishes."]
["1027DC","HOLE:HOLE FOR CAVITY INSPECTION","BRICKWORK","Brick/Block Walling","Openings - Minor","NO",2.75,{"$f":"SUMIF('Contractor##'!C:C,'Planned Maint v6.2 CSV File'!C:C,'Contractor##'!F:F)","v":-0.27500000000000002},1.9937499999999999,"Hole:Drill hole through half brick skin of cavity wall for purpose of boroscope inspection of cavity and make good on completion (inspection undertaken by others)."]
["1027EA","OPENING:FORM IN 1/2B INTERNAL WALL FOR DOOR","BRICKWORK","Brick/Block Walling","Openings - Internal Door","IT",118.63,{"$f":"SUMIF('Contractor##'!C:C,'Planned Maint v6.2 CSV File'!C:C,'Contractor##'!F:F)","v":-0.27500000000000002},86.006749999999997,"Opening:Cut or form opening for internal door and frame in half brick wall plastered both sides, insert concrete lintol and quoin up jambs, make good plaster, extend flooring through opening on bearers, make good all works disturbed including decorations, temporary propping and remove waste and debris."]
["1027EB","OPENING:FORM IN 1B INTERNAL WALL FOR DOOR","BRICKWORK","Brick/Block Walling","Openings - Internal Door","IT",161.32,{"$f":"SUMIF('Contractor##'!C:C,'Planned Maint v6.2 CSV File'!C:C,'Contractor##'!F:F)","v":-0.27500000000000002},116.95699999999999,"Opening:Cut or form opening for internal door and frame in one brick wall plastered both sides, insert concrete lintol and quoin up jambs, make good plaster, extend flooring through opening on bearers, make good all works disturbed including decorations, temporary propping and remove waste and debris."]
["1027EC","OPENING:BUILD UP INTERNAL IN 100MM BLOCKS","BRICKWORK","Brick/Block Walling","Openings - Internal Door","IT",132.71,{"$f":"SUMIF('Contractor##'!C:C,'Planned Maint v6.2 CSV File'!C:C,'Contractor##'!F:F)","v":-0.27500000000000002},96.214750000000009,"Opening:Build up internal door opening in 100mm blockwork, bedded and pointed in mortar to match existing, including prepare opening, cut tooth and bond jambs to receive blockwork, finished both sides with 2 coats of lightweight gypsum plaster finished flush with existing, including any necessary dubbing out, make good all works disturbed including decorations, and remove waste and debris."]
["1027ED","OPENING:BUILD UP INTERNAL IN COMMONS 1/2B THICK","BRICKWORK","Brick/Block Walling","Openings - Internal Door","IT",176.35,{"$f":"SUMIF('Contractor##'!C:C,'Planned Maint v6.2 CSV File'!C:C,'Contractor##'!F:F)","v":-0.27500000000000002},{"$f":"(1+H452)*G452","v":127.85374999999999},"Opening:Build up internal door opening in commons, half brick thick, bedded and pointed in mortar to match existing, including prepare opening, cut tooth and bond jambs to receive brickwork, wedge and pinned to soffit, finished both sides with 2 coats of lightweight gypsum plaster finished flush with existing, including any necessary dubbing out, make good all works disturbed including decorations, and remove waste and debris."]
["1027EE","OPENING:BUILD UP INTERNAL IN COMMONS 1B THICK","BRICKWORK","Brick/Block Walling","Openings - Internal Door","IT",265.47000000000003,{"$f":"SUMIF('Contractor##'!C:C,'Planned Maint v6.2 CSV File'!C:C,'Contractor##'!F:F)","v":-0.27500000000000002},192.46575000000001,"Opening:Build up internal door opening in commons, one brick thick, bedded and pointed in mortar to match existing, including prepare opening, cut tooth and bond jambs to receive brickwork, wedge and pinned to soffit, finished both sides with 2 coats of lightweight gypsum plaster finished flush with existing, including any necessary dubbing out, make good all works disturbed including decorations, and remove waste and debris."]
["1027FA","OPENING:FORM DOOR IN EXTERNAL WALL","BRICKWORK","Brick/Block Walling","Openings - External Door/Window","SM",169.54,{"$f":"SUMIF('Contractor##'!C:C,'Planned Maint v6.2 CSV File'!C:C,'Contractor##'!F:F)","v":-0.27500000000000002},122.91649999999998,"Opening:Cut or form opening for door exceeding 1.00sm in 275mm cavity wall, insert catnic lintol type CN7 or other equal and approved, damp proof course flashing, quoin up and close cavity at jambs with brickwork to match existing, form brick-on-end arch soldier course, form brick-on-end step with class B engineering bricks, snap headers, damp proof course to jambs and cill face up margins to match existing, make good plasterwork and decorations internally, include for additional stainless steel wall ties at 300mm centres around opening, propping and temporary supports, and remove waste and debris."]
["1027FB","OPENING:FORM WINDOW IN EXTERNAL WALL","BRICKWORK","Brick/Block Walling","Openings - External Door/Window","SM",220.07,{"$f":"SUMIF('Contractor##'!C:C,'Planned Maint v6.2 CSV File'!C:C,'Contractor##'!F:F)","v":-0.27500000000000002},159.55074999999999,"Opening:Cut or form opening for window exceeding 1.00sm in 275mm cavity wall, insert catnic lintol CN7 or other equal and approved, damp proof course flashing, quoin up and close cavity at jambs with brickwork to match existing, form brick-on-end arch soldier course, form cill with two course of plain tile creasing, set on brick on edge snap headers, damp proof course to jambs and cill face up margins to match existing, make good plasterwork and decorations internally, include for additional stainless steel wall ties at 300mm centres around opening, propping and temporary supports, and remove waste and debris."]
["1027FC","OPENING:ENLARGE EXISTING WINDOW","BRICKWORK","Brick/Block Walling","Openings - External Door/Window","SM",197.75,{"$f":"SUMIF('Contractor##'!C:C,'Planned Maint v6.2 CSV File'!C:C,'Contractor##'!F:F)","v":-0.27500000000000002},143.36875000000001,"Opening:Cut out and reform opening for window exceeding 1.00sm in 275mm cavity wall, insert catnic lintol type CN7 or other equal and approved, damp proof course flashing, quoin up and close cavity at jambs with brickwork to match existing, form brick-on-end arch solider course, form cill with two course of plain tile creasing, set on brick on edge snap headers, damp proof course to jambs and cill face up margins to match existing, make good plasterwork and decorations internally, include for additional stainless steel wall ties at 300mm centres around opening, propping and temporary supports, and remove waste and debris."]
["1027FD","OPENING:ADAPT EXTERNAL DOOR TO WINDOW","BRICKWORK","Brick/Block Walling","Openings - External Door/Window","IT",134.78,{"$f":"SUMIF('Contractor##'!C:C,'Planned Maint v6.2 CSV File'!C:C,'Contractor##'!F:F)","v":-0.27500000000000002},97.715499999999992,"Opening:Remove existing door frame, adapt opening for window exceeding 1.00sm in 275mm cavity wall, and close cavity at cill with slate, brick up opening below cill level with facing bricks to match existing and concrete blockwork internally, form cill with two courses of plain tile creasing, set on brick on edge snap headers, damp proof course to jambs and cill face up margins to match existing, make good plasterwork and decorations internally, include for additional stainless steel wall ties at 300mm centres around opening, propping and temporary supports, and remove waste and debris."]
["1027FE","OPENING:CONVERT OR EXTEND DOOR INTO WINDOW","BRICKWORK","Brick/Block Walling","Openings - External Door/Window","SM",216.06,{"$f":"SUMIF('Contractor##'!C:C,'Planned Maint v6.2 CSV File'!C:C,'Contractor##'!F:F)","v":-0.27500000000000002},156.64349999999999,"Opening:Remove existing door frame, cut or form opening for window exceeding 1.00sm in 275mm cavity wall, insert catnic lintol type CN7, or other equal and approved, damp proof course flashing, quoin up and close cavity at jambs with brickwork to match existing, form or extend brick-on-end arch soldier course, brick up opening below cill level with facing bricks to match existing and concrete blockwork internally, close cavity at cill with slate, form cill with two courses of plain tile creasing, set on brick on edge snap headers, damp proof course to jambs and cill face up margins to match existing, make good plasterwork and decorations internally, include for additional stainless steel wall ties at 300mm centres around opening, propping and temporary supports, and remove waste and debris."]
["1027FF","OPENING:BUILD UP EXTERNAL IN COMMONS","BRICKWORK","Brick/Block Walling","Openings - External Door/Window","SM",111.23,{"$f":"SUMIF('Contractor##'!C:C,'Planned Maint v6.2 CSV File'!C:C,'Contractor##'!F:F)","v":-0.27500000000000002},80.641750000000002,"Opening:Build up existing opening for door or window, remove door or window frame, tiled cill, concrete cill, internal lintol, flat brick on edge arch over, build up externally in common bricks in mortar, allow for cutting, toothing and bonding into existing reveals, finished with two coats of render flush with existing walls, block up internally with 100mm blockwork finished with 2 coats of plaster flush with existing walls, include for new dpc’s and stainless steel wall ties, make good any cavity wall insulation, and remove waste and debris."]
["1027FG","OPENING:BUILD UP EXTERNAL IN FACINGS","BRICKWORK","Brick/Block Walling","Openings - External Door/Window","SM",120.17,{"$f":"SUMIF('Contractor##'!C:C,'Planned Maint v6.2 CSV File'!C:C,'Contractor##'!F:F)","v":-0.27500000000000002},87.123249999999999,"Opening:Build up existing opening for door or window, remove door or window frame, tiled cill, concrete cill, internal lintol, flat brick on edge arch over, build up externally in facing bricks to match existing, matching tinted mortar and pointed as existing, allow for cutting, toothing and bonding into existing reveals, block up internally with 100mm blockwork finished with 2 coats of plaster flush with existing walls, include for new dpc’s and stainless steel wall ties, make good any cavity wall insulation, and remove waste and debris."]
["1028AA","CAVITY:INSTALL 50MM CLOSER","BRICKWORK","Brick/Block Walling","Cavity Closers","LM",7.69,{"$f":"SUMIF('Contractor##'!C:C,'Planned Maint v6.2 CSV File'!C:C,'Contractor##'!F:F)","v":-0.27500000000000002},5.5752500000000005,"Cavity:Install thermabate or other equal and approved insulated vertical or horizontal cavity closers to 50mm cavity, fixing to masonry with PVCu ties at 225mm centres."]
["1028AB","CAVITY:INSTALL 70MM CLOSER","BRICKWORK","Brick/Block Walling","Cavity Closers","LM",9.5299999999999994,{"$f":"SUMIF('Contractor##'!C:C,'Planned Maint v6.2 CSV File'!C:C,'Contractor##'!F:F)","v":-0.27500000000000002},6.9092499999999992,"Cavity:Install thermabate or other equal and approved insulated vertical or horizontal cavity closers to 70mm cavity, fixing to masonry with PVCu ties at 225mm centres."]
["1029AA","LINTEL:RENEW PCC LINTOL 75X150","BRICKWORK","Brick/Block Walling","Lintols and Arches","LM",59.11,{"$f":"SUMIF('Contractor##'!C:C,'Planned Maint v6.2 CSV File'!C:C,'Contractor##'!F:F)","v":-0.27500000000000002},42.854749999999996,"Lintel:Cut out and remove existing lintol from brick wall, prepare to receive new including all necessary propping and temporary supports, and supply and fix 75x150mm precast concrete lintol reinforced with 2 No. 16mm diameter mild steel bars, bed ends in cement lime mortar (1:1:6), renew dpc and make good brickwork, plasterwork and sealant and or cement fillets, and clear away debris on completion."]
["1029AB","LINTEL:RENEW PCC LINTOL 100X150","BRICKWORK","Brick/Block Walling","Lintols and Arches","LM",76.47,{"$f":"SUMIF('Contractor##'!C:C,'Planned Maint v6.2 CSV File'!C:C,'Contractor##'!F:F)","v":-0.27500000000000002},55.440749999999994,"Lintel:Cut out and remove existing lintol from brick wall, prepare to receive new including all necessary propping and temporary supports, and supply and fix 100x150mm precast concrete lintol reinforced with 2 No. 16mm mild steel bars, bed ends in cement lime mortar (1:1:6), renew dpc and make good brickwork, plasterwork and sealant and or cement fillets and clear away debris on completion."]
["1029AC","LINTEL:RENEW PCC LINTOL 215X150","BRICKWORK","Brick/Block Walling","Lintols and Arches","LM",88.07,{"$f":"SUMIF('Contractor##'!C:C,'Planned Maint v6.2 CSV File'!C:C,'Contractor##'!F:F)","v":-0.27500000000000002},63.850749999999991,"Lintel:Cut out and remove existing lintol from brick wall, prepare to receive new including all necessary propping and temporary supports, and supply and fix 215x150mm precast concrete lintol reinforced with 4 No. 16mm mild steel bars, bed ends in cement lime mortar (1:1:6), renew dpc and make good brickwork, plasterwork and sealant and or cement fillets, clear away debris on completion."]
["1029BA","LINTEL:RENEW WITH CATNIC CN7","BRICKWORK","Brick/Block Walling","Lintols and Arches","LM",108.09,{"$f":"SUMIF('Contractor##'!C:C,'Planned Maint v6.2 CSV File'!C:C,'Contractor##'!F:F)","v":-0.27500000000000002},78.365250000000003,"Lintel:Cut out and remove existing lintol from brick wall, prepare to receive new including all necessary propping and temporary supports, and supply and fix steel Catnic CN7 lintol or other equal and approved including bedding in mortar, fit cavity tray dpc and make good brickwork, blockwork, plasterwork and sealant and or cement fillets, clear away debris on completion."]
["1029BB","LINTEL:RENEW WITH CATNIC CN102","BRICKWORK","Brick/Block Walling","Lintols and Arches","LM",49.67,{"$f":"SUMIF('Contractor##'!C:C,'Planned Maint v6.2 CSV File'!C:C,'Contractor##'!F:F)","v":-0.27500000000000002},36.010750000000002,"Lintel:Cut out and remove existing lintol from brick wall, prepare to receive new including all necessary propping and temporary supports, and supply and fix steel Catnic CN102 lintol or other equal and approved including bedding in mortar, fit cavity tray dpc and make good brickwork, blockwork, plasterwork and sealant and or cement fillets, clear away debris on completion."]
["1029BC","LINTEL:RENEW WITH CATNIC CN71","BRICKWORK","Brick/Block Walling","Lintols and Arches","LM",113.76,{"$f":"SUMIF('Contractor##'!C:C,'Planned Maint v6.2 CSV File'!C:C,'Contractor##'!F:F)","v":-0.27500000000000002},82.475999999999999,"Lintel:Cut out and remove existing lintol from brick wall, prepare to receive new including all necessary propping and temporary supports, and supply and fix steel Catnic CN71 lintol or other equal and approved including bedding in mortar, fit cavity tray dpc and make good brickwork, blockwork, plasterwork and sealant and or cement fillets, clear away debris on completion."]
["1029CA","ARCH:RENEW BRICK ON EDGE","BRICKWORK","Brick/Block Walling","Lintols and Arches","LM",43.84,{"$f":"SUMIF('Contractor##'!C:C,'Planned Maint v6.2 CSV File'!C:C,'Contractor##'!F:F)","v":-0.27500000000000002},31.784000000000002,"Arch:Renew brick on edge arch in facing bricks bedded and pointed in cement lime mortarto match existing,.provide all necesary temporary supports and make good, rebuild as necessary brickwork over arch and renew sealant and or cement mortar fillets, clear away debris on completion."]
["1029CB","ARCH:RENEW BRICK ON END","BRICKWORK","Brick/Block Walling","Lintols and Arches","LM",46.96,{"$f":"SUMIF('Contractor##'!C:C,'Planned Maint v6.2 CSV File'!C:C,'Contractor##'!F:F)","v":-0.27500000000000002},34.045999999999999,"Arch:Renew brick on end arch in facing bricks bedded and pointed in cement lime mortarto match existing,.provide all necesary temporary supports and make good, rebuild as necessary brickwork over arch and renew sealant and or cement mortar fillets, clear away debris on completion."]
["1031AA","CILL:RENEW WITH 2 COURSE QUARRY TILES","BRICKWORK","Brick/Block Walling","Cills and Thresholds","LM",34.090000000000003,{"$f":"SUMIF('Contractor##'!C:C,'Planned Maint v6.2 CSV File'!C:C,'Contractor##'!F:F)","v":-0.27500000000000002},24.715250000000001,"Cill:Renew any cill with quarry tile cill two courses wide including carefully cutting out existing cill and prepare surfaces to receive new tiles, insert new damp proof membrane and bed new tiles in cement mortar to gradient as required, make good all brickwork, blockwork and all finishes disturbed and renew sealant and or cement fillets and remove waste and debris."]
["1031AB","CILL:RENEW SINGLE QUARRY TILE ","BRICKWORK","Brick/Block Walling","Cills and Thresholds","NO",8.5500000000000007,{"$f":"SUMIF('Contractor##'!C:C,'Planned Maint v6.2 CSV File'!C:C,'Contractor##'!F:F)","v":-0.27500000000000002},6.1987500000000004,"Cill:Renew any quarry tile to cill, bed in mortar and point to match existing including clean off and all cutting and all making good and remove waste and debris."]
["1031BA","CILL:MAKE GOOD DAMAGED CONCRETE CILL","BRICKWORK","Brick/Block Walling","Cills and Thresholds","NO",38.74,{"$f":"SUMIF('Contractor##'!C:C,'Planned Maint v6.2 CSV File'!C:C,'Contractor##'!F:F)","v":-0.27500000000000002},28.086500000000001,"Cill:Hack off defective area of concrete cill clean and treat any exposed reinforcement, drill into cill and insert 6mm diameter reinforcing bars at 150mm centres, apply bonding agent and reform cill with fine concrete to match existing profiles including all necessary formwork, make good to structure and all finishes and fillets and remove waste and debris."]
["1031CA","CILL:RENEW PCC CILL","BRICKWORK","Brick/Block Walling","Cills and Thresholds","LM",38.380000000000003,{"$f":"SUMIF('Contractor##'!C:C,'Planned Maint v6.2 CSV File'!C:C,'Contractor##'!F:F)","v":-0.27500000000000002},27.825500000000002,"Cill:Cut out and remove existing cill from brick wall, prepare and lay precast concrete splay rebated twice grooved, finished fair cill with stooled ends reinforced with 2 No. 6mm diameter bars bedded in cement lime mortar (1:1:6) renew dpc and make good brickwork, plasterwork, sealant and or cement fillets and remove waste and debris."]
["1031DA","CILL:REBED BRICK ON EDGE CILL","BRICKWORK","Brick/Block Walling","Cills and Thresholds","LM",21.14,{"$f":"SUMIF('Contractor##'!C:C,'Planned Maint v6.2 CSV File'!C:C,'Contractor##'!F:F)","v":-0.27500000000000002},15.326499999999999,"Cill:Rebed brick on edge cill to one brick wall including take off, clean and rebed and point in mortar to match existing, make good to all finishes and fillets and remove waste and debris."]
["1031DB","CILL:RENEW BRICK ON EDGE CILL","BRICKWORK","Brick/Block Walling","Cills and Thresholds","LM",32.08,{"$f":"SUMIF('Contractor##'!C:C,'Planned Maint v6.2 CSV File'!C:C,'Contractor##'!F:F)","v":-0.27500000000000002},23.257999999999999,"Cill:Renew brick on edge cill to one brick wall including take out existing bricks, prepare and insert new dpc, supply and lay new bricks to match existing bedded and pointed in cement lime mortar (1:1:6) and make good all brickwork, plasterwork, sealant and or cement fillets and remove waste and debris."]
["1031DC","CILL:REBED BRICK ON END CILL","BRICKWORK","Brick/Block Walling","Cills and Thresholds","LM",19.579999999999998,{"$f":"SUMIF('Contractor##'!C:C,'Planned Maint v6.2 CSV File'!C:C,'Contractor##'!F:F)","v":-0.27500000000000002},14.195499999999999,"Cill:Rebed brick on end soldier course to half brick wall including take off, clean and rebed and point in mortar to match existing, make good to all finishes and fillets and remove waste and debris."]
["1031DD","CILL:RENEW BRICK ON END CILL","BRICKWORK","Brick/Block Walling","Cills and Thresholds","LM",30.52,{"$f":"SUMIF('Contractor##'!C:C,'Planned Maint v6.2 CSV File'!C:C,'Contractor##'!F:F)","v":-0.27500000000000002},22.126999999999999,"Cill:Renew brick on end soldier course half brick wall incl.take out existing bricks, prepare and insert dpc, supply and lay new bricks to match existing bedded and pointed in cement lime mortar (1:1:6) and make good all brickwork, plasterwork, sealant and or cement fillets and remove waste and debris."]
["1031DE","CILL:REBED INDIVIDUAL BRICK TO CILL","BRICKWORK","Brick/Block Walling","Cills and Thresholds","NO",2.97,{"$f":"SUMIF('Contractor##'!C:C,'Planned Maint v6.2 CSV File'!C:C,'Contractor##'!F:F)","v":-0.27500000000000002},2.1532499999999999,"Cill:Rebed individual brick to any type of brick cill including take off, clean and rebed and point in mortar to match existing and make good to all finishes and fillets, and remove waste and debris."]
["1031EA","THRESHOLD:RENEW WITH PCC","BRICKWORK","Brick/Block Walling","Cills and Thresholds","LM",33.15,{"$f":"SUMIF('Contractor##'!C:C,'Planned Maint v6.2 CSV File'!C:C,'Contractor##'!F:F)","v":-0.27500000000000002},24.033749999999998,"Threshold:Break out existing threshold and renew with precast concrete threshold size ne 80x140mm with water bar, finished fair on exposed faces and reinforced for handling as necessary and bedded and jointed in cement lime mortar (1:1:6), and clear away debris on completion."]
["1031FA","THRESHOLD:RENEW WITH INSITU CONCRETE","BRICKWORK","Brick/Block Walling","Cills and Thresholds","LM",44.57,{"$f":"SUMIF('Contractor##'!C:C,'Planned Maint v6.2 CSV File'!C:C,'Contractor##'!F:F)","v":-0.27500000000000002},32.313249999999996,"Threshold:Break out existing threshold and renew with insitu concrete (1:2:4), threshold ne 80x140mm with water bar, including fix and strike formwork and finished fair on exposed faces and make good all work disturbed, and clear away debris on completion."]
["1033AA","COPING:REBED BRICK ON EDGE COPING","BRICKWORK","Brick/Block Walling","Copings","LM",21.14,{"$f":"SUMIF('Contractor##'!C:C,'Planned Maint v6.2 CSV File'!C:C,'Contractor##'!F:F)","v":-0.27500000000000002},15.326499999999999,"Coping:Take off brick coping to one brick wall, clean mortar from bricks and top of wall, clear away rubble, and rebed bricks in cement lime mortar (1:1:6) and point to match existing and remove waste and debris."]
["1033BA","COPING:LAY NEW BRICK ON EDGE COPING","BRICKWORK","Brick/Block Walling","Copings","LM",21.84,{"$f":"SUMIF('Contractor##'!C:C,'Planned Maint v6.2 CSV File'!C:C,'Contractor##'!F:F)","v":-0.27500000000000002},15.834,"Coping:Supply and lay facing bricks in brick-on- edge coping to one brick wall in cement lime mortar (1:1:6), and point as the work proceeds."]
["1033CA","COPING:REBED PCC COPING","BRICKWORK","Brick/Block Walling","Copings","LM",6.04,{"$f":"SUMIF('Contractor##'!C:C,'Planned Maint v6.2 CSV File'!C:C,'Contractor##'!F:F)","v":-0.27500000000000002},4.3789999999999996,"Coping:Take off precast coping ne 300mm wide, clean mortar from top of wall and coping, bed and point in cement lime mortar (1:1:6) with bonding agent and remove waste and debris."]
["1033CB","COPING/FIREWALL:REMOVE AND REFIX","BRICKWORK","Brick/Block Walling","Copings","LM",9.7899999999999991,{"$f":"SUMIF('Contractor##'!C:C,'Planned Maint v6.2 CSV File'!C:C,'Contractor##'!F:F)","v":-0.27500000000000002},7.0977499999999996,"Coping/Firewall:Take off precast coping ne 300mm wide, clean mortar from top of wall and coping, bed and point in cement mortar (1:3) with bonding agent to firewall and remove waste and debris."]
["1033CC","COPING:LAY NEW PCC COPING","BRICKWORK","Brick/Block Walling","Copings","LM",14.27,{"$f":"SUMIF('Contractor##'!C:C,'Planned Maint v6.2 CSV File'!C:C,'Contractor##'!F:F)","v":-0.27500000000000002},10.345749999999999,"Coping:Supply and lay new precast concrete coping ne 300mm wide in section to match existing, bedded and pointed in cement lime mortar (1:1:6) with bonding agent."]
["1033CD","COPING/FIREWALL:RENEW PCC COPING","BRICKWORK","Brick/Block Walling","Copings","LM",17.39,{"$f":"SUMIF('Contractor##'!C:C,'Planned Maint v6.2 CSV File'!C:C,'Contractor##'!F:F)","v":-0.27500000000000002},12.607749999999999,"Coping/Firewall:Supply and lay new precast concrete coping ne 300mm wide in section to match existing bedded and pointed in cement mortar (1:3) with bonding agent to firewall and remove waste and debris."]
["1033DA","COPING:RENEW TILE CREASING","BRICKWORK","Brick/Block Walling","Copings","LM",10.039999999999999,{"$f":"SUMIF('Contractor##'!C:C,'Planned Maint v6.2 CSV File'!C:C,'Contractor##'!F:F)","v":-0.27500000000000002},7.278999999999999,"Coping:Renew any single tile creasing to wall in conjunction with coping renewal including clean off, lay, bed and point in cement lime mortar (1:1:6) to match existing and remove waste and debris."]
["1033DB","COPING:RENEW 2 ROW TILE CREASING","BRICKWORK","Brick/Block Walling","Copings","LM",21.65,{"$f":"SUMIF('Contractor##'!C:C,'Planned Maint v6.2 CSV File'!C:C,'Contractor##'!F:F)","v":-0.27500000000000002},15.696249999999999,"Coping:Renew any double tile creasing to wall in conjunction with coping renewal including clean off, lay, bed and point in cement lime mortar (1:1:6) to match existing and remove waste and debris."]
["1100AA","DPC:INSTALL NEW CAVITY TRAY DPC","BRICKWORK","Brick/Block Walling","Damp Proof Courses","LM",33.99,{"$f":"SUMIF('Contractor##'!C:C,'Planned Maint v6.2 CSV File'!C:C,'Contractor##'!F:F)","v":-0.27500000000000002},24.642749999999999,"DPC:Cut out three courses of brickwork to external skin, chase internal skin, supply and lay new polypropylene base cavity tray, relay three courses of brick in cement lime mortar (1:1:6) and treat with waterproof solution and remove waste and debris."]
["1100AB","DPC:INSERT DPC IN EXTERNAL WALL 11.5CM","BRICKWORK","Brick/Block Walling","Damp Proof Courses","LM",24.43,{"$f":"SUMIF('Contractor##'!C:C,'Planned Maint v6.2 CSV File'!C:C,'Contractor##'!F:F)","v":-0.27500000000000002},17.711749999999999,"Wall 11.5cm:Cut out brickwork externally, supply and insert new polypropylene base dpc, relay and make good brickwork in mortar (1:3) and make good all finishes, and remove waste and debris."]
["1100AC","DPC:INSERT DPC IN EXTERNAL WALL 17.5CM","BRICKWORK","Brick/Block Walling","Damp Proof Courses","LM",28.64,{"$f":"SUMIF('Contractor##'!C:C,'Planned Maint v6.2 CSV File'!C:C,'Contractor##'!F:F)","v":-0.27500000000000002},20.763999999999999,"Wall 17.5cm:Cut out brickwork externally, supply and insert new polypropylene base dpc, relay and make good brickwork in mortar (1:3) and make good all finishes, and remove waste and debris."]
["1100AD","DPC:INSERT DPC IN EXTERNAL WALL OVER 17.5CM","BRICKWORK","Brick/Block Walling","Damp Proof Courses","SM",115.26,{"$f":"SUMIF('Contractor##'!C:C,'Planned Maint v6.2 CSV File'!C:C,'Contractor##'!F:F)","v":-0.27500000000000002},83.563500000000005,"Wall Over 17.5cm:Cut out brickwork externally, supply and insert new polypropylene base dpc, relay and make good brickwork in mortar (1:3) and make good all finishes, and remove waste and debris."]
["1100AE","DPC:INSERT DPC IN INTERNAL WALL 11.5CM","BRICKWORK","Brick/Block Walling","Damp Proof Courses","LM",26.77,{"$f":"SUMIF('Contractor##'!C:C,'Planned Maint v6.2 CSV File'!C:C,'Contractor##'!F:F)","v":-0.27500000000000002},19.408249999999999,"Wall 11.5cm:Cut out brickwork internally, supply and insert new polypropylene base dpc, relay and make good brickwork in mortar (1:3) and make good all finishes, and remove waste and debris."]
["1100AF","DPC:INSERT DPC IN INTERNAL WALL 17.5CM","BRICKWORK","Brick/Block Walling","Damp Proof Courses","LM",31.99,{"$f":"SUMIF('Contractor##'!C:C,'Planned Maint v6.2 CSV File'!C:C,'Contractor##'!F:F)","v":-0.27500000000000002},23.192749999999997,"Wall 17.5cm:Cut out brickwork internally, supply and insert new polypropylene base dpc, relay and make good brickwork in mortar (1:3) and make good all finishes, and remove waste and debris."]
["1100AG","DPC:INSERT DPC IN INTERNAL WALL OVER 17.5CM","BRICKWORK","Brick/Block Walling","Damp Proof Courses","SM",129.01,{"$f":"SUMIF('Contractor##'!C:C,'Planned Maint v6.2 CSV File'!C:C,'Contractor##'!F:F)","v":-0.27500000000000002},93.532249999999991,"Wall Over 17.5cm:Cut out brickwork internally, supply and insert new polypropylene base dpc, relay and make good brickwork in mortar (1:3) and make good all finishes, and remove waste and debris."]
["1100AH","DPC:INSTALL PROPRIETARY CAVITY TRAY DPC","BRICKWORK","Brick/Block Walling","Damp Proof Courses","LM",56.04,{"$f":"SUMIF('Contractor##'!C:C,'Planned Maint v6.2 CSV File'!C:C,'Contractor##'!F:F)","v":-0.27500000000000002},40.628999999999998,"DPC:Cut out external skin of brick/block/stone/reconstructed stone wall, chase internal skin, supply and build in proprietary cavity tray, relay brick/block/stone/reconstructed stone in cement lime mortar (1:1:6) including providing any additional facing material and point to match existing, treat with waterproof solution and remove waste and debris."]
["1100BA","DPC:INSTAL NEW CAVITY TRAY DPC","BRICKWORK","Brick/Block Walling","Damp Proof Courses","LM",68.400000000000006,{"$f":"SUMIF('Contractor##'!C:C,'Planned Maint v6.2 CSV File'!C:C,'Contractor##'!F:F)","v":-0.27500000000000002},49.59,"DPC:Cut out external skin of brick/block/stone/ reconstructed stone wall, chase internal skin, supply and build in Cavity Tray Ltd’s type C or E cavity tray or or other equal and approved cavity tray, relay brick/block/stone/reconstructed stone in cement lime mortar (1:1:6) including providing any additional facing material and point to match existing, treat with waterproof solution and remove waste and debris."]
["1100BB","DPC:INSTAL NEW CAVITY TRAY DPC/RENDER","BRICKWORK","Brick/Block Walling","Damp Proof Courses","LM",70.2,{"$f":"SUMIF('Contractor##'!C:C,'Planned Maint v6.2 CSV File'!C:C,'Contractor##'!F:F)","v":-0.27500000000000002},50.895000000000003,"DPC:Cut out external skin ofrendered blockwork chase internal skin, supply and build in Catnic Ltd’s cavity tray or other equal and approved cavity tray, relay blockwork in cement lime mortar (1:1:6) re-render wall to match existing, build in approved plastic weep vents and remove waste and debris."]
["1100BC","DPC:INSTAL NEW CAVITY TRAY/APRON","BRICKWORK","Brick/Block Walling","Damp Proof Courses","LM",93.51,{"$f":"SUMIF('Contractor##'!C:C,'Planned Maint v6.2 CSV File'!C:C,'Contractor##'!F:F)","v":-0.27500000000000002},67.794750000000008,"DPC:Cut out external skin ofrendered blockwork chase internal skin, supply and build in Catnic Ltd’s cavity tray with 225mm girth code 5 lead apron or other equal and approved cavity tray, relay blockwork in cement lime mortar (1:1:6), rerender to match existing, build in approved plastic weep vents and remove waste and debris."]
["1100BD","DPC:INSTAL NEW LEAD CAVITY TRAY","BRICKWORK","Brick/Block Walling","Damp Proof Courses","LM",92.62,{"$f":"SUMIF('Contractor##'!C:C,'Planned Maint v6.2 CSV File'!C:C,'Contractor##'!F:F)","v":-0.27500000000000002},67.149500000000003,"DPC:Cut out external skin ofrendered blockwork chase internal skin, supply and build in code 5 lead cavity tray and flashing, relay blockwork in cement lime mortar (1:1:6), rerender to match existing, build in approved plastic weep vents and remove waste and debris."]
["1120AA","WALL 225MM:CHEMICAL INJECTION EXTERNAL DPC","SPECIALIST TREATMENTS","Fungus and Beetle Eradication and DPC Works","Chemical DPC Wall Injection","LM",37.409999999999997,{"$f":"SUMIF('Contractor##'!C:C,'Planned Maint v6.2 CSV File'!C:C,'Contractor##'!F:F)","v":-0.27500000000000002},27.122249999999998,"Wall 225mm:Drill external wall and inject chemical dpc, make good holes, all as specified, and remove waste and debris."]
["1120AC","WALL 338MM:CHEMICAL INJECTION EXTERNAL DPC","SPECIALIST TREATMENTS","Fungus and Beetle Eradication and DPC Works","Chemical DPC Wall Injection","LM",52.78,{"$f":"SUMIF('Contractor##'!C:C,'Planned Maint v6.2 CSV File'!C:C,'Contractor##'!F:F)","v":-0.27500000000000002},38.265500000000003,"Wall 338mm:Drill external wall and inject chemical dpc, make good holes, all as specified, and remove waste and debris."]
["1120AE","WALL 450MM:CHEMICAL INJECTION EXTERNAL DPC","SPECIALIST TREATMENTS","Fungus and Beetle Eradication and DPC Works","Chemical DPC Wall Injection","LM",70.680000000000007,{"$f":"SUMIF('Contractor##'!C:C,'Planned Maint v6.2 CSV File'!C:C,'Contractor##'!F:F)","v":-0.27500000000000002},51.243000000000002,"Wall 450mm:Drill external wall and inject chemical dpc, make good holes, all as specified, and remove waste and debris."]
["1120AG","WALL 563MM:CHEMICAL INJECTION EXTERNAL DPC","SPECIALIST TREATMENTS","Fungus and Beetle Eradication and DPC Works","Chemical DPC Wall Injection","LM",86.38,{"$f":"SUMIF('Contractor##'!C:C,'Planned Maint v6.2 CSV File'!C:C,'Contractor##'!F:F)","v":-0.27500000000000002},62.625499999999995,"Wall 563mm:Drill external wall and inject chemical dpc, make good holes, all as specified, and remove waste and debris."]
["1120AI","WALL 113MM:CHEMICAL INJECTION INTERNAL DPC","SPECIALIST TREATMENTS","Fungus and Beetle Eradication and DPC Works","Chemical DPC Wall Injection","LM",20.2,{"$f":"SUMIF('Contractor##'!C:C,'Planned Maint v6.2 CSV File'!C:C,'Contractor##'!F:F)","v":-0.27500000000000002},14.645,"Wall 113mm:Drill internal wall and inject chemical dpc, make good holes, all as specified, and remove waste and debris."]
["1120AK","WALL 225MM:CHEMICAL INJECTION INTERNAL DPC","SPECIALIST TREATMENTS","Fungus and Beetle Eradication and DPC Works","Chemical DPC Wall Injection","LM",37.409999999999997,{"$f":"SUMIF('Contractor##'!C:C,'Planned Maint v6.2 CSV File'!C:C,'Contractor##'!F:F)","v":-0.27500000000000002},27.122249999999998,"Wall 225mm:Drill internal wall and inject chemical dpc, make good holes, all as specified, and remove waste and debris."]
["1120AM","WALL CAVITY:CHEMICAL INJECT INTERNAL DPC ","SPECIALIST TREATMENTS","Fungus and Beetle Eradication and DPC Works","Chemical DPC Wall Injection","LM",20.2,{"$f":"SUMIF('Contractor##'!C:C,'Planned Maint v6.2 CSV File'!C:C,'Contractor##'!F:F)","v":-0.27500000000000002},14.645,"Wall Cavity:Drill 113mm thick skin of internal wall, inject chemical dpc, make good holes, all as specified, and remove waste and debris."]
["1120AO","WALL 338MM:CHEMICAL INJECTION INTERNAL DPC","SPECIALIST TREATMENTS","Fungus and Beetle Eradication and DPC Works","Chemical DPC Wall Injection","LM",48.09,{"$f":"SUMIF('Contractor##'!C:C,'Planned Maint v6.2 CSV File'!C:C,'Contractor##'!F:F)","v":-0.27500000000000002},34.865250000000003,"Wall 338mm:Drill internal wall and inject chemical dpc, make good holes, all as specified, and remove waste and debris."]
["1120AR","WALL CAVITY:CHEMICAL INJECT 2 SKINS DPC","SPECIALIST TREATMENTS","Fungus and Beetle Eradication and DPC Works","Chemical DPC Wall Injection","LM",46.02,{"$f":"SUMIF('Contractor##'!C:C,'Planned Maint v6.2 CSV File'!C:C,'Contractor##'!F:F)","v":-0.27500000000000002},33.3645,"Wall Cavity:Drill both 113mm thick skins of hollow wall, make good holes, all as specified, and remove waste and debris."]
["1120TA","DWELLING:CHEMICAL DPC INJECT SURVEY","SPECIALIST TREATMENTS","Fungus and Beetle Eradication and DPC Works","Chemical DPC Wall Injection","IT",65,{"$f":"SUMIF('Contractor##'!C:C,'Planned Maint v6.2 CSV File'!C:C,'Contractor##'!F:F)","v":-0.27500000000000002},47.125,"Dwelling:Undertake initial survey and report, mobilise to undertake chemical injection damp proof course treatment, and provide 30 year insurance backed guarantee for chemical injection damp proof course treatment, demobilise, clear away all debris on completion to approved tip (to be ordered additional to codes 1120AA to 1120AR)."]
["1120TB","DWELLING:ROT ERADICATION SURVEY","SPECIALIST TREATMENTS","Fungus and Beetle Eradication and DPC Works","Rot Eradication","IT",65,{"$f":"SUMIF('Contractor##'!C:C,'Planned Maint v6.2 CSV File'!C:C,'Contractor##'!F:F)","v":-0.27500000000000002},47.125,"Dwelling:Undertake initial survey and report, mobilise to undertake rot eradication treatment, and provide 30 year insurance backed guarantee for rot eradication treatment, demobilise, clear away all debris on completion to approved tip."]
["1130AA","WALL:IRRIGATE WITH FUNGICIDE","SPECIALIST TREATMENTS","Fungus and Beetle Eradication and DPC Works","Irrigation of Walls","SM",14.44,{"$f":"SUMIF('Contractor##'!C:C,'Planned Maint v6.2 CSV File'!C:C,'Contractor##'!F:F)","v":-0.27500000000000002},10.468999999999999,"Wall:Drill holes as necessary and pressure inject with approved fungicidal solution all as specified, and remove waste and debris."]
["1140AA","WALL/CEILING:APPLY ANTI-FUNGICIDE","BRICKWORK","Brick/Block Walling","Anti - Fungicide Treatment","SM",2.17,{"$f":"SUMIF('Contractor##'!C:C,'Planned Maint v6.2 CSV File'!C:C,'Contractor##'!F:F)","v":-0.27500000000000002},1.5732499999999998,"Wall/Ceiling:Brush down and apply anti-fungicide solution to walls and ceilings and wash off traces of fungus."]
["1141AA","TANKING:RENEW TO VERTICAL SURFACES NE 1SM","SPECIALIST TREATMENTS","Mastic Asphalt Tanking etc","Mastic Asphalt Tanking Damp Proof Membrane","IT",73.88,{"$f":"SUMIF('Contractor##'!C:C,'Planned Maint v6.2 CSV File'!C:C,'Contractor##'!F:F)","v":-0.27500000000000002},53.562999999999995,"Tanking:Renew asphalt tanking to vertical surfaces, wall ne 1.00sm including removing existing and remove waste and debris, renew including preparing surface and applying asphalt in 3 coats to vertical surfaces, make good, and remove waste and debris."]
["1141AB","TANKING:RENEW TO VERTICAL SURFACES OVER 1SM","SPECIALIST TREATMENTS","Mastic Asphalt Tanking etc","Mastic Asphalt Tanking Damp Proof Membrane","SM",55.13,{"$f":"SUMIF('Contractor##'!C:C,'Planned Maint v6.2 CSV File'!C:C,'Contractor##'!F:F)","v":-0.27500000000000002},{"$f":"(1+H516)*G516","v":39.969250000000002},"Tanking:Renew asphalt tanking to vertical surfaces, wall exceeding 1.00sm including removing existing and remove waste and debris, renew including preparing surface and applying asphalt in 3 coats to vertical surfaces, make good, and remove waste and debris."]
["1141AC","TANKING:RENEW TO HORIZONTAL SURFACES NE 1SM","SPECIALIST TREATMENTS","Mastic Asphalt Tanking etc","Mastic Asphalt Tanking Damp Proof Membrane","IT",45.76,{"$f":"SUMIF('Contractor##'!C:C,'Planned Maint v6.2 CSV File'!C:C,'Contractor##'!F:F)","v":-0.27500000000000002},33.175999999999995,"Tanking:Renew asphalt tanking to horizontal surfaces, wall ne 1.00sm including removing existing and remove waste and debris, renew including preparing surface and applying asphalt in 3 coats to horizontal surfaces, make good, and remove waste and debris."]
["1141AD","TANKING:RENEW TO HORIZONTAL SURFACES OVER 1SM","SPECIALIST TREATMENTS","Mastic Asphalt Tanking etc","Mastic Asphalt Tanking Damp Proof Membrane","SM",36.380000000000003,{"$f":"SUMIF('Contractor##'!C:C,'Planned Maint v6.2 CSV File'!C:C,'Contractor##'!F:F)","v":-0.27500000000000002},26.375500000000002,"Tanking:Renew asphalt tanking to horizontal surfaces, wall exceeding 1.00sm including removing existing and remove waste and debris, renew including preparing surface and applying asphalt in 3 coats to horizontal surfaces, make good, and remove waste and debris."]
["1142AA","WATERPROOFING:BITUMEN VERTICAL SURFACE NE 1SM","BRICKWORK","Waterproofing","Bitumen","IT",16.22,{"$f":"SUMIF('Contractor##'!C:C,'Planned Maint v6.2 CSV File'!C:C,'Contractor##'!F:F)","v":-0.27500000000000002},11.759499999999999,"Waterproofing:Renew bitumen waterproofing to vertical surfaces ne 1.00sm including preparing surfaces, make good all finishes and remove waste and debris."]
["1142AB","WATERPROOFING:BITUMEN VERTICAL SURFACE OVER 1SM","BRICKWORK","Waterproofing","Bitumen","SM",14.66,{"$f":"SUMIF('Contractor##'!C:C,'Planned Maint v6.2 CSV File'!C:C,'Contractor##'!F:F)","v":-0.27500000000000002},10.628499999999999,"Waterproofing:Renew bitumen waterproofing to vertical surfaces exceeding 1.00sm including preparing surfaces, make good all finishes and remove waste and debris."]
["1142AC","WATERPROOFING:BITUMEN HORIZONTAL SURFACE NE 1SM","BRICKWORK","Waterproofing","Bitumen","IT",14.66,{"$f":"SUMIF('Contractor##'!C:C,'Planned Maint v6.2 CSV File'!C:C,'Contractor##'!F:F)","v":-0.27500000000000002},10.628499999999999,"Waterproofing:Renew bitumen waterproofing to horizontal surfaces ne 1.00sm including preparing surfaces, make good all finishes and remove waste and debris."]
["1142AD","WATERPROOFING:BITUMEN HORIZONTAL SURFACE OVER 1SM","BRICKWORK","Waterproofing","Bitumen","SM",13.1,{"$f":"SUMIF('Contractor##'!C:C,'Planned Maint v6.2 CSV File'!C:C,'Contractor##'!F:F)","v":-0.27500000000000002},9.4974999999999987,"Waterproofing:Renew bitumen waterproofing to horizontal surfaces exceeding 1.00sm including preparing surfaces, make good all finishes and remove waste and debris."]
["1143AA","WATERPROOFING:BITUTHENE VERTICAL SURFACE NE 1SM","BRICKWORK","Waterproofing","Bithuthene","IT",24.42,{"$f":"SUMIF('Contractor##'!C:C,'Planned Maint v6.2 CSV File'!C:C,'Contractor##'!F:F)","v":-0.27500000000000002},17.704499999999999,"Waterproofing:Renew bituthene waterproofing to vertical surfaces ne 1.00sm including removing existing and remove waste and debris, renew including preparing surfaces and any necessary fixing including all cutting and making joints, make good all finishes."]
["1143AB","WATERPROOFING:BITUTHENE VERTICAL SURFACE OVER 1SM","BRICKWORK","Waterproofing","Bithuthene","SM",22.85,{"$f":"SUMIF('Contractor##'!C:C,'Planned Maint v6.2 CSV File'!C:C,'Contractor##'!F:F)","v":-0.27500000000000002},16.56625,"Waterproofing:Renew bituthene waterproofing to vertical surfaces exceeding 1.00sm including removing existing and remove waste and debris, renew including preparing surfaces and any necessary fixing including all cutting and making joints, make good all finishes."]
["1143AC","WATERPROOFING:BITUTHENE HORIZONTAL SURFACE NE 1SM","BRICKWORK","Waterproofing","Bithuthene","IT",22.85,{"$f":"SUMIF('Contractor##'!C:C,'Planned Maint v6.2 CSV File'!C:C,'Contractor##'!F:F)","v":-0.27500000000000002},16.56625,"Waterproofing:Renew bituthene waterproofing to horizontal surfaces ne 1.00sm including removing existing and remove waste and debris, renew including preparing surfaces and any necessary fixing including all cutting and making joints, make good all finishes."]
["1143AD","WATERPROOFING:BITUTHENE HORIZONTAL SURFACE OVER 1","BRICKWORK","Waterproofing","Bithuthene","SM",21.29,{"$f":"SUMIF('Contractor##'!C:C,'Planned Maint v6.2 CSV File'!C:C,'Contractor##'!F:F)","v":-0.27500000000000002},15.435249999999998,"Waterproofing:Renew bituthene waterproofing to horizontal surfaces exceeding 1.00sm including removing existing and remove waste and debris, renew including preparing surfaces and any necessary fixing including all cutting and making joints, make good all finishes."]
["1150AA","AIRBRICK:RENEW WITH PVC","BRICKWORK","Airbricks and Vents","Airbricks","NO",10.17,{"$f":"SUMIF('Contractor##'!C:C,'Planned Maint v6.2 CSV File'!C:C,'Contractor##'!F:F)","v":-0.27500000000000002},7.3732499999999996,"Airbrick:Cut out existing airbrick and renew with 225x150mm PVC ventilator, bed and point in cement lime mortar (1:1:6), make good any finishes, and remove waste and debris."]
["1150AB","AIRBRICK:INSTALL NEW PVC VENT","BRICKWORK","Airbricks and Vents","Airbricks","NO",40.71,{"$f":"SUMIF('Contractor##'!C:C,'Planned Maint v6.2 CSV File'!C:C,'Contractor##'!F:F)","v":-0.27500000000000002},29.514749999999999,"Airbrick:Cut or form opening in wall and insert 225x150mm PVC ventilator, bed and point in cement lime mortar (1:1:6), insert cavity lining and internal vent with flyscreen,.make good finishes internally and externally, and remove waste and debris."]
["1150BA","AIRBRICK:RENEW CLAY OR CONCRETE VENT","BRICKWORK","Airbricks and Vents","Airbricks","NO",11.17,{"$f":"SUMIF('Contractor##'!C:C,'Planned Maint v6.2 CSV File'!C:C,'Contractor##'!F:F)","v":-0.27500000000000002},8.0982500000000002,"Airbrick:Cut out existing airbrick and renew with 225x150mm clay/concrete ventilator, bed and point in cement lime mortar (1:1:6), make good any finishes, and remove waste and debris."]
["1150BB","AIRBRICK:INSTALL NEW CLAY OR CONCRETE VENT","BRICKWORK","Airbricks and Vents","Airbricks","NO",41.59,{"$f":"SUMIF('Contractor##'!C:C,'Planned Maint v6.2 CSV File'!C:C,'Contractor##'!F:F)","v":-0.27500000000000002},30.152750000000001,"Airbrick:Cut or form opening in wall and insert 225x150mm clay/concrete ventilator, bed and point in cement lime mortar (1:1:6), insert cavity lining and internal vent with flyscreen, make good finishes internally and externally, and remove waste and debris."]
["1150BC","AIRBRICK:REBED LOOSE VENT","BRICKWORK","Airbricks and Vents","Airbricks","NO",7.95,{"$f":"SUMIF('Contractor##'!C:C,'Planned Maint v6.2 CSV File'!C:C,'Contractor##'!F:F)","v":-0.27500000000000002},5.7637499999999999,"Vent:Take out loose ventilator or airbrick and rebed and point in cement lime mortar (1:1:6) to match existing."]
["1150CA","VENTILATOR:RENEW PVC OR ALUMINIUM","BRICKWORK","Airbricks and Vents","Ventilators","NO",8.31,{"$f":"SUMIF('Contractor##'!C:C,'Planned Maint v6.2 CSV File'!C:C,'Contractor##'!F:F)","v":-0.27500000000000002},6.02475,"Ventilator:Supply and fix 225x150mm ‘Hit and Miss’ PVC or aluminium ventilator grille fixed to any background including remove any existing ventilator and make good all finishes, and remove waste and debris."]
["1150DA","VENT:INSTALL STADIUM VENT KIT","BRICKWORK","Airbricks and Vents","Ventilators","NO",51.7,{"$f":"SUMIF('Contractor##'!C:C,'Planned Maint v6.2 CSV File'!C:C,'Contractor##'!F:F)","v":-0.27500000000000002},37.482500000000002,"Vent:Supply and install approx. 125mm diameter ‘Stadium’ ventilator kit complete including core drill openings through external/internal cavity walls and install vent kit and sleeving, and make good including all external and internal finishes, and remove waste and debris."]
["1150EA","VENT:INSTALL TUMBLE VENT KIT","BRICKWORK","Airbricks and Vents","Ventilators","NO",40.770000000000003,{"$f":"SUMIF('Contractor##'!C:C,'Planned Maint v6.2 CSV File'!C:C,'Contractor##'!F:F)","v":-0.27500000000000002},29.558250000000001,"Vent:Supply and install approx. 100mm diameter tumble drier vent kit complete including 3 metre length of 100mm flexible PVC ducting, including cutting openings through external/internal walls, install kit complete and make good all finishes, and remove waste and debris."]
["1150XA","VENT:INSTALL PROPRIETARY VENT KIT","BRICKWORK","Airbricks and Vents","Ventilators","NO",66.78,{"$f":"SUMIF('Contractor##'!C:C,'Planned Maint v6.2 CSV File'!C:C,'Contractor##'!F:F)","v":-0.27500000000000002},48.415500000000002,"Vent:Supply and install approx. 125mm diameter proprietary ventilator kit complete including core drill openings through external/internal cavity walls and install vent kit and sleeving, and make good including all external and internal finishes, and remove waste and debris."]
["1200AA","CHIMNEY:REBUILD 4 COURSE 1 FLUE","BRICKWORK","Chimneys","Chimney Stacks","IT",110.67,{"$f":"SUMIF('Contractor##'!C:C,'Planned Maint v6.2 CSV File'!C:C,'Contractor##'!F:F)","v":-0.27500000000000002},80.235749999999996,"Chimney:Take down and rebuild four courses to single flue stack, clean and store bricks, rebuild with existing bricks in mortar including provision of any extra bricks to match where existing are defective, allow for forming corbel courses and parging flue, refix or renew pots, flue liners, pcc capping, lead flashings and dpc and point, make good applied finishes to match existing, and remove waste and debris."]
["1200AB","CHIMNEY:REBUILD 1 COURSE 1 FLUE","BRICKWORK","Chimneys","Chimney Stacks","IT",12.62,{"$f":"SUMIF('Contractor##'!C:C,'Planned Maint v6.2 CSV File'!C:C,'Contractor##'!F:F)","v":-0.27500000000000002},9.1494999999999997,"Chimney:Extra to take down and rebuild single flue stack for each additional course taken down and rebuilt."]
["1200AC","CHIMNEY:REBUILD 4 COURSE 2 FLUE","BRICKWORK","Chimneys","Chimney Stacks","IT",203.05,{"$f":"SUMIF('Contractor##'!C:C,'Planned Maint v6.2 CSV File'!C:C,'Contractor##'!F:F)","v":-0.27500000000000002},147.21125000000001,"Chimney:Take down and rebuild four courses to two flue stack, clean and store bricks, rebuild with existing bricks in mortar including provision of any extra bricks to match where existing are defective, allow for forming corbel courses and parging flue, refix or renew pots, flue liners, pcc capping, lead flashings and dpc and point, make good applied finishes to match existing, and remove waste and debris."]
["1200AD","CHIMNEY:REBUILD 1 COURSE 2 FLUE","BRICKWORK","Chimneys","Chimney Stacks","IT",25.04,{"$f":"SUMIF('Contractor##'!C:C,'Planned Maint v6.2 CSV File'!C:C,'Contractor##'!F:F)","v":-0.27500000000000002},18.154,"Chimney:Extra to take down and rebuild two flue stack for each additional course taken down and rebuilt."]
["1200AE","CHIMNEY:REBUILD 4 COURSE 4 FLUE","BRICKWORK","Chimneys","Chimney Stacks","IT",345.63,{"$f":"SUMIF('Contractor##'!C:C,'Planned Maint v6.2 CSV File'!C:C,'Contractor##'!F:F)","v":-0.27500000000000002},250.58175,"Chimney:Take down and rebuild four courses to four flue stack, clean and store bricks, rebuild with existing bricks in mortar including provision of any extra bricks to match where existing are defective, allow for forming corbel courses and parging flue, refix or renew pots, flue liners, pcc capping, lead flashings and dpc and point, make good applied finishes to match existing, and remove waste and debris."]
["1200AF","CHIMNEY:REBUILD 1 COURSE 4 FLUE","BRICKWORK","Chimneys","Chimney Stacks","IT",42.6,{"$f":"SUMIF('Contractor##'!C:C,'Planned Maint v6.2 CSV File'!C:C,'Contractor##'!F:F)","v":-0.27500000000000002},30.885000000000002,"Chimney:Extra to take down and rebuild four flue stack for each additional course taken down and rebuilt."]
["1200AG","CHIMNEY:REBUILD 4 COURSE 6 FLUE","BRICKWORK","Chimneys","Chimney Stacks","IT",558.83000000000004,{"$f":"SUMIF('Contractor##'!C:C,'Planned Maint v6.2 CSV File'!C:C,'Contractor##'!F:F)","v":-0.27500000000000002},405.15174999999999,"Chimney:Take down and rebuild four courses to six flue stack, clean and store bricks, rebuild with existing bricks in mortar including provision of any extra bricks to match where existing are defective, allow for forming corbel courses and parging flue, refix or renew pots, flue liners, pcc capping, lead flashings and dpc and point, make good applied finishes to match existing, and remove waste and debris."]
["1200AH","CHIMNEY:REBUILD 1 COURSE 6 FLUE","BRICKWORK","Chimneys","Chimney Stacks","IT",57.96,{"$f":"SUMIF('Contractor##'!C:C,'Planned Maint v6.2 CSV File'!C:C,'Contractor##'!F:F)","v":-0.27500000000000002},42.021000000000001,"Chimney:Extra to take down and rebuild six flue stack for each additional course taken down and rebuilt."]
["1200AI","CHIMNEY:REBUILD 4 COURSE 8 FLUE","BRICKWORK","Chimneys","Chimney Stacks","IT",731.98,{"$f":"SUMIF('Contractor##'!C:C,'Planned Maint v6.2 CSV File'!C:C,'Contractor##'!F:F)","v":-0.27500000000000002},530.68550000000005,"Chimney:Take down and rebuild four courses to eight flue stack, clean and store bricks, rebuild with existing bricks in mortar including provision of any extra bricks to match where existing are defective, allow for forming corbel courses and parging flue, refix or renew pots, flue liners, pcc capping, lead flashings and dpc and point, make good applied finishes to match existing, and remove waste and debris."]
["1200AJ","CHIMNEY:REBUILD 1 COURSE 8 FLUE","BRICKWORK","Chimneys","Chimney Stacks","IT",72.709999999999994,{"$f":"SUMIF('Contractor##'!C:C,'Planned Maint v6.2 CSV File'!C:C,'Contractor##'!F:F)","v":-0.27500000000000002},52.714749999999995,"Chimney:Extra to take down and rebuild eight flue stack for each additional course taken down and rebuilt."]
["1200AK","CHIMNEY:DEMOLISH STACK AND MAKE GOOD ROOF","BRICKWORK","Chimneys","Chimney Stacks","IT",226.56,{"$f":"SUMIF('Contractor##'!C:C,'Planned Maint v6.2 CSV File'!C:C,'Contractor##'!F:F)","v":-0.27500000000000002},164.256,"Chimney:Demolish chimney stack including any applied finishes, liners, concrete slabs, pots and haunchings down to below roof level, make good roof where stack removed including cap flues with concrete cover slab, cut into flues and insert 225x225mm airbricks, extend roof covering including felt, battens and timbers as necessary to match existing, and remove waste and debris."]
["1200AL","CHIMNEY:SEAL FLUE","BRICKWORK","Chimneys","Chimney Stacks","IT",49.73,{"$f":"SUMIF('Contractor##'!C:C,'Planned Maint v6.2 CSV File'!C:C,'Contractor##'!F:F)","v":-0.27500000000000002},36.054249999999996,"Chimney:Remove pot and seal flue opening to chimney stack with slates bedded in mortar (1:1:6) cut out and insert air vent in chimney breast, make good all works disturbed and remove waste and debris."]
["1200AM","CHIMNEY:RENEW FACING BRICKS NE 6NO","BRICKWORK","Chimneys","Chimney Stacks","NO",3.67,{"$f":"SUMIF('Contractor##'!C:C,'Planned Maint v6.2 CSV File'!C:C,'Contractor##'!F:F)","v":-0.27500000000000002},2.6607499999999997,"Chimney:Renew facing brick to chimney stack ne 6 No. cut out defective brick, lay new facing brick bedded and pointed in mortar to match existing and remove waste and debris (per brick)."]
["1200AN","CHIMNEY:RENEW BRICKS NE 0.50SM","BRICKWORK","Chimneys","Chimney Stacks","NO",66.790000000000006,{"$f":"SUMIF('Contractor##'!C:C,'Planned Maint v6.2 CSV File'!C:C,'Contractor##'!F:F)","v":-0.27500000000000002},48.422750000000001,"Chimney:Renew facing bricks in chimney stack in area ne 0.50sm, cut out defective bricks, lay new facing bricks bedded and pointed in mortar to match existing and remove waste and debris."]
["1200AO","CHIMNEY:RAKE OUT AND REPOINT STACK","BRICKWORK","Chimneys","Chimney Stacks","SM",22.29,{"$f":"SUMIF('Contractor##'!C:C,'Planned Maint v6.2 CSV File'!C:C,'Contractor##'!F:F)","v":-0.27500000000000002},16.160249999999998,"Chimney:Rake out joints to brickwork to chimney stack, min 12mm, and repoint in cement lime mortar (1:1:6) to match existing and remove waste and debris."]
["1200BA","CHIMNEY:RENEW TWO COAT RENDER TO STACK","BRICKWORK","Chimneys","Chimney Stacks","SM",33.68,{"$f":"SUMIF('Contractor##'!C:C,'Planned Maint v6.2 CSV File'!C:C,'Contractor##'!F:F)","v":-0.27500000000000002},24.417999999999999,"Chimney:Renew any thickness of render to chimney, hack off, rake out, prepare and apply 18mm thick two coats cement and sand render trowelled smooth including all labours, and remove waste and debris."]
["1250AA","CHIMNEY:BALL FLUE AND CLEAR OBSTRUCTION","BRICKWORK","Chimneys","Flue Sundries","IT",27.47,{"$f":"SUMIF('Contractor##'!C:C,'Planned Maint v6.2 CSV File'!C:C,'Contractor##'!F:F)","v":-0.27500000000000002},19.915749999999999,"Chimney:Ball chimney flue, clear obstruction and clean up including all associated work, and remove waste and debris."]
["1250AB","CHIMNEY:BALL FLUE REMOVE COWL","BRICKWORK","Chimneys","Flue Sundries","IT",35.590000000000003,{"$f":"SUMIF('Contractor##'!C:C,'Planned Maint v6.2 CSV File'!C:C,'Contractor##'!F:F)","v":-0.27500000000000002},25.802750000000003,"Chimney:Remove cowl, ball chimney flue, clear obstructions and clean up, refix cowl, including all associated works, and remove waste and debris."]
["1250AC","CHIMNEY:CLEAR BLOCKED FLUE IN ROOF","BRICKWORK","Chimneys","Flue Sundries","IT",79.540000000000006,{"$f":"SUMIF('Contractor##'!C:C,'Planned Maint v6.2 CSV File'!C:C,'Contractor##'!F:F)","v":-0.27500000000000002},57.666500000000006,"Chimney:Clear blockage from flue in roof area, cut into flue, remove blockage, rebuild and make good flue and stack, and remove waste and debris."]
["1250AD","CHIMNEY:CLEAR BLOCK FLUE IN BREAST","BRICKWORK","Chimneys","Flue Sundries","IT",92.35,{"$f":"SUMIF('Contractor##'!C:C,'Planned Maint v6.2 CSV File'!C:C,'Contractor##'!F:F)","v":-0.27500000000000002},66.953749999999999,"Chimney:Clear blockage from flue in chimney breast cut hole in breast and flue, remove blockage, make good to flue, breast and wall finishes, and remove waste and debris."]
["1250AF","CHIMNEY:SMOKE TEST AND REPORT","BRICKWORK","Chimneys","Flue Sundries","IT",17.21,{"$f":"SUMIF('Contractor##'!C:C,'Planned Maint v6.2 CSV File'!C:C,'Contractor##'!F:F)","v":-0.27500000000000002},12.47725,"Chimney:Smoke test flue including all associated work and written report to Client’s Representative."]
["1250AG","CHIMNEY:SWEEP FLUE - REGISTERED","BRICKWORK","Chimneys","Flue Sundries","IT",45.29,{"$f":"SUMIF('Contractor##'!C:C,'Planned Maint v6.2 CSV File'!C:C,'Contractor##'!F:F)","v":-0.27500000000000002},32.835249999999995,"Chimney:Sweep flue, including protect carpets, furniture etc., and remove waste and debris, work to be undertaken by a registered chimney sweep."]
["1300AB","CHIMNEY:RENEW POT NE 900MM HIGH","BRICKWORK","Chimneys","Chimney Pots, Caps, Cowls Etc","NO",127.59,{"$f":"SUMIF('Contractor##'!C:C,'Planned Maint v6.2 CSV File'!C:C,'Contractor##'!F:F)","v":-0.27500000000000002},92.502750000000006,"Chimney:Renew existing pot with any new pot ne 900mm high including clean off, alter existing opening to suit, bed and flaunch in cement mortar (1:3) and remove waste and debris."]
["1300AD","CHIMNEY:RENEW MARCONE NE 990MM","BRICKWORK","Chimneys","Chimney Pots, Caps, Cowls Etc","NO",115.08,{"$f":"SUMIF('Contractor##'!C:C,'Planned Maint v6.2 CSV File'!C:C,'Contractor##'!F:F)","v":-0.27500000000000002},83.432999999999993,"Chimney:Renew existing pot with Marcone Flue terminal ne 990mm high including clean off, alter existing opening to suit, bed and flaunch in cement mortar (1:3) and remove waste and debris."]
["1300BA","CHIMNEY:REBED POT","BRICKWORK","Chimneys","Chimney Pots, Caps, Cowls Etc","NO",15.34,{"$f":"SUMIF('Contractor##'!C:C,'Planned Maint v6.2 CSV File'!C:C,'Contractor##'!F:F)","v":-0.27500000000000002},11.121499999999999,"Chimney:Remove and refix existing pot including clean off pot and flaunching, prepare and rebed in mortar (1:3) and make good flaunching."]
["1300CA","CHIMNEY:INSTALL COLT COWL","BRICKWORK","Chimneys","Chimney Pots, Caps, Cowls Etc","NO",44.51,{"$f":"SUMIF('Contractor##'!C:C,'Planned Maint v6.2 CSV File'!C:C,'Contractor##'!F:F)","v":-0.27500000000000002},32.269749999999995,"Chimney:Supply and fix new Colt type cowl to chimney pot."]
["1300CB","CHIMNEY:INSTALL AEROCOWL TO POT","BRICKWORK","Chimneys","Chimney Pots, Caps, Cowls Etc","NO",71.540000000000006,{"$f":"SUMIF('Contractor##'!C:C,'Planned Maint v6.2 CSV File'!C:C,'Contractor##'!F:F)","v":-0.27500000000000002},51.866500000000002,"Chimney:Supply and fix new 175x150mm diameter Aerocowl to chimney pot."]
["1300DA","CHIMNEY:450MM VENTED CAP TO POT","BRICKWORK","Chimneys","Chimney Pots, Caps, Cowls Etc","NO",34.090000000000003,{"$f":"SUMIF('Contractor##'!C:C,'Planned Maint v6.2 CSV File'!C:C,'Contractor##'!F:F)","v":-0.27500000000000002},24.715250000000001,"Chimney:Supply and fix new terra cotta vented cap 450mm high to chimney pot."]
["1300EA","CHIMNEY:RENEW GC GAS TERMINAL","BRICKWORK","Chimneys","Chimney Pots, Caps, Cowls Etc","NO",48.11,{"$f":"SUMIF('Contractor##'!C:C,'Planned Maint v6.2 CSV File'!C:C,'Contractor##'!F:F)","v":-0.27500000000000002},34.879750000000001,"Chimney:Supply and fix GC Gas terminal including remove old terminal, clean off bed, alter opening to suit and bed and flaunch terminal in mortar (1:3)."]
["1300FA","CHIMNEY:RENEW GALVANISED WIRE BIRDCAGE","BRICKWORK","Chimneys","Chimney Pots, Caps, Cowls Etc","NO",25.27,{"$f":"SUMIF('Contractor##'!C:C,'Planned Maint v6.2 CSV File'!C:C,'Contractor##'!F:F)","v":-0.27500000000000002},18.32075,"Chimney:Renew heavy galvanised wire birdcage to any size chimney pot including removal of old cage"]
["1300GA","CHIMNEY:REMOVE AND REFIX TV AERIAL OR DISH","BRICKWORK","Chimneys","Chimney Pots, Caps, Cowls Etc","NO",14.06,{"$f":"SUMIF('Contractor##'!C:C,'Planned Maint v6.2 CSV File'!C:C,'Contractor##'!F:F)","v":-0.27500000000000002},10.1935,"Chimney:Remove and refix TV aerial or satellite dish to chimney stack including disconnection and later reconnection and testing. (In conjunction with associated chimney works)."]
["1350AA","METER CUPBOARD:RENEW OR SUPPLY AND FIX NEW","BRICKWORK","Meter Cupboards","Gas/Electric Meter Cupboards","NO",54.94,{"$f":"SUMIF('Contractor##'!C:C,'Planned Maint v6.2 CSV File'!C:C,'Contractor##'!F:F)","v":-0.27500000000000002},39.831499999999998,"Meter Cupboard:Renew or fix new approved meter cupboard size 380x825x210mm complete with locking device and all other ironmongery and plug and screw to walls and make good."]
["1350AB","METER CUPBOARD:RENEW DOOR","BRICKWORK","Meter Cupboards","Meter Cupboards","NO",30.57,{"$f":"SUMIF('Contractor##'!C:C,'Planned Maint v6.2 CSV File'!C:C,'Contractor##'!F:F)","v":-0.27500000000000002},22.163249999999998,"Meter Cupboard:Take off existing, and remove waste and debris and renew any type of meter cupboard door to external meter cupboard."]
["1350AC","METER CUPBOARD:RENEW DOOR HINGE","BRICKWORK","Meter Cupboards","Meter Cupboards","NO",4.75,{"$f":"SUMIF('Contractor##'!C:C,'Planned Maint v6.2 CSV File'!C:C,'Contractor##'!F:F)","v":-0.27500000000000002},3.4437500000000001,"Meter Cupboard:Renew hinge to door of any plastic gas or electric meter cupboard."]
["1350AD","METER CUPBOARD:RENEW 3 PORT LOCK","BRICKWORK","Meter Cupboards","Meter Cupboards","NO",14.79,{"$f":"SUMIF('Contractor##'!C:C,'Planned Maint v6.2 CSV File'!C:C,'Contractor##'!F:F)","v":-0.27500000000000002},10.72275,"Meter Cupboard:Renew any three port key type lock to plastic door of gas or electric meter cupboard."]
["1350BA","ELECTRIC METER:BUILD IN CUPBOARD","BRICKWORK","Meter Cupboards","Gas/Electric Meter Cupboards","NO",89.57,{"$f":"SUMIF('Contractor##'!C:C,'Planned Maint v6.2 CSV File'!C:C,'Contractor##'!F:F)","v":-0.27500000000000002},64.938249999999996,"Electric Meter:Build in electricity supply Company’s meter cupboard into outer skin of cavity wall, form opening, cut and pin in Catnic CN35 lintel or other equal and approved lintel, bed in polythene damp proof membrane to rear of box, make good brickwork, and remove waste and debris."]
["1350CA","GAS METER:BUILD IN CUPBOARD","BRICKWORK","Meter Cupboards","Gas/Electric Meter Cupboards","NO",89.57,{"$f":"SUMIF('Contractor##'!C:C,'Planned Maint v6.2 CSV File'!C:C,'Contractor##'!F:F)","v":-0.27500000000000002},64.938249999999996,"Gas Meter:Build in gas supply Company’s meter cupboard into outer skin of cavity wall, form opening, cut and pin in Catnic CN35 lintel or other equal and approved lintel, bed in polythene damp proof membrane to rear of box, make good brickwork, and remove waste and debris."]
["1400AA","FIRE:RENEW COMPLETE","BRICKWORK","Fireplaces","Fire Surrounds and Hearths","NO",323.44,{"$f":"SUMIF('Contractor##'!C:C,'Planned Maint v6.2 CSV File'!C:C,'Contractor##'!F:F)","v":-0.27500000000000002},234.494,"Fire:Take out existing fire surround and hearth complete, clear recess, alter and build in new firebase, fireback and throat unit, prepare for, supply and build in new tiled fireplace surround size not exceeding 1220x900x100mm with opening size 510x575mm and tile returns 50x50x6mm stainless steel angle around opening, 2 No. stainless steel eyes on either side of opening and 1100x500x50mm tiled hearth with tiled return on three sides bedded in cement mortar, make good finishings and remove waste and debris."]
["1400AB","FIRE:RENEW SURROUND","BRICKWORK","Fireplaces","Fire Surrounds and Hearths","NO",117.53,{"$f":"SUMIF('Contractor##'!C:C,'Planned Maint v6.2 CSV File'!C:C,'Contractor##'!F:F)","v":-0.27500000000000002},85.209249999999997,"Fire:Take out fire surround and clear away, prepare for, supply and build in new tiled fire- place surround size not exceeding 1220x900x100mm with opening size 510x575mm, and tile returns 50x 50x6mm stainless steel angle around opening, 2 No. stainless steel eyes on either side of opening, make good all finishings, and remove waste and debris."]
["1400AC","FIRE:RENEW SURROUND AND HEARTH","BRICKWORK","Fireplaces","Fire Surrounds and Hearths","NO",202.37,{"$f":"SUMIF('Contractor##'!C:C,'Planned Maint v6.2 CSV File'!C:C,'Contractor##'!F:F)","v":-0.27500000000000002},146.71825000000001,"Fire:Remove existing and renew tiled fireplace surround and hearth size ne 1200x900x100mm with opening size 510x575mm complete with shelf, bedded in cement lime mortar (1:1:6) make good finishings, and remove waste and debris."]
["1400AD","FIRE:RENEW HEARTH COMPLETE","BRICKWORK","Fireplaces","Fire Surrounds and Hearths","NO",98.65,{"$f":"SUMIF('Contractor##'!C:C,'Planned Maint v6.2 CSV File'!C:C,'Contractor##'!F:F)","v":-0.27500000000000002},71.521249999999995,"Fire:Take out tiled hearth, clear away, prepare for, supply and build in tiled hearth size not exceeding 1220x500x50mm with tiled returns on three sides bedded in cement mortar, make good finishings, and remove waste and debris."]
["1400BA","FIRE:REMOVE FIRE AND SEAL OPENING","BRICKWORK","Fireplaces","Fire Openings Etc","IT",84.96,{"$f":"SUMIF('Contractor##'!C:C,'Planned Maint v6.2 CSV File'!C:C,'Contractor##'!F:F)","v":-0.27500000000000002},61.595999999999997,"Fire:Take out fire, surround and hearth, clear away, seal opening with brickwork or blockwork in mortar (1:1:6), cut tooth and bond to existing brickwork, form opening 150x75mm for and fix plaster vent with flyscreen, render and set wall, including make good floor and skirting, and seal chimney cap, and remove waste and debris."]
["1400XA","FIRE:ADAPT FOR GAS","BRICKWORK","Fireplaces","Adapt for Gas","NO",113.28,{"$f":"SUMIF('Contractor##'!C:C,'Planned Maint v6.2 CSV File'!C:C,'Contractor##'!F:F)","v":-0.27500000000000002},82.128,"Fire:Remove existing fireplace surround and hearth, backboiler and fire, blank off pipework, modify opening to gas regulation standard  to suit any gas fire and backboiler (installed by others) including extending  skirting and make good finishes, size ne 1200x900x 100mm with opening size 510x575mm complete with shelf, bedded in cement lime mortar (1:1:6), make good  finishings and remove waste and debris."]
["1450AA","COOKER:REMOVE COOKER COMPLETE","BRICKWORK","Fireplaces","Cookers [Rayburn or Similar ]","IT",263.51,{"$f":"SUMIF('Contractor##'!C:C,'Planned Maint v6.2 CSV File'!C:C,'Contractor##'!F:F)","v":-0.27500000000000002},191.04474999999999,"Cooker:Drain down system, disconnect cooker, boiler and flue and remove, build up recess with concrete brickwork in cement lime mortar (1:1:6) including supply and build in 750x350x403mm precast concrete throating block with 200mm diameter flue hole and 750x95x150mm precast concrete lintel, make good works disturbed, and remove waste and debris."]
["1460AA","SURFACES:REPAIR CRACKS, CONCRETE NE 5MM","MASONRY","Stoneworks","Stone Repairs","SM",102.67,{"$f":"SUMIF('Contractor##'!C:C,'Planned Maint v6.2 CSV File'!C:C,'Contractor##'!F:F)","v":-0.27500000000000002},{"$f":"(1+H580)*G580","v":74.435749999999999},"Surfaces:Prepare, clean off all dust and debris, fill in or resurface cracks or spalled surfaces of concrete with epoxy mortar in general surfaces of concrete exceeding 300mm wide, repair ne 5mm deep, and remove waste and debris."]
["1460AB","LINTELS:REPAIR CRACKS, CONCRETE NE 5MM","BRICKWORK","Structural Repairs","Concrete Repairs","LM",21.16,{"$f":"SUMIF('Contractor##'!C:C,'Planned Maint v6.2 CSV File'!C:C,'Contractor##'!F:F)","v":-0.27500000000000002},15.340999999999999,"Lintels:Prepare, clean off all dust and debris, fill in or resurface cracks or spalled surfaces of concrete with epoxy mortar in surfaces of lintels, and the like, not exceeding 300mm girth, repair ne 5mm deep, and remove waste and debris."]
["1460AC","CILLS:REPAIR CRACKS, CONCRETE NE 5MM","BRICKWORK","Structural Repairs","Concrete Repairs","LM",21.16,{"$f":"SUMIF('Contractor##'!C:C,'Planned Maint v6.2 CSV File'!C:C,'Contractor##'!F:F)","v":-0.27500000000000002},15.340999999999999,"Cills:Prepare, clean off all dust and debris, fill in or resurface cracks or spalled surfaces of concrete with epoxy mortar in surfaces of cills, not exceeding 300mm girth, repair ne 5mm deep, and remove waste and debris."]
["1460AD","SURFACES:REPAIR CRACKS, CONCRETE NE 10MM","BRICKWORK","Structural Repairs","Concrete Repairs","SM",189.4,{"$f":"SUMIF('Contractor##'!C:C,'Planned Maint v6.2 CSV File'!C:C,'Contractor##'!F:F)","v":-0.27500000000000002},137.315,"Surfaces:Prepare, clean off all dust and debris, fill in or resurface cracks or spalled surfaces of concrete with epoxy mortar in general surfaces of concrete exceeding 300mm wide, repair over 5 and ne 10mm deep, and remove waste and debris."]
["1460AE","LINTELS:REPAIR CRACKS, CONCRETE NE 10MM","BRICKWORK","Structural Repairs","Concrete Repairs","LM",38.25,{"$f":"SUMIF('Contractor##'!C:C,'Planned Maint v6.2 CSV File'!C:C,'Contractor##'!F:F)","v":-0.27500000000000002},27.731249999999999,"Lintels:Prepare, clean off all dust and debris, fill in or resurface cracks or spalled surfaces of concrete with epoxy mortar in surfaces of lintels, and the like, not exceeding 300mm girth, repair over 5 and ne 10mm deep, and remove waste and debris."]
["1460AF","CILLS:REPAIR CRACKS, CONCRETE NE 10MM","BRICKWORK","Structural Repairs","Concrete Repairs","LM",38.25,{"$f":"SUMIF('Contractor##'!C:C,'Planned Maint v6.2 CSV File'!C:C,'Contractor##'!F:F)","v":-0.27500000000000002},27.731249999999999,"Cills:Prepare, clean off all dust and debris, fill in or resurface cracks or spalled surfaces of concrete with epoxy mortar in surfaces of cills, not exceeding 300mm girth, repair over 5 and ne 10mm deep, and remove waste and debris."]
["1460AG","SURFACES:REPAIR CRACKS, CONCRETE NE 15MM","BRICKWORK","Structural Repairs","Concrete Repairs","SM",275.5,{"$f":"SUMIF('Contractor##'!C:C,'Planned Maint v6.2 CSV File'!C:C,'Contractor##'!F:F)","v":-0.27500000000000002},199.73749999999998,"Surfaces:Prepare, clean off all dust and debris, fill in or resurface cracks or spalled surfaces of concrete with epoxy mortar in general surfaces of concrete exceeding 300mm wide, repair over 10 and ne 15mm deep, and remove waste and debris."]
["1460AH","LINTELS:REPAIR CRACKS, CONCRETE NE 15MM","BRICKWORK","Structural Repairs","Concrete Repairs","LM",55.04,{"$f":"SUMIF('Contractor##'!C:C,'Planned Maint v6.2 CSV File'!C:C,'Contractor##'!F:F)","v":-0.27500000000000002},39.903999999999996,"Lintels:Prepare, clean off all dust and debris, fill in or resurface cracks or spalled surfaces of concrete with epoxy mortar in surfaces of lintels, and the like, not exceeding 300mm girth, repair over 10 and ne 15mm deep, and remove waste and debris."]
["1460AI","CILLS:REPAIR CRACKS, CONCRETE NE 15MM","BRICKWORK","Structural Repairs","Concrete Repairs","LM",55.04,{"$f":"SUMIF('Contractor##'!C:C,'Planned Maint v6.2 CSV File'!C:C,'Contractor##'!F:F)","v":-0.27500000000000002},39.903999999999996,"Cills:Prepare, clean off all dust and debris, fill in or resurface cracks or spalled surfaces of concrete with epoxy mortar in surfaces of cills, not exceeding 300mm girth, repair over 10 and ne 15mm deep, and remove waste and debris."]
["1460BA","GUTTER:REPAIR FINLOCK","BRICKWORK","Structural Repairs","Finlock Repairs","LM",7.79,{"$f":"SUMIF('Contractor##'!C:C,'Planned Maint v6.2 CSV File'!C:C,'Contractor##'!F:F)","v":-0.27500000000000002},5.6477500000000003,"Gutter:Repair defective joints to finlock gutter, cut out and repoint, make good, test gutter for leaks, and remove waste and debris."]
["1461AA","SURFACES:REPAIR CRACKS STONEWORK NE 5MM","MASONRY","Stoneworks","Stone Repairs","SM",105.79,{"$f":"SUMIF('Contractor##'!C:C,'Planned Maint v6.2 CSV File'!C:C,'Contractor##'!F:F)","v":-0.27500000000000002},76.697749999999999,"Surfaces:Prepare, clean off all dust and debris, fill in or resurface cracks or spalled surfaces of stone with epoxy mortar in general surfaces of stone exceeding 300mm wide, repair ne 5mm deep, and remove waste and debris."]
["1461AB","LINTELS:REPAIR CRACKS, STONE NE 5MM","MASONRY","Stoneworks","Stone Repairs","LM",21.78,{"$f":"SUMIF('Contractor##'!C:C,'Planned Maint v6.2 CSV File'!C:C,'Contractor##'!F:F)","v":-0.27500000000000002},15.7905,"Lintels:Prepare, clean off all dust and debris, fill in or resurface cracks or spalled surfaces of stone with epoxy mortar in surfaces of lintels, the like, not exceeding 300mm girth, repair ne 5mm deep, and remove waste and debris."]
["1461AC","CILLS:REPAIR CRACKS, SPALLS STONE NE 5MM","MASONRY","Stoneworks","Stone Repairs","LM",21.78,{"$f":"SUMIF('Contractor##'!C:C,'Planned Maint v6.2 CSV File'!C:C,'Contractor##'!F:F)","v":-0.27500000000000002},15.7905,"Cills:Prepare, clean off all dust and debris, fill in or resurface cracks or spalled surfaces of stone with epoxy mortar in surfaces of cills, not exceeding 300mm girth, repair ne 5mm deep, and remove waste and debris."]
["1461AD","SURFACES:REPAIR CRACKS STONEWORK NE 10MM","MASONRY","Stoneworks","Stone Repairs","SM",192.84,{"$f":"SUMIF('Contractor##'!C:C,'Planned Maint v6.2 CSV File'!C:C,'Contractor##'!F:F)","v":-0.27500000000000002},139.809,"Surfaces:Prepare, clean off all dust and debris, fill in or resurface cracks or spalled surfaces of stone with epoxy mortar in general surfaces of stone exceeding 300mm wide, repair over 5 and ne 10mm deep, and remove waste and debris."]
["1461AE","LINTELS:REPAIR CRACKS, STONE NE 10MM","MASONRY","Stoneworks","Stone Repairs","LM",38.880000000000003,{"$f":"SUMIF('Contractor##'!C:C,'Planned Maint v6.2 CSV File'!C:C,'Contractor##'!F:F)","v":-0.27500000000000002},28.188000000000002,"Lintels:Prepare, clean off all dust and debris, fill in or resurface cracks or spalled surfaces of stone with epoxy mortar in surfaces of lintels, the like, not exceeding 300mm girth, repair over 5 and ne 10mm deep, and remove waste and debris."]
["1461AF","CILLS:REPAIR CRACKS, SPALLS STONE NE 10MM","MASONRY","Stoneworks","Stone Repairs","LM",38.880000000000003,{"$f":"SUMIF('Contractor##'!C:C,'Planned Maint v6.2 CSV File'!C:C,'Contractor##'!F:F)","v":-0.27500000000000002},28.188000000000002,"Cills:Prepare, clean off all dust and debris, fill in or resurface cracks or spalled surfaces of stone with epoxy mortar in surfaces of cills, not exceeding 300mm girth, repair over 5 and ne 10mm deep, and remove waste and debris."]
["1461AG","SURFACES:REPAIR CRACKS STONEWORK NE 15MM","MASONRY","Stoneworks","Stone Repairs","SM",279.88,{"$f":"SUMIF('Contractor##'!C:C,'Planned Maint v6.2 CSV File'!C:C,'Contractor##'!F:F)","v":-0.27500000000000002},202.91299999999998,"Surfaces:Prepare, clean off all dust and debris, fill in or resurface cracks or spalled surfaces of stone with epoxy mortar in general surfaces of stone exceeding 300mm wide, repair over 10 and ne 15mm deep, and remove waste and debris."]
["1461AH","LINTELS:REPAIR CRACKS, STONE NE 15MM","MASONRY","Stoneworks","Stone Repairs","LM",55.98,{"$f":"SUMIF('Contractor##'!C:C,'Planned Maint v6.2 CSV File'!C:C,'Contractor##'!F:F)","v":-0.27500000000000002},40.585499999999996,"Lintels:Prepare, clean off all dust and debris, fill in or resurface cracks or spalled surfaces of stone with epoxy mortar in surfaces of lintels, the like, not exceeding 300mm girth, repair over 10 and ne 15mm deep, and remove waste and debris."]
["1461AI","CILLS:REPAIR CRACKS, SPALLS STONE NE 15MM","MASONRY","Stoneworks","Stone Repairs","LM",55.98,{"$f":"SUMIF('Contractor##'!C:C,'Planned Maint v6.2 CSV File'!C:C,'Contractor##'!F:F)","v":-0.27500000000000002},40.585499999999996,"Cills:Prepare, clean off all dust and debris, fill in or resurface cracks or spalled surfaces of stone with epoxy mortar in surfaces of cills, not exceeding 300mm girth, repair over 10 and ne 15mm deep, and remove waste and debris."]
["1462AA","CONCRETE TEST:HAMMER","BRICKWORK","Structural Repairs","Testing","SM",6.25,{"$f":"SUMIF('Contractor##'!C:C,'Planned Maint v6.2 CSV File'!C:C,'Contractor##'!F:F)","v":-0.27500000000000002},4.53125,"Concrete Test:Hammer test all exposed surfaces of external concrete including soffits, edges and the like."]
["1462BA","CONCRETE TEST:COVER METER SURVEY","BRICKWORK","Structural Repairs","Testing","SM",7.81,{"$f":"SUMIF('Contractor##'!C:C,'Planned Maint v6.2 CSV File'!C:C,'Contractor##'!F:F)","v":-0.27500000000000002},5.6622499999999993,"Concrete Test:Cover meter survey test on all exposed surfaces of external concrete soffits."]
["1462CA","CONCRETE TEST:CARBONATION DEPTH TEST","BRICKWORK","Structural Repairs","Testing","SM",7.62,{"$f":"SUMIF('Contractor##'!C:C,'Planned Maint v6.2 CSV File'!C:C,'Contractor##'!F:F)","v":-0.27500000000000002},5.5244999999999997,"Concrete Test:Carbonation depth testing using Phenol Pthalin or other equal and approved spray to broken and exposed surfaces of concrete."]
["1463AA","FAIRING COAT:APPLY 5MM COAT","BRICKWORK","Structural Repairs","Fairing Coat","SM",6.63,{"$f":"SUMIF('Contractor##'!C:C,'Planned Maint v6.2 CSV File'!C:C,'Contractor##'!F:F)","v":-0.27500000000000002},4.8067500000000001,"Fairing Coat:Apply 5mm cementitious fairing coat to fill blow holes and surface imperfections to areas of concrete and rendered soffits, beams, canopies, upstands, columns and walls, and remove waste and debris."]
["1464AA","STONE WALLS:CHEMICAL CLEAN","MASONRY","Stoneworks","Stone Cleaning","SM",10.5,{"$f":"SUMIF('Contractor##'!C:C,'Planned Maint v6.2 CSV File'!C:C,'Contractor##'!F:F)","v":-0.27500000000000002},7.6124999999999998,"Stone Walls:Brush down to remove mould, moss growth algae and lichen and apply an approved chemical cleaning agent, afterwards power wash all surfaces of stonework at a minimum pressure of 1500 psi, but not to exceed 2000 psi."]
["1464AB","STONE CILLS:CHEMICAL CLEAN","MASONRY","Stoneworks","Stone Cleaning","LM",3.5,{"$f":"SUMIF('Contractor##'!C:C,'Planned Maint v6.2 CSV File'!C:C,'Contractor##'!F:F)","v":-0.27500000000000002},2.5375000000000001,"Stone Cills:Brush down to remove mould, moss growth algae and lichen and apply an approved chemical cleaning agent, afterwards power wash all surfaces of cills at a minimum pressure of 1500 psi, but not to exceed 2000 psi, brush apply one coat of 'lichenite' solution and one coat of 'haloseal'."]
["1464AC","STONE WALLS:GRIT BLAST","MASONRY","Stoneworks","Stone Cleaning","SM",12,{"$f":"SUMIF('Contractor##'!C:C,'Planned Maint v6.2 CSV File'!C:C,'Contractor##'!F:F)","v":-0.27500000000000002},8.6999999999999993,"Stone Walls:Brush down to remove mould, moss growth algae and lichen and grit blast with the appropriate material and at the appropriate pressure for the type, age and quality of stone work, afterwards power wash all surfaces of stonework at a minimum pressure of 1500 psi, but not to exceed 2000 psi: dispose of all debis."]
["1470AA","CLADDING:INSTAL BRICK SYSTEM","BRICKWORK","External Wall Cladding System","Proprietary Brick System","SM",68.25,{"$f":"SUMIF('Contractor##'!C:C,'Planned Maint v6.2 CSV File'!C:C,'Contractor##'!F:F)","v":-0.27500000000000002},49.481249999999996,"Cladding:Install ‘Eurobrick’ or other equal and approved brick cladding system comprising of 50mm insulation panels with plastic former all plugged and screwed to structure, brick slips fixed to plastic former in accordance with manufacturers instructions, including all corner units, reveals, cills, jointing, soldier courses etc, provide and fit approved plastic sleeves to airbricks, vents as necessary and provide and fit ‘stadium’ or other equal and approved grilles to sleeves, and remove waste and debris."]
["2011AA","TILE:RENEW INTERLOCKING FELT AND BATTENS","ROOFING","Clay/Concrete Roof Tiling","Concrete Interlocking Roof Tiles to Match Existing","SM",57.96,{"$f":"SUMIF('Contractor##'!C:C,'Planned Maint v6.2 CSV File'!C:C,'Contractor##'!F:F)","v":-0.2},46.368000000000002,"Tile:Renew any size and type of concrete interlocking roof tiles including double course at eaves, verges, all labours, cutting etc including renew roofing felt and battens, and remove waste and debris."]
["2011BA","TILE:REFIX INTERLOCKING RENEW FELT BATTENS","ROOFING","Clay/Concrete Roof Tiling","Concrete Interlocking Roof Tiles to Match Existing","SM",44.51,{"$f":"SUMIF('Contractor##'!C:C,'Planned Maint v6.2 CSV File'!C:C,'Contractor##'!F:F)","v":-0.2},35.607999999999997,"Tile:Remove interlocking tiles and carefully stack, renew roofing felt and battens and refix tiles, and remove waste and debris."]
["2011CA","TILE:OVERHAUL INTERLOCKING ROOF COMPLETE","ROOFING","Clay/Concrete Roof Tiling","Concrete Interlocking Roof Tiles to Match Existing","SM",30.56,{"$f":"SUMIF('Contractor##'!C:C,'Planned Maint v6.2 CSV File'!C:C,'Contractor##'!F:F)","v":-0.2},24.448,"Tile:Overhaul interlocking tile roof, refix loose tiles, renew broken or missing tiles to match existing, redress, rewedge and repoint all flashings, aprons, chimney gutters etc, cut out and make good cement weather fillets, repoint in cement mortar (1:3) to all hips, ridges and verges, make good, and remove waste and debris."]
["2011RR","ROOF COVERING:EO FELT + BATTENS CONCRETE INTERLOCK","ROOFING","Clay/Concrete Roof Tiling","Concrete Interlocking Roof Tiles to Match Existing","SM",21.88,{"$f":"SUMIF('Contractor##'!C:C,'Planned Maint v6.2 CSV File'!C:C,'Contractor##'!F:F)","v":-0.2},17.504000000000001,"Roof Covering:Extra over any renewal or refixing of concrete interlocking roof tiles for renew roofing felt and battens."]
["2012AA","TILE:RENEW WITH INTERLOCKING COMPLETE","ROOFING","Clay/Concrete Roof Tiling","Concrete Interlocking Roof Tiles to Match Existing","SM",68.12,{"$f":"SUMIF('Contractor##'!C:C,'Planned Maint v6.2 CSV File'!C:C,'Contractor##'!F:F)","v":-0.2},54.496000000000009,"Tile:Renew any size and type of concrete interlocking roof tiles including double course at eaves, cloaked verges, ridge, hips and valley tiles, supply and install proprietary ventilation units in roof, renew all code 6 lead flashings, aprons, chimney gutters and the like wedged and pointed, renew valley gutter and valley board as necessary including all labours, cutting etc including renew roofing felt and battens, and remove waste and debris."]
["2012AB","TILE:RENEW INTERLOCKING SECRET GUTTER","ROOFING","Clay/Concrete Roof Tiling","Concrete Interlocking Roof Tiles to Match Existing","SM",73.099999999999994,{"$f":"SUMIF('Contractor##'!C:C,'Planned Maint v6.2 CSV File'!C:C,'Contractor##'!F:F)","v":-0.2},58.48,"Tile:Renew any size and type of concrete interlocking roof tiles including double course at eaves, cloaked verges, ridge, hips and valley tiles, supply and install proprietary ventilation units in roof, renew all code 6 lead flashings, aprons, chimney gutters and the like wedged and pointed, renew valley gutter and valley board as necessary including all labours, cutting etc including renew roofing felt and battens, install ‘glidevale’ secret gutter to abutment to adjacent property, and remove waste and debris."]
["2012AC","TILE:RENEW INTERLOCKING RESTRAINTS","ROOFING","Clay/Concrete Roof Tiling","Concrete Interlocking Roof Tiles to Match Existing","SM",72.37,{"$f":"SUMIF('Contractor##'!C:C,'Planned Maint v6.2 CSV File'!C:C,'Contractor##'!F:F)","v":-0.2},57.896000000000008,"Tile:Renew any size and type of concrete interlocking roof tiles including double course at eaves, cloaked verges, ridge, hips and valley tiles, supply and install proprietary ventilation units in roof, renew all code 6 lead flashings, aprons, chimney gutters and the like wedged and pointed, renew valley gutter and valley board as necessary including all labours, cutting all labours, cutting etc including renew roofing felt and battens and install restraint straps to gables and elevational gables, and remove waste and debris."]
["2012AD","TILE:RENEW INTERLOCKING GUTTER RESTRAINTS","ROOFING","Clay/Concrete Roof Tiling","Concrete Interlocking Roof Tiles to Match Existing","SM",77.349999999999994,{"$f":"SUMIF('Contractor##'!C:C,'Planned Maint v6.2 CSV File'!C:C,'Contractor##'!F:F)","v":-0.2},61.879999999999995,"Tile:Renew any size and type of concrete interlocking roof tiles including double course at eaves, cloaked verges, ridge, hips and valley tiles, supply and install proprietary ventilation units in roof, renew all code 6 lead flashings, aprons, chimney gutters and the like wedged and pointed, renew valley gutter and valley board as necessary including all labours, cutting all labours, cutting etc including renew roofing felt and battens and install restraint straps to gables and elevational gables, install ‘glidevale’ secret gutter to abutment to adjacent property, and remove waste and debris."]
["2013AA","TILE:RENEW PLAIN CONCRETE FELT AND BATTENS","ROOFING","Clay/Concrete Roof Tiling","Concrete or Clay Plain Tiles to Match Existing","SM",161.32,{"$f":"SUMIF('Contractor##'!C:C,'Planned Maint v6.2 CSV File'!C:C,'Contractor##'!F:F)","v":-0.2},129.05600000000001,"Tile:Renew any plain concrete roof tiles, including double course at eaves, verges, all labours, cutting etc including renew felt and battens, and remove waste and debris."]
["2013BA","TILE:OVERHAUL CONCRETE PLAIN ROOF COMPLETE","ROOFING","Clay/Concrete Roof Tiling","Concrete or Clay Plain Tiles to Match Existing","SM",30.56,{"$f":"SUMIF('Contractor##'!C:C,'Planned Maint v6.2 CSV File'!C:C,'Contractor##'!F:F)","v":-0.2},24.448,"Tile:Overhaul concrete plain tile roof, refix loose tiles, renew broken or missing tiles to match existing, redress, rewedge and repoint all flashings, aprons, chimney gutters etc, cut out and make good cement weather fillets, repoint in cement mortar (1:3) to all hips, ridges and verges, make good, and remove waste and debris."]
["2013CA","TILE:RENEW PLAIN CLAY FELT AND BATTENS","ROOFING","Clay/Concrete Roof Tiling","Concrete or Clay Plain Tiles to Match Existing","SM",161.32,{"$f":"SUMIF('Contractor##'!C:C,'Planned Maint v6.2 CSV File'!C:C,'Contractor##'!F:F)","v":-0.2},129.05600000000001,"Tile:Renew any plainclay roof tiles, including double course at eaves, verges, all labours, cutting etc including renew felt and battens."]
["2013DA","TILE:REFIX PLAIN CLAY RENEW FELT AND BATTENS","ROOFING","Clay/Concrete Roof Tiling","Concrete or Clay Plain Tiles to Match Existing","SM",108.19,{"$f":"SUMIF('Contractor##'!C:C,'Planned Maint v6.2 CSV File'!C:C,'Contractor##'!F:F)","v":-0.2},86.552000000000007,"Tile:Remove plain tiles and carefully stack, renew roofing felt and battens and refix tiles (exc 10 No. in one location) and cart away debris to tip."]
["2013EA","TILE:OVERHAUL CLAY PLAIN ROOF COMPLETE","ROOFING","Clay/Concrete Roof Tiling","Concrete or Clay Plain Tiles to Match Existing","SM",30.56,{"$f":"SUMIF('Contractor##'!C:C,'Planned Maint v6.2 CSV File'!C:C,'Contractor##'!F:F)","v":-0.2},24.448,"Tile:Overhaul clay plain tile roof, refix loose tiles, renew broken or missing tiles to match existing, redress, rewedge and repoint all flashings, aprons, chimney gutters etc, cut out and make good cement weather fillets, repoint in cement mortar (1:3) to all hips, ridges and verges, make good, clear away debris."]
["2013RR","ROOF COVERING:EO FELT + BATTENS PLAIN CONCRETE","ROOFING","Clay/Concrete Roof Tiling","Concrete Plain Tiles to Match Existing","SM",21.88,{"$f":"SUMIF('Contractor##'!C:C,'Planned Maint v6.2 CSV File'!C:C,'Contractor##'!F:F)","v":-0.2},17.504000000000001,"Roof Covering:Extra over any renewal or refixing of plain concrete roof tiles for renew roofing felt and battens."]
["2013RS","ROOF COVERING:EO FELT + BATTENS PLAIN CLAY","ROOFING","Clay/Concrete Roof Tiling","Concrete Plain Tiles to Match Existing","SM",21.88,{"$f":"SUMIF('Contractor##'!C:C,'Planned Maint v6.2 CSV File'!C:C,'Contractor##'!F:F)","v":-0.2},17.504000000000001,"Roof Covering:Extra over any renewal or refixing of plain clay roof tiles for renew roofing felt and battens."]
["2014AA","TILE:RENEW WITH PLAIN CONCRETE COMPLETE","ROOFING","Clay/Concrete Roof Tiling","Concrete or Clay Plain Tiles to Match Existing","SM",138.11000000000001,{"$f":"SUMIF('Contractor##'!C:C,'Planned Maint v6.2 CSV File'!C:C,'Contractor##'!F:F)","v":-0.2},110.48800000000001,"Tile:Renew any size and type of concrete plain roof tiles including double course at eaves cloaked verges, ridge, hips and valley tiles, supply and install proprietary ventilation units in roof, renew all code 6 lead flashings, aprons chimney gutters and the like wedged and pointed, renew valley gutter and valley board as necessary including all labours, cutting etc including renew roofing felt and battens, and remove waste and debris."]
["2014AB","TILE:RENEW PLAIN CONCRETE WITH SECRET GUTTER","ROOFING","Clay/Concrete Roof Tiling","Concrete or Clay Plain Tiles to Match Existing","SM",143.09,{"$f":"SUMIF('Contractor##'!C:C,'Planned Maint v6.2 CSV File'!C:C,'Contractor##'!F:F)","v":-0.2},114.47200000000001,"Tile:Renew any size and type of concrete plain roof tiles including double course at eaves cloaked verges, ridge, hips and valley tiles, supply and install proprietary ventilation units in roof, renew all code 6 lead flashings, aprons chimney gutters and the like wedged and pointed, renew valley gutter and valley board as necessary including all labours, cutting etc including renew roofing felt and battens, install ‘glidevale’ secret gutter to abutment to adjacent property, and remove waste and debris."]
["2014AC","TILE:RENEW PLAIN CONCRETE WITH RESTRAINTS","ROOFING","Clay/Concrete Roof Tiling","Concrete or Clay Plain Tiles to Match Existing","SM",142.36000000000001,{"$f":"SUMIF('Contractor##'!C:C,'Planned Maint v6.2 CSV File'!C:C,'Contractor##'!F:F)","v":-0.2},113.88800000000002,"Tile:Renew any size and type of concrete plain roof tiles including double course at eaves cloaked verges, ridge, hips and valley tiles, supply and install proprietary ventilation units in roof, renew all code 6 lead flashings, aprons chimney gutters and the like wedged and pointed, renew valley gutter and valley board as necessary including all labours, cutting etc including renew roofing felt and battens and install restraint straps to gables and elevational gables, and remove waste and debris."]
["2014AD","TILE:RENEW PLAIN CONCRETE WITH GUTTER RESTRAINTS","ROOFING","Clay/Concrete Roof Tiling","Concrete or Clay Plain Tiles to Match Existing","SM",147.34,{"$f":"SUMIF('Contractor##'!C:C,'Planned Maint v6.2 CSV File'!C:C,'Contractor##'!F:F)","v":-0.2},117.87200000000001,"Tile:Renew any size and type of concrete plain roof tiles including double course at eaves cloaked verges, ridge, hips and valley tiles, supply and install proprietary ventilation units in roof, renew all code 6 lead flashings, aprons chimney gutters and the like wedged and pointed, renew valley gutter and valley board as necessary including all labours, cutting etc including renew roofing felt and battens and install restraint straps togables and elevational gables, install ‘glidevale’ secret gutter to abutment to adjacent property, and remove waste and debris."]
["2014BA","TILE:RENEW WITH PLAIN CLAY COMPLETE","ROOFING","Clay/Concrete Roof Tiling","Concrete or Clay Plain Tiles to Match Existing","SM",148.59,{"$f":"SUMIF('Contractor##'!C:C,'Planned Maint v6.2 CSV File'!C:C,'Contractor##'!F:F)","v":-0.2},118.87200000000001,"Tile:Renew any size and type of clay plain roof tiles including double course at eaves cloaked verges, ridge, hips and valley tiles, supply and install proprietary ventilation units in roof, renew all code 6 lead flashings, aprons chimney gutters and the like wedged and pointed, renew valley gutter and valley board as necessary including all labours, cutting etc including renew roofing felt and battens, and remove waste and debris."]
["2014BB","TILE:RENEW PLAIN CLAY SECRET GUTTER","ROOFING","Clay/Concrete Roof Tiling","Concrete or Clay Plain Tiles to Match Existing","SM",153.57,{"$f":"SUMIF('Contractor##'!C:C,'Planned Maint v6.2 CSV File'!C:C,'Contractor##'!F:F)","v":-0.2},122.85599999999999,"Tile:Renew any size and type of clay plain roof tiles including double course at eaves cloaked verges, ridge, hips and valley tiles, supply and install proprietary ventilation units in roof, renew all code 6 lead flashings, aprons chimney gutters and the like wedged and pointed, renew valley gutter and valley board as necessary including all labours, cutting etc including renew roofing felt and battens, install ‘glidevale’ secret gutter to abutment to adjacent property, and remove waste and debris."]
["2014BC","TILE:RENEW PLAIN CLAY WITH RESTRAINTS","ROOFING","Clay/Concrete Roof Tiling","Concrete or Clay Plain Tiles to Match Existing","SM",152.84,{"$f":"SUMIF('Contractor##'!C:C,'Planned Maint v6.2 CSV File'!C:C,'Contractor##'!F:F)","v":-0.2},122.27200000000001,"Tile:Renew any size and type of clay plain roof tiles including double course at eaves cloaked verges, ridge, hips and valley tiles, supply and install proprietary ventilation units in roof, renew all code 6 lead flashings, aprons chimney gutters and the like wedged and pointed, renew valley gutter and valley board as necessary including all labours, cutting etc including renew roofing felt and battens and install restraint straps to gables and elevational gables, and remove waste and debris."]
["2014BD","TILE:RENEW PLAIN CLAY WITH GUTTER AND RESTRAINTS","ROOFING","Clay/Concrete Roof Tiling","Concrete or Clay Plain Tiles to Match Existing","SM",157.82,{"$f":"SUMIF('Contractor##'!C:C,'Planned Maint v6.2 CSV File'!C:C,'Contractor##'!F:F)","v":-0.2},126.256,"Tile:Renew any size and type of clay plain roof tiles including double course at eaves cloaked verges, ridge, hips and valley tiles, supply and install proprietary ventilation units in roof, renew all code 6 lead flashings, aprons chimney gutters and the like wedged and pointed, renew valley gutter and valley board as necessary including all labours, cutting etc including renew roofing felt and battens and install restraint straps togables and elevational gables, install ‘glidevale’ secret gutter to abutment to adjacent property, and remove waste and debris."]
["2015AA","VERGE:RAKE OUT AND REPOINT IN MORTAR","ROOFING","Clay/Concrete Roof Tiling","Concrete or Clay Plain Tiles to Match Existing","LM",27.46,{"$f":"SUMIF('Contractor##'!C:C,'Planned Maint v6.2 CSV File'!C:C,'Contractor##'!F:F)","v":-0.2},21.968000000000004,"Verge:Rake out and repoint verge tiles with coloured mortar (1:3) to match existing."]
["2015BA","VERGE:RENEW TILE VERGE","ROOFING","Clay/Concrete Roof Tiling","Concrete or Clay Plain Tiles to Match Existing","LM",35.44,{"$f":"SUMIF('Contractor##'!C:C,'Planned Maint v6.2 CSV File'!C:C,'Contractor##'!F:F)","v":-0.2},28.352,"Verge:Renew verge and undercloak to concrete or clay tiles bedded and pointed in coloured mortar (1:3) including all cutting of tiles and refix or renew stainless steel verge clips and remove waste and debris.."]
["2015CA","VERGE:REMOVE AND REFIX TILE","ROOFING","Clay/Concrete Roof Tiling","Concrete or Clay Plain Tiles to Match Existing","LM",30.55,{"$f":"SUMIF('Contractor##'!C:C,'Planned Maint v6.2 CSV File'!C:C,'Contractor##'!F:F)","v":-0.2},24.44,"Verge:Remove and refix loose verge tiles bedded and pointed in coloured mortar (1:3) including refix or renew stainless steel verge clips as necessary."]
["2015EA","VERGE:REMOVE AND REFIX PLAIN TILE","ROOFING","Clay/Concrete Roof Tiling","Concrete or Clay Plain Tiles to Match Existing","LM",30.05,{"$f":"SUMIF('Contractor##'!C:C,'Planned Maint v6.2 CSV File'!C:C,'Contractor##'!F:F)","v":-0.2},24.040000000000003,"Verge:Remove and refix loose plain verge tiles bedded and pointed in coloured mortar (1:3), including refix/renew stainless steel verge clips."]
["2017AA","RIDGE:RENEW BEDDED RIDGE","ROOFING","Clay/Concrete Roof Tiling","Concrete or Clay Bedded Ridges, Hips and Valley Tiles","LM",67.260000000000005,{"$f":"SUMIF('Contractor##'!C:C,'Planned Maint v6.2 CSV File'!C:C,'Contractor##'!F:F)","v":-0.2},53.808000000000007,"Ridge:Renew half round or angled ridge or hip tiles edge bedded onto roofing tiles with solid bedding at butt joints in coloured mortar (1:3) and remove waste and debris.."]
["2017AC","RIDGE:RENEW MONOPITCH TILES","ROOFING","Clay/Concrete Roof Tiling","Concrete or Clay Bedded Ridges, Hips and Valley Tiles","LM",110.53,{"$f":"SUMIF('Contractor##'!C:C,'Planned Maint v6.2 CSV File'!C:C,'Contractor##'!F:F)","v":-0.2},88.424000000000007,"Ridge:Renew angled monopitch ridge or hip tiles edge bedded onto roofing tiles and with solid bedding at butt joints and mechanically fixed through tile to timber battens, and remove waste and debris."]
["2017BA","RIDGE:REMOVE AND REFIX","ROOFING","Clay/Concrete Roof Tiling","Concrete or Clay Bedded Ridges, Hips and Valley Tiles","LM",54.28,{"$f":"SUMIF('Contractor##'!C:C,'Planned Maint v6.2 CSV File'!C:C,'Contractor##'!F:F)","v":-0.2},43.424000000000007,"Ridge:Remove and refix any loose ridge or hip tiles edge bedded onto roof tiles and with solid bedding at butt joints in coloured mortar (1:3) and mechanically fixed where necessary."]
["2017BB","RIDGE:RAKE OUT AND REPOINT TILES","ROOFING","Clay/Concrete Roof Tiling","Concrete or Clay Bedded Ridges, Hips and Valley Tiles","LM",41.85,{"$f":"SUMIF('Contractor##'!C:C,'Planned Maint v6.2 CSV File'!C:C,'Contractor##'!F:F)","v":-0.2},33.480000000000004,"Ridge:Rake out and repoint ridge, hip or valley with coloured mortar (1:3)."]
["2017CB","RIDGE:RENEW ANY TYPE GAS FLUE TERMINAL TILE","ROOFING","Clay/Concrete Roof Tiling","Concrete or Clay Bedded Ridges, Hips and Valley Tiles","NO",164.66,{"$f":"SUMIF('Contractor##'!C:C,'Planned Maint v6.2 CSV File'!C:C,'Contractor##'!F:F)","v":-0.2},131.72800000000001,"Ridge:Renew any type of gas flue ridge terminal, remove existing, fix new with edges bedded onto roof tiles and with solid bedding at butt joint in coloured mortar (1:3) and remove waste and debris."]
["2017CC","HIP:RENEW BONNET HIP TILES","ROOFING","Clay/Concrete Roof Tiling","Concrete or Clay Bedded Ridges, Hips and Valley Tiles","LM",149.21,{"$f":"SUMIF('Contractor##'!C:C,'Planned Maint v6.2 CSV File'!C:C,'Contractor##'!F:F)","v":-0.2},119.36800000000001,"Hip:Renew bonnet hip tile nailed to hip rafters with 65mm aluminium alloy nails and with mortar bedding (1:3) under each bonnet tile, struck off smoothly at lower edges of hip tile, and remove waste and debris."]
["2017DA","HIP:RENEW GALVANISED HIP IRON","ROOFING","Clay/Concrete Roof Tiling","Concrete or Clay Bedded Ridges, Hips and Valley Tiles","NO",20.170000000000002,{"$f":"SUMIF('Contractor##'!C:C,'Planned Maint v6.2 CSV File'!C:C,'Contractor##'!F:F)","v":-0.2},16.136000000000003,"Hip:Renew galvanised hip iron including remove, rebed and repoint isolated hip tile."]
["2017EA","VALLEY:RENEW VALLEY TILES","ROOFING","Clay/Concrete Roof Tiling","Concrete or Clay Bedded Ridges, Hips and Valley Tiles","LM",104.6,{"$f":"SUMIF('Contractor##'!C:C,'Planned Maint v6.2 CSV File'!C:C,'Contractor##'!F:F)","v":-0.2},83.68,"Valley:Renew any type of valley tile including remove existing tile, lay new tile to bond with existing roof tiles including take up and relay adjacent tilesas necessary, and remove waste and debris."]
["2017EB","VALLEY:RENEW TROUGH VALLEY TILES","ROOFING","Clay/Concrete Roof Tiling","Concrete or Clay Bedded Ridges, Hips and Valley Tiles","LM",150.63999999999999,{"$f":"SUMIF('Contractor##'!C:C,'Planned Maint v6.2 CSV File'!C:C,'Contractor##'!F:F)","v":-0.2},120.512,"Valley:Renew any type of trough valley tile incl. remove existing tile, lay new tile, renew any defective battens, remove and refix tiles, felt etc to either sides of valley and remake mortar bedding, and remove waste and debris."]
["2031AA","SLATE:RENEW FIBRE CEMENT FELT AND BATTENS","ROOFING","Slate Roofing","Fibre Cement Slating","SM",67.77,{"$f":"SUMIF('Contractor##'!C:C,'Planned Maint v6.2 CSV File'!C:C,'Contractor##'!F:F)","v":-0.2},54.216000000000001,"Slate:Renew fibre cement slates to roof including remove existing and fix new with copper nails and disc rivet including double courses at eaves, verges cuttings, all labours, including renew roofing felt and battens, and remove waste and debris."]
["2031BA","SLATE:REFIX FIBRE CEMENT RENEW FELT AND BATTENS ","ROOFING","Slate Roofing","Fibre Cement Slating","SM",39.76,{"$f":"SUMIF('Contractor##'!C:C,'Planned Maint v6.2 CSV File'!C:C,'Contractor##'!F:F)","v":-0.2},{"$f":"(1+H644)*G644","v":31.808},"Slate:Remove fibre cement slates and carefully stack, renew roofing felt and battens and refix slates with copper nails and disc rivet, and remove waste and debris."]
["2031CA","SLATE:OVERHAUL FIBRE CEMENT ROOF COMPLETE","ROOFING","Slate Roofing","Fibre Cement Slating","SM",30.56,{"$f":"SUMIF('Contractor##'!C:C,'Planned Maint v6.2 CSV File'!C:C,'Contractor##'!F:F)","v":-0.2},24.448,"Slate:Overhaul fibre cement slate roof, refix loose slates, renew broken or missing slates to match existing, redress, rewedge and repoint all flashings, aprons, chimney gutters etc, cut out and make good cement weather fillets, repoint in cement mortar (1:3) to all hips, ridges and verges, make good, and remove waste and debris."]
["2031RR","ROOF COVERING:EO FELT + BATTENS FIBRE CEMENT SLATE","ROOFING","Slate Roofing","Fibre Cement Slating","SM",21.88,{"$f":"SUMIF('Contractor##'!C:C,'Planned Maint v6.2 CSV File'!C:C,'Contractor##'!F:F)","v":-0.2},17.504000000000001,"Roof Covering:Extra over any renewal or refixing of fibre cement slates for renew roofing felt and battens."]
["2032AA","SLATE:RENEW WITH FIBRE CEMENT COMPLETE","ROOFING","Slate Roofing","Fibre Cement Slating","SM",77.069999999999993,{"$f":"SUMIF('Contractor##'!C:C,'Planned Maint v6.2 CSV File'!C:C,'Contractor##'!F:F)","v":-0.2},61.655999999999999,"Slate:Renew any size and type of fibre cement roof slates including double course at eaves cloaked verges, ridge, hips and valley tiles, supply and install proprietary ventilation units in roof, renew all code 6 lead flashings, aprons chimney gutters and the like wedged and pointed, renew valley gutter and valley board as necessary including all labours, cutting etc including renew roofing felt and battens, and remove waste and debris."]
["2032AB","SLATE:RENEW FIBRE CEMENT AND SECRET GUTTER","ROOFING","Slate Roofing","Fibre Cement Slating","SM",82.06,{"$f":"SUMIF('Contractor##'!C:C,'Planned Maint v6.2 CSV File'!C:C,'Contractor##'!F:F)","v":-0.2},65.64800000000001,"Slate:Renew any size and type of fibre cement roof slates including double course at eaves cloaked verges, ridge, hips and valley tiles, supply and install proprietary ventilation units in roof, renew all code 6 lead flashings, aprons chimney gutters and the like wedged and pointed, renew valley gutter and valley board as necessary including all labours, cutting etc including renew roofing felt and battens, install ‘glidevale’ secret gutter to abutment to adjacent property, and remove waste and debris."]
["2032AC","SLATE:RENEW FIBRE CEMENT WITH RESTRAINTS","ROOFING","Slate Roofing","Fibre Cement Slating","SM",81.319999999999993,{"$f":"SUMIF('Contractor##'!C:C,'Planned Maint v6.2 CSV File'!C:C,'Contractor##'!F:F)","v":-0.2},65.055999999999997,"Slate:Renew any size and type of fibre cement roof slates including double course at eaves cloaked verges, ridge, hips and valley tiles, supply and install proprietary ventilation units in roof, renew all code 6 lead flashings, aprons chimney gutters and the like wedged and pointed, renew valley gutter and valley board as necessary including all labours, cutting etc including renew roofing felt and battens and install restraint straps to gables and elevational gables, and remove waste and debris."]
["2032AD","SLATE:RENEW FIBRE CEMENT WITH GUTTER RESTRAINTS","ROOFING","Slate Roofing","Fibre Cement Slating","SM",86.3,{"$f":"SUMIF('Contractor##'!C:C,'Planned Maint v6.2 CSV File'!C:C,'Contractor##'!F:F)","v":-0.2},69.040000000000006,"Slate:Renew any size and type of fibre cement roof slates including double course at eaves cloaked verges, ridge, hips and valley tiles, supply and install proprietary ventilation units in roof, renew all code 6 lead flashings, aprons chimney gutters and the like wedged and pointed, renew valley gutter and valley board as necessary including all labours, cutting etc including renew roofing felt and battens and install restraint straps togables and elevational gables, install ‘glidevale’ secret gutter to abutment to adjacent property, and remove waste and debris."]
["2033AA","SLATE:RENEW NATURAL SLATES, FELT AND BATTENS","ROOFING","Slate Roofing","Natural Slating","SM",119.76,{"$f":"SUMIF('Contractor##'!C:C,'Planned Maint v6.2 CSV File'!C:C,'Contractor##'!F:F)","v":-0.2},95.808000000000007,"Slate:Renew any size natural slates to roof fixed with clips or copper nails including double courses at eaves, verges cuttings, all labours renewing roofing felt and battens, and remove waste and debris."]
["2033BA","SLATE:REFIX NATURAL SLATES, RENEW FELT AND BATTENS","ROOFING","Slate Roofing","Natural Slating","SM",48.7,{"$f":"SUMIF('Contractor##'!C:C,'Planned Maint v6.2 CSV File'!C:C,'Contractor##'!F:F)","v":-0.2},38.960000000000008,"Slate:Remove any size natural slates and carefully stack, renew roofing felt and battens and refix slates with clips or copper nails, and remove waste and debris."]
["2033CA","SLATE:OVERHAUL NATURAL SLATE ROOF COMPLETE","ROOFING","Slate Roofing","Natural Slating","SM",30.56,{"$f":"SUMIF('Contractor##'!C:C,'Planned Maint v6.2 CSV File'!C:C,'Contractor##'!F:F)","v":-0.2},24.448,"Slate:Overhaul natural slate roof, refix loose slates, renew broken or missing slates to match existing, redress, rewedge and repoint all flashings, aprons, chimney gutters etc, cut out and make good cement weather fillets, repoint in cement mortar (1:3) to all hips, ridges and verges, make good, and remove waste and debris."]
["2033RR","ROOF COVERING:EO FELT + BATTENS NATURAL SLATE","ROOFING","Slate Roofing","Natural Slating","SM",21.88,{"$f":"SUMIF('Contractor##'!C:C,'Planned Maint v6.2 CSV File'!C:C,'Contractor##'!F:F)","v":-0.2},17.504000000000001,"Roof Covering:Extra over any renewal or refixing of natural slates for renew roofing felt and battens."]
["2034AA","SLATE:RENEW WITH NATURAL SLATE COMPLETE","ROOFING","Slate Roofing","Natural Slating","SM",129.06,{"$f":"SUMIF('Contractor##'!C:C,'Planned Maint v6.2 CSV File'!C:C,'Contractor##'!F:F)","v":-0.2},103.248,"Slate:Renew any size and type of natural roof slates including double course at eaves cloaked verges, ridge, hips and valley tiles, supply and install proprietary ventilation units in roof, renew all code 6 lead flashings, aprons chimney gutters and the like wedged and pointed, renew valley gutter and valley board as necessary including all labours, cutting etc including renew roofing felt and battens, and remove waste and debris."]
["2034AB","SLATE:RENEW NATURAL SLATE AND SECRET GUTTER","ROOFING","Slate Roofing","Natural Slating","SM",134.04,{"$f":"SUMIF('Contractor##'!C:C,'Planned Maint v6.2 CSV File'!C:C,'Contractor##'!F:F)","v":-0.2},107.232,"Slate:Renew any size and type of fibre cement roof slates including double course at eaves cloaked verges, ridge, hips and valley tiles, supply and install proprietary ventilation units in roof, renew all code 6 lead flashings, aprons chimney gutters and the like wedged and pointed, renew valley gutter and valley board as necessary including all labours, cutting etc including renew roofing felt and battens, install ‘glidevale’ secret gutter to abutment to adjacent property, and remove waste and debris."]
["2034AC","SLATE:RENEW NATURAL SLATE AND RESTRAINTS","ROOFING","Slate Roofing","Natural Slating","SM",133.30000000000001,{"$f":"SUMIF('Contractor##'!C:C,'Planned Maint v6.2 CSV File'!C:C,'Contractor##'!F:F)","v":-0.2},106.64000000000001,"Slate:Renew any size and type of natural roof slates including double course at eaves cloaked verges, ridge, hips and valley tiles, supply and install proprietary ventilation units in roof, renew all code 6 lead flashings, aprons chimney gutters and the like wedged and pointed, renew valley gutter and valley board as necessary including all labours, cutting etc including renew roofing felt and battens and install restraint straps to gables and elevational gables, and remove waste and debris."]
["2034AD","SLATE:RENEW NATURAL SLATE WITH GUTTER RESTRAINTS","ROOFING","Slate Roofing","Natural Slating","SM",138.28,{"$f":"SUMIF('Contractor##'!C:C,'Planned Maint v6.2 CSV File'!C:C,'Contractor##'!F:F)","v":-0.2},110.62400000000001,"Slate:Renew any size and type of natural roof slates including double course at eaves cloaked verges, ridge, hips and valley tiles, supply and install proprietary ventilation units in roof, renew all code 6 lead flashings, aprons chimney gutters and the like wedged and pointed, renew valley gutter and valley board as necessary including all labours, cutting etc including renew roofing felt and battens and install restraint straps togables and elevational gables, install ‘glidevale’ secret gutter to abutment to adjacent property, and remove waste and debris."]
["2035AA","RIDGE:RENEW HALF ROUND RIDGE TO SLATING","ROOFING","Slate Roofing","Fibre Cement Slating - Ridge, Verge and Hips Tiles","LM",61.15,{"$f":"SUMIF('Contractor##'!C:C,'Planned Maint v6.2 CSV File'!C:C,'Contractor##'!F:F)","v":-0.2},48.92,"Ridge:Renew half round ridge or hip tile fixed with galvanised steel clips and roofing screws with plastic washers including bedding in mastic as per manufacturers instructions, and remove waste and debris."]
["2035AB","RIDGE:RENEW ROLL TOP TO SLATING","ROOFING","Slate Roofing","Fibre Cement Slating - Ridge, Verge and Hips Tiles","LM",67.47,{"$f":"SUMIF('Contractor##'!C:C,'Planned Maint v6.2 CSV File'!C:C,'Contractor##'!F:F)","v":-0.2},53.975999999999999,"Ridge:Renew roll top ridge or hip tile fixed with galvanised steel clips and roofing screws with plastic washers including bedding in mastic as per manufacturers instructions, and remove waste and debris."]
["2035AC","RIDGE:RENEW DUO-PITCH TO SLATING","ROOFING","Slate Roofing","Fibre Cement Slating - Ridge, Verge and Hips Tiles","LM",109.08,{"$f":"SUMIF('Contractor##'!C:C,'Planned Maint v6.2 CSV File'!C:C,'Contractor##'!F:F)","v":-0.2},87.26400000000001,"Ridge:Renew duo-pitch ridge or hip tile fixed with roofing screws with plastic washers including bedding in mastic as per manufacturers instructions, and remove waste and debris."]
["2035AD","RIDGE:RENEW MONO-PITCH TO SLATING","ROOFING","Slate Roofing","Fibre Cement Slating - Ridge, Verge and Hips Tiles","LM",127.01,{"$f":"SUMIF('Contractor##'!C:C,'Planned Maint v6.2 CSV File'!C:C,'Contractor##'!F:F)","v":-0.2},101.608,"Ridge:Renew mono-pitch ridge or hip tile fixed with roofing screws with plastic washers including bedding in mastic as per manufacturers instructions, and remove waste and debris."]
["2035AE","RIDGE:RENEW GAS VENTILATION TO SLATING","ROOFING","Slate Roofing","Fibre Cement Slating - Ridge, Verge and Hips Tiles","NO",102.5,{"$f":"SUMIF('Contractor##'!C:C,'Planned Maint v6.2 CSV File'!C:C,'Contractor##'!F:F)","v":-0.2},82,"Ridge:Renew duo-pitch gas ventilation ridge, fixed with roofing screws with plastic washers including bedding in mastic as per manufacturers instructions, and remove waste and debris."]
["2035BA","VERGE:RAKE OUT AND REPOINT IN MORTAR TO SLATING","ROOFING","Slate Roofing","Fibre Cement Slating - Ridge, Verge and Hips Tiles","LM",27.46,{"$f":"SUMIF('Contractor##'!C:C,'Planned Maint v6.2 CSV File'!C:C,'Contractor##'!F:F)","v":-0.2},21.968000000000004,"Verge:Rake out and repoint verge slates with coloured mortar (1:3) to match existing, and remove waste and debris."]
["2050AA","TILE:RENEW PLAIN CONCRETE HANGING COMPLETE","ROOFING","Vertical Coverings","Vertical Tile Hanging","SM",104.64,{"$f":"SUMIF('Contractor##'!C:C,'Planned Maint v6.2 CSV File'!C:C,'Contractor##'!F:F)","v":-0.2},83.712000000000003,"Tile:Renew any plain concrete hanging tiles and renew felt and battens, and remove waste and debris."]
["2050AB","TILE:REFIX CONCRETE HANGING RENEW FELT AND BATTENS","ROOFING","Vertical Coverings","Vertical Tile Hanging","SM",57.53,{"$f":"SUMIF('Contractor##'!C:C,'Planned Maint v6.2 CSV File'!C:C,'Contractor##'!F:F)","v":-0.2},46.024000000000001,"Tile:Remove hanging tiles and carefully stack, renew felt and battens and refix tiles, and remove waste and debris."]
["2050AC","TILE:RENEW FEATURE CONCRETE TILE HANGING","ROOFING","Vertical Coverings","Vertical Tile Hanging","NO",14.21,{"$f":"SUMIF('Contractor##'!C:C,'Planned Maint v6.2 CSV File'!C:C,'Contractor##'!F:F)","v":-0.2},11.368000000000002,"Tile:Renew any pattern or feature tile to tile hanging including remove defective tile and fix new, renew felt and battens if necessary, and remove waste and debris."]
["2050AD","TILE:RENEW INTERNAL ANGLE CONCRETE TILE","ROOFING","Vertical Coverings","Vertical Tile Hanging","NO",85.72,{"$f":"SUMIF('Contractor##'!C:C,'Planned Maint v6.2 CSV File'!C:C,'Contractor##'!F:F)","v":-0.2},68.576000000000008,"Tile:Renew internal angle tile to tile hanging including remove tiles as necessary for access, remove defective tile and fix new and reinstate tile hanging, renew felt and battens as necessary, and remove waste and debris."]
["2050AE","TILE:RENEW EXTERNAL ANGLE CONCRETE TILE","ROOFING","Vertical Coverings","Vertical Tile Hanging","NO",76.78,{"$f":"SUMIF('Contractor##'!C:C,'Planned Maint v6.2 CSV File'!C:C,'Contractor##'!F:F)","v":-0.2},61.424000000000007,"Tile:Renew external angle tile to tile hanging including remove defective tile and fix new, and remove waste and debris."]
["2050AF","TILE:OVERHAUL VERTICAL CONCRETE TILING","ROOFING","Vertical Coverings","Vertical Tile Hanging","SM",30.56,{"$f":"SUMIF('Contractor##'!C:C,'Planned Maint v6.2 CSV File'!C:C,'Contractor##'!F:F)","v":-0.2},24.448,"Tile:Overhaul concrete plain vertical tile hanging, refix loose tiles, renew broken or missing tiles to match existing, redress, rewedge and repoint all flashings, aprons, cut out and make good cement weather fillets, repoint in cement mortar (1:3) to all abutments etc., make good, and remove waste and debris."]
["2050BA","TILE:RENEW PLAIN CLAY HANGING COMPLETE","ROOFING","Vertical Coverings","Vertical Tile Hanging","SM",104.64,{"$f":"SUMIF('Contractor##'!C:C,'Planned Maint v6.2 CSV File'!C:C,'Contractor##'!F:F)","v":-0.2},83.712000000000003,"Tile:Renew any plain clay hanging tiles and renew felt and battens, and remove waste and debris."]
["2050BB","TILE:REFIX CLAY HANGING RENEW FELT AND BATTENS","ROOFING","Vertical Coverings","Vertical Tile Hanging","SM",57.53,{"$f":"SUMIF('Contractor##'!C:C,'Planned Maint v6.2 CSV File'!C:C,'Contractor##'!F:F)","v":-0.2},46.024000000000001,"Tile:Remove hanging tiles and carefully stack, renew felt and battens and refix tiles, and remove waste and debris."]
["2050BC","TILE:RENEW FEATURE CLAY TILE HANGING","ROOFING","Vertical Coverings","Vertical Tile Hanging","NO",14.21,{"$f":"SUMIF('Contractor##'!C:C,'Planned Maint v6.2 CSV File'!C:C,'Contractor##'!F:F)","v":-0.2},11.368000000000002,"Tile:Renew any pattern or feature tile to tile hanging including remove defective tile and fix new, renew felt and battens if necessary, and remove waste and debris."]
["2050BD","TILE:RENEW INTERNAL ANGLE CLAY TILE","ROOFING","Vertical Coverings","Vertical Tile Hanging","NO",85.72,{"$f":"SUMIF('Contractor##'!C:C,'Planned Maint v6.2 CSV File'!C:C,'Contractor##'!F:F)","v":-0.2},68.576000000000008,"Tile:Renew internal angle tile to tile hanging including remove tiles as necessary for access, remove defective tile and fix new and reinstate tile hanging, renew felt and battens as necessary, and remove waste and debris."]
["2050BE","TILE:RENEW EXTERNAL ANGLE CLAY TILE","ROOFING","Vertical Coverings","Vertical Tile Hanging","NO",76.78,{"$f":"SUMIF('Contractor##'!C:C,'Planned Maint v6.2 CSV File'!C:C,'Contractor##'!F:F)","v":-0.2},61.424000000000007,"Tile:Renew external angle tile to tile hanging including remove defective tile and fix new, and remove waste and debris."]
["2050BF","TILE:OVERHAUL VERTICAL CLAY TILING","ROOFING","Vertical Coverings","Vertical Tile Hanging","SM",31.81,{"$f":"SUMIF('Contractor##'!C:C,'Planned Maint v6.2 CSV File'!C:C,'Contractor##'!F:F)","v":-0.2},25.448,"Tile:Overhaul clay plain vertical tile hanging, refix loose tiles, renew broken or missing tiles to match existing, redress, rewedge and repoint all flashings, aprons, cut out and make good cement weather fillets, repoint in cement mortar (1:3) to all abutments etc., make good, and remove waste and debris."]
["2050RR","VERTICAL COVERING:EO FELT + BATTENS CLAY TILES","ROOFING","Vertical Coverings","Vertical Tile Hanging","SM",18.899999999999999,{"$f":"SUMIF('Contractor##'!C:C,'Planned Maint v6.2 CSV File'!C:C,'Contractor##'!F:F)","v":-0.2},15.12,"Vertical Covering:Extra over any renewal or refixing of vertical plain clay tiles for renew roofing felt and battens."]
["2070AA","SLATE:RENEW HANGING SLATES OVER 5 NO","ROOFING","Vertical Coverings","Vertical Fibre Cement Slating","SM",58.83,{"$f":"SUMIF('Contractor##'!C:C,'Planned Maint v6.2 CSV File'!C:C,'Contractor##'!F:F)","v":-0.2},47.064,"Slate:Renew fibre cement hanging slates including remove existing and fix new with copper nails and disc rivet or clips and remove waste and debris. (in group over 5 No.)."]
["2070AB","SLATE:REFIX HANGING SLATE OVER 5 NO","ROOFING","Vertical Coverings","Vertical Fibre Cement Slating","SM",39.76,{"$f":"SUMIF('Contractor##'!C:C,'Planned Maint v6.2 CSV File'!C:C,'Contractor##'!F:F)","v":-0.2},31.808,"Slate:Remove and refix loose hanging slates including fixing with copper nails and disc rivet or clips (in group over 5 No)."]
["2070AC","SLATE:REFIX HANGING SLATE NE 5 NO","ROOFING","Vertical Coverings","Vertical Fibre Cement Slating","IT",21.08,{"$f":"SUMIF('Contractor##'!C:C,'Planned Maint v6.2 CSV File'!C:C,'Contractor##'!F:F)","v":-0.2},16.864000000000001,"Slate:Remove and refix loose hanging slate including fixing with new copper nails and disc rivet or clips, renew defective felt and battens as necessary (in group ne 5 No.)."]
["2070BA","SLATE:OVERHAUL VERTICAL SLATING","ROOFING","Vertical Coverings","Vertical Fibre Cement Slating","SM",31.81,{"$f":"SUMIF('Contractor##'!C:C,'Planned Maint v6.2 CSV File'!C:C,'Contractor##'!F:F)","v":-0.2},25.448,"Slate:Overhaul fibre cement vertical slate hanging, refix loose slates, renew broken or missing slates to match existing, redress, rewedge and repoint all flashings, aprons, cut out and make good cement weather fillets, repoint in cement mortar (1:3) to all abutments etc., make good, and remove waste and debris."]
["2070CA","SLATE:RENEW HANGING SLATE NE 5 NO","ROOFING","Vertical Coverings","Vertical Fibre Cement Slating","IT",27.59,{"$f":"SUMIF('Contractor##'!C:C,'Planned Maint v6.2 CSV File'!C:C,'Contractor##'!F:F)","v":-0.2},22.072000000000003,"Slate:Renew fibre cement hanging slate including take out defective slate and fix new with copper nails, disc rivet or clips including renew defective battens and felt as necessary and remove waste and debris. (in group ne 5 No.)."]
["2070RR","VERTICAL COVERING:EO FELT + BATTENS SLATES","ROOFING","Vertical Coverings","Vertical Fibre Cement Slating","SM",18.899999999999999,{"$f":"SUMIF('Contractor##'!C:C,'Planned Maint v6.2 CSV File'!C:C,'Contractor##'!F:F)","v":-0.2},15.12,"Vertical Covering:Extra over any renewal or refixing of roof slates for renew roofing felt and battens."]
["2090AC","VERGE:RENEW DRY OR CLOAKED VERGE COMPLETE","ROOFING","Clay/Concrete Roof Tiling","Dry Verge, Ridge and Hip Tiles","LM",28,{"$f":"SUMIF('Contractor##'!C:C,'Planned Maint v6.2 CSV File'!C:C,'Contractor##'!F:F)","v":-0.2},22.400000000000002,"Verge:Renew cloaked verge complete including remove tiles as necessary, remove existing and fix new cloaked verge and half tile if necessary, refix tiles and make good, and remove waste and debris."]
["2090AD","VERGE:REFIX DRY OR CLOAKED VERGE COMPLETE","ROOFING","Clay/Concrete Roof Tiling","Dry Verge, Ridge and Hip Tiles","LM",18.190000000000001,{"$f":"SUMIF('Contractor##'!C:C,'Planned Maint v6.2 CSV File'!C:C,'Contractor##'!F:F)","v":-0.2},14.552000000000001,"Verge:Refix cloaked verge complete including remove tiles as necessary, remove existing and fix new cloaked verge and half tile if necessary, refix tiles and make good."]
["2090AE","RIDGE:RENEW DRY RIDGE TILES","ROOFING","Clay/Concrete Roof Tiling","Dry Verge, Ridge and Hip Tiles","LM",52.72,{"$f":"SUMIF('Contractor##'!C:C,'Planned Maint v6.2 CSV File'!C:C,'Contractor##'!F:F)","v":-0.2},42.176000000000002,"Ridge:Renew any type of dry ridge tile including remove existing, renew filler units to both sides of ridge and fix new dry ridge tile with aluminium alloy nails with integral washers to ridge board including ridge to ridge sealing pieces and blocked end ridge tiles where necessary, and remove waste and debris."]
["2090BA","RIDGE:RENEW DRY RIDGE GAS FLUE TERMINAL","ROOFING","Clay/Concrete Roof Tiling","Dry Verge, Ridge and Hip Tiles","NO",133.47,{"$f":"SUMIF('Contractor##'!C:C,'Planned Maint v6.2 CSV File'!C:C,'Contractor##'!F:F)","v":-0.2},106.77600000000001,"Ridge:Renew Gas Flue Ridge Terminal to any dry ridge system including remove existing and fix new with stainless steel nailswith neoprene washers to ridge including renew profile filler units."]
["2110AA","VENT:RENEW VENT ROOF TILE UNIT","ROOFING","Clay/Concrete Roof Tiling","Roof Ventilation","NO",47.13,{"$f":"SUMIF('Contractor##'!C:C,'Planned Maint v6.2 CSV File'!C:C,'Contractor##'!F:F)","v":-0.2},37.704000000000001,"Vent:Renew or supply and fix new ventilation roof tile unit complete to match existing roof tiles or slates including remove, refix adjacent tiles as necessary"]
["2110BB","RIDGE:RENEW WITH HALF ROUND OR ANGLE VENT TILE","ROOFING","Clay/Concrete Roof Tiling","Roof Ventilation","NO",91.3,{"$f":"SUMIF('Contractor##'!C:C,'Planned Maint v6.2 CSV File'!C:C,'Contractor##'!F:F)","v":-0.2},73.040000000000006,"Ridge:Remove angled ridge tile and renew with ventilator ridge tile, edge bedded onto roof tiles and with solid bedding at butt joints in coloured mortar (1:3), and remove waste and debris."]
["2110BC","RIDGE:RENEW DRY VENT TILES","ROOFING","Clay/Concrete Roof Tiling","Roof Ventilation","LM",84,{"$f":"SUMIF('Contractor##'!C:C,'Planned Maint v6.2 CSV File'!C:C,'Contractor##'!F:F)","v":-0.2},67.2,"Ridge:Renew any type of dry vent ridge tile including remove existing, renew filler units/ air flow control units to both sides of ridge and fix new dryvent ridge tile with stainless steel nails with integral washers to ridge board including ridge to ridge sealing pieces and blocked end ridge tiles where necessary, and remove waste and debris."]
["2110CA","VENT:RENEW EAVES VENTILATORS","ROOFING","Clay/Concrete Roof Tiling","Roof Ventilation","LM",32.409999999999997,{"$f":"SUMIF('Contractor##'!C:C,'Planned Maint v6.2 CSV File'!C:C,'Contractor##'!F:F)","v":-0.2},25.927999999999997,"Vent:Renew or supply and fix new eaves ventilators complete including remove and refix tiles and underlay as necessary, all trays, skirts, eaves filler units, aprons, fascias, grills and the like and fix in accordance with manufacturers instructions, and remove waste and debris."]
["2115AA","MOSS:REMOVE FROM ROOF","ROOFING","Remedial Works","Moss Removal","SM",10.17,{"$f":"SUMIF('Contractor##'!C:C,'Planned Maint v6.2 CSV File'!C:C,'Contractor##'!F:F)","v":-0.2},8.136000000000001,"Moss:Carefully remove moss/lichen growth on roof covering of any kind and dispose of debris off site, reistate all disturbed surfaces, replace broken tiles, slates and the like, thoroughly clean out valleys, gutters, downpipes, hoppers etc, prepare and treat the complete roof area with a diluted fungicide solution AKZO or other equal and approved applied strictly in accordance with the manufacturer’s instructions, thoroughly clean out all gutters and the like to remove all chemical residue arising upon completion of the works, and remove waste and debris."]
["2120AA","WALL CLADDING:RENEW METAL INSUL NE 2SM","ROOFING","External Cladding - Steel Sheeting","PVC Coated Galvanised Insulated","IT",105,{"$f":"SUMIF('Contractor##'!C:C,'Planned Maint v6.2 CSV File'!C:C,'Contractor##'!F:F)","v":-0.2},84,"Wall Cladding:Renew pvc coated insulated galvanised steel profiled sheeting including removing existing and clear away and renew, fixed with hook bolts or drive screws complete with caps and washers in area ne2.00sm fixed to existing framework and clear away debris."]
["2120AB","WALL CLADDING:RENEW METAL INSUL EXC 2SM","ROOFING","External Cladding - Steel Sheeting","PVC Coated Galvanised Insulated","SM",48,{"$f":"SUMIF('Contractor##'!C:C,'Planned Maint v6.2 CSV File'!C:C,'Contractor##'!F:F)","v":-0.2},38.400000000000006,"Wall Cladding:Renew pvc coated insulated galvanised steel profiled sheeting including removing existing and clear away and renew, fixed with hook bolts or drive screws complete with caps and washers in area exceeding 2.00sm fixed to existing framework and clear away debris."]
["2120BA","WALL CLADDING:RENEW METAL NONE INSUL NE 2SM","ROOFING","External Cladding - Steel Sheeting","PVC Coated Galvanised","IT",90,{"$f":"SUMIF('Contractor##'!C:C,'Planned Maint v6.2 CSV File'!C:C,'Contractor##'!F:F)","v":-0.2},72,"Wall Cladding:Renew pvc coated non-insulated galvanised steel profiled sheeting including removing existing and clear away and renew, fixed with hook bolts or drive screws complete with caps and washers in area ne2.00sm fixed to existing framework and clear away debris."]
["2120BB","WALL CLADDING:RENEW METAL NONE INSUL EXC 2SM","ROOFING","External Cladding - Steel Sheeting","PVC Coated Galvanised","SM",42,{"$f":"SUMIF('Contractor##'!C:C,'Planned Maint v6.2 CSV File'!C:C,'Contractor##'!F:F)","v":-0.2},33.6,"Wall Cladding:Renew pvc coated non-insulated galvanised steel profiled sheeting including removing existing and clear away and renew, fixed with hook bolts or drive screws complete with caps and washers in area exceeding 2.00sm fixed to existing framework and clear away debris."]
["2121AA","WALL CLADDING:RENEW METAL PDR COATED NE 2SM","ROOFING","External Cladding - Steel Sheeting","Polyester Powder Coated Steel","IT",120,{"$f":"SUMIF('Contractor##'!C:C,'Planned Maint v6.2 CSV File'!C:C,'Contractor##'!F:F)","v":-0.2},96,"Wall Cladding:Renew polester powder coated non-insulated steel profiled sheeting including removing existing and clear away and renew, fixed with hook bolts or drive screws complete with caps and washers in area ne2.00sm fixed to existing framework and clear away debris."]
["2121AB","WALL CLADDING:RENEW METAL PDR COATED EXC 2SM","ROOFING","External Cladding - Steel Sheeting","Polyester Powder Coated Steel","SM",58,{"$f":"SUMIF('Contractor##'!C:C,'Planned Maint v6.2 CSV File'!C:C,'Contractor##'!F:F)","v":-0.2},46.400000000000006,"Wall Cladding:Renew polyester powder coated coated non-insulated steel profiled sheeting including removing existing and clear away and renew, fixed with hook bolts or drive screws complete with caps and washers in area exceeding 2.00sm fixed to existing framework and clear away debris."]
["2122AA","WALL CLADDING:RENEW ALI PDR COATED NE 2SM","ROOFING","External Cladding - Steel Sheeting","Polyester Powder Coated Aluminium","IT",130,{"$f":"SUMIF('Contractor##'!C:C,'Planned Maint v6.2 CSV File'!C:C,'Contractor##'!F:F)","v":-0.2},104,"Wall Cladding:Renew polester powder coated non-insulated aluminium profiled sheeting including removing existing and clear away and renew, fixed with hook bolts or drive screws complete with caps and washers in area ne2.00sm fixed to existing framework and clear away debris."]
["2122AB","WALL CLADDING:RENEW ALI PDR COATED EXC 2SM","ROOFING","External Cladding - Steel Sheeting","Polyester Powder Coated Aluminium","SM",64,{"$f":"SUMIF('Contractor##'!C:C,'Planned Maint v6.2 CSV File'!C:C,'Contractor##'!F:F)","v":-0.2},51.2,"Wall Cladding:Renew polyester powder coated coated non-insulated aluminium  profiled sheeting including removing existing and clear away and renew, fixed with hook bolts or drive screws complete with caps and washers in area exceeding 2.00sm fixed to existing framework and clear away debris."]
["2130AA","ROOF SHEETING:RENEW GALVANISED CORRUGATED IRON","ROOFING","Sheet Roofing","Sheet Roof Coverings","SM",34.78,{"$f":"SUMIF('Contractor##'!C:C,'Planned Maint v6.2 CSV File'!C:C,'Contractor##'!F:F)","v":-0.2},27.824000000000002,"Sheeting:Renew 24 gauge galvanised corrugated iron sheeting fixed with hook bolts or drive screws complete with caps and washers and remove waste and debris."]
["2130BA","ROOF SHEETING:RENEW CORRUGATED REINFORCED CEMENT","ROOFING","Sheet Roofing","Sheet Roof Coverings","SM",32.03,{"$f":"SUMIF('Contractor##'!C:C,'Planned Maint v6.2 CSV File'!C:C,'Contractor##'!F:F)","v":-0.2},25.624000000000002,"Sheeting:Renew corrugated reinforced cement sheeting fixed with hook bolts or drive screws complete with caps and washers and remove waste and debris."]
["2130CA","ROOF SHEETING:RENEW CLEAR PLASTIC","ROOFING","Sheet Roofing","Sheet Roof Coverings","SM",24.59,{"$f":"SUMIF('Contractor##'!C:C,'Planned Maint v6.2 CSV File'!C:C,'Contractor##'!F:F)","v":-0.2},19.672000000000001,"Sheeting:Renew clear plastic corrugated sheeting fixed with hook bolts or drive screws complete with caps and washers and remove waste and debris."]
["2130CB","ROOF SHEETING:RENEW COLOURED PLASTIC","ROOFING","Sheet Roofing","Sheet Roof Coverings","SM",27.43,{"$f":"SUMIF('Contractor##'!C:C,'Planned Maint v6.2 CSV File'!C:C,'Contractor##'!F:F)","v":-0.2},21.944000000000003,"Sheeting:Renew coloured plastic corrugated sheeting fixed with hook bolts or drive screws complete with caps and washers and remove waste and debris."]
["2130CC","ROOF SHEETING:RENEW TRANSLUCENT","ROOFING","Sheet Roofing","Sheet Roof Coverings","SM",44.22,{"$f":"SUMIF('Contractor##'!C:C,'Planned Maint v6.2 CSV File'!C:C,'Contractor##'!F:F)","v":-0.2},35.375999999999998,"Sheeting:Renew corrugated fire resisting glass fibre reinforced translucent sheeting fixed with hook bolts or drive screws complete with caps and washers and remove waste and debris."]
["2130DA","ROOF SHEETING:RENEW PVC COLOUR COATED","ROOFING","Sheet Roofing","Sheet Roof Coverings","SM",39.619999999999997,{"$f":"SUMIF('Contractor##'!C:C,'Planned Maint v6.2 CSV File'!C:C,'Contractor##'!F:F)","v":-0.2},31.695999999999998,"Sheeting:Renew PVC colour coated both sides galvanised steel profiled sheeting 0.70mm thick fixed with hook bolts and washers and remove waste and debris."]
["2130DB","ROOF SHEETING:RENEW ALUM PROFILE","ROOFING","Sheet Roofing","Sheet Roof Coverings","SM",39,{"$f":"SUMIF('Contractor##'!C:C,'Planned Maint v6.2 CSV File'!C:C,'Contractor##'!F:F)","v":-0.2},31.200000000000003,"Roof Sheeting:Renew aluminium profiled sheeting 0.70mm thick  sheeting fixed with hook bolts and washers and clear away debris."]
["2130DC","ROOF SHEETING:RENEW INSUL.METAL CLADD NE 2SM","ROOFING","Sheet Roofing","Sheet Roof Coverings","IT",98,{"$f":"SUMIF('Contractor##'!C:C,'Planned Maint v6.2 CSV File'!C:C,'Contractor##'!F:F)","v":-0.2},{"$f":"(1+H708)*G708","v":78.400000000000006},"Roof Sheeting:Renew insulated metal cladding including removing existing, clear away and renew, fixed with hook bolts or drive screws complete with caps and washers in areas ne 2.00sm and clear away debris, fixed to existing framework including renewing existing battens etc., as necessary"]
["2130EA","ROOF SHEETING:RENEW EAVES FILLER PCE","ROOFING","Sheet Roofing","Sheet Roof Coverings","LM",20.55,{"$f":"SUMIF('Contractor##'!C:C,'Planned Maint v6.2 CSV File'!C:C,'Contractor##'!F:F)","v":-0.2},16.440000000000001,"Sheeting:Renew eaves filler piece to corrugated roof sheeting, and remove waste and debris."]
["2130EB","ROOF SHEETING:RENEW TWO PIECE RIDGE","ROOFING","Sheet Roofing","Sheet Roof Coverings","LM",31.57,{"$f":"SUMIF('Contractor##'!C:C,'Planned Maint v6.2 CSV File'!C:C,'Contractor##'!F:F)","v":-0.2},25.256,"Sheeting:Renew two piece ridge to corrugated roof sheeting, and remove waste and debris."]
["2130EC","ROOF SHEETING:RENEW 1 PIECE CORRU CEMENT RIDGE","ROOFING","Sheet Roofing","Sheet Roof Coverings","LM",18.52,{"$f":"SUMIF('Contractor##'!C:C,'Planned Maint v6.2 CSV File'!C:C,'Contractor##'!F:F)","v":-0.2},14.816000000000001,"Roof Sheeting:Remove existing single piece ridge capping, take off and dispose of defective capping, fix new corrugated reinforced cement capping to match existing roof sheets, fix to roof sheets and rafters or joists with galvanised bolts or screws."]
["2130ED","ROOF SHEETING:RENEW 2 PIECE CORRU CEMENT RIDGE","ROOFING","Sheet Roofing","Sheet Roof Coverings","LM",19.850000000000001,{"$f":"SUMIF('Contractor##'!C:C,'Planned Maint v6.2 CSV File'!C:C,'Contractor##'!F:F)","v":-0.2},15.880000000000003,"Roof Sheeting:Remove existing two piece ridge capping, take off and dispose of defective capping, fix new corrugated reinforced cement capping to match existing roof sheets, fix to roof sheets and rafters or joists with galvanised bolts or screws."]
["2130EE","RIDGE:REFIX ANY TYPE","ROOFING","Sheet Roofing","Sheet Roof Coverings","LM",11.92,{"$f":"SUMIF('Contractor##'!C:C,'Planned Maint v6.2 CSV File'!C:C,'Contractor##'!F:F)","v":-0.2},9.5359999999999996,"Ridge:Remove existing two piece ridge capping, store and later refix with galvanised bolts or screws to roof sheets and rafters or joists."]
["2130FA","VERGE:RENEW CORRU, CEMENT","ROOFING","Sheet Roofing","Sheet Roof Coverings","LM",14.96,{"$f":"SUMIF('Contractor##'!C:C,'Planned Maint v6.2 CSV File'!C:C,'Contractor##'!F:F)","v":-0.2},11.968000000000002,"Verge:Remove existing verge capping, take off and dispose of defective verge, fix new verge capping to roof sheets and bears with galvanised bolts or screws."]
["2130FB","VERGE:REFIX ANY TYPE","ROOFING","Sheet Roofing","Sheet Roof Coverings","LM",5.96,{"$f":"SUMIF('Contractor##'!C:C,'Planned Maint v6.2 CSV File'!C:C,'Contractor##'!F:F)","v":-0.2},4.7679999999999998,"Verge:Remove existing verge, set aside and later refix with galvanised bolts or screws to roof sheets and bearers."]
["2150AA","ROOF: SWEEP AND APPLY WP COMPOUND","ROOFING","Remedial Works","Liquid Applied Waterproof Roof Covering","SM",19.850000000000001,{"$f":"SUMIF('Contractor##'!C:C,'Planned Maint v6.2 CSV File'!C:C,'Contractor##'!F:F)","v":-0.2},15.880000000000003,"Roof:Sweep off and apply two coats of water-proofing compound and apply sand dressing between coat, and remove waste and debris"]
["2150AB","ROOF:SEALING COMPOUND TO CRACKS","ROOFING","Remedial Works","Liquid Applied Waterproof Roof Covering","LM",5.4,{"$f":"SUMIF('Contractor##'!C:C,'Planned Maint v6.2 CSV File'!C:C,'Contractor##'!F:F)","v":-0.2},4.32,"Roofing:Apply sealing compound to cracks to roof or leadwork."]
["2150BA","ROOF:SWEEP AND APPLY BITUMEN","ROOFING","Remedial Works","Liquid Applied Waterproof Roof Covering","SM",19.39,{"$f":"SUMIF('Contractor##'!C:C,'Planned Maint v6.2 CSV File'!C:C,'Contractor##'!F:F)","v":-0.2},15.512,"Roofing:Brush off loose chippings and clean down roof and apply three coats of bitumen compound, and remove waste and debris."]
["2150CA","ROOF:SWEEP AND APPLY STONE CHIPPINGS","ROOFING","Remedial Works","Liquid Applied Waterproof Roof Covering","SM",10.45,{"$f":"SUMIF('Contractor##'!C:C,'Planned Maint v6.2 CSV File'!C:C,'Contractor##'!F:F)","v":-0.2},8.36,"Roofing:Brush off loose chippings from roof and supply and lay limestone chippings bonded with hot bitumen compound, and remove waste and debris."]
["2150DA","ROOF:PREPARE AND PATCH","ROOFING","Remedial Works","Liquid Applied Waterproof Roof Covering","SM",25.56,{"$f":"SUMIF('Contractor##'!C:C,'Planned Maint v6.2 CSV File'!C:C,'Contractor##'!F:F)","v":-0.2},20.448,"Roofing:Prepare and apply two coats of approved liquid applied roof coating to roofing felt, and remove waste and debris."]
["2150EA","GUTTER:APPLY 2 COATS WATERPROOF TO FINLOCK","ROOFING","Remedial Works","Liquid Applied Waterproof Roof Covering","LM",17.43,{"$f":"SUMIF('Contractor##'!C:C,'Planned Maint v6.2 CSV File'!C:C,'Contractor##'!F:F)","v":-0.2},13.944000000000001,"Gutter:Clean out gutter, rake out and apply sealant to joints and prepare and apply two coats of proprietary waterproof sealing compound to inside surfaces of finlock gutter, and remove waste and debris."]
["2170AA","FELT:RENEW HP PLAIN OR MINERAL FINISH 2L","ROOFING","Felt Roofing","Felt Roofing - Two Layer","SM",36.21,{"$f":"SUMIF('Contractor##'!C:C,'Planned Maint v6.2 CSV File'!C:C,'Contractor##'!F:F)","v":-0.2},28.968000000000004,"Felt:Renew felt roofing with two layer high performance felt including strip and remove existing covering and prepare sub-base to receive new felt roofing, supply and lay two layer high performance felt roofing with plain or mineral surface finish to top layer including all kerbs, upstands, downstands, drips, angles, dressing into outlets, around pipes etc, and remove waste and debris."]
["2170BA","FELT:RENEW HP STONE CHIPPINGS 2L","ROOFING","Felt Roofing","Felt Roofing - Two Layer","SM",46.65,{"$f":"SUMIF('Contractor##'!C:C,'Planned Maint v6.2 CSV File'!C:C,'Contractor##'!F:F)","v":-0.2},37.32,"Felt:Renew felt roofing with two layer high performance felt including strip and remove existing covering and prepare sub-base to receive new felt roofing, supply and lay two layer high performance felt roofing with top layer plain or mineral surface finish with stone chippings bonded in bitumen dressing compound incl all kerbs, upstands, downstands, drips, angles, dressing to outlets, around pipes and the like, and remove waste and debris."]
["2170CA","FELT:RENEW HP TORCH ON PLAIN OR MINERAL 2L","ROOFING","Felt Roofing","Felt Roofing - Two Layer","SM",32.29,{"$f":"SUMIF('Contractor##'!C:C,'Planned Maint v6.2 CSV File'!C:C,'Contractor##'!F:F)","v":-0.2},25.832000000000001,"Felt:Renew felt roofing with two layer high performance 'Torch On' felt including strip and remove existing covering and prepare sub-base to receive new felt roofing, supply and lay two layer high performance torch on felt roofing with plain or mineral surface finish to top layer including all kerbs, upstands, downstands, drips, angles, dressing to outlets, around pipes etc, and remove waste and debris."]
["2170DA","FELT:RENEW HP TORCH ON CHIPPINGS 2L","ROOFING","Felt Roofing","Felt Roofing - Two Layer","SM",42.73,{"$f":"SUMIF('Contractor##'!C:C,'Planned Maint v6.2 CSV File'!C:C,'Contractor##'!F:F)","v":-0.2},34.183999999999997,"Felt:Renew felt roofing with two layer high performance 'Torch On' felt including strip and remove existing covering and prepare sub-base to receive new felt roofing, supply and lay two layer performance Torch On felt roofing with top layer plain/mineral surface finish with stone chippings bonded in bitumen dressing compound incl all kerbs upstands, downstands, drips, angles, dressing to outlets, around pipes and the like, and remove waste and debris."]
["2170EA","FELT:RENEW ANY GIRTH FELT GUTTER - 2L","ROOFING","Felt Roofing","Felt Roofing - Two Layer","LM",22.84,{"$f":"SUMIF('Contractor##'!C:C,'Planned Maint v6.2 CSV File'!C:C,'Contractor##'!F:F)","v":-0.2},18.272000000000002,"Felt:Renew two layer felt to any girth gutter including remove defective felt and lay new felt bedded in hot bitumen, and remove waste and debris."]
["2170GA","ROOF:RENEW ALUMINIUM EDGING","ROOFING","Felt Roofing","Felt Roofing - Two Layer","LM",21.66,{"$f":"SUMIF('Contractor##'!C:C,'Planned Maint v6.2 CSV File'!C:C,'Contractor##'!F:F)","v":-0.2},17.327999999999999,"Felt:Take off existing, clear away and renew preformed aluminium edging including all angles and ends, dress felt roofing into groove, and remove waste and debris."]
["2170HA","FELT:FIX FLASHBAND NE 300MM GIRTH","ROOFING","Felt Roofing","Felt Roofing - Two Layer","LM",13.29,{"$f":"SUMIF('Contractor##'!C:C,'Planned Maint v6.2 CSV File'!C:C,'Contractor##'!F:F)","v":-0.2},10.632,"Felt:Fix flashband upstand or skirting ne 300mm girth including prime surface."]
["2170IA","FELT:APPLY SOLAR REFLECT PAINT (PER COAT)","ROOFING","Felt Roofing","Felt Roofing - Two Layer","SM",10.6,{"$f":"SUMIF('Contractor##'!C:C,'Planned Maint v6.2 CSV File'!C:C,'Contractor##'!F:F)","v":-0.2},8.48,"Felt:Prepare and apply solar reflective paint to general surfaces of felt roofing(per coat)."]
["2170IB","FELT:ANTI VANDAL PAINT","ROOFING","Felt Roofing","Felt Roofing - Two Layer","SM",9.75,{"$f":"SUMIF('Contractor##'!C:C,'Planned Maint v6.2 CSV File'!C:C,'Contractor##'!F:F)","v":-0.2},7.8000000000000007,"Felt:Prepare and apply anti-vandal  paint to general surfaces of felt roofing."]
["2170JA","FELT:RENEW CHIPPINGS","ROOFING","Felt Roofing","Felt Roofing - Two Layer","SM",21.52,{"$f":"SUMIF('Contractor##'!C:C,'Planned Maint v6.2 CSV File'!C:C,'Contractor##'!F:F)","v":-0.2},17.216000000000001,"Felt:Renew chippings to roof including remove old chippings and clear away, apply cold compound and spread new chippings (as sole job), and remove waste and debris."]
["2170KA","FELT:OVERHAUL FLAT ROOFING","ROOFING","Felt Roofing","Felt Roofing - Two Layer","SM",30.56,{"$f":"SUMIF('Contractor##'!C:C,'Planned Maint v6.2 CSV File'!C:C,'Contractor##'!F:F)","v":-0.2},24.448,"Felt:Overhaul felt roofing to flat roof area, including removing moss, algae and other debris, redress old chippings, supply and spread new chippings as necessary, rewedge and redress flashings, clear associated gutters, and remove waste and debris."]
["2170RA","ROOF:RENEW 2L FELT AND BOARDING","ROOFING","Felt Roofing","Felt Roofing - Two Layer","SM",105.47,{"$f":"SUMIF('Contractor##'!C:C,'Planned Maint v6.2 CSV File'!C:C,'Contractor##'!F:F)","v":-0.2},84.376000000000005,"Roof:Renew roof felt and boarding complete, strip off existing roof covering and boarding, clear away to tip fix 19mm WBP plywood boarding to roof joist, including 50x50mm softwood noggins, tape joints of lay one layer of vapour barrier, lay 100mm insulation board, lay two layer high performance felt roofing with plain or mineral surface finish to top layer including all kerbs, upstands, downstands, drips, angles, dressing into outlets, around pipes etc, supply and fix new code 4lead cover flashing to wall abutments, and remove waste and debris."]
["2171AA","FELT:RENEW HP PLAIN OR MINERAL FINISH 3L","ROOFING","Felt Roofing","Felt Roofing - Three Layer","SM",52.12,{"$f":"SUMIF('Contractor##'!C:C,'Planned Maint v6.2 CSV File'!C:C,'Contractor##'!F:F)","v":-0.2},41.695999999999998,"Felt:Renew felt roofing with two layer high performance felt including strip and remove existing covering and prepare sub-base to receive new felt roofing, supply and lay three layer high performance felt roofing with plain or mineral surface finish to top layer including all kerbs, upstands, downstands, drips, angles, dressing into outlets, around pipes etc, and remove waste and debris."]
["2171BA","FELT:RENEW HP STONE CHIPPINGS 3L","ROOFING","Felt Roofing","Felt Roofing - Three Layer","SM",62.57,{"$f":"SUMIF('Contractor##'!C:C,'Planned Maint v6.2 CSV File'!C:C,'Contractor##'!F:F)","v":-0.2},50.056000000000004,"Felt:Renew felt roofing with three layer high performance felt including strip and remove existing covering and prepare sub-base to receive new felt roofing, supply and lay three layer high performance felt roofing with top layer plain or mineral surface finish with stone chippings bonded in bitumen dressing compound incl all kerbs, upstands, downstands, drips, angles, dressing to outlets, around pipes and the like, and remove waste and debris."]
["2171CA","FELT:RENEW HP TORCH ON PLAIN OR MINERAL 3L","ROOFING","Felt Roofing","Felt Roofing - Three Layer","SM",45.86,{"$f":"SUMIF('Contractor##'!C:C,'Planned Maint v6.2 CSV File'!C:C,'Contractor##'!F:F)","v":-0.2},36.688000000000002,"Felt:Renew felt roofing with three layer high performance 'Torch On' felt including strip and remove existing covering and prepare sub-base to receive new felt roofing, supply and lay three layer high performance torch on felt roofing with plain or mineral surface finish to top layer including all kerbs, upstands, downstands, drips, angles, dressing to outlets, around pipes etc, and remove waste and debris."]
["2171DA","FELT:RENEW HP TORCH ON CHIPPINGS 3L","ROOFING","Felt Roofing","Felt Roofing - Three Layer","SM",56.31,{"$f":"SUMIF('Contractor##'!C:C,'Planned Maint v6.2 CSV File'!C:C,'Contractor##'!F:F)","v":-0.2},45.048000000000002,"Felt:Renew felt roofing with three layer high performance 'Torch On' felt including strip and remove existing covering and prepare sub-base to receive new felt roofing, supply and lay three layer performance Torch On felt roofing with top layer plain/mineral surface finish with stone chippings bonded in bitumen dressing compound incl all kerbs upstands, downstands, drips, angles, dressing to outlets, around pipes and the like, and remove waste and debris."]
["2171EA","FELT:LAY UPSTAND NE 300MM GIRTH 3L","ROOFING","Felt Roofing","Felt Roofing - Three Layer","LM",24.88,{"$f":"SUMIF('Contractor##'!C:C,'Planned Maint v6.2 CSV File'!C:C,'Contractor##'!F:F)","v":-0.2},19.904,"Felt:Lay three layer felt to upstand, kerb etc., ne 300mm girth with mineral felt bedded in hot bitumen, tucked and pointed in chase with cement mortar, and remove waste and debris."]
["2171FA","FELT:RENEW ANY GIRTH FELT GUTTER 3L","ROOFING","Felt Roofing","Felt Roofing - Three Layer","LM",36.04,{"$f":"SUMIF('Contractor##'!C:C,'Planned Maint v6.2 CSV File'!C:C,'Contractor##'!F:F)","v":-0.2},28.832000000000001,"Felt:Renew three layer felt to any girth gutter including remove defective felt and lay new felt bedded in hot bitumen, and remove waste and debris."]
["2171RA","ROOF:RENEW 3L FELT AND BOARDING","ROOFING","Felt Roofing","Felt Roofing - Three Layer","SM",121.39,{"$f":"SUMIF('Contractor##'!C:C,'Planned Maint v6.2 CSV File'!C:C,'Contractor##'!F:F)","v":-0.2},97.112000000000009,"Roof:Renew roof felt and boarding complete, strip off existing roof covering and boarding, clear away to tip fix 19mm WBP plywood boarding to roof joist, including 50x50mm softwood noggins, tape joints of lay one layer of vapour barrier, lay 100mm insulation board, lay three layer high performance felt roofing with plain or mineral surface finish to top layer including all kerbs, upstands, downstands, drips, angles, dressing into outlets, around pipes etc, supply and fix new code 4 lead cover flashing to wall abutments, and remove waste and debris."]
["2172AA","ROOF:RENEW WITH ELASTOMERIC","ROOFING","Felt Roofing","Elastomeric Roofing","SM",69.959999999999994,{"$f":"SUMIF('Contractor##'!C:C,'Planned Maint v6.2 CSV File'!C:C,'Contractor##'!F:F)","v":-0.2},55.967999999999996,"Roof:Renew any existing flat roof covering with elastomeric sheet roofing system, strip existing covering, clear away to tip, lay 3.5mm aluminium lined elastomeric bitumen vapour barrier, 4mm glass fibre reinforced elastomeric bitumen underlay and 5mm polyester reinforced elastomeric bitumen capping sheet with mineral surface finish, including all kerbs, upstands, downstands, drips, angles, dressing into outlets, around pipes etc, and remove waste and debris."]
["2172BA","ROOF:RENEW ELASTOMERIC AND INSULATION","ROOFING","Felt Roofing","Elastomeric Roofing","SM",87.34,{"$f":"SUMIF('Contractor##'!C:C,'Planned Maint v6.2 CSV File'!C:C,'Contractor##'!F:F)","v":-0.2},69.872,"Roof:Renew any existing flat roof covering with elastomeric sheet roofing system, strip existing covering, clear away to tip, prepare and prime, base lay 3.5mm aluminium lined elastomeric bitumen vapour barrier, 60mm insulation board, 4mm glass fibre reinforced elastomeric bitumen underlay and 5mm polyester reinforced elastomeric bitumen capping sheet with mineral surface finish, including all kerbs, upstands, downstands, drips, angles, dressing into outlets, around pipes etc, and remove waste and debris."]
["2190AA","ASPHALT:RENEW IN AREAS","ROOFING","Asphalt Roofing","Asphalt Roof Coverings","SM",85.24,{"$f":"SUMIF('Contractor##'!C:C,'Planned Maint v6.2 CSV File'!C:C,'Contractor##'!F:F)","v":-0.2},68.191999999999993,"Asphalt:Renew 20mm asphalt roof finish comprising isolating membrane, asphalt laid in two layers and bond to existing asphalt and finish smooth to match existing levels, and remove waste and debris."]
["2190BA","ASPHALT:RENEW 25MM TO BALCONY","ROOFING","Asphalt Roofing","Asphalt Roof Coverings","SM",103.65,{"$f":"SUMIF('Contractor##'!C:C,'Planned Maint v6.2 CSV File'!C:C,'Contractor##'!F:F)","v":-0.2},82.920000000000016,"Asphalt:Renew asphalt to access balcony including take up existing asphalt and underlay, lay 25mm two coat work to deck and gutter on new isolating membrane, 13mm two coat work to upstands, downstands and including chases cut into brickwork or concrete and pointed in cement mortar and dressing asphalt around outlets, gullies and the like (measured all inclusive area over horizontal surfaces only), and remove waste and debris."]
["2190CA","ASPHALT:RENEW SKIRTING","ROOFING","Asphalt Roofing","Asphalt Roof Coverings","LM",40.93,{"$f":"SUMIF('Contractor##'!C:C,'Planned Maint v6.2 CSV File'!C:C,'Contractor##'!F:F)","v":-0.2},32.744,"Asphalt:Renew asphalt skirting ne 225mm high comprising 13mm two coat asphalt laid direct to structural background including all angles, coves and fillets, turn top edge into prepared groove, and remove waste and debris."]
["2190DA","ASPHALT:RENEW TO BOX GUTTER","ROOFING","Asphalt Roofing","Asphalt Roof Coverings","LM",134.53,{"$f":"SUMIF('Contractor##'!C:C,'Planned Maint v6.2 CSV File'!C:C,'Contractor##'!F:F)","v":-0.2},107.62400000000001,"Asphalt:Renew asphalt to any size box gutter including take up existing and relay including renewal of gutter sole board if necessary, form all angle fillets, skirtings etc and turn into groove in and or tuck into metal edge trim, and remove waste and debris."]
["2190EA","ASPHALT:RENEW RAINWATER OUTLET","ROOFING","Asphalt Roofing","Asphalt Roof Coverings","SM",149.09,{"$f":"SUMIF('Contractor##'!C:C,'Planned Maint v6.2 CSV File'!C:C,'Contractor##'!F:F)","v":-0.2},119.27200000000001,"Asphalt:Renew 20mm asphalt lining to sole and sides of rainwater outlet opening through one brick wall including internal angle fillets, lead dressing into hopper head and any necessary expanded metal lathing reinforcement, and remove waste and debris."]
["2190FA","ASPHALT:APPLY SOLAR REFLECTIVE PAINT","ROOFING","Asphalt Roofing","Asphalt Roof Coverings","SM",10.6,{"$f":"SUMIF('Contractor##'!C:C,'Planned Maint v6.2 CSV File'!C:C,'Contractor##'!F:F)","v":-0.2},8.48,"Asphalt:Prepare and apply solar reflective paint to asphalt roofing (per coat)."]
["2190FB","ASPHALT:ANTI-VANDAL PAINT","ROOFING","Asphalt Roofing","Asphalt Roof Coverings","SM",10.94,{"$f":"SUMIF('Contractor##'!C:C,'Planned Maint v6.2 CSV File'!C:C,'Contractor##'!F:F)","v":-0.2},8.7520000000000007,"Asphalt:Prepare and apply anti-vandal paint to asphalt roofing."]
["2190GA","ASPHALT:OVERHAUL FLAT ROOFING","ROOFING","Asphalt Roofing","Asphalt Roof Coverings","SM",30.56,{"$f":"SUMIF('Contractor##'!C:C,'Planned Maint v6.2 CSV File'!C:C,'Contractor##'!F:F)","v":-0.2},24.448,"Asphalt:Overhaul asphalt roofing to flat roof area, Including sweep and remove moss, algae and other debris, cut out blisters, cracks and make good in asphalt, prepare and apply two coats of solar reflective paint as necessary, rewedge and redress flashings, clear associated gutters and outlets, and remove waste and debris."]
["2191AA","ROOF:RENEW ASPHALT AND BOARDING","ROOFING","Asphalt Roofing","Asphalt Roof Coverings","SM",140.96,{"$f":"SUMIF('Contractor##'!C:C,'Planned Maint v6.2 CSV File'!C:C,'Contractor##'!F:F)","v":-0.2},112.76800000000001,"Roof:Renew asphalt and boarding complete, strip off existing roof covering and boarding, clear away to tip, fix 19mm WBP plywood boarding to roof joist, including 50x50mm softwood noggins, tape joints lay one layer of vapour barrier, lay 100mm insulation board, lay isolating membrane, fix galvanised eml to and including tanalised softwood kerbs etc, lay 20mm asphalt in two equal layers dress over and form kerbs, upstands, downstands, drips, angles, dressing into outlets, around pipes etc, supply and fix new code 4 lead cover flashing to wall abutments, and remove waste and debris."]
["2195AA","ROOF:RENEW/INSTALL FIXED TYPE GREEN ROOF SYSTEM","ROOFING","Green Roofing","Green Roofs - Sedum","SM",198,{"$f":"SUMIF('Contractor##'!C:C,'Planned Maint v6.2 CSV File'!C:C,'Contractor##'!F:F)","v":-0.2},158.4,"Roof:Renew or install  fixed green roofing system, including two layer high performance felt including strip and remove existing covering and prepare sub-base to receive new felt roofing, supply and lay three layer high performance felt roofing with plain finish to top layer including all kerbs, upstands, downstands, drips, angles, dressing into outlets, around pipes etc,apply growing sedum proprietry matting and medium to top layer,  and remove waste and debris."]
["2195AB","ROOF: RENEW/INSTALL MOBILE TYPE GREEN ROOF SYSTEM","ROOFING","Green Roofing","Green Roofs - Sedum","SM",205,{"$f":"SUMIF('Contractor##'!C:C,'Planned Maint v6.2 CSV File'!C:C,'Contractor##'!F:F)","v":-0.2},164,"Roof:Renew or install mobile green roofing system, including two layer high performance felt including strip and remove existing covering and prepare sub-base to receive new felt roofing, supply and lay three layer high performance felt roofing with plain finish to top layer including all kerbs, upstands, downstands, drips, angles, dressing into outlets, around pipes etc,supply and fix growing sedum proprietry demountble planting trays to top layer,  and remove waste and debris."]
["2195AC","ROOF:OVERHAUL FIXED GREEN ROOFING SYSTEM","ROOFING","Green Roofing","Green Roofs - Sedum","SM",15,{"$f":"SUMIF('Contractor##'!C:C,'Planned Maint v6.2 CSV File'!C:C,'Contractor##'!F:F)","v":-0.2},12,"Roof:Overhaul fixed green roofing to flat roof area, including removing dead plants and other debris, supply and plant new sedum as necessary, water and feed as required, clear associated gutters, and remove waste and debris."]
["2195AD","ROOF:OVERHAUL MOBILE GREEN ROOFING SYSTEM","ROOFING","Green Roofing","Green Roofs - Sedum","SM",18,{"$f":"SUMIF('Contractor##'!C:C,'Planned Maint v6.2 CSV File'!C:C,'Contractor##'!F:F)","v":-0.2},14.4,"Roof:Overhaul mobile green roofing to flat roof area, including removing dead plants, broken trays and other debris, supply and plant new sedum or new planting trays as necessary, water and feed as required, clear associated gutters, and remove waste and debris."]
["2200AA","PROMENADE:LIFT AND REBED SINGLE TILE","ROOFING","Sundry Works","Flat Roof Safety and Access Systems","NO",10.94,{"$f":"SUMIF('Contractor##'!C:C,'Planned Maint v6.2 CSV File'!C:C,'Contractor##'!F:F)","v":-0.2},8.7520000000000007,"Flag:Lift any size existing pcc or grc promenade tile to flat roof and rebed existing flag on 25mm bed of cement mortar (1:4) and point up joints."]
["2200AB","PROMENADE:LIFT AND REBED TILES","ROOFING","Sundry Works","Flat Roof Safety and Access Systems","SM",42.76,{"$f":"SUMIF('Contractor##'!C:C,'Planned Maint v6.2 CSV File'!C:C,'Contractor##'!F:F)","v":-0.2},34.207999999999998,"Paving:Lift any size existing pcc or grc promenade tiles to flat roof rebed existing flags on 25mm bed of cement mortar (1:4) and point up joints."]
["2200AC","PROMENADE:RENEW STANDARD PCC OR GRC TILES","ROOFING","Sundry Works","Flat Roof Safety and Access Systems","SM",75.760000000000005,{"$f":"SUMIF('Contractor##'!C:C,'Planned Maint v6.2 CSV File'!C:C,'Contractor##'!F:F)","v":-0.2},60.608000000000004,"Promenade:Lift remnants of existing precast or glass reinforced concrete promenade tiles from flat roof, remove from site to approved tip, and lay standard size precast or glass reinforced concrete promenade tiles on 25mm bed of cement mortar (1:4), point up joints including any additional cutting and fitting to suit."]
["2200AD","PROMENADE:RENEW STANDARD PCC OR GRC TILE","ROOFING","Sundry Works","Flat Roof Safety and Access Systems","NO",15,{"$f":"SUMIF('Contractor##'!C:C,'Planned Maint v6.2 CSV File'!C:C,'Contractor##'!F:F)","v":-0.2},12,"Promenade:Lift remnants of existing precast or glass reinforced concrete promenade tiles from flat roof, remove waste and debris, and lay new standard size precast or glass reinforced concrete promenade tile on 25mm bed of cement mortar (1:4), point up joints including any additional cutting and fitting to suit."]
["2200AE","FALL:RENEW OR INSTALL FALL PROTECTION WIRE SYSTEM","ROOFING","Sundry Works","Flat Roof Safety and Access Systems","LM",85,{"$f":"SUMIF('Contractor##'!C:C,'Planned Maint v6.2 CSV File'!C:C,'Contractor##'!F:F)","v":-0.2},68,"Fall:Renew or install ne ‘Mansafe’ type wire fall protection system to the perimeter of flat roof and similar situations, including removing the remains of any existing system and disposal, and installing intermediate, end and angle roof anchors, securely fixed to roof structure and including all safety lines, wires and strops (measured per metre of wire)"]
["2200AF","FALL:OVERHAUL AND MAINTAIN FALL PROTECTION SYSTEM","ROOFING","Sundry Works","Flat Roof Safety and Access Systems","LM",9,{"$f":"SUMIF('Contractor##'!C:C,'Planned Maint v6.2 CSV File'!C:C,'Contractor##'!F:F)","v":-0.2},7.2,"Fall:Maintain and overhaul ‘Mansafe’ type wire fall protection system, including checking, cleaning and testing (measured per metre of wire)"]
["2200AG","WALKWAY:RENEW OR INSTALL PROPRIETARY ROOF WALKWAY","ROOFING","Sundry Works","Flat Roof Safety and Access Systems","LM",69,{"$f":"SUMIF('Contractor##'!C:C,'Planned Maint v6.2 CSV File'!C:C,'Contractor##'!F:F)","v":-0.2},55.2,"Walkway:Renew or install Proprietary roof walkway, balustrade and safety line system to flat roof and similar situations, including removing the remains of any existing system and disposal, and installing walkway , securely fixed to roof structure including all safety lines,wires and strops."]
["2200AH","WALKWAY: OVERHAUL AND MAINTAIN ROOF WALKWAY","ROOFING","Sundry Works","Flat Roof Safety and Access Systems","LM",8,{"$f":"SUMIF('Contractor##'!C:C,'Planned Maint v6.2 CSV File'!C:C,'Contractor##'!F:F)","v":-0.2},6.4,"Walkway:Maintain and overhaul proprietary roof walkway, balustrade and safety line system, including checking, cleaning and testing "]
["2250AA","FILLET:RENEW CEMENT MORTAR FILLET","ROOFING","Remedial Works","Sundry Items","LM",9.32,{"$f":"SUMIF('Contractor##'!C:C,'Planned Maint v6.2 CSV File'!C:C,'Contractor##'!F:F)","v":-0.2},7.4560000000000004,"Fillet:Hack off existing and renew cement mortar fillet (1:3)."]
["2250BA","ROOFING:SCREED ROOF","ROOFING","Remedial Works","Sundry Items","SM",28.24,{"$f":"SUMIF('Contractor##'!C:C,'Planned Maint v6.2 CSV File'!C:C,'Contractor##'!F:F)","v":-0.2},22.591999999999999,"Roofing:Screed roof in cement and sand (1:3) including fixing and striking shuttering and applying new bonding agent to surface."]
["2250CA","SECRET GUTTER:CLEAN OUT SECRET GUTTER/VALLEY","ROOFING","Remedial Works","Sundry Items","LM",5.58,{"$f":"SUMIF('Contractor##'!C:C,'Planned Maint v6.2 CSV File'!C:C,'Contractor##'!F:F)","v":-0.2},4.4640000000000004,"Secret Gutter:Clear debris and clean down large secret lead or copper gutter or valley, remove waste and debis"]
["2270AA","INSULATION:LAY UPTO 270MM THICK QUILT","ROOFING","Sundry Works","Loft Insulation","SM",10.86,{"$f":"SUMIF('Contractor##'!C:C,'Planned Maint v6.2 CSV File'!C:C,'Contractor##'!F:F)","v":-0.2},8.6880000000000006,"Insulation:Supply and lay ne 270mm thick insulation quilt to loft area including gain access and moving/replacing contents within loft area in order to undertake work."]
["2270BA","INSULATION:INSTALL THERMAL SHEATHING","ROOFING","Sundry Works","Loft Insulation","SM",40.96,{"$f":"SUMIF('Contractor##'!C:C,'Planned Maint v6.2 CSV File'!C:C,'Contractor##'!F:F)","v":-0.2},32.768000000000001,"Insulation:Supply and install 50mm‘Celotex’ TSI/50 or other equal and approved thermal sheathing 400mm wide between roof rafters, take off roof slates or tiles and carefully stack for reuse, take off roof battens and roofing felt, refix roof felt and battens, relay roof slates or tiles, rebed hips, ridges, verges etc, make good all works disturbed."]
["2290AA","ROOF BOARDING:RENEW WOODWOOL SLABS","ROOFING","Sundry Works","Roof Boarding","SM",31.2,{"$f":"SUMIF('Contractor##'!C:C,'Planned Maint v6.2 CSV File'!C:C,'Contractor##'!F:F)","v":-0.2},24.96,"Roof Boarding:Renew 50mm woodwool slab finished with cement slurry screed roof boarding, including denail rafters or joists, clear away debris, punch in nails and level to existing and make good."]
["2290AB","ROOF BOARDING:RENEW IN 18MM PLYWOOD","ROOFING","Sundry Works","Roof Boarding","SM",29.52,{"$f":"SUMIF('Contractor##'!C:C,'Planned Maint v6.2 CSV File'!C:C,'Contractor##'!F:F)","v":-0.2},23.616,"Roof Boarding:Renew 18mm WPB quality plywood roof boarding including denail rafters or joists, clear away debris, punch in nails and level to existing, and make good."]
["2290AC","ROOF BOARDING:RENEW IN 18MM MARINE PLYWOOD","ROOFING","Sundry Works","Roof Boarding","SM",39.97,{"$f":"SUMIF('Contractor##'!C:C,'Planned Maint v6.2 CSV File'!C:C,'Contractor##'!F:F)","v":-0.2},31.975999999999999,"Roof Boarding:Renew 18mm marine plywood roof boarding including denail rafters or joists, clear away debris, punch in nails and level to existing, and make good."]
["2290AD","ROOF BOARDING:RENEW IN 18MM CHIPBOARD","ROOFING","Sundry Works","Roof Boarding","SM",22.76,{"$f":"SUMIF('Contractor##'!C:C,'Planned Maint v6.2 CSV File'!C:C,'Contractor##'!F:F)","v":-0.2},{"$f":"(1+H772)*G772","v":18.208000000000002},"Roof Boarding:Renew 18mm, V313 grade chipboard roof boarding including denail rafters or joists, clear away debris, punch in nails and level to existing, and make good."]
["2290AE","ROOF BOARDING:RENEW 18MM PREFELTED PLYWOOD","ROOFING","Sundry Works","Roof Boarding","SM",24.09,{"$f":"SUMIF('Contractor##'!C:C,'Planned Maint v6.2 CSV File'!C:C,'Contractor##'!F:F)","v":-0.2},19.272000000000002,"Roof Boarding:Renew 18mm thick prefelted plywood decking to timber roof joists, denail existing rafters or joists, punch in nails, level to existing, tape joints and prepare to receive felt roofing."]
["2290BA","ROOF BOARDING:RENEW SOFTWOOD FIRRINGS","ROOFING","Sundry Works","Roof Boarding","LM",3.75,{"$f":"SUMIF('Contractor##'!C:C,'Planned Maint v6.2 CSV File'!C:C,'Contractor##'!F:F)","v":-0.2},3,"Roof Boarding:Renew ne 50x50mm tapered softwood firrings to roof joists."]
["2310AA","SLATE:RENEW LEAD TO PIPE","ROOFING","Leadwork","Lead Roof Coverings and Flashings - Code 4","NO",76.900000000000006,{"$f":"SUMIF('Contractor##'!C:C,'Planned Maint v6.2 CSV File'!C:C,'Contractor##'!F:F)","v":-0.2},61.52000000000001,"Slate:Remove existing lead or proprietary slate to ne 150mm diameter pipe and replace with 500x500mm lead slate with 200mm high collar to ne 150mm diameter pipe including all labours and remove waste and debris."]
["2310AB","SLATE:RENEW PROPRIETARY TO PIPE","ROOFING","Leadwork","Lead Roof Coverings and Flashings - Code 4","NO",72.180000000000007,{"$f":"SUMIF('Contractor##'!C:C,'Planned Maint v6.2 CSV File'!C:C,'Contractor##'!F:F)","v":-0.2},57.744000000000007,"Slate:Remove existing lead or proprietary slate to ne 150mm diameter pipe and replace with proprietary slate with ne 200mm high collar to ne 150mm diameter pipe including all labours and remove waste and debris."]
["2310AC","FLASHING:RENEW LEAD COVER NE 150MM","ROOFING","Leadwork","Lead Roof Coverings and Flashings - Code 4","LM",31.2,{"$f":"SUMIF('Contractor##'!C:C,'Planned Maint v6.2 CSV File'!C:C,'Contractor##'!F:F)","v":-0.2},24.96,"Flashing:Renew lead cover flashing not exceeding 150mm girth, clean out groove of brickwork, wedge with lead and repoint in mastic, including all necessary labours and remove waste and debris."]
["2310AE","FLASHING:RENEW LEAD STEPPED NE 225MM","ROOFING","Leadwork","Lead Roof Coverings and Flashings - Code 4","LM",61.38,{"$f":"SUMIF('Contractor##'!C:C,'Planned Maint v6.2 CSV File'!C:C,'Contractor##'!F:F)","v":-0.2},49.104000000000006,"Flashing:Renew lead stepped flashing not exceeding 225mm girth, clean out groove of brickwork, wedge with lead and repoint in mastic, including all necessary labours and remove waste and debris."]
["2310AF","FLASHING:RENEW LEAD APRON NE 300MM","ROOFING","Leadwork","Lead Roof Coverings and Flashings - Code 4","LM",58.09,{"$f":"SUMIF('Contractor##'!C:C,'Planned Maint v6.2 CSV File'!C:C,'Contractor##'!F:F)","v":-0.2},46.472000000000008,"Flashing:Renew lead apron flashing not exceeding 300mm girth, clean out groove of brickwork, wedge with lead and repoint in mastic, including all necessary labours and remove waste and debris."]
["2310AH","FIREWALL:RENEW LEAD FLASHINGS TO COPINGS","ROOFING","Leadwork","Lead Roof Coverings and Flashings - Code 4","LM",75.400000000000006,{"$f":"SUMIF('Contractor##'!C:C,'Planned Maint v6.2 CSV File'!C:C,'Contractor##'!F:F)","v":-0.2},60.320000000000007,"Firewall:Remove existing coping stones to firewall and clear away, remove existing flashings to both sides of firewall and renew with new lead flashings including all dressing etc., supply and fix new PCC coping stones to suit, bedded and pointed in cement mortar (1:3) and point flashing in mastic."]
["2310BA","FLASHING:TAKE OFF AND REFIX LEAD","ROOFING","Leadwork","Lead Roof Coverings and Flashings - Code 4","LM",15.05,{"$f":"SUMIF('Contractor##'!C:C,'Planned Maint v6.2 CSV File'!C:C,'Contractor##'!F:F)","v":-0.2},12.040000000000001,"Flashing:Take off lead flashing, set aside, hack out pointing, clean out groove of brickwork, refix flashing and wedge with lead and repoint in mastic."]
["2310BB","FLASHING:RAKE OUT AND REPOINT LEAD","ROOFING","Leadwork","Lead Roof Coverings and Flashings - Code 4","LM",9.09,{"$f":"SUMIF('Contractor##'!C:C,'Planned Maint v6.2 CSV File'!C:C,'Contractor##'!F:F)","v":-0.2},7.2720000000000002,"Flashing:Rake out pointing of flashing and repoint in mastic."]
["2310CA","GUTTER:RENEW LEAD CHIMNEY LINING NE 450MM GIRTH","ROOFING","Leadwork","Lead Roof Coverings and Flashings - Code 4","LM",69.569999999999993,{"$f":"SUMIF('Contractor##'!C:C,'Planned Maint v6.2 CSV File'!C:C,'Contractor##'!F:F)","v":-0.2},55.655999999999999,"Gutter:Renew lead chimney gutter lining not exceeding 450mm girth, clean out groove of brickwork, wedge with lead and repoint in mastic, including all necessary labours and remove waste and debris."]
["2310CB","PARAPET:RENEW LEAD GUTTER LINING NE 500MM GIRTH","ROOFING","Leadwork","Lead Roof Coverings and Flashings - Code 4","LM",77.09,{"$f":"SUMIF('Contractor##'!C:C,'Planned Maint v6.2 CSV File'!C:C,'Contractor##'!F:F)","v":-0.2},61.672000000000004,"Gutter:Renew lead parapet gutter lining not exceeding 500mm girth, clean out groove of brickwork, wedge with lead and repoint in mastic, including all necessary labours and remove waste and debris."]
["2310CC","VALLEY:RENEW LEAD GUTTER LINING NE 800MM GIRTH","ROOFING","Leadwork","Lead Roof Coverings and Flashings - Code 4","LM",91.63,{"$f":"SUMIF('Contractor##'!C:C,'Planned Maint v6.2 CSV File'!C:C,'Contractor##'!F:F)","v":-0.2},73.304000000000002,"Valley:Renew lead valley gutter not exceeding 800mm girth, remove and refix roof tiles or slates and battens as required, including all necessary labours and remove waste and debris."]
["2310CD","VALLEY:RENEW LEAD GUTTER AND BOARDS","ROOFING","Leadwork","Lead Roof Coverings and Flashings - Code 4","LM",138.38,{"$f":"SUMIF('Contractor##'!C:C,'Planned Maint v6.2 CSV File'!C:C,'Contractor##'!F:F)","v":-0.2},110.70400000000001,"Valley:Renew lead valley gutter not exceeding 800mm girth, complete with valley boards and tilting fillets, remove and refix roof tiles or slates as required, including all necessary labours and remove waste and debris."]
["2310DA","SOAKER:RENEW OR REFIX LEAD","ROOFING","Leadwork","Lead Roof Coverings and Flashings - Code 4","NO",13.77,{"$f":"SUMIF('Contractor##'!C:C,'Planned Maint v6.2 CSV File'!C:C,'Contractor##'!F:F)","v":-0.2},11.016,"Soaker:Renew or refix lead soaker not exceeding 250x330mm, including all necessary labours and remove waste and debris."]
["2310EA","ROOF:RENEW LEAD ROOF COVERING","ROOFING","Leadwork","Lead Roof Coverings and Flashings - Code 4","SM",135.63999999999999,{"$f":"SUMIF('Contractor##'!C:C,'Planned Maint v6.2 CSV File'!C:C,'Contractor##'!F:F)","v":-0.2},108.512,"Roof:Renew lead roof covering including remove old lead, cut, fit and dress new roof covering including all nailing and caps, drips, welted edges, bossed ends and intersections and all labours and remove waste and debris."]
["2310EB","PORCH:RENEW LEAD COVERING TO PORCH","ROOFING","Leadwork","Lead Roof Coverings and Flashings - Code 4","SM",147.56,{"$f":"SUMIF('Contractor##'!C:C,'Planned Maint v6.2 CSV File'!C:C,'Contractor##'!F:F)","v":-0.2},118.048,"Porch:Renew lead covering to porch including remove old lead, cut, fit and dress new porch covering including all nailing and caps, drips, welted edges, bossed ends and intersections and all labours and remove waste and debris."]
["2310EC","DORMERS:RENEW LEAD TO DORMERS","ROOFING","Leadwork","Lead Roof Coverings and Flashings - Code 4","SM",156.5,{"$f":"SUMIF('Contractor##'!C:C,'Planned Maint v6.2 CSV File'!C:C,'Contractor##'!F:F)","v":-0.2},125.2,"Dormers:Renew lead covering to dormers including remove old lead, cut, fit and dress new covering including all nailing and caps, drips, welted edges, bossed ends and intersections and all labours and remove waste and debris."]
["2310FA","BOW/BAY:RENEW LEAD FLAT ROOF NE 3.0SM","ROOFING","Leadwork","Lead Roof Coverings and Flashings - Code 4","IT",449.06,{"$f":"SUMIF('Contractor##'!C:C,'Planned Maint v6.2 CSV File'!C:C,'Contractor##'!F:F)","v":-0.2},359.24800000000005,"Bow/Bay:Renew lead covering to flat bow/bay roof ne 3.00sm (measured on plan) including remove old lead, cut, fit and dress new covering including all nailing and caps, drips, welted edges, bossed ends and intersections, dressing to upstands and kerbs, clean out/reform grooves and wedge upstands with lead and repoint in cement mortar (1:3). Cut and dress lead around rainwater outlets."]
["2310FB","BOW/BAY:RENEW LEAD SLOPING ROOF NE 3.0SM","ROOFING","Leadwork","Lead Roof Coverings and Flashings - Code 4","IT",505.68,{"$f":"SUMIF('Contractor##'!C:C,'Planned Maint v6.2 CSV File'!C:C,'Contractor##'!F:F)","v":-0.2},404.54400000000004,"Bow/Bay:Renew lead covering to sloping bow/bay roof ne 3.00sm (measured on slope) including remove old lead, cut, fit and dress new covering incl. all nailing and caps, drips, welted edges, bossed ends and intersections, dressing to upstands and kerbs, clean out/reform grooves and wedge upstands with lead and repoint in cement mortar (1:3). Cut and dress lead around rainwater outlets."]
["2310GA","CANOPY:RENEW LEAD FLAT","ROOFING","Leadwork","Lead Roof Coverings and Flashings - Code 4","SM",147.56,{"$f":"SUMIF('Contractor##'!C:C,'Planned Maint v6.2 CSV File'!C:C,'Contractor##'!F:F)","v":-0.2},118.048,"Canopy:Renew lead covering to canopies (measured on plan) including remove old lead, cut, fit and dress new covering including all nailing and caps, drips, welted edges, bossed ends and intersections, dressing to upstands and kerbs, clean out/reform grooves and wedge upstands with lead and repoint in mastic, cut and dress lead around rainwater outlets."]
["2311AA","SLATE:RENEW ZINC TO PIPE","ROOFING","Zincwork","Zinc Roof Coverings and Flashings","NO",72.34,{"$f":"SUMIF('Contractor##'!C:C,'Planned Maint v6.2 CSV File'!C:C,'Contractor##'!F:F)","v":-0.2},57.872000000000007,"Slate:Remove existing zinc or proprietary slate to ne 150mm diameter pipe and replace with 500x500mm zinc slate with 200mm high collar to ne 150mm diameter pipe including all labours and remove waste and debris."]
["2311AB","SLATE:RENEW PROPRIETARY ZINC TO PIPE","ROOFING","Zincwork","Zinc Roof Coverings and Flashings","NO",51.32,{"$f":"SUMIF('Contractor##'!C:C,'Planned Maint v6.2 CSV File'!C:C,'Contractor##'!F:F)","v":-0.2},41.056000000000004,"Slate:Remove existing zinc or proprietary slate to ne 150mm diameter pipe and replace with proprietary slate with ne 200mm high collar to ne 150mm diameter pipe including all labours and remove waste and debris."]
["2311AC","FLASHING:RENEW ZINC COVER NE 150MM","ROOFING","Zincwork","Zinc Roof Coverings and Flashings","LM",27.18,{"$f":"SUMIF('Contractor##'!C:C,'Planned Maint v6.2 CSV File'!C:C,'Contractor##'!F:F)","v":-0.2},21.744,"Flashing:Renew zinc cover flashing not exceeding 150mm girth, clean out groove of brickwork, wedge with zinc and repoint in mastic, including all necessary labours and remove waste and debris."]
["2311AD","FLASHING:RENEW ZINC APRON NE 300MM","ROOFING","Zincwork","Zinc Roof Coverings and Flashings","LM",53.04,{"$f":"SUMIF('Contractor##'!C:C,'Planned Maint v6.2 CSV File'!C:C,'Contractor##'!F:F)","v":-0.2},42.432000000000002,"Flashing:Renew zinc apron flashing not exceeding 300mm girth, clean out groove of brickwork, wedge with zinc and repoint in mastic, including all necessary labours and remove waste and debris."]
["2311AE","FIREWALL:RENEW ZINC FLASHINGS TO COPINGS","ROOFING","Zincwork","Zinc Roof Coverings and Flashings","LM",66.33,{"$f":"SUMIF('Contractor##'!C:C,'Planned Maint v6.2 CSV File'!C:C,'Contractor##'!F:F)","v":-0.2},53.064,"Firewall:Remove existing coping stones to firewall and clear away, remove existing flashings to both sides of firewall and renew with new zinc flashings including all dressing etc., supply and fix new PCC coping stones to suit, bedded and pointed in mortar (1:3), and point flashing in mastic."]
["2311BA","FLASHING:TAKE OFF AND REFIX ZINC","ROOFING","Zincwork","Zinc Roof Coverings and Flashings","LM",18.010000000000002,{"$f":"SUMIF('Contractor##'!C:C,'Planned Maint v6.2 CSV File'!C:C,'Contractor##'!F:F)","v":-0.2},14.408000000000001,"Flashing:Take off zinc flashing, set aside, hack out pointing, clean out groove of brickwork, refix flashing and wedge with zinc and repoint in mastic."]
["2311BB","VALLEY:RENEW ZINC GUTTER LINING NE 800MM GIRTH","ROOFING","Zincwork","Zinc Roof Coverings and Flashings","LM",77.510000000000005,{"$f":"SUMIF('Contractor##'!C:C,'Planned Maint v6.2 CSV File'!C:C,'Contractor##'!F:F)","v":-0.2},62.00800000000001,"Valley:Renew zinc valley gutter not exceeding 800mm girth, remove and refix roof tiles or slates and battens as required, including all necessary labours and remove waste and debris."]
["2311BC","VALLEY:RENEW ZINC GUTTER AND BOARDS","ROOFING","Zincwork","Zinc Roof Coverings and Flashings","LM",124.27,{"$f":"SUMIF('Contractor##'!C:C,'Planned Maint v6.2 CSV File'!C:C,'Contractor##'!F:F)","v":-0.2},99.415999999999997,"Valley:Renew zinc valley gutter not exceeding 800mm girth, complete with valley boards and tilting fillets, remove and refix roof tiles or slates as required, including all necessary labours and remove waste and debris."]
["2311BD","VALLEY:REPAIR LEAK TO ZINC WORK","ROOFING","Zincwork","Zinc Roof Coverings and Flashings","IT",24.15,{"$f":"SUMIF('Contractor##'!C:C,'Planned Maint v6.2 CSV File'!C:C,'Contractor##'!F:F)","v":-0.2},19.32,"Valley:Repair leak in zinc valley with wiped joint or soldered on patch, remove and refix tiles and or slates as necessary (measured per valley)."]
["2311BE","FLASHING:RAKE OUT AND REPOINT ZINC","ROOFING","Zincwork","Zinc Roof Coverings and Flashings","LM",9.07,{"$f":"SUMIF('Contractor##'!C:C,'Planned Maint v6.2 CSV File'!C:C,'Contractor##'!F:F)","v":-0.2},7.2560000000000002,"Flashing:Rake out pointing of flashing and repoint in mastic."]
["2311CA","GUTTER:RENEW ZINC CHIMNEY LINING NE 450MM GIRTH","ROOFING","Zincwork","Zinc Roof Coverings and Flashings","LM",58.63,{"$f":"SUMIF('Contractor##'!C:C,'Planned Maint v6.2 CSV File'!C:C,'Contractor##'!F:F)","v":-0.2},46.904000000000003,"Gutter:Renew zinc chimney gutter lining not exceeding 450mm girth, clean out groove of brickwork, wedge with zinc and repoint in mortar (1:3), including all necessary labours and remove waste and debris."]
["2311DA","SOAKER:RENEW OR REFIX ZINC","ROOFING","Zincwork","Zinc Roof Coverings and Flashings","NO",13.24,{"$f":"SUMIF('Contractor##'!C:C,'Planned Maint v6.2 CSV File'!C:C,'Contractor##'!F:F)","v":-0.2},10.592000000000001,"Soaker:Renew zinc soaker not exceeding 250x330mm, clean out joint of brickwork, wedge with zinc and repoint in mastic, including all necessary labours and remove waste and debris."]
["2311EA","ROOF:RENEW ZINC ROOF COVERING","ROOFING","Zincwork","Zinc Roof Coverings and Flashings","SM",118,{"$f":"SUMIF('Contractor##'!C:C,'Planned Maint v6.2 CSV File'!C:C,'Contractor##'!F:F)","v":-0.2},94.4,"Roof:Renew zinc roof covering including remove old zinc, cut, fit and dress new roof covering including all nailing and caps, drips, welted edges, bossed ends and intersections and all labours and remove waste and debris."]
["2311EB","PORCH:RENEW ZINC COVERING TO PORCH","ROOFING","Zincwork","Zinc Roof Coverings and Flashings","SM",129.91999999999999,{"$f":"SUMIF('Contractor##'!C:C,'Planned Maint v6.2 CSV File'!C:C,'Contractor##'!F:F)","v":-0.2},103.93599999999999,"Porch:Renew zinc covering to porch including remove old zinc, cut, fit and dress new porch covering including all nailing and caps, drips, welted edges, bossed ends and intersections and all labours and remove waste and debris."]
["2311EC","DORMERS:RENEW ZINC TO DORMERS","ROOFING","Zincwork","Zinc Roof Coverings and Flashings","SM",138.86000000000001,{"$f":"SUMIF('Contractor##'!C:C,'Planned Maint v6.2 CSV File'!C:C,'Contractor##'!F:F)","v":-0.2},111.08800000000002,"Dormers:Renew zinc covering to dormers including remove old zinc, cut, fit and dress new covering including all nailing and caps, drips, welted edges, bossed ends and intersections and all labours and remove waste and debris."]
["2311ED","CANOPY:RENEW ZINC FLAT ROOF","ROOFING","Zincwork","Zinc Roof Coverings and Flashings","SM",129.91999999999999,{"$f":"SUMIF('Contractor##'!C:C,'Planned Maint v6.2 CSV File'!C:C,'Contractor##'!F:F)","v":-0.2},103.93599999999999,"Canopy:Renew zinc covering to canopies (measured on plan) including remove old zinc, cut, fit and dress new covering including all nailing and caps, drips, welted edges, bossed ends and intersections, dressing to upstands and kerbs, clean out/reform grooves and wedge upstands with zinc and repoint in mastic, cut and dress zinc around rainwater outlets."]
["2312AA","SLATE:RENEW COPPER SLATE","ROOFING","Copperwork","Copper Roof Coverings and Flashings","NO",97.48,{"$f":"SUMIF('Contractor##'!C:C,'Planned Maint v6.2 CSV File'!C:C,'Contractor##'!F:F)","v":-0.2},77.984000000000009,"Slate:Remove existing copper or proprietary slate to ne 150mm diameter pipe and replace with 500x500mm copper slate with 200mm high collar to ne 150mm diameter pipe including all labours and remove waste and debris."]
["2312AB","SLATE:RENEW PROPRIETARY COPPER","ROOFING","Copperwork","Copper Roof Coverings and Flashings","NO",51.32,{"$f":"SUMIF('Contractor##'!C:C,'Planned Maint v6.2 CSV File'!C:C,'Contractor##'!F:F)","v":-0.2},41.056000000000004,"Slate:Remove existing copper or proprietary slate to ne 150mm diameter pipe and replace with proprietary slate with ne 200mm high collar to ne 150mm diameter pipe including all labours and remove waste and debris."]
["2312AC","FLASHING:RENEW COPPER COVER NE 150MM","ROOFING","Copperwork","Copper Roof Coverings and Flashings","LM",37.25,{"$f":"SUMIF('Contractor##'!C:C,'Planned Maint v6.2 CSV File'!C:C,'Contractor##'!F:F)","v":-0.2},29.8,"Flashing:Renew copper cover flashing not exceeding 150mm girth, clean out groove of brickwork, wedge with copper and repoint in mastic, including all necessary labours and remove waste and debris."]
["2312AD","FLASHING:RENEW COPPER APRON NE 300MM","ROOFING","Copperwork","Copper Roof Coverings and Flashings","LM",73.180000000000007,{"$f":"SUMIF('Contractor##'!C:C,'Planned Maint v6.2 CSV File'!C:C,'Contractor##'!F:F)","v":-0.2},58.544000000000011,"Flashing:Renew copper apron flashing not exceeding 300mm girth, clean out groove of brickwork, wedge with copper and repoint in mastic, including all necessary labours and remove waste and debris."]
["2312AG","FIREWALL:RENEW COPPER FLASHINGS TO COPINGS","ROOFING","Copperwork","Copper Roof Coverings and Flashings","LM",116.7,{"$f":"SUMIF('Contractor##'!C:C,'Planned Maint v6.2 CSV File'!C:C,'Contractor##'!F:F)","v":-0.2},93.360000000000014,"Firewall:Remove existing coping stones to firewall and clear away, remove existing flashings to both sides of firewall and renew with new copper flashings including all dressing etc., supply and fix new PCC coping stones to suit, bedded and pointed in mortar (1:3), and point flashing in mastic."]
["2312BA","FLASHING:TAKE OFF AND REFIX COPPER","ROOFING","Copperwork","Copper Roof Coverings and Flashings","LM",18.010000000000002,{"$f":"SUMIF('Contractor##'!C:C,'Planned Maint v6.2 CSV File'!C:C,'Contractor##'!F:F)","v":-0.2},14.408000000000001,"Flashing:Take off copper flashing, set aside, hack out pointing, clean out groove of brickwork, refix flashing and wedge with copper and repoint in mastic."]
["2312BB","FLASHING:RAKE OUT AND REPOINT COPPER","ROOFING","Copperwork","Copper Roof Coverings and Flashings","LM",9.07,{"$f":"SUMIF('Contractor##'!C:C,'Planned Maint v6.2 CSV File'!C:C,'Contractor##'!F:F)","v":-0.2},7.2560000000000002,"Flashing:Rake out pointing of flashing and repoint in mastic."]
["2312CA","GUTTER:RENEW COPPER CHIMNEY LINING NE 450MM GIRTH ","ROOFING","Copperwork","Copper Roof Coverings and Flashings","LM",88.85,{"$f":"SUMIF('Contractor##'!C:C,'Planned Maint v6.2 CSV File'!C:C,'Contractor##'!F:F)","v":-0.2},71.08,"Gutter:Renew copper chimney gutter lining not exceeding 450mm girth, clean out groove of brickwork, wedge with copper and repoint in mastic, including all necessary labours and remove waste and debris."]
["2312CB","VALLEY:RENEW COPPER GUTTER LINING NE 800MM GIRTH","ROOFING","Copperwork","Copper Roof Coverings and Flashings","LM",131.37,{"$f":"SUMIF('Contractor##'!C:C,'Planned Maint v6.2 CSV File'!C:C,'Contractor##'!F:F)","v":-0.2},105.096,"Valley:Renew copper valley gutter not exceeding 800mm girth, remove and refix roof tiles or slates and battens as required, including all necessary labours and remove waste and debris."]
["2312CC","VALLEY:RENEW COPPER GUTTER AND BOARDS","ROOFING","Copperwork","Copper Roof Coverings and Flashings","LM",178,{"$f":"SUMIF('Contractor##'!C:C,'Planned Maint v6.2 CSV File'!C:C,'Contractor##'!F:F)","v":-0.2},142.4,"Valley:Renew copper valley gutter not exceeding 800mm girth, complete with valley boards and tilting fillets, remove and refix roof tiles or slates as required, including all necessary labours and remove waste and debris."]
["2312CD","VALLEY:REPAIR LEAK TO COPPER WORK","ROOFING","Copperwork","Copper Roof Coverings and Flashings","IT",24.15,{"$f":"SUMIF('Contractor##'!C:C,'Planned Maint v6.2 CSV File'!C:C,'Contractor##'!F:F)","v":-0.2},19.32,"Valley:Repair leak in copper valley with wiped joint or soldered on patch, remove and refix tiles and or slates as necessary (measured per valley)."]
["2312DA","SOAKER:RENEW OR REFIX COPPER","ROOFING","Copperwork","Copper Roof Coverings and Flashings","NO",18.62,{"$f":"SUMIF('Contractor##'!C:C,'Planned Maint v6.2 CSV File'!C:C,'Contractor##'!F:F)","v":-0.2},14.896000000000001,"Soaker:Renew copper soaker not exceeding 250x330mm, clean out joint of brickwork, wedge with copper and repoint in mastic, including all necessary labours and remove waste and debris."]
["2312EA","ROOF:RENEW COPPER ROOF COVERING","ROOFING","Copperwork","Copper Roof Coverings and Flashings","SM",185.17,{"$f":"SUMIF('Contractor##'!C:C,'Planned Maint v6.2 CSV File'!C:C,'Contractor##'!F:F)","v":-0.2},148.136,"Roof:Renew copper roof covering including remove old copper, cut, fit and dress new roof covering including all nailing and caps, drips, welted edges, bossed ends and intersections and all labours and remove waste and debris."]
["2312EB","PORCH:RENEW COPPER COVERING TO PORCH","ROOFING","Copperwork","Copper Roof Coverings and Flashings","SM",197.09,{"$f":"SUMIF('Contractor##'!C:C,'Planned Maint v6.2 CSV File'!C:C,'Contractor##'!F:F)","v":-0.2},157.67200000000003,"Porch:Renew copper covering to porch including remove old copper, cut, fit and dress new porch covering including all nailing and caps, drips, welted edges, bossed ends and intersections and all labours and remove waste and debris."]
["2312EC","DORMERS:RENEW COPPER TO DORMERS","ROOFING","Copperwork","Copper Roof Coverings and Flashings","SM",206.03,{"$f":"SUMIF('Contractor##'!C:C,'Planned Maint v6.2 CSV File'!C:C,'Contractor##'!F:F)","v":-0.2},164.82400000000001,"Dormers:Renew copper covering to dormers including remove old copper, cut, fit and dress new covering including all nailing and caps, drips, welted edges, bossed ends and intersections and all labours and remove waste and debris."]
["2312ED","CANOPY:RENEW COPPER FLAT ROOF","ROOFING","Copperwork","Copper Roof Coverings and Flashings","SM",197.09,{"$f":"SUMIF('Contractor##'!C:C,'Planned Maint v6.2 CSV File'!C:C,'Contractor##'!F:F)","v":-0.2},157.67200000000003,"Canopy:Renew copper covering to canopies (measured on plan) including remove old copper, cut, fit and dress new covering including all nailing and caps, drips, welted edges, bossed ends and intersections, dressing to upstands and kerbs, clean out/reform grooves and wedge upstands with copper and repoint in mastic, cut and dress copper around rainwater outlets."]
["3011AB","JOIST:RENEW NE 100MM DEEP TO FLOOR","CARPENTRY AND JOINERY","Floors, Roofs and Partitions","Floors","LM",15.02,{"$f":"SUMIF('Contractor##'!C:C,'Planned Maint v6.2 CSV File'!C:C,'Contractor##'!F:F)","v":-0.1135},13.31523,"Joist:Renew with pressure impregnated sawn softeood floor joist ne 100mm deep to match existing, cut out and clear away existing, cut new joist to length and fix including all packings, cleats, hangers, noggins, solid strutting etc., apply preservative to cut ends and cut out and make good brickwork as necessary."]
["3011AD","JOIST:RENEW NE 225MM DEEP TO FLOOR","CARPENTRY AND JOINERY","Floors, Roofs and Partitions","Floors","LM",15.65,{"$f":"SUMIF('Contractor##'!C:C,'Planned Maint v6.2 CSV File'!C:C,'Contractor##'!F:F)","v":-0.1135},13.873725,"Joist:Renew with pressure impregnated sawn softwood floor joist ne 225mm deep to match extg. cut out and clear away existing, cut new joist to length and fix including all packings, cleats, hangers, noggins, solid strutting etc., apply preservative to cut ends and cut out and make good brickwork as necessary."]
["3011AE","JOIST:LEVEL JOIST WITH PACKINGS","CARPENTRY AND JOINERY","Floors, Roofs and Partitions","Floors","NO",24.37,{"$f":"SUMIF('Contractor##'!C:C,'Planned Maint v6.2 CSV File'!C:C,'Contractor##'!F:F)","v":-0.1135},21.604005000000001,"Joist:Level joist by inserting packings including take up floorboards and refix, make good any finishes disturbed, remove and refix any carpets and furniture. (Measured per joist). (Not to be claimed in conjunction with joist renewal)."]
["3012AA","FLOOR:STRIP OUT TIMBER FLOOR","CARPENTRY AND JOINERY","Floors, Roofs and Partitions","Floors","SM",7.81,{"$f":"SUMIF('Contractor##'!C:C,'Planned Maint v6.2 CSV File'!C:C,'Contractor##'!F:F)","v":-0.1135},6.9235649999999991,"Floor:Strip out defective timber floor complete with any redundant service installation attached or passing through floor in conjunction with dpc wall treatment, and remove waste and debris."]
["3012AB","FLOOR:STRIP OUT FLOOR AND SLEEPERS","CARPENTRY AND JOINERY","Floors, Roofs and Partitions","Floors","SM",12.62,{"$f":"SUMIF('Contractor##'!C:C,'Planned Maint v6.2 CSV File'!C:C,'Contractor##'!F:F)","v":-0.1135},11.187629999999999,"Floor:Strip out defective timber floor complete with any redundant service installation attached or passing through floor, demolish sleeper walls down to sub-floor level, make good all works disturbed, and remove waste and debris, prepare to receive new solid floor (new floor measured separately)."]
["3012AC","FLOOR:RENEW GROUND FLOOR COMPLETE","CARPENTRY AND JOINERY","Floors, Roofs and Partitions","Floors","SM",104.51,{"$f":"SUMIF('Contractor##'!C:C,'Planned Maint v6.2 CSV File'!C:C,'Contractor##'!F:F)","v":-0.1135},92.648115000000004,"Floor:Strip out existing floor and sleeper walls, remove void debris, construct half brick sleeper walls in cement mortar (1:3) on concrete foundation including excavation and disposal and lay new softwood floor comprising 22mm square edge boards ne 50x125mm joists and ne 50x100mm wall plates including dpc, all in pretreated timber, and remove waste and debris."]
["3012BA","FLOOR:CLEAR ALL DEBRIS FROM VOID","CARPENTRY AND JOINERY","Floors, Roofs and Partitions","Floors","CM",24.69,{"$f":"SUMIF('Contractor##'!C:C,'Planned Maint v6.2 CSV File'!C:C,'Contractor##'!F:F)","v":-0.1135},21.887685000000001,"Floor:Clear all existing debris from under floor void in conjunction with dpc wall treatment, and remove waste and debris."]
["3012CA","FLOOR:CUT BACK END ROTTED JOISTS NE 150MM","SPECIALIST TREATMENTS","Fungus and Beetle Eradication and DPC Works","Floor Renewals due to Fungus/Beetle Eradication or DPC Works","NO",5.08,{"$f":"SUMIF('Contractor##'!C:C,'Planned Maint v6.2 CSV File'!C:C,'Contractor##'!F:F)","v":-0.27500000000000002},3.6829999999999998,"Floor:Remove remnants of any joists ne 150mm deep and other timber from walls and brick up any pockets remaining, and remove waste and debris."]
["3012CB","FLOOR:CUT BACK END ROTTED JOISTS NE 300MM","SPECIALIST TREATMENTS","Fungus and Beetle Eradication and DPC Works","Floor Renewals due to Fungus/Beetle Eradication or DPC Works","NO",6.9,{"$f":"SUMIF('Contractor##'!C:C,'Planned Maint v6.2 CSV File'!C:C,'Contractor##'!F:F)","v":-0.27500000000000002},5.0025000000000004,"Floor:Remove remnants of any joists and other timbers over 150 and ne 300mm deep from walls and brick up any pockets remaining, and remove waste and debris."]
["3012DA","FLOOR:RENEW SOFTWOOD FLOOR COMPLETE","CARPENTRY AND JOINERY","Floors, Roofs and Partitions","Floors","SM",63.37,{"$f":"SUMIF('Contractor##'!C:C,'Planned Maint v6.2 CSV File'!C:C,'Contractor##'!F:F)","v":-0.1135},56.177504999999996,"Floor:Renew softwood floor comprising 22mm square edge boards, ne 50x125mm joists and ne 50x100mm wall plates including dpc, all in pretreated timber, complete with galvanised joist hangers, cut and primed in, and remove waste and debris."]
["3012DB","FLOOR:RENEW SOFTWOOD UPPER FLOOR COMPLETE","CARPENTRY AND JOINERY","Floors, Roofs and Partitions","Floors","SM",66.680000000000007,{"$f":"SUMIF('Contractor##'!C:C,'Planned Maint v6.2 CSV File'!C:C,'Contractor##'!F:F)","v":-0.1135},{"$f":"(1+H836)*G836","v":59.111820000000002},"Floor:Renew softwood upper floor comprising 22mm square edge boards ne 50x175mm joists and ne 50x100mm wall plates including dpc, 25x50mm strutting, all in pretreated timber, complete with galvanised joist hangers, cut and primed in, including trimming to openings, and remove waste and debris."]
["3012EA","FLOOR:CONSTRUCT SOFTWOOD FLOOR","CARPENTRY AND JOINERY","Floors, Roofs and Partitions","Floors","SM",52.44,{"$f":"SUMIF('Contractor##'!C:C,'Planned Maint v6.2 CSV File'!C:C,'Contractor##'!F:F)","v":-0.1135},46.488059999999997,"Floor:Construct softwood floor comprising 22mm square edge boards, ne 50x125mm joists and ne 50x100mm wall plates including dpc, in pretreated timber, complete with galvanised joist hangers, cut and primed in, and remove waste and debris."]
["3012EB","FLOOR:CONSTRUCT SOFTWOOD UPPER FLOOR","CARPENTRY AND JOINERY","Floors, Roofs and Partitions","Floors","SM",55.74,{"$f":"SUMIF('Contractor##'!C:C,'Planned Maint v6.2 CSV File'!C:C,'Contractor##'!F:F)","v":-0.1135},49.413510000000002,"Floor:Construct softwood upper floor comprising 22mm square edge boards, ne 50x175mm joists and ne 50x100mm wall plates including dpc, 25x50mm strutting, all in pretreated timber, including trimming to openings in pretreated timber, complete with galvanised joists hangers, cut and primed in, and remove waste and debris."]
["3013AA","PARTITION:ERECT TIMBER STUD AND PLASTERBOARD BF","CARPENTRY AND JOINERY","Floors, Roofs and Partitions","Wall or Partitions","SM",54.76,{"$f":"SUMIF('Contractor##'!C:C,'Planned Maint v6.2 CSV File'!C:C,'Contractor##'!F:F)","v":-0.1135},48.544739999999997,"Partition:Supply and erect or renew stud partition comprising ne 50x100mm sole and head plate, noggins and studs fixed with nails or plugged and screwed to walls, and pack out and scribe, 12.5mm taper edged plasterboard scrim jointed and all labours to both faces."]
["3013AB","PARTITION:ERECT TIMBER STUD PLASTERBOARD SKIM BF ","CARPENTRY AND JOINERY","Floors, Roofs and Partitions","Wall or Partitions","SM",62.11,{"$f":"SUMIF('Contractor##'!C:C,'Planned Maint v6.2 CSV File'!C:C,'Contractor##'!F:F)","v":-0.1135},55.060514999999995,"Partition:Supply and erect or renew stud partition comprising ne 50x100mm sole and head plate, noggins and studs fixed with nails or plugged and screwed to walls, and pack out and scribe, 12.5mm butt jointed plasterboard and 3mm plaster skim coat and all labours to both faces."]
["3013AC","PARTITION:INSTALL INSULATION INFILL NE 100MM","CARPENTRY AND JOINERY","Floors, Roofs and Partitions","Wall or Partitions","SM",3.48,{"$f":"SUMIF('Contractor##'!C:C,'Planned Maint v6.2 CSV File'!C:C,'Contractor##'!F:F)","v":-0.1135},3.0850199999999997,"Partition:Insulation infill ne 100mm thick to stud partition."]
["3013AD","PARTITION:INSTALL SOUND INFILL 75M","CARPENTRY AND JOINERY","Floors, Roofs and Partitions","Wall or Partitions","SM",5.04,{"$f":"SUMIF('Contractor##'!C:C,'Planned Maint v6.2 CSV File'!C:C,'Contractor##'!F:F)","v":-0.1135},4.4679599999999997,"Partition:Sound insulation infill 75mm thick to stud partition."]
["3013BA","PARTITION:ERECT METAL STUD AND PLASTERBOARD BF","CARPENTRY AND JOINERY","Floors, Roofs and Partitions","Wall or Partitions","SM",38.47,{"$f":"SUMIF('Contractor##'!C:C,'Planned Maint v6.2 CSV File'!C:C,'Contractor##'!F:F)","v":-0.1135},34.103654999999996,"Partition:Supply and erect or renew proprietary metal stud partition comprising sole and head plate, noggins and studs fixed with nails or plugged and screwed to walls, and pack out and scribe, 12.5mm taper edged plasterboard scrim jointed and all labours to both faces."]
["3013BB","PARTITION:METAL STUD PLASTERBOARD SKIM BF","CARPENTRY AND JOINERY","Floors, Roofs and Partitions","Wall or Partitions","SM",42.73,{"$f":"SUMIF('Contractor##'!C:C,'Planned Maint v6.2 CSV File'!C:C,'Contractor##'!F:F)","v":-0.1135},37.880144999999999,"Partition:Supply and erect or renew proprietary metal stud partition comprising sole and head plate, noggins and studs fixed with nails or plugged and screwed to walls, and pack out and scribe, 12.5mm butt jointed plasterboard and 3mm plaster skim coat and all labours to both faces."]
["3013CA","PARTITION:FILL IN OPENING IN TIMBER STUDDING","CARPENTRY AND JOINERY","Floors, Roofs and Partitions","Wall or Partitions","IT",72.900000000000006,{"$f":"SUMIF('Contractor##'!C:C,'Planned Maint v6.2 CSV File'!C:C,'Contractor##'!F:F)","v":-0.1135},64.62585,"Partition:Fill in existing opening in stud partition with ne 50x100mm sole and head plate, noggins and studs fixed with nails or plugged and screwed to walls, and pack out and scribe, 12.5mm taper edged plasterboard scrim jointed and all labours and provide skirting to match existing to both faces."]
["3013CB","PARTITION:FORM OPENING IN TIMBER STUDDING","CARPENTRY AND JOINERY","Floors, Roofs and Partitions","Wall or Partitions","IT",75.38,{"$f":"SUMIF('Contractor##'!C:C,'Planned Maint v6.2 CSV File'!C:C,'Contractor##'!F:F)","v":-0.1135},66.824369999999988,"Partition:Cut and form opening in existing stud partition plastered both sides, frame up opening with 50x100mm head plate, noggins and studs fixed with nails or plugged and screwed to walls, and pack out and scribe, make good plasterboard and 3mm plaster skim coat, extend flooring through opening on bearers, make good all works disturbed and remove debris from site."]
["3014AA","LARDER:REMOVE AND REFIX INSITU LARDER","SPECIALIST TREATMENTS","Fungus and Beetle Eradication and DPC Works","Wall Or Partition Renewals Due to Fungus/Beetle Eradication or DPC Works","IT",32.5,{"$f":"SUMIF('Contractor##'!C:C,'Planned Maint v6.2 CSV File'!C:C,'Contractor##'!F:F)","v":-0.27500000000000002},23.5625,"Larder:Remove, set aside, store and later refix built insitu, studded larder or storage unit in conjunction with specialist treatment, reinstate entire unit including make good any damage caused whilst dismantling, and remove waste and debris."]
["3014AB","WALL:RENEW NON LOAD PARTITION","SPECIALIST TREATMENTS","Fungus and Beetle Eradication and DPC Works","Wall Or Partition Renewals Due to Fungus/Beetle Eradication or DPC Works","SM",69.67,{"$f":"SUMIF('Contractor##'!C:C,'Planned Maint v6.2 CSV File'!C:C,'Contractor##'!F:F)","v":-0.27500000000000002},50.510750000000002,"Wall:Renew any non structural partition with softwood studding faced both sides with skim coated 12.5m plasterboard and skirting, refix any fittings, make good to adjacent surfaces, all in conjunction with specialist treatmen, and remove waste and debris."]
["3015AA","PLATE:RENEW 75X100MM WALL PLATE","CARPENTRY AND JOINERY","Floors, Roofs and Partitions","Wall Plates","LM",7.05,{"$f":"SUMIF('Contractor##'!C:C,'Planned Maint v6.2 CSV File'!C:C,'Contractor##'!F:F)","v":-0.1135},6.2498249999999995,"Plate:Renew pressure impregnated sawn softwood wall plate ne 75x100mm, bedded in cement mortar (1:3) and apply preservative to cut ends, and remove waste and debris."]
["3015AB","PLATE:RENEW WALL PLATE AND DPC","CARPENTRY AND JOINERY","Floors, Roofs and Partitions","Wall Plates","LM",8.85,{"$f":"SUMIF('Contractor##'!C:C,'Planned Maint v6.2 CSV File'!C:C,'Contractor##'!F:F)","v":-0.1135},7.8455249999999994,"Plate:Renew pressure impregnated sawn softwood wall plate ne 75x100mm, bedded in cement mortar (1:3) and apply preservative to cut ends on and including polypropylene damp proof course 138mm girth, and remove waste and debris."]
["3017AA","RAFTER:RENEW NE 175MM RAFTER OR JOIST","CARPENTRY AND JOINERY","Floors, Roofs and Partitions","Roof Members","LM",8.6999999999999993,{"$f":"SUMIF('Contractor##'!C:C,'Planned Maint v6.2 CSV File'!C:C,'Contractor##'!F:F)","v":-0.1135},7.7125499999999994,"Rafter:Renew with pressure impregnated sawn softwood rafter/roof joist, ne 175mm deep to match existing in loft space, cut new rafter or roof joist to length, apply preservative to cut ends, cut out and make good to brickwork as necessary and all hangers, drilling and bolting with connectors to existing rafters or joists, and remove waste and debris."]
["3017BA","COLLAR/STRUT:RENEW NE 175MM THICK","CARPENTRY AND JOINERY","Floors, Roofs and Partitions","Roof Members","LM",11.83,{"$f":"SUMIF('Contractor##'!C:C,'Planned Maint v6.2 CSV File'!C:C,'Contractor##'!F:F)","v":-0.1135},10.487295,"Collar/Strut:Renew with pressure impregnated sawn softwood collar or strut, ne 175mm thick to match existing in roof space, cut new collar to length, apply preservative to cut ends, and cut out and make good brickwork as necessary and all hangers, drilling and bolting with connectors to existing roof timbers, and remove waste and debris."]
["3017CA","FLAT:CONVERT TO PITCHED","CARPENTRY AND JOINERY","Floors, Roofs and Partitions","Roof Members","SM",95.34,{"$f":"SUMIF('Contractor##'!C:C,'Planned Maint v6.2 CSV File'!C:C,'Contractor##'!F:F)","v":-0.1135},84.518910000000005,"Flat:Convert flat roof to extension to pitched roof, trim back front edge of main roof for 125x75mm wall plate fixed with anchor bolts, 50x75mm rafters at 450mm centres to match main roof pitch, 100mm insulation quilt laid on existing flat roof, 50x75mm and 75x100mm gable and fire stop framing, 12.7mm plasterboard both sides of fire stop framing, PVCu cladding with all necessary trims, couplers etc to gable end framing, 100mm fibreglass laid on rafters. (roof covering, fascia, soffit, rainwater gutter, flashings all measured separately) (measured on flat area of roof being converted), and remove waste and debris."]
["3017DA","FLAT:RENEW TO BAY/PORCH","CARPENTRY AND JOINERY","Floors, Roofs and Partitions","Roof Members","SM",74.569999999999993,{"$f":"SUMIF('Contractor##'!C:C,'Planned Maint v6.2 CSV File'!C:C,'Contractor##'!F:F)","v":-0.1135},66.106304999999992,"Flat:Renew flat roof construction to bay or porch, strip existing decking, roof joists, wall plates etc, renew in pretreated softwood to match existing including renewing fascia, soffit boards etc, renew roof decking in 18mm WBP plywood, renew all drips, kerbs, upstands and welting strips, make good to all finishes (roof covering, rainwater gutters, flashings measured separately), and remove waste and debris."]
["3019AA","HANGER:RENEW GALVANISED JOIST HANGER","CARPENTRY AND JOINERY","Floors, Roofs and Partitions","Joist Hangers","NO",5.35,{"$f":"SUMIF('Contractor##'!C:C,'Planned Maint v6.2 CSV File'!C:C,'Contractor##'!F:F)","v":-0.1135},4.7427749999999991,"Hanger:Renew galvanised joist hanger, cut out, bed in mortar and make good brickwork, renew in conjunction with joist repairs."]
["3019AB","HANGER:CUT OUT AND INSERT JOIST HANGER","CARPENTRY AND JOINERY","Floors, Roofs and Partitions","Joist Hangers","NO",7.85,{"$f":"SUMIF('Contractor##'!C:C,'Planned Maint v6.2 CSV File'!C:C,'Contractor##'!F:F)","v":-0.1135},6.9590249999999996,"Hanger:Cut out and insert galvanised steel joist hanger to correct floor alignment, bed in mortar, pin, make good brickwork, renew in conjunction with floor or joist repairs."]
["3030AA","FASCIA:RENEW IN SOFTWOOD NE 300MM","CARPENTRY AND JOINERY","Fascia, Soffit and Bargeboards","Fascias, Soffit and Bargeboards - Timber","LM",21.94,{"$f":"SUMIF('Contractor##'!C:C,'Planned Maint v6.2 CSV File'!C:C,'Contractor##'!F:F)","v":-0.1135},19.449809999999999,"Fascia/Barge:Renew fascia or barge with preservative treated softwood, ne 300mm wide, fixed to roof timbers, apply preservative to cut ends, remove/refix rainwater goods and any cabling, adjust roof tiles and felt, renewal of any support battens and all mitred joints and prepare for redecoration."]
["3030AB","FASCIA:RENEW IN SHIPLAP BOARDING NE 300MM","CARPENTRY AND JOINERY","Fascias, Soffits and Bargeboards","Fascias etc - Timber","LM",8.19,{"$f":"SUMIF('Contractor##'!C:C,'Planned Maint v6.2 CSV File'!C:C,'Contractor##'!F:F)","v":-0.1135},7.2604349999999993,"Fascia/Barge:Renew fascia or barge with 19mm treated softwood shiplap boarding, ne 300mm wide fixed to roof timbers, apply preservative to cut ends, remove/refix rainwater goods and any cabling, adjust roof tiles and felt, renewal of any support battens and all mitred joints and prepare for redecoration."]
["3030BA","FASCIA:RENEW IN WBP PLYWOOD NE 300MM","CARPENTRY AND JOINERY","Fascia, Soffit and Bargeboards","Fascias, Soffit and Bargeboards - Timber","LM",19.809999999999999,{"$f":"SUMIF('Contractor##'!C:C,'Planned Maint v6.2 CSV File'!C:C,'Contractor##'!F:F)","v":-0.1135},17.561564999999998,"Fascia/Barge:Renew fascia or barge with WPB external quality plywood, ne 300mm wide fixed to roof timbers, apply preservative to cut ends, remove/refix rainwater goods and any cabling, adjust roof tiles and felt, renewal of any support battens and all mitred joints and prepare for redecoration."]
["3030CA","FASCIA:RENEW IN PVCU NE 300MM","CARPENTRY AND JOINERY","Fascia, Soffit and Bargeboards","Fascias, Soffit and Bargeboards - PVCu","LM",18.88,{"$f":"SUMIF('Contractor##'!C:C,'Planned Maint v6.2 CSV File'!C:C,'Contractor##'!F:F)","v":-0.1135},16.737119999999997,"Fascia/Barge:Renew fascia or barge with proprietary PVCu board ne 300mm wide fixed to roof timbers, remove/refix rainwater goods and any cabling, remove existing board, adjust roof tiles and felt, renewal of any support battens and all joints, including all cutting and packing to ensure line and level."]
["3030CB","FASCIA:RENEW IN PVC SHIPLAP NE 300MM","CARPENTRY AND JOINERY","Fascias, Soffits and Bargeboards","Fascias etc - PVC Shiplap","LM",12.89,{"$f":"SUMIF('Contractor##'!C:C,'Planned Maint v6.2 CSV File'!C:C,'Contractor##'!F:F)","v":-0.1135},11.426985,"Fascia/Barge:Renew fascia or barge with proprietary PVC shiplap board ne 300mm wide fixed to roof timbers, remove/refix rainwater goods and any cabling, remove existing board, adjust roof tiles and felt, renewal of any support battens and all joints, including all cutting and packing to ensure line and level."]
["3030DA","SOFFIT:RENEW IN SOFTWOOD NE 450MM","CARPENTRY AND JOINERY","Fascia, Soffit and Bargeboards","Fascias, Soffit and Bargeboards - Timber","LM",20.78,{"$f":"SUMIF('Contractor##'!C:C,'Planned Maint v6.2 CSV File'!C:C,'Contractor##'!F:F)","v":-0.1135},18.421469999999999,"Soffit:Renew soffit boardwith treated softwood ne 450mm wide including renew noggins as necessary fixed to roof timbers and refix cables and prepare for redecoration."]
["3030DB","SOFFIT:RENEW IN SOFTWOOD WITH VENT","CARPENTRY AND JOINERY","Fascia, Soffit and Bargeboards","Fascias, Soffit and Bargeboards - Timber","LM",33.409999999999997,{"$f":"SUMIF('Contractor##'!C:C,'Planned Maint v6.2 CSV File'!C:C,'Contractor##'!F:F)","v":-0.1135},29.617964999999995,"Soffit:Renew soffit boardwith treated softwood ne 450mm wide including ventilation strip, renew noggins as necessary fixed to roof timbers and refix cables and prepare for redecoration."]
["3030EA","SOFFIT:RENEW IN PLYWOOD NE 450MM","CARPENTRY AND JOINERY","Fascia, Soffit and Bargeboards","Fascias, Soffit and Bargeboards - Timber","LM",19.690000000000001,{"$f":"SUMIF('Contractor##'!C:C,'Planned Maint v6.2 CSV File'!C:C,'Contractor##'!F:F)","v":-0.1135},17.455185,"Soffit:Renew soffit boardwith WPB plywood ne 450mm wide including renew noggins as necessary fixed to roof timbers and refix cables and prepare for redecoration."]
["3030EB","SOFFIT:RENEW IN PLYWOOD WITH VENT","CARPENTRY AND JOINERY","Fascia, Soffit and Bargeboards","Fascias, Soffit and Bargeboards - Timber","LM",32.33,{"$f":"SUMIF('Contractor##'!C:C,'Planned Maint v6.2 CSV File'!C:C,'Contractor##'!F:F)","v":-0.1135},28.660544999999995,"Soffit:Renew soffit boardwith WPB plywood ne 450mm wide including ventilation strip, renew noggins as necessary fixed to roof timbers and refix cables and prepare for redecoration."]
["3030EC","SOFFIT:RENEW IN SHIPLAP BOARDING  NE 450MM","CARPENTRY AND JOINERY","Fascias, Soffits and Bargeboards","Fascias etc - Timber","LM",13.69,{"$f":"SUMIF('Contractor##'!C:C,'Planned Maint v6.2 CSV File'!C:C,'Contractor##'!F:F)","v":-0.1135},12.136184999999999,"Soffit:Renew soffit board with 19mm treated softwood shiplap boarding ne 450mm wide including renew noggins as necessary fixed to roof timbers and refix cables and prepare for redecoration."]
["3030ED","SOFFIT:RENEW IN SHIPLAP BOARDING VENT","CARPENTRY AND JOINERY","Fascias, Soffits and Bargeboards","Fascias etc - Timber","LM",33.92,{"$f":"SUMIF('Contractor##'!C:C,'Planned Maint v6.2 CSV File'!C:C,'Contractor##'!F:F)","v":-0.1135},30.070080000000001,"Soffit:Renew soffit boardwith 19mm treated softwood shiplap boarding ne 450mm wide including ventilation strip, renew noggins as necessary fixed to roof timbers and refix cables and prepare for redecoration."]
["3030FA","SOFFIT:RENEW IN MASTERBOARD NE 450MM","CARPENTRY AND JOINERY","Fascia, Soffit and Bargeboards","Fascias, Soffit and Bargeboards - Masterboard","LM",32.46,{"$f":"SUMIF('Contractor##'!C:C,'Planned Maint v6.2 CSV File'!C:C,'Contractor##'!F:F)","v":-0.1135},28.775790000000001,"Soffit:Renew soffit boardwith Masterboard ne 450mm wide including renew noggins as necessary fixed to roof timbers and refix cables and prepare for redecoration."]
["3030FB","SOFFIT:RENEW IN MASTERBOARD WITH VENT","CARPENTRY AND JOINERY","Fascia, Soffit and Bargeboards","Fascias, Soffit and Bargeboards - Masterboard","LM",45.09,{"$f":"SUMIF('Contractor##'!C:C,'Planned Maint v6.2 CSV File'!C:C,'Contractor##'!F:F)","v":-0.1135},39.972284999999999,"Soffit:Renew soffit boardwith Masterboard ne 450mm wide including ventilation strip, renew noggins as necessary fixed to roof timbers and refix cables and prepare for redecoration."]
["3030GA","SOFFIT:RENEW IN PVCU NE 450MM","CARPENTRY AND JOINERY","Fascia, Soffit and Bargeboards","Fascias, Soffit and Bargeboards - PVCu","LM",23.49,{"$f":"SUMIF('Contractor##'!C:C,'Planned Maint v6.2 CSV File'!C:C,'Contractor##'!F:F)","v":-0.1135},20.823884999999997,"Soffit:Renew soffit boardwith PVCu board ne 450mm wide including remove existing, renew noggins as necessary and fix new board to roof timbers and refix cables."]
["3030GB","SOFFIT:RENEW IN PVCU WITH VENT","CARPENTRY AND JOINERY","Fascia, Soffit and Bargeboards","Fascias, Soffit and Bargeboards - PVCu","LM",32.369999999999997,{"$f":"SUMIF('Contractor##'!C:C,'Planned Maint v6.2 CSV File'!C:C,'Contractor##'!F:F)","v":-0.1135},28.696004999999996,"Soffit:Renew soffit boardwith PVCu board ne 450mm wide including ventilation strip, remove existing, renew noggins as necessary and fix new board to roof timbers and refix cables."]
["3030GC","BOXED END:RENEW IN PVCU TO FASCIA AND SOFFIT","CARPENTRY AND JOINERY","Fascia, Soffit and Bargeboards","Fascias, Soffit and Bargeboards - PVCu","NO",34.69,{"$f":"SUMIF('Contractor##'!C:C,'Planned Maint v6.2 CSV File'!C:C,'Contractor##'!F:F)","v":-0.1135},30.752684999999996,"Boxed End:Renew boxed end to fascia and soffit including renewing as required timber supports, new proprietary PVCu board soffit, fascia etc. and all cutting and shaping and jointing to existing fascias, soffits etc."]
["3030GD","SOFFIT:RENEW IN PVC SHIPLAP NE 450MM","CARPENTRY AND JOINERY","Fascias, Soffits and Bargeboards","Fascias etc - PVC Shiplap","LM",20.72,{"$f":"SUMIF('Contractor##'!C:C,'Planned Maint v6.2 CSV File'!C:C,'Contractor##'!F:F)","v":-0.1135},18.368279999999999,"Soffit:Renew soffit boardwith PVC shiplap board ne 450mm wide including remove existing, renew noggins as necessary and fix new board to roof timbers and refix cables."]
["3030GE","SOFFIT:RENEW IN PVC SHIPLAP VENT","CARPENTRY AND JOINERY","Fascias, Soffits and Bargeboards","Fascias etc - PVC Shiplap","LM",49.55,{"$f":"SUMIF('Contractor##'!C:C,'Planned Maint v6.2 CSV File'!C:C,'Contractor##'!F:F)","v":-0.1135},43.926074999999997,"Soffit:Renew soffit boardwith PVC shiplap board ne 450mm wide including ventilation strip, remove existing, renew noggins as necessary and fix new board to roof timbers and refix cables."]
["3030GF","BOXED END:RENEW IN PVC SHIPLAP TO FASCIA + SOFFIT","CARPENTRY AND JOINERY","Fascias, Soffits and Bargeboards","Fascias etc - PVC Shiplap","NO",34.69,{"$f":"SUMIF('Contractor##'!C:C,'Planned Maint v6.2 CSV File'!C:C,'Contractor##'!F:F)","v":-0.1135},30.752684999999996,"Boxed End:Renew boxed end to fascia and soffit including renewing as required timber supports, new proprietary PVC shiplap board soffit, fascia etc. and all cutting and shaping and jointing to existing fascias, soffits etc."]
["3030HA","FASCIA/SOFFIT/BARGE:REFIX","CARPENTRY AND JOINERY","Fascia, Soffit and Bargeboards","Fascias, Soffit and Bargeboards - Timber","LM",11.87,{"$f":"SUMIF('Contractor##'!C:C,'Planned Maint v6.2 CSV File'!C:C,'Contractor##'!F:F)","v":-0.1135},10.522754999999998,"Fascia/Soffit/Barge:Refix any size fascia, soffit or bargeboard to existing roof timbers including remove/refix rainwater goods and cabling as necessary, renewal of support battens, all cutting and packing and prepare for redecoration."]
["3030IA","BOXED END:RENEW TO FASCIA AND SOFFIT","CARPENTRY AND JOINERY","Fascia, Soffit and Bargeboards","Fascias, Soffit and Bargeboards - Timber","NO",27.21,{"$f":"SUMIF('Contractor##'!C:C,'Planned Maint v6.2 CSV File'!C:C,'Contractor##'!F:F)","v":-0.1135},24.121665,"Boxed End:Renew boxed end to fascia and soffit including renewing any required timber supports, new WPB plywood soffit, fascia etc and all cutting and shaping and jointing to existing fascias, soffits etc and prepare for redecoration."]
["3030JA","VENT:INSTALL IN FASCIA/SOFFIT","CARPENTRY AND JOINERY","Fascia, Soffit and Bargeboards","Vent","NO",12.94,{"$f":"SUMIF('Contractor##'!C:C,'Planned Maint v6.2 CSV File'!C:C,'Contractor##'!F:F)","v":-0.1135},11.471309999999999,"Vent:Install 225x75mm or 225x150mm aluminium vent in any type of fascia or soffit, cut opening, including any additional noggins etc"]
["3031XX","GUTTER:REALIGN TIMBER GUTTER","CARPENTRY AND JOINERY","Fascia, Soffit and Bargeboards","Rainwater Gutters - Timber","LM",7.5,{"$f":"SUMIF('Contractor##'!C:C,'Planned Maint v6.2 CSV File'!C:C,'Contractor##'!F:F)","v":-0.1135},6.6487499999999997,"Gutter:Take down any timber gutter, remove and refix brackets to fascia and refix gutter to brackets including all angles, outlets, stop ends and remake all joints and remove waste and debris."]
["3051AA","FLOORING:RENEW IN 19MM PLYWOOD","CARPENTRY AND JOINERY","Flooring","Flooring - Rigid Sheet - WPB Plywood","SM",28.51,{"$f":"SUMIF('Contractor##'!C:C,'Planned Maint v6.2 CSV File'!C:C,'Contractor##'!F:F)","v":-0.1135},25.274114999999998,"Flooring:Renew any flooring with 19mm WBP plywood including denail joists, clear debris, punch in nails, level to existing and make good including additional noggins and support battens as necessary."]
["3051AB","FLOORING:RENEW IN 6MM PLYWOOD","CARPENTRY AND JOINERY","Flooring","Flooring - Rigid Sheet - WPB Plywood","SM",16.89,{"$f":"SUMIF('Contractor##'!C:C,'Planned Maint v6.2 CSV File'!C:C,'Contractor##'!F:F)","v":-0.1135},14.972985,"Flooring:Renew any flooring with 6mm WBP plywood including denail joists, clear debris, punch in nails, level to existing and make good including additional noggins and support battens as necessary."]
["3053AA","FLOORING:RENEW IN 19MM CHIPBOARD","CARPENTRY AND JOINERY","Flooring","Flooring - Rigid Sheet - Flooring Grade Chipboard","SM",17.52,{"$f":"SUMIF('Contractor##'!C:C,'Planned Maint v6.2 CSV File'!C:C,'Contractor##'!F:F)","v":-0.1135},15.531479999999998,"Flooring:Renew any flooring with 19mm flooring grade V313 waterproof chipboard including denail joists, clear away debris, punch in nails, level to existing and make good including additional noggins and support battens as necessary."]
["3053AB","FLOORING:RENEW IN INSULATED CHIPBOARD","CARPENTRY AND JOINERY","Flooring","Flooring - Rigid Sheet - Flooring Grade Chipboard","SM",25.64,{"$f":"SUMIF('Contractor##'!C:C,'Planned Maint v6.2 CSV File'!C:C,'Contractor##'!F:F)","v":-0.1135},22.729859999999999,"Flooring:Renew any flooring with flooring grade V313 waterproof insulating chipboard including denail joists, clear away debris, punch in nails and level to existing and make good including additional noggins and support battens necessary."]
["3053BA","FLOORING:19MM CHIPBOARD IN ROOF SPACE","CARPENTRY AND JOINERY","Flooring","Flooring - Rigid Sheet - Flooring Grade Chipboard","SM",19.079999999999998,{"$f":"SUMIF('Contractor##'!C:C,'Planned Maint v6.2 CSV File'!C:C,'Contractor##'!F:F)","v":-0.1135},16.914419999999996,"Flooring:Overboard within roof space with 19mm flooring grade V313 waterproof chipboard including additional noggins and support battens as necessary."]
["3055AA","FLOORING:SUPPLY AND LAY HARDBOARD","CARPENTRY AND JOINERY","Flooring","Flooring - Hardboard","SM",7.41,{"$f":"SUMIF('Contractor##'!C:C,'Planned Maint v6.2 CSV File'!C:C,'Contractor##'!F:F)","v":-0.1135},6.5689649999999995,"Flooring:Supply and lay 3.2mm flooring grade hardboard nailed to existing floorboard at 150mm centres with wired nails and level as necessary."]
["3057AA","FLOORBOARD:RENEW ANY TYPE","CARPENTRY AND JOINERY","Flooring","Flooring - Timber Board","SM",42.52,{"$f":"SUMIF('Contractor##'!C:C,'Planned Maint v6.2 CSV File'!C:C,'Contractor##'!F:F)","v":-0.1135},37.693980000000003,"Floorboard:Renew to match existing any flooring with 19mm tongued and grooved or square edged flooring including denail joists, clear away debris, punch in nails, level to existing and make good including any extra support noggins required."]
["3057BA","FLOORBOARDS:REMOVE AND REFIX AREA","CARPENTRY AND JOINERY","Flooring","Flooring - Timber Board","SM",13.12,{"$f":"SUMIF('Contractor##'!C:C,'Planned Maint v6.2 CSV File'!C:C,'Contractor##'!F:F)","v":-0.1135},11.630879999999999,"Floorboard:Remove and later refix any area of boards, including denail joists, clear away debris, punch in nails, level to existing and make good including any extra noggins required."]
["3057BB","FLOORBOARD:REMOVE AND REFIX SINGLE BOARD","CARPENTRY AND JOINERY","Flooring","Flooring - Timber Board","LM",3.16,{"$f":"SUMIF('Contractor##'!C:C,'Planned Maint v6.2 CSV File'!C:C,'Contractor##'!F:F)","v":-0.1135},2.8013400000000002,"Floorboard:Remove and later refix any boards, including denail joists, clear away debris, punch in nails, level to existing and make good including any extra noggins required."]
["3057CA","FLOORBOARD:SCREW DOWN (PER ROOM)","CARPENTRY AND JOINERY","Flooring","Flooring - Timber Board","IT",4.0599999999999996,{"$f":"SUMIF('Contractor##'!C:C,'Planned Maint v6.2 CSV File'!C:C,'Contractor##'!F:F)","v":-0.1135},3.5991899999999997,"Floorboard:Screw down any width loose floorboards including providing fixing batten to side of joist where end of board is unsupported. (Per room)"]
["3057DA","FLOORING:PRESERVATIVE APPLY TWO COATS","CARPENTRY AND JOINERY","Flooring","Flooring - Timber Board","SM",7.15,{"$f":"SUMIF('Contractor##'!C:C,'Planned Maint v6.2 CSV File'!C:C,'Contractor##'!F:F)","v":-0.1135},6.3384749999999999,"Flooring:Prepare and brush apply two coats of approved preservative to general surfaces of flooring."]
["3058AA","FLOOR:TREAT FLOOR INSECTICIDE 5% RENEWAL","SPECIALIST TREATMENTS","Timber Treatment","Flooring Treatment","SM",27.31,{"$f":"SUMIF('Contractor##'!C:C,'Planned Maint v6.2 CSV File'!C:C,'Contractor##'!F:F)","v":-0.27500000000000002},19.79975,"Floor:Take up floor boards to facilitate joist renewals, and apply chemical insecticide treatment to all boards, joists and plates, on completion refix floorboards including up to 5% floorboard renewal, and remove waste and debris."]
["3058BA","FLOOR:TREAT FLOOR INSECTICIDE 10% RENEWAL","SPECIALIST TREATMENTS","Timber Treatment","Flooring Treatment","SM",29.26,{"$f":"SUMIF('Contractor##'!C:C,'Planned Maint v6.2 CSV File'!C:C,'Contractor##'!F:F)","v":-0.27500000000000002},21.2135,"Floor:Take up any type floorboards and treat with insecticide all floorboards, joists, plates, bridging and other floor timbers, on completion refix floorboards including up to 10% floorboard renewal, and remove waste and debris."]
["3058BB","DWELLING:TREAT FLOOR INSECTICIDE","SPECIALIST TREATMENTS","Timber Treatment","Flooring Treatment","IT",861.34,{"$f":"SUMIF('Contractor##'!C:C,'Planned Maint v6.2 CSV File'!C:C,'Contractor##'!F:F)","v":-0.27500000000000002},624.47149999999999,"Dwelling:Take up all floorboards of any type, treat with insecticide all floorboards, joists, plates, bridging, other timbers, on completion refix floorboards including upto 10% floorboard renewal, and remove waste and debris."]
["3058CA","FLOOR:TREAT FLOOR PRESERVATIVE","SPECIALIST TREATMENTS","Timber Treatment","Flooring Treatment","SM",38.75,{"$f":"SUMIF('Contractor##'!C:C,'Planned Maint v6.2 CSV File'!C:C,'Contractor##'!F:F)","v":-0.27500000000000002},28.09375,"Floor:Remove any type of floorboards and treat with three full brush coats of preservative to BS 5707 Type F all floorboards, joists, plates, bridging and other floor timbers, on completion refix floorboards including over 10% floorboard renewal, and remove waste and debris."]
["3058CB","DWELLING:TREAT FLOOR PRESERVATIVE","SPECIALIST TREATMENTS","Timber Treatment","Flooring Treatment","IT",985.34,{"$f":"SUMIF('Contractor##'!C:C,'Planned Maint v6.2 CSV File'!C:C,'Contractor##'!F:F)","v":-0.27500000000000002},714.37149999999997,"Dwelling:Take up all floorboards of any type, treat with 3 coats of preservative to BS 5707 Type F, all floorboards, joists, plates, bridging, other timbers, on completion refix floorboards including upto 10% floorboard renewal, and remove waste and debris."]
["3058DD","DWELLING:TIMBER TREATMENT","SPECIALIST TREATMENTS","Timber Treatment","Flooring Treatment","IT",740,{"$f":"SUMIF('Contractor##'!C:C,'Planned Maint v6.2 CSV File'!C:C,'Contractor##'!F:F)","v":-0.27500000000000002},536.5,"Dwelling:Take up 20% of floorboards as necessary to dwelling to facilitate access for timber preservative treatment by Specialist, refix floorboards, allow for upto 50% renewal as required, punch in nail heads, nail down loose boards, clean off on completion, and remove waste and debris."]
["3058EA","DWELLING:PRESERVATIVE GUARANTEE","SPECIALIST TREATMENTS","Timber Treatment","Flooring Treatment","IT",33,{"$f":"SUMIF('Contractor##'!C:C,'Planned Maint v6.2 CSV File'!C:C,'Contractor##'!F:F)","v":-0.27500000000000002},23.925000000000001,"Dwelling:Provision of 30 year insurance backed guarantee for floor preservation treatment."]
["3058FA","ROOF:CHEMICAL TREAT TIMBER","SPECIALIST TREATMENTS","Timber Treatment","Roof Treatment","IT",230.66,{"$f":"SUMIF('Contractor##'!C:C,'Planned Maint v6.2 CSV File'!C:C,'Contractor##'!F:F)","v":-0.27500000000000002},167.2285,"Roof:Remove and set aside Tenants personal affects and store items in loft area, lift and set aside all roof insulation, clean down all timbers to remove surface dust and debris, treat all accessable structural timbers with pressure spray applications of approved chemical wood preservative, leave all areas clean and tidy on completion, relay roof insulation, reinstate Tenants affects and stored items, and remove waste and debris."]
["3058FB","ROOF:PRESERVATIVE GUARANTEE","SPECIALIST TREATMENTS","Timber Treatment","Roof Treatment","IT",176.4,{"$f":"SUMIF('Contractor##'!C:C,'Planned Maint v6.2 CSV File'!C:C,'Contractor##'!F:F)","v":-0.27500000000000002},127.89,"Roof:Provision of 30 year insurance backed guarantee for roof timber preservation treatment."]
["3058GA","DWELLING:WOODWORM TREATMENT","SPECIALIST TREATMENTS","Timber Treatment","Flooring Treatment","IT",196.76,{"$f":"SUMIF('Contractor##'!C:C,'Planned Maint v6.2 CSV File'!C:C,'Contractor##'!F:F)","v":-0.27500000000000002},{"$f":"(1+H900)*G900","v":142.65099999999998},"Dwelling:Take up floorboards as necessary to facilitate access for, and undertake woodworm treatment by approved Sub-Contractor, remove and set aside Tenants personal affects and store items in loft area, lift and set aside all roof insulation, clean down all timbers to remove surface dust and debris, undertake woodworm treatment by approved Sub-Contractor,leave all areas clean and tidy on completion, relay roof insulation, reinstate Tenants affects and stored items, refix floorboards, allow for 10% renewal as required, punch in nail heads, nail down loose boards, clean off on completion, and remove waste and debris."]
["3058GB","DWELLING:WOODWORM GUARANTEE","SPECIALIST TREATMENTS","Timber Treatment","Flooring Treatment","IT",176.4,{"$f":"SUMIF('Contractor##'!C:C,'Planned Maint v6.2 CSV File'!C:C,'Contractor##'!F:F)","v":-0.27500000000000002},127.89,"Dwelling:Provision of 30 year insurance backed guarantee for woodworm treatment."]
["3058HA","ROOF:WOODWORM TIMBER","SPECIALIST TREATMENTS","Timber Treatment","Roof Treatment","IT",89.44,{"$f":"SUMIF('Contractor##'!C:C,'Planned Maint v6.2 CSV File'!C:C,'Contractor##'!F:F)","v":-0.27500000000000002},64.843999999999994,"Roof:Remove and set aside Tenants personal affects and stored items in loft area, lift and set aside all roof insulation, clean down all timbers to remove surface dust and debris, undertake woodworm treatment by approved Sub-Contractor to accessible structural timbers, leave all areas clean and tidy on completion, relay roof insulation, reinstate Tenants affects and stored items, and remove waste and debris."]
["3058HB","ROOF:WOODWORM GUARANTEE","SPECIALIST TREATMENTS","Timber Treatment","Roof Treatment","IT",33,{"$f":"SUMIF('Contractor##'!C:C,'Planned Maint v6.2 CSV File'!C:C,'Contractor##'!F:F)","v":-0.27500000000000002},23.925000000000001,"Roof:Provision of 30 year insurance backed guarantee for roof timber woodworm treatment"]
["3059AC","JOIST ENDS:DEEP PASTE TREATMENT","SPECIALIST TREATMENTS","Timber Treatment","Deep Paste Treatment","NO",17.239999999999998,{"$f":"SUMIF('Contractor##'!C:C,'Planned Maint v6.2 CSV File'!C:C,'Contractor##'!F:F)","v":-0.27500000000000002},12.498999999999999,"Joist Ends:Take up existing floor boarding as necessary, set aside for reuse, take out existing joist, apply deep paste treatment to one end of joist, refix joist, relay floor boarding, and remove waste and debris."]
["3060AA","FLOOR:RENEW WOOD BLOCK","CARPENTRY AND JOINERY","Flooring","Flooring - Wood Block","SM",78.3,{"$f":"SUMIF('Contractor##'!C:C,'Planned Maint v6.2 CSV File'!C:C,'Contractor##'!F:F)","v":-0.1135},69.412949999999995,"Floor:Renew wood block floor in patches including take up existing and clear away. Lay new 25mm thick flooring with tongued and grooved joints fixed with adhesive and laid to herring bone pattern including make good at junction with existing finishes."]
["3071AA","CLADDING:RENEW 19MM SHIPLAP – VERTICALLY ALIGNED","CARPENTRY AND JOINERY","External Cladding","Cladding - Timber Weatherboarding - Shiplap","SM",23.67,{"$f":"SUMIF('Contractor##'!C:C,'Planned Maint v6.2 CSV File'!C:C,'Contractor##'!F:F)","v":-0.1135},20.983454999999999,"Cladding:Remove existing cladding and renew with 19mm pressure impregnated shiplap boarding in areas including all labours, fixed to framing, including renew defective support battens and provide any extra battens required and prepare for redecoration, and remove waste and debris."]
["3071AB","CLADDING:RENEW 19MM SHIPLAP – HORIZONTALLY ALIGNED","CARPENTRY AND JOINERY","External Cladding","Cladding - Timber - Shiplap","SM",23.67,{"$f":"SUMIF('Contractor##'!C:C,'Planned Maint v6.2 CSV File'!C:C,'Contractor##'!F:F)","v":-0.1135},20.983454999999999,"Cladding:Remove existing cladding and renew with 19mm pressure impregnated shiplap boarding – horizontally aligned-in areas including all labours, fixed to framing, including renew defective support battens and provide any extra battens required and prepare for redecoration, and remove waste and debris."]
["3073AA","CLADDING:RENEW FEATHER EDGE","CARPENTRY AND JOINERY","External Cladding","Cladding - Timber Weatherboarding - Feather Edge","SM",21.32,{"$f":"SUMIF('Contractor##'!C:C,'Planned Maint v6.2 CSV File'!C:C,'Contractor##'!F:F)","v":-0.1135},18.900179999999999,"Cladding:Renew 19mm pressure impregnated feather edge boarding to match existing including all labours, fixed to existing framework including renew defective support battens and provide any extra battens required and prepare for redecoration, and remove waste and debris."]
["3073BA","CLADDING:REFIX LOOSE SHIPLAP, FEATHER EDGE OR TGV","CARPENTRY AND JOINERY","External Cladding","Cladding - Timber Weatherboarding - Shiplap","SM",4.87,{"$f":"SUMIF('Contractor##'!C:C,'Planned Maint v6.2 CSV File'!C:C,'Contractor##'!F:F)","v":-0.1135},4.3172550000000003,"Cladding:Refix loose timber feather edge, shiplap or T, G and ‘V’ jointed boarding to existing framework including renewal of any support battens required and prepare for redecoration."]
["3075AA","CLADDING:RENEW TGV JOINT","CARPENTRY AND JOINERY","External Cladding","Cladding - Timber Weatherboard - Softwood Tongued, Grooved and V Jointed","SM",32.369999999999997,{"$f":"SUMIF('Contractor##'!C:C,'Planned Maint v6.2 CSV File'!C:C,'Contractor##'!F:F)","v":-0.1135},28.696004999999996,"Cladding:Renew 19mm tongued, grooved and V-jointed pressure impregnated softwood boarding, including all labours, fixed to existing framework, renew defective support battens and provide extra battens required and prepare for redecoration, and remove waste and debris."]
["3077AA","CLADDING:RENEW PVC SHIPLAP","CARPENTRY AND JOINERY","External Cladding","Cladding - Plastic Profiled Sheet Cladding - Shiplap","SM",69.23,{"$f":"SUMIF('Contractor##'!C:C,'Planned Maint v6.2 CSV File'!C:C,'Contractor##'!F:F)","v":-0.1135},61.372394999999997,"Cladding:Renew cladding with cellular cored PVC shiplap boarding, including all trims, channels and jointing, fixed to existing framework including renew defective support battens and provision of extra battens as necessary, and remove waste and debris."]
["3077BA","CLADDING:REFIX LOOSE PVC SHIPLAP OR TGV","CARPENTRY AND JOINERY","External Cladding","Cladding - Plastic Profiled Sheet Cladding - Shiplap","SM",7.5,{"$f":"SUMIF('Contractor##'!C:C,'Planned Maint v6.2 CSV File'!C:C,'Contractor##'!F:F)","v":-0.1135},6.6487499999999997,"Cladding:Refix loose PVC shiplap or T, G and ‘V’ jointed cladding to existing framework including renewal of support battens required and all trims, channels and jointing."]
["3078AA","CLADDING:RENEW PVC TGV JOINT","CARPENTRY AND JOINERY","External Cladding","Cladding - Plastic Profiled Sheet Cladding - T,G and V jointed","SM",105.23,{"$f":"SUMIF('Contractor##'!C:C,'Planned Maint v6.2 CSV File'!C:C,'Contractor##'!F:F)","v":-0.1135},93.286394999999999,"Cladding:Renew cladding with cellular cored PVC T,G and 'V' jointed boarding, including all trims, channels and jointing, fixed to existing framework including renew defective support battens and provision of extra battens as necessary, and remove waste and debris."]
["3101AA","WINDOW:RENEW STANDARD SOFTWOOD CASEMENT 1 LIGHT","CARPENTRY AND JOINERY","Windows","Windows - Casement - Standard Softwood Double Glazed","SM",243.83,{"$f":"SUMIF('Contractor##'!C:C,'Planned Maint v6.2 CSV File'!C:C,'Contractor##'!F:F)","v":-0.1135},216.155295,"Window:Renew timber window with standard softwood casement window with softwood cill, including ne 1 No. opening light, factory applied base stain or primer finish, compressible weatherstripping, ironmongery including locking handles, glazing beads, windows preslotted for trickle ventilators including screens, remove existing frame and fix new in prepared opening, bed in mortar and point with sealant, double glazed, make good to all finishes, decorate to match existing internally and prepare for redecoration externally, and remove waste and debris."]
["3101AC","WINDOW:RENEW STANDARD SOFTWOOD CASEMENT 2 LIGHT","CARPENTRY AND JOINERY","Windows","Windows - Casement - Standard Softwood Double Glazed","SM",284.57,{"$f":"SUMIF('Contractor##'!C:C,'Planned Maint v6.2 CSV File'!C:C,'Contractor##'!F:F)","v":-0.1135},252.27130499999998,"Window:Renew timber window with standard softwood casement window with softwood cill, including ne 2 No. opening light, factory applied base stain or primer finish, compressible weatherstripping, ironmongery including locking handles, glazing beads, windows preslotted for trickle ventilators including screens, remove existing frame and fix new in prepared opening, bed in mortar and point with sealant, double glazed, make good to all finishes, decorate to match existing internally and prepare for redecoration externally, and remove waste and debris."]
["3101AE","WINDOW:RENEW STANDARD SOFTWOOD CASEMENT 3 LIGHT","CARPENTRY AND JOINERY","Windows","Windows - Casement - Standard Softwood Double Glazed","SM",360.12,{"$f":"SUMIF('Contractor##'!C:C,'Planned Maint v6.2 CSV File'!C:C,'Contractor##'!F:F)","v":-0.1135},319.24637999999999,"Window:Renew timber window with standard softwood casement window with softwood cill including ne 3 No. opening light, factory applied base stain or primer finish, compressible weatherstripping, ironmongery including locking handles, glazing beads, windows preslotted for trickle ventilators including screens, remove existing frame and fix new in prepared opening, bed in mortar and point with sealant, double glazed, make good to all finishes, decorate to match existing internally and prepare for redecoration externally, and remove waste and debris."]
["3101AG","WINDOW:RENEW STANDARD SOFTWOOD CASEMENT 4 LIGHT","CARPENTRY AND JOINERY","Windows","Windows - Casement - Standard Softwood Double Glazed","SM",394.36,{"$f":"SUMIF('Contractor##'!C:C,'Planned Maint v6.2 CSV File'!C:C,'Contractor##'!F:F)","v":-0.1135},349.60014000000001,"Window:Renew timber window with standard softwood casement window with softwood cill including ne 4 No. opening light, factory applied base stain or primer finish, compressible weatherstripping, ironmongery including locking handles, glazing beads, windows preslotted for trickle ventilators including screens, remove existing frame and fix new in prepared opening, bed in mortar and point with sealant, double glazed, make good to all finishes, decorate to match existing internally and prepare for redecoration externally, and remove waste and debris."]
["3101XB","WINDOW:RENEW SOFTWOOD STANDARD CASEMENT","CARPENTRY AND JOINERY","Windows","Windows - Casement - Standard Softwood Double Glazed","SM",266.87,{"$f":"SUMIF('Contractor##'!C:C,'Planned Maint v6.2 CSV File'!C:C,'Contractor##'!F:F)","v":-0.1135},236.58025499999999,"Window:Renew timber window with standard softwood casement window with softwood cill, including fixed and opening lights to match existing, factory applied base stain or primer finish, compressible weatherstripping, ironmongery including locking handles, glazing beads, windows preslotted for and including trickle ventilators including screens, remove existing frame and fix new in prepared opening, bed in mortar and point with sealant, double glazed and make good to all finishes, decorate to match existing internally and prepare for redecoration externally, and remove waste and debris."]
["3101XD","WINDOW:RENEW WITH STANDARD HP CASEMENT","CARPENTRY AND JOINERY","Windows","Windows - Casement - Standard HP Softwood Double Glazed","SM",291.87,{"$f":"SUMIF('Contractor##'!C:C,'Planned Maint v6.2 CSV File'!C:C,'Contractor##'!F:F)","v":-0.1135},258.74275499999999,"Window:Renew timber window with standard high performance softwood casement window with softwood cill, including fixed and opening lights to match existing, factory applied base stain or primer finish, compressible weatherstripping, ironmongery including locking handles, glazing beads, windows preslotted for and including trickle ventilators including screens, remove existing frame and fix new in prepared opening, bed in mortar and point with sealant, double glazed and make good to all finishes, decorate to match existing internally and prepare for redecoration externally, and remove waste and debris."]
["3103AA","WINDOW:RENEW PURPOSE SOFTWOOD CASEMENT 1 LIGHT","CARPENTRY AND JOINERY","Windows","Windows - Casement - Purpose Made Softwood Double Glazed","SM",284.52,{"$f":"SUMIF('Contractor##'!C:C,'Planned Maint v6.2 CSV File'!C:C,'Contractor##'!F:F)","v":-0.1135},252.22697999999997,"Window:Renew timber window with purpose made softwood casement window with softwood cill including ne 1 No. opening light, factory applied base stain or primer finish, compressible weatherstripping, ironmongery including locking handles, glazing beads, windows preslotted for trickle ventilators including screens, remove existing frame and fix new in prepared opening, bed in mortar and point with sealant, double glazed, make good to all finishes, decorate to match existing internally and prepare for redecoration externally, and remove waste and debris."]
["3103AC","WINDOW:RENEW PURPOSE SOFTWOOD CASEMENT 2 LIGHT","CARPENTRY AND JOINERY","Windows","Windows - Casement - Purpose Made Softwood Double Glazed","SM",357.98,{"$f":"SUMIF('Contractor##'!C:C,'Planned Maint v6.2 CSV File'!C:C,'Contractor##'!F:F)","v":-0.1135},317.34926999999999,"Window:Renew timber window with purpose made softwood casement window with softwood cill including ne 2 No. opening light, factory applied base stain or primer finish, compressible weatherstripping, ironmongery including locking handles, glazing beads, windows preslotted for trickle ventilators including screens, remove existing frame and fix new in prepared opening, bed in mortar and point with sealant, double glazed, make good to all finishes, decorate to match existing internally and prepare for redecoration externally, and remove waste and debris."]
["3103AE","WINDOW:RENEW PURPOSE SOFTWOOD CASEMENT 3 LIGHT","CARPENTRY AND JOINERY","Windows","Windows - Casement - Purpose Made Softwood Double Glazed","SM",468.31,{"$f":"SUMIF('Contractor##'!C:C,'Planned Maint v6.2 CSV File'!C:C,'Contractor##'!F:F)","v":-0.1135},415.15681499999999,"Window:Renew timber window with purpose made softwood casement window with softwood cill including ne 3 No. opening light, factory applied base stain or primer finish, compressible weatherstripping, ironmongery including locking handles, glazing beads, windows preslotted for trickle ventilators including screens, remove existing frame and fix new in prepared opening, bed in mortar and point with sealant, double glazed, make good to all finishes, decorate to match existing internally and prepare for redecoration externally, and remove waste and debris."]
["3103AG","WINDOW:RENEW PURPOSE SOFTWOOD CASEMENT 4 LIGHT","CARPENTRY AND JOINERY","Windows","Windows - Casement - Purpose Made Softwood Double Glazed","SM",541.28,{"$f":"SUMIF('Contractor##'!C:C,'Planned Maint v6.2 CSV File'!C:C,'Contractor##'!F:F)","v":-0.1135},479.84471999999994,"Window:Renew timber window with purpose made softwood casement window with softwood cill including ne 4 No. opening light, factory applied base stain or primer finish, compressible weatherstripping, ironmongery including locking handles, glazing beads, windows preslotted for trickle ventilators including screens, remove existing frame and fix new in prepared opening, bed in mortar and point with sealant, double glazed, make good to all finishes, decorate to match existing internally and prepare for redecoration externally, and remove waste and debris."]
["3103XB","WINDOW:RENEW PURPOSE MADE SOFTWOOD CASEMENT","CARPENTRY AND JOINERY","Windows","Windows - Casement - Purpose Made Softwood Double Glazed","SM",278.41000000000003,{"$f":"SUMIF('Contractor##'!C:C,'Planned Maint v6.2 CSV File'!C:C,'Contractor##'!F:F)","v":-0.1135},246.81046500000002,"Window:Renew timber window with purpose made softwood casement window with softwood cill including fixed and opening lights to match existing, factory applied base stain or primer finish, compressible weatherstripping, ironmongery including locking handles, glazing beads, windows preslotted for and including trickle ventilators including screens, remove existing frame and fix new in prepared opening, bed in mortar and point with sealant, double glazed and make good to all finishes, decorate to match existing internally and prepare for redecoration externally, and remove waste and debris."]
["3103XD","WINDOW:RENEW PURPOSE MADE SOFTWOOD HP CASEMENT","CARPENTRY AND JOINERY","Windows","Windows - Casement - Purpose Made HP Softwood Double Glazed","SM",302.02,{"$f":"SUMIF('Contractor##'!C:C,'Planned Maint v6.2 CSV File'!C:C,'Contractor##'!F:F)","v":-0.1135},267.74072999999999,"Window:Renew timber window with purpose made high performance softwood casement window with softwood cill, including fixed and opening lights to match existing, factory applied base stain or primer finish, compressible weatherstripping, ironmongery including locking handles, glazing beads, windows preslotted for and including trickle ventilators including screens, remove existing frame and fix new in prepared opening, bed in mortar and point with sealant, double glazed and make good to all finishes, decorate to match existing internally and prepare for redecoration externally, and remove waste and debris."]
["3105AC","WINDOW:RENEW SOFTWOOD BOX SASH","CARPENTRY AND JOINERY","Windows","Windows - Box Sash - Pupose Made Softwood Double Glazed","SM",434.56,{"$f":"SUMIF('Contractor##'!C:C,'Planned Maint v6.2 CSV File'!C:C,'Contractor##'!F:F)","v":-0.1135},385.23743999999999,"Window:Renew window with purpose made softwood double hung cased box frame and sashes complete with 2 sashes, factory applied base stain or primer finish, compressible weatherstripping, glazing beads, ironmongery, remove existing and fix new into prepared opening, bed in mortar, point with sealant, double glazed and make good all finishes, decorate to match existing internally and prepare for redecoration externally, and remove waste and debris."]
["3107XB","WINDOW:RENEW SOFTWOOD HORIZONTAL PIVOT","CARPENTRY AND JOINERY","Windows","Windows - Horizontal Pivot Hung - Purpose Made Softwood Double Glazed","SM",286.86,{"$f":"SUMIF('Contractor##'!C:C,'Planned Maint v6.2 CSV File'!C:C,'Contractor##'!F:F)","v":-0.1135},254.30139,"Window:Renew window with purpose made softwood horizontal pivot hung window complete, factory applied base stain or primer finish, compressible weatherstripping, glazing beads, ironmongery, fix frame to prepared opening, bed in mortar and point with sealant, double glazed, make good all finishes, decorate to match existing internally and prepare for redecoration externally, and remove waste and debris."]
["3111AB","WINDOW:RENEW STANDARD HARDWOOD CASEMENT 1 LIGHT","CARPENTRY AND JOINERY","Windows","Windows - Casement - Standard Hardwood Double Glazed","SM",338.85,{"$f":"SUMIF('Contractor##'!C:C,'Planned Maint v6.2 CSV File'!C:C,'Contractor##'!F:F)","v":-0.1135},300.39052500000003,"Window:Renew timber window with standard hardwood casement window with hardwood cill, including ne 1 No. opening light, factory applied base stain finish, compressible weatherstripping, ironmongery including locking handles, glazing beads, windows preslotted for trickle ventilators including screens, remove existing frame and fix new in prepared opening, bed in mortar and point with sealant, double glazed, make good to all finishes, decorate to match existing internally and prepare for redecoration externally, and remove waste and debris."]
["3111AD","WINDOW:RENEW STANDARD HARDWOOD CASEMENT 2 LIGHT","CARPENTRY AND JOINERY","Windows","Windows - Casement - Standard Hardwood Double Glazed","SM",411.86,{"$f":"SUMIF('Contractor##'!C:C,'Planned Maint v6.2 CSV File'!C:C,'Contractor##'!F:F)","v":-0.1135},365.11388999999997,"Window:Renew timber window with standard hardwood casement window with hardwood cill, including ne 2 No. opening light, factory applied base stain finish, compressible weatherstripping, ironmongery including locking handles, glazing beads, windows preslotted for trickle ventilators including screens, remove existing frame and fix new in prepared opening, bed in mortar and point with sealant, double glazed, make good to all finishes, decorate to match existing internally and prepare for redecoration externally, and remove waste and debris."]
["3111AE","WINDOW:RENEW STANDARD HARDWOOD CASEMENT 3 LIGHT","CARPENTRY AND JOINERY","Windows","Windows - Casement - Standard Hardwood Double Glazed","SM",567.71,{"$f":"SUMIF('Contractor##'!C:C,'Planned Maint v6.2 CSV File'!C:C,'Contractor##'!F:F)","v":-0.1135},503.27491500000002,"Window:Renew timber window with standard hardwood casement window with hardwood cill including ne 3 No. opening light, factory applied base stain, compressible weatherstripping, ironmongery including locking handles, glazing beads, windows preslotted for trickle ventilators including screens, remove existing and fix new in prepared opening, bed in mortar and point with sealant, double glazed, make good to all finishes, decorate to match existing internally and prepare for redecoration externally, and remove waste and debris."]
["3111AG","WINDOW:RENEW STANDARD HARDWOOD CASEMENT 4 LIGHT","CARPENTRY AND JOINERY","Windows","Windows - Casement - Standard Hardwood Double Glazed","SM",616.72,{"$f":"SUMIF('Contractor##'!C:C,'Planned Maint v6.2 CSV File'!C:C,'Contractor##'!F:F)","v":-0.1135},546.72227999999996,"Window:Renew timber window with standard hardwood casement window with hardwood cill including ne 4 No. opening light, factory applied base stain, compressible weatherstripping, ironmongery including locking handles, glazing beads, windows preslotted for trickle ventilators including screens, remove existing and fix new in prepared opening, bed in mortar and point with sealant, double glazed, make good to all finishes, decorate to match existing internally and prepare for redecoration externally, and remove waste and debris."]
["3111XB","WINDOW:RENEW STANDARD HW CASEMENT","CARPENTRY AND JOINERY","Windows","Windows - Casement - Standard Hardwood Double Glazed","SM",310.26,{"$f":"SUMIF('Contractor##'!C:C,'Planned Maint v6.2 CSV File'!C:C,'Contractor##'!F:F)","v":-0.1135},275.04548999999997,"Window:Renew timber window with standard hardwood casement window with hardwood cill, including fixed and opening lights to match existing, factory applied base stain finish, compressible weatherstripping, ironmongery including locking handles, glazing beads, windows preslotted for and including trickle ventilators including screens.Remove existing frame and fix in prepared opening, bed in mortar and point with sealant, double glazed and make good to all finishes, decorate to match existing internally and prepare for redecoration externally, and remove waste and debris."]
["3111XD","WINDOW:STANDARD HP HW CASEMENT","CARPENTRY AND JOINERY","Windows","Windows - Casement - Standard HP Hardwood Double Glazed","SM",339.9,{"$f":"SUMIF('Contractor##'!C:C,'Planned Maint v6.2 CSV File'!C:C,'Contractor##'!F:F)","v":-0.1135},301.32134999999994,"Window:Renew timber window with standard high performance hardwood casement window with hardwood cill, including fixed and opening lights to match existing, factory applied base stain finish, compressible weatherstripping, ironmongery including locking handles, glazing beads, windows preslotted for and including trickle ventilators including screens. Remove existing frame and fix new in prepared opening, bed in mortar and point with sealant, double glazed and make good to all finishes, decorate to match existing internally and prepare for redecoration externally, and remove waste and debris."]
["3113AA","WINDOW:RENEW PURPOSE HARDWOOD CASEMENT 1 LIGHT","CARPENTRY AND JOINERY","Windows","Windows - Casement - Purpose Made Hardwood Double Glazed","SM",372.35,{"$f":"SUMIF('Contractor##'!C:C,'Planned Maint v6.2 CSV File'!C:C,'Contractor##'!F:F)","v":-0.1135},330.08827500000001,"Window:Renew timber window with purpose made hardwood casement window with hardwood cill including ne 1 No. opening light, factory applied base stain, compressible weatherstripping, ironmongery including locking handles, glazing beads, windows preslotted for trickle ventilators including screens, remove existing frame and fix new in prepared opening, bed in mortar and point with sealant, double glazed, make good to all finishes, decorate to match existing internally and prepare for redecoration externally, and remove waste and debris."]
["3113AC","WINDOW:RENEW PURPOSE HARDWOOD CASEMENT 2 LIGHT","CARPENTRY AND JOINERY","Windows","Windows - Casement - Purpose Made Hardwood Double Glazed","SM",495.53,{"$f":"SUMIF('Contractor##'!C:C,'Planned Maint v6.2 CSV File'!C:C,'Contractor##'!F:F)","v":-0.1135},439.28734499999996,"Window:Renew timber window with purpose made hardwood casement window with hardwood cill including ne 2 No. opening light, factory applied base stain, compressible weatherstripping, ironmongery including locking handles, glazing beads, windows preslotted for trickle ventilators including screens, remove existing frame and fix new in prepared opening, bed in mortar and point with sealant, double glazed, make good to all finishes, decorate to match existing internally and prepare for redecoration externally, and remove waste and debris."]
["3113AE","WINDOW:RENEW PURPOSE HARDWOOD CASEMENT 3 LIGHT","CARPENTRY AND JOINERY","Windows","Windows - Casement - Purpose Made Hardwood Double Glazed","SM",566.87,{"$f":"SUMIF('Contractor##'!C:C,'Planned Maint v6.2 CSV File'!C:C,'Contractor##'!F:F)","v":-0.1135},502.53025499999995,"Window:Renew timber window with purpose made hardwood casement window with hardwood cill including ne 3 No. opening light, factory applied base stain, compressible weatherstripping, ironmongery including locking handles, glazing beads, preslotted for trickle ventilators including screens, remove existing frame and fix new in prepared opening, bed in mortar and point with sealant, double glazed, make good to all finishes, decorate to match existing internally and prepare for redecoration externally, and remove waste and debris."]
["3113AG","WINDOW:RENEW PURPOSE HARDWOOD CASEMENT 4 LIGHT","CARPENTRY AND JOINERY","Windows","Windows - Casement - Purpose Made Hardwood Double Glazed","SM",636.87,{"$f":"SUMIF('Contractor##'!C:C,'Planned Maint v6.2 CSV File'!C:C,'Contractor##'!F:F)","v":-0.1135},564.58525499999996,"Window:Renew timber window with purpose made hardwood casement window with hardwood cill including ne 4 No. opening light, factory applied base stain, compressible weatherstripping, ironmongery including locking handles, glazing beads, preslotted for trickle ventilators including screens, remove existing frame and fix new in prepared opening, bed in mortar and point with sealant, double glazed, make good to all finishes, decorate to match existing internally and prepare for redecoration externally, and remove waste and debris."]
["3113XB","WINDOW:RENEW PURPOSE MADE HW CASEMENT","CARPENTRY AND JOINERY","Windows","Windows - Casement - Purpose Made Hardwood Double Glazed","SM",408.21,{"$f":"SUMIF('Contractor##'!C:C,'Planned Maint v6.2 CSV File'!C:C,'Contractor##'!F:F)","v":-0.1135},361.87816499999997,"Window:Renew timber window with purpose made hardwood casement window with hardwood cill including fixed and opening lights to match existing, factory applied base stain finish, compressible weatherstripping, ironmongery including locking handles, glazing beads, windows preslotted for and including trickle ventilators including screens, remove existing frame and fix new in prepared opening, bed in mortar and point with sealant, double glazed and make good to all finishes, decorate to match existing internally and prepare for redecoration externally, and remove waste and debris."]
["3113XD","WINDOW:RENEW PURPOSE MADE HP HW CASEMENT","CARPENTRY AND JOINERY","Windows","Windows - Casement - Purpose Made HP Hardwood Double Glazed","SM",452.56,{"$f":"SUMIF('Contractor##'!C:C,'Planned Maint v6.2 CSV File'!C:C,'Contractor##'!F:F)","v":-0.1135},401.19443999999999,"Window:Renew timber window with purpose made high performance hardwood casement window with hardwood cill, including fixed and opening lights to match existing, factory applied base stain primer finish, compressible weatherstripping, ironmongery including locking handles, glazing beads, windows preslotted for and including trickle ventilators including screens, remove existing frame and fix new in prepared opening, bed in mortar and point with sealant, double glazed and make good to all finishes, decorate to match existing internally and prepare for redecoration externally, and remove waste and debris."]
["3115AA","WINDOW:RENEW HARDWOOD BOX SASH","CARPENTRY AND JOINERY","Windows","Windows - Hardwood","SM",698.79,{"$f":"SUMIF('Contractor##'!C:C,'Planned Maint v6.2 CSV File'!C:C,'Contractor##'!F:F)","v":-0.1135},619.47733499999993,"Window:Renew window with purpose made hardwood double hung cased box frame and sashes complete with 2 sashes, factory applied base stain, compressible weatherstripping, glazing beads, ironmongery, remove existing and fix new into prepared opening, bed in mortar, point with sealant, double glazed and make good all finishes, decorate to match existing internally and prepare for redecoration externally, and remove waste and debris."]
["3117AB","WINDOW:RENEW HARDWOOD HORIZIONTAL PIVOT ","CARPENTRY AND JOINERY","Windows","Windows - Hardwood","SM",517.9,{"$f":"SUMIF('Contractor##'!C:C,'Planned Maint v6.2 CSV File'!C:C,'Contractor##'!F:F)","v":-0.1135},459.11834999999996,"Window:Renew window with purpose made hardwood horizontal pivot hung window complete, with factory applied base stain compressible weatherstripping, glazing beads, ironmongery, fix frame to prepared opening, bed in mortar and point with sealant, double glazed, make good all finishes, decorate to match existing internally and prepare for redecoration externally, and remove waste and debris."]
["3120AB","WINDOW:RENEW SOFTWOOD FEATURE","CARPENTRY AND JOINERY","Windows","Windows - Feature - Softwood","SM",225.07,{"$f":"SUMIF('Contractor##'!C:C,'Planned Maint v6.2 CSV File'!C:C,'Contractor##'!F:F)","v":-0.1135},199.52455499999999,"Window:Renew timber window with standard softwood feature window ne 5.00sm overall with combination of fixed and opening lightsand panels, factory applied base stain or primer finish, compressible weatherstripping, ironmongery including locking handles, glazing beads, windows preslotted for trickle ventilators including screens, remove existing frame and fix new in prepared opening, bed in mortar and point with sealant, double glazed, decorate to match existing internally and prepare for redecoration externally, and remove waste and debris."]
["3130AB","WINDOW:RENEW HARDWOOD FEATURE","CARPENTRY AND JOINERY","Windows","Windows - Feature - Hardwood","SM",315.89999999999998,{"$f":"SUMIF('Contractor##'!C:C,'Planned Maint v6.2 CSV File'!C:C,'Contractor##'!F:F)","v":-0.1135},280.04534999999998,"Window:Renew timber window with standard hardwood feature window ne 5.00sm overall with combination of fixed and opening lights and panels, factory applied base stain finish, compressible weatherstripping, ironmongery including locking handles, glazing beads, windows preslotted for trickle ventilators including screens, remove existing frame and fix new in prepared opening, bed in mortar and point with sealant, double glazed, make good to all finishes, decorate to match existing internally and prepare for redecoration externally, and remove waste and debris."]
["3135XA","WINDOW:RENEW WITH PVCU PIVOT","CARPENTRY AND JOINERY","Windows","Windows - Horizontal Pivot Hung - Purpose Made PVCu","SM",240.48,{"$f":"SUMIF('Contractor##'!C:C,'Planned Maint v6.2 CSV File'!C:C,'Contractor##'!F:F)","v":-0.1135},213.18551999999997,"Window:Renew any type window with purpose made PVCu factory glazed horizontal pivot hung window complete with cill, double glazed internally with 28mm thick hermetically sealed units, omplete with thermal breaks, compressible weatherstripping, ironmongery including stainless steel friction hinges, espagnolette locking mechanism with locking handles, child restrictors, glazing beads, trickle ventilators including screens, remove existing and fix new to prepared opening using cleats or screw bolts, seal around externally with flexible foam strip and silicone sealant, make good all finishes internally and externally and remove waste and debris."]
["3136AA","WINDOW:RENEW WITH PVCU CASEMENT 1 LIGHT","CARPENTRY AND JOINERY","Windows","Windows - Casement -Purpose Made PVCu","SM",237.46,{"$f":"SUMIF('Contractor##'!C:C,'Planned Maint v6.2 CSV File'!C:C,'Contractor##'!F:F)","v":-0.1135},210.50828999999999,"Window:Renew any type window with purpose made PVCu factory glazed casement window with cill, double glazed internally with 28mm thick hermetically sealed units, including ne 1 No. opening light, thermal breaks, compressible weatherstripping, ironmongery including stainless steel friction hinges, espagnolette locking mechanism with locking handles, child restrictors, glazing beads, trickle ventilators including screens, remove existing and fix new to prepared opening using cleats or screw bolts, seal around externally with flexible foam strip and silicone sealant, make good all finishes internally and externally and remove waste and debris."]
["3136AC","WINDOW:RENEW WITH PVCU CASEMENT 2 LIGHT","CARPENTRY AND JOINERY","Windows","Windows - Casement -Purpose Made PVCu","SM",338.79,{"$f":"SUMIF('Contractor##'!C:C,'Planned Maint v6.2 CSV File'!C:C,'Contractor##'!F:F)","v":-0.1135},300.337335,"Window:Renew any type window with purpose made PVCu factory glazed casement window with cill, double glazed internally with 28mm thick hermetically sealed units, including ne 2 No. opening light thermal breaks, compressible weatherstripping, ironmongery including stainless steel friction hinges, espagnolette locking mechanism with locking handles, child restrictors, glazing beads, trickle ventilators including screens, remove existing and fix new to prepared opening using cleats or screw bolts, seal around externally with flexible foam strip and silicone sealant, make good all finishes internally and externally and remove waste and debris."]
["3136AF","WINDOW:RENEW WITH PVCU CASEMENT 3 LIGHT","CARPENTRY AND JOINERY","Windows","Windows - Casement -Purpose Made PVCu","SM",433.71,{"$f":"SUMIF('Contractor##'!C:C,'Planned Maint v6.2 CSV File'!C:C,'Contractor##'!F:F)","v":-0.1135},384.48391499999997,"Window:Renew any type window with purpose made PVCu factory glazed casement window with cill, double glazed internally with 28mm thick hermetically sealed units, including ne 3 No. opening lights, thermal breaks, compressible weatherstripping, ironmongery including stainless steel friction hinges, espagnolette locking mechanism with locking handles, child restrictors, glazing beads, trickle ventilators including screens, remove existing and fix new to prepared opening using cleats or screw bolts, seal around externally with flexible foam strip and silicone sealant, make good all finishes internally and externally and remove waste and debris."]
["3136AH","WINDOW:RENEW WITH PVCU CASEMENT 4 LIGHT","CARPENTRY AND JOINERY","Windows","Windows - Casement -Purpose Made PVCu","SM",470.32,{"$f":"SUMIF('Contractor##'!C:C,'Planned Maint v6.2 CSV File'!C:C,'Contractor##'!F:F)","v":-0.1135},416.93867999999998,"Window:Renew any type window with purpose made PVCu factory glazed casement window with cill, double glazed internally with 28mm thick hermetically sealed units, including ne 4 No. opening lights, thermal breaks, compressible weatherstripping, ironmongery including stainless steel friction hinges, espagnolette locking mechanism with locking handles, child restrictors, glazing beads, trickle ventilators including screens, remove existing and fix new to prepared opening using cleats or screw bolts, seal around externally with flexible foam strip and silicone sealant, make good all finishes internally and externally and remove waste and debris."]
["3136XA","WINDOW:RENEW WITH PVCU CASEMENT PVCU","CARPENTRY AND JOINERY","Windows","Windows - Casement -Purpose Made PVCu","SM",254.37,{"$f":"SUMIF('Contractor##'!C:C,'Planned Maint v6.2 CSV File'!C:C,'Contractor##'!F:F)","v":-0.1135},225.49900499999998,"Window:Renew any type window with purpose made PVCu factory glazed casement window with cill, with fixed and opening lights to match existing, double glazed internally with 28mm thick hermetically sealed units, thermal breaks, compressible weatherstripping, ironmongery including stainless steel friction hinges, espagnolette locking mechanism with locking handles, child restrictors, glazing beads, trickle ventilators including screens, remove existing and fix new to prepared opening using cleats or screw bolts, seal around externally with flexible foam strip and silicone sealant, make good all finishes internally and externally and remove waste and debris."]
["3137AA","WINDOW:RENEW WITH PVCU TILT TURN 1 LIGHT","CARPENTRY AND JOINERY","Windows","Windows - Tilt and Turn - Purpose Made PVCu","SM",218.95,{"$f":"SUMIF('Contractor##'!C:C,'Planned Maint v6.2 CSV File'!C:C,'Contractor##'!F:F)","v":-0.1135},194.09917499999997,"Window:Renew any type window with purpose made PVCu factory glazed tilt/turn window with cill, double glazed internally with 28mm thick hermetically sealed units, including ne 1 No. opening light, thermal breaks, compressible weatherstripping, ironmongery including stainless steel tilt and turn gear, espagnolette locking system with locking handles, glazing beads, trickle ventilators including screens, , remove existing and fix new to prepared opening using cleats or screw bolts, seal around externally with flexible foam strip and silicone sealant, make good all finishes internally and externally and remove waste and debris."]
["3137AC","WINDOW:RENEW WITH PVCU TILT TURN 2 LIGHT","CARPENTRY AND JOINERY","Windows","Windows - Tilt and Turn - Purpose Made PVCu","SM",282.51,{"$f":"SUMIF('Contractor##'!C:C,'Planned Maint v6.2 CSV File'!C:C,'Contractor##'!F:F)","v":-0.1135},250.44511499999999,"Window:Renew any type window with purpose made PVCu factory glazed tilt/turn window with cill, double glazed internally with 28mm thick hermetically sealed units, including ne 2 No. opening lights, thermal breaks, compressible weatherstripping, ironmongery including stainless steel tilt and turn gear, espagnolette locking system with locking handles, glazing beads, trickle ventilators including screens, , remove existing and fix new to prepared opening using cleats or screw bolts, seal around externally with flexible foam strip and silicone sealant, make good all finishes internally and externally and remove waste and debris."]
["3137AF","WINDOW:RENEW WITH PVCU TILT TURN 3 LIGHT","CARPENTRY AND JOINERY","Windows","Windows - Tilt and Turn - Purpose Made PVCu","SM",436.74,{"$f":"SUMIF('Contractor##'!C:C,'Planned Maint v6.2 CSV File'!C:C,'Contractor##'!F:F)","v":-0.1135},387.17000999999999,"Window:Renew any type window with purpose made PVCu factory glazed tilt/turn window with cill, double glazed internally with 28mm thick hermetically sealed units, including ne 3 No. opening lights, thermal breaks, compressible weatherstripping, ironmongery including stainless steel tilt and turn gear, espagnolette locking system with locking handles, glazing beads, trickle ventilators including screens, , remove existing and fix new to prepared opening using cleats or screw bolts, seal around externally with flexible foam strip and silicone sealant, make good all finishes internally and externally and remove waste and debris."]
["3137AH","WINDOW:RENEW WITH PVCU TILT TURN 4 LIGHT","CARPENTRY AND JOINERY","Windows","Windows - Tilt and Turn - Purpose Made PVCu","SM",443.75,{"$f":"SUMIF('Contractor##'!C:C,'Planned Maint v6.2 CSV File'!C:C,'Contractor##'!F:F)","v":-0.1135},393.38437499999998,"Window:Renew any type window with purpose made PVCu factory glazed tilt/turn window with cill, double glazed internally with 28mm thick hermetically sealed units, including ne 4 No. opening lights, thermal breaks, compressible weatherstripping, ironmongery including stainless steel tilt and turn gear, espagnolette locking system with locking handles, glazing beads, trickle ventilators including screens, remove existing and fix new to prepared opening using cleats or screw bolts, seal around externally with flexible foam strip and silicone sealant, make good all finishes internally and externally and remove waste and debris."]
["3140AA","GLAZING:DISCOUNT FOR SINGLE GLAZING","CARPENTRY AND JOINERY","Windows","Windows - Single Glazed","SM",-17.84,{"$f":"SUMIF('Contractor##'!C:C,'Planned Maint v6.2 CSV File'!C:C,'Contractor##'!F:F)","v":-0.1135},-15.815159999999999,"Glazing:Discount for provide and fix any combination of single glazed units to timber windows including all adjustments to frames, sashes and the like (measured per nett square metre glass area or fraction thereof)."]
["3148AA","WINDOW:RENEW WITH PLASTIC COATED TIMBER 1 LIGHT","CARPENTRY AND JOINERY","Windows","Windows - Plastic Coated Timber","SM",343.82,{"$f":"SUMIF('Contractor##'!C:C,'Planned Maint v6.2 CSV File'!C:C,'Contractor##'!F:F)","v":-0.1135},304.79642999999999,"Window:Renew plastic coated timber casement window, 1 opening light, weaterstripping, remove existing, fix new in prepared opening, point in sealant, double glazed internally with 28mm thick sealed Low E glass unit, all ironmongery, make good to structure and all finishings and decorations internnaly and externally."]
["3148AB","WINDOW:RENEW WITH PLASTIC COATED TIMBER 2 LIGHT","CARPENTRY AND JOINERY","Windows","Windows - Plastic Coated Timber","SM",384.56,{"$f":"SUMIF('Contractor##'!C:C,'Planned Maint v6.2 CSV File'!C:C,'Contractor##'!F:F)","v":-0.1135},340.91244,"Window:Renew plastic coated timber casement window, 2 opening lights, weaterstripping, remove existing, fix new in prepared opening, point in sealant, double glazed internally with 28mm thick sealed Low E glass unit, all ironmongery, make good to structure and all finishings and decorations internnaly and externally."]
["3148AC","WINDOW:RENEW WITH PLASTIC COATED TIMBER 3 LIGHT","CARPENTRY AND JOINERY","Windows","Windows - Plastic Coated Timber","SM",460.11,{"$f":"SUMIF('Contractor##'!C:C,'Planned Maint v6.2 CSV File'!C:C,'Contractor##'!F:F)","v":-0.1135},407.88751500000001,"Window:Renew plastic coated timber casement window, 3 opening lights, weaterstripping, remove existing, fix new in prepared opening, point in sealant, double glazed internally with 28mm thick sealed Low E glass unit, all ironmongery, make good to structure and all finishings and decorations internnaly and externally."]
["3148AD","FRAME:PLASTIC COATED COMBINATION UNIT","CARPENTRY AND JOINERY","Windows","Windows - Plastic Coated Timber","IT",370.62,{"$f":"SUMIF('Contractor##'!C:C,'Planned Maint v6.2 CSV File'!C:C,'Contractor##'!F:F)","v":-0.1135},328.55462999999997,"Frame:Renew window/door frame unit with plastic coated timber unit including ne 2 No opening lights, compressible weatherstripping, ironmongery including locking handles, glazing beads, remove existing frame and fix new in prepared opening,point with sealant, double glazed, make good to all finishes and decorate to match existing internally and externally, and remove waste and debris. (remove/rehang existing door or renew door to be ordered separately)."]
["3148AE","FRAME:PLASTIC COATED FIXED LIGHT UNIT","CARPENTRY AND JOINERY","Windows","Windows - Plastic Coated Timber","IT",340.62,{"$f":"SUMIF('Contractor##'!C:C,'Planned Maint v6.2 CSV File'!C:C,'Contractor##'!F:F)","v":-0.1135},301.95963,"Frame:Renew fixed light/door frame unit with plastic coated timber unit including 2 No fixed lights, compressible weatherstripping, glazing beads, remove existing frame and fix new in prepared opening, point with sealant, glaze, make.good to all finishes and decorate to match existing internally and externally, and remove waste and debris. (remove/rehang existing door or renew door to be ordered separately)."]
["3149AA","TIMBER:EPOXY REPAIR NE 10MM:OVER 300MM","CARPENTRY AND JOINERY","Windows","Window Repairs - Compounds","LM",32.130000000000003,{"$f":"SUMIF('Contractor##'!C:C,'Planned Maint v6.2 CSV File'!C:C,'Contractor##'!F:F)","v":-0.1135},28.483245,"Timber:Repair decayed external joinery timber, carefully cut away defective material, two part epoxy resin based filler/repair compound filling to joints, cracks, shakes, splits and the like, any width not exceeding 10mm, any depth, exceeding 300mm long all preparatory work and making good, preparation for redecoration."]
["3149AB","TIMBER:EPOXY REPAIR NE 10MM:NE 300MM","CARPENTRY AND JOINERY","Windows","Window Repairs - Compounds","NO",21.65,{"$f":"SUMIF('Contractor##'!C:C,'Planned Maint v6.2 CSV File'!C:C,'Contractor##'!F:F)","v":-0.1135},19.192724999999999,"Timber:Repair decayed external joinery timber, carefully cut away defective material, two part epoxy resin based filler/repair compound filling to joints, cracks, shakes, splits and the like, any width not exceeding 10mm, any depth, not exceeding 300mm long all preparatory work and making good, preparation for redecoration."]
["3149AC","TIMBER:EPOXY REPAIR NE 25MM:NE 600MM","CARPENTRY AND JOINERY","Windows","Window Repairs - Compounds","NO",30.34,{"$f":"SUMIF('Contractor##'!C:C,'Planned Maint v6.2 CSV File'!C:C,'Contractor##'!F:F)","v":-0.1135},26.896409999999999,"Timber:Repair decayed external joinery timber, carefully cut away defective material, two part epoxy resin based filler/repair compound filling to plain surfaces and the like, any width not exceeding 25mm, any depth, not exceeding 600mm long all preparatory work and making good, preparation for redecoration."]
["3149AD","TIMBER:EPOXY REPAIR NE 50MM:NE 300MM","CARPENTRY AND JOINERY","Windows","Window Repairs - Compounds","NO",23.82,{"$f":"SUMIF('Contractor##'!C:C,'Planned Maint v6.2 CSV File'!C:C,'Contractor##'!F:F)","v":-0.1135},21.116429999999998,"Timber:Repair decayed external joinery timber, carefully cut away defective material, two part epoxy resin based filler/repair compound filling to plain surfaces and the like, any width exceeding 25mm but not exceeding 50mm, any depth, not exceeding 300mm long all preparatory work and making good, preparation for redecoration."]
["3149AE","TIMBER:EPOXY REPAIR NE 75MM:NE 300MM","CARPENTRY AND JOINERY","Windows","Window Repairs - Compounds","NO",27.44,{"$f":"SUMIF('Contractor##'!C:C,'Planned Maint v6.2 CSV File'!C:C,'Contractor##'!F:F)","v":-0.1135},{"$f":"(1+H964)*G964","v":24.325559999999999},"Timber:Repair decayed external joinery timber, carefully cut away defective material, two part epoxy resin based filler/repair compound filling to plain surfaces and the like, any width exceeding 50mm but not exceeding 75mm, any depth not exceeding 300mm long all preparatory work and making good, preparation for redecoration."]
["3149AF","TIMBER:EPOXY REPAIR NE 25MM:NE 300MM","CARPENTRY AND JOINERY","Windows","Window Repairs - Compounds","NO",22.37,{"$f":"SUMIF('Contractor##'!C:C,'Planned Maint v6.2 CSV File'!C:C,'Contractor##'!F:F)","v":-0.1135},19.831005000000001,"Timber:Repair decayed external joinery timber, carefully cut away defective material, two part epoxy resin based filler/repair compound filling to irregular surfaces, mouldings and the like, any width not exceeding 25mm, any depth, not exceeding 300mm long all preparatory work and making good, preparation for redecoration."]
["3149AG","TIMBER:EPOXY REPAIR NE 50MM:NE 600MM","CARPENTRY AND JOINERY","Windows","Window Repairs - Compounds","NO",28.89,{"$f":"SUMIF('Contractor##'!C:C,'Planned Maint v6.2 CSV File'!C:C,'Contractor##'!F:F)","v":-0.1135},25.610984999999999,"Timber:Repair decayed external joinery timber, carefully cut away defective material, two part epoxy resin based filler/repair compound filling to irregular surfaces, mouldings and the like, any width exceeding 25mm but not exceeding 50mm, any depth, not exceeding 600mm long all preparatory work and making good, preparation for redecoration."]
["3149AH","TIMBER:EPOXY REPAIR NE 75MM:NE 600MM","CARPENTRY AND JOINERY","Windows","Window Repairs - Compounds","NO",30.34,{"$f":"SUMIF('Contractor##'!C:C,'Planned Maint v6.2 CSV File'!C:C,'Contractor##'!F:F)","v":-0.1135},26.896409999999999,"Timber:Repair decayed external joinery timber, carefully cut away defective material, two part epoxy resin based filler/repair compound filling to irregular surfaces, mouldings and the like, any width exceeding 50mm but not exceeding 75mm, any depth, not exceeding 600mm long all preparatory work and making good, preparation for redecoration."]
["3150AA","WINDOW:EASE AND ADJUST INCLUDING REMOVE","CARPENTRY AND JOINERY","Windows","Windows - Timber - Repairs","NO",8.06,{"$f":"SUMIF('Contractor##'!C:C,'Planned Maint v6.2 CSV File'!C:C,'Contractor##'!F:F)","v":-0.1135},7.1451900000000004,"Window:Ease any size and type of opening sash, pivot sash, sliding sash including remove and refix sash, beads etc, oil and adjust hinges and ironmongery as necessary, touch up decorations internally to match existing and prepare for redecoration externally, test to ensure effective operation."]
["3150AB","WINDOW:RENEW NE 0.9X0.6M CASEMENT SINGLE GLAZED","CARPENTRY AND JOINERY","Windows","Windows - Timber - Repairs","NO",92.43,{"$f":"SUMIF('Contractor##'!C:C,'Planned Maint v6.2 CSV File'!C:C,'Contractor##'!F:F)","v":-0.1135},81.939194999999998,"Window:Renew ne 900x600mm casement with preservative treated softwood casement, consisting of any size or profile members to match existing and hanging on new pair of 50mm steel butt storm hinges, single glazed and decorate to match existing internally and prepare for redecoration externally, and remove waste and debris."]
["3150AC","WINDOW:RENEW FIXED SASH NE 0.9X0.6M SING GLAZED","CARPENTRY AND JOINERY","Windows","Windows - Timber - Repairs","NO",80.84,{"$f":"SUMIF('Contractor##'!C:C,'Planned Maint v6.2 CSV File'!C:C,'Contractor##'!F:F)","v":-0.1135},71.664659999999998,"Sash:Renew ne 900x600mm fixed sash with preservative treated softwood sash, consisting of any size or profile members to match existing and bedded in linseed oil putty and screw fixed to frame, single glazed and decorate to match existing internally and prepare for redecoration externally, and remove waste and debris."]
["3150AD","WINDOW:RENEW PIVOT SASH SINGLE GLAZED","CARPENTRY AND JOINERY","Windows","Windows - Timber - Repairs","NO",194.81,{"$f":"SUMIF('Contractor##'!C:C,'Planned Maint v6.2 CSV File'!C:C,'Contractor##'!F:F)","v":-0.1135},172.69906499999999,"Window:Renew pivot sash with preservative treated softwood pivot, consisting of any size or profile to match existing framing and hanging on new pair of pivot hinges, single glazed and decorate to match existing internally and prepare for redecoration externally, and remove waste and debris."]
["3150AE","WINDOW:RENEW SLIDING SASH SINGLE GLAZED","CARPENTRY AND JOINERY","Windows","Windows - Timber - Repairs","NO",177.14,{"$f":"SUMIF('Contractor##'!C:C,'Planned Maint v6.2 CSV File'!C:C,'Contractor##'!F:F)","v":-0.1135},157.03460999999999,"Window:Renew preservative treated softwood sliding sash to box sash window, any size or profile to match existing, complete with cords, ease and adjust, single glazed and decorate to match existing internally and prepare for redecoration externally, and remove waste and debris."]
["3150AF","WINDOW:RENEW SOFTWOOD PARTING OR STAFF BEAD","CARPENTRY AND JOINERY","Windows","Windows - Timber - Repairs","LM",5.26,{"$f":"SUMIF('Contractor##'!C:C,'Planned Maint v6.2 CSV File'!C:C,'Contractor##'!F:F)","v":-0.1135},4.6629899999999997,"Window:Renew softwood parting bead to box sash window complete and decorate to match existing internally and prepare for redecoration externally, and remove waste and debris."]
["3150AG","WINDOW:RENEW SET OF SASH CORDS","CARPENTRY AND JOINERY","Windows","Windows - Timber - Repairs","IT",17.329999999999998,{"$f":"SUMIF('Contractor##'!C:C,'Planned Maint v6.2 CSV File'!C:C,'Contractor##'!F:F)","v":-0.1135},15.363044999999998,"Window:Renew set of pulley cords complete including remove and refix sliding sash pockets and beads and ease pulley (per sash)."]
["3150AH","WINDOW:RENEW PULLEY WHEEL TO BOX SASH","CARPENTRY AND JOINERY","Windows","Windows - Timber - Repairs","NO",24.5,{"$f":"SUMIF('Contractor##'!C:C,'Planned Maint v6.2 CSV File'!C:C,'Contractor##'!F:F)","v":-0.1135},21.719249999999999,"Window:Renew sliding sash pulley wheel including remove and refix sash and renew cords if required, touch up decorations to match existing, and remove waste and debris."]
["3150AJ","WINDOW:RENEW SASH WEIGHT(S) TO BOX SASH","CARPENTRY AND JOINERY","Windows","Windows - Timber - Repairs","NO",48.29,{"$f":"SUMIF('Contractor##'!C:C,'Planned Maint v6.2 CSV File'!C:C,'Contractor##'!F:F)","v":-0.1135},42.809084999999996,"Window:Renew weight(s) to sliding sash including remove and refix sash and renew cords if required, touch up decorations to match existing, and remove waste and debris."]
["3150AK","WINDOW:RENEW SPIRAL BALANCES TO BOX SASH","CARPENTRY AND JOINERY","Windows","Windows - Timber - Repairs","IT",85.98,{"$f":"SUMIF('Contractor##'!C:C,'Planned Maint v6.2 CSV File'!C:C,'Contractor##'!F:F)","v":-0.1135},76.221270000000004,"Window:Renew any type and size of spiral balances to double hung sash unit including remove/refix sashes, beads, linings etc, renew balances, test and make good decorations to match existing, and remove waste and debris."]
["3150AL","WINDOW FRAME:CUT OUT AND SPLICE NEW SECTION","CARPENTRY AND JOINERY","Windows","Windows - Timber - Repairs","LM",30.91,{"$f":"SUMIF('Contractor##'!C:C,'Planned Maint v6.2 CSV File'!C:C,'Contractor##'!F:F)","v":-0.1135},27.401714999999999,"Frame:Cut out and splice in new section treated softwood frame any size or profile to match existing, plugged to brick work and pointed with sealant, make good to plasterwork and decorate to match existing internally and prepare for redecoration externally, and remove waste and debris."]
["3150AM","WINDOW CILL:CUT OUT AND SPLICE NEW NE 300MM","CARPENTRY AND JOINERY","Windows","Windows - Timber - Repairs","IT",23.84,{"$f":"SUMIF('Contractor##'!C:C,'Planned Maint v6.2 CSV File'!C:C,'Contractor##'!F:F)","v":-0.1135},21.134159999999998,"Cill:Cut out and splice in new section ne 300mm long any size or profile of preservative hardwood cill to match existing frame, plugged to brickwork, and pointed with sealant, make good plasterwork and decorate to match existing internally and prepare for redecoration externally, and remove waste and debris."]
["3150AN","WINDOW CILL:CUT OUT AND SPLICE NEW OVER 300MM","CARPENTRY AND JOINERY","Windows","Windows - Timber - Repairs","LM",35.58,{"$f":"SUMIF('Contractor##'!C:C,'Planned Maint v6.2 CSV File'!C:C,'Contractor##'!F:F)","v":-0.1135},31.541669999999996,"Cill:Cut out and splice in new section over 300mm long any size or profile of preservative hardwood cill to match existing frame, plugged to brickwork, and pointed with sealant, make good plasterwork and decorate to match existing internally and prepare for redecoration externally, and remove waste and debris."]
["3150AP","WINDOW:RENEW GLAZING BEAD","CARPENTRY AND JOINERY","Windows","Windows - Timber - Repairs","LM",4.16,{"$f":"SUMIF('Contractor##'!C:C,'Planned Maint v6.2 CSV File'!C:C,'Contractor##'!F:F)","v":-0.1135},3.68784,"Window:Renew with 14x20mm preservative treated softwood or hardwood glazing bead and prepare for redecoration, and remove waste and debris."]
["3150AQ","WINDOW:REFIX LOOSE GLAZING BEAD","CARPENTRY AND JOINERY","Windows","Windows - Timber - Repairs","LM",3.58,{"$f":"SUMIF('Contractor##'!C:C,'Planned Maint v6.2 CSV File'!C:C,'Contractor##'!F:F)","v":-0.1135},3.17367,"Window:Refix loose glazing bead and bed in sealant."]
["3150AR","WINDOW:RENEW CILL NOSING","CARPENTRY AND JOINERY","Windows","Windows - Timber - Repairs","LM",7.52,{"$f":"SUMIF('Contractor##'!C:C,'Planned Maint v6.2 CSV File'!C:C,'Contractor##'!F:F)","v":-0.1135},6.6664799999999991,"Window:Renew front section of cill with any size or profile to match existing with screws and pellated and bed in sealant including cut out defective section and shape new to match existing, prepare for redecoration, and remove waste and debris."]
["3150AS","WINDOW:RENEW GLAZING BAR","CARPENTRY AND JOINERY","Windows","Windows - Timber - Repairs","LM",32.5,{"$f":"SUMIF('Contractor##'!C:C,'Planned Maint v6.2 CSV File'!C:C,'Contractor##'!F:F)","v":-0.1135},28.811249999999998,"Window:Renew glazing bar, any size or profile to match existing, reglaze with existing glass, splice new section, remove/refix sashes as required, redecorate to match existing internally and prepare for redecoration externally (refixing of glass is Service Provider’s risk)."]
["3150AT","WINDOW:RENEW WEATHER MOULD","CARPENTRY AND JOINERY","Windows","Windows - Timber - Repairs","LM",7.36,{"$f":"SUMIF('Contractor##'!C:C,'Planned Maint v6.2 CSV File'!C:C,'Contractor##'!F:F)","v":-0.1135},6.5246399999999998,"Window:Renew weather or parrot mould, cut out old and fix new mould, prepare for redecoration, and remove waste and debris."]
["3150AU","WINDOW:REPAIR SASH RAIL OR STILE","CARPENTRY AND JOINERY","Windows","Windows - Timber - Repairs","LM",34.33,{"$f":"SUMIF('Contractor##'!C:C,'Planned Maint v6.2 CSV File'!C:C,'Contractor##'!F:F)","v":-0.1135},30.433544999999995,"Window:Repair sash rail or stile any size or profile to match existing, reglaze with existing glass, splice new section, remove/refix fittings, redecorate to match existing internally and prepare for redecoration externally, (refixing of glass is Service Provider’s risk)."]
["3150BA","WINDOW:OVERHAUL TIMBER CASEMENT","CARPENTRY AND JOINERY","Windows","Windows - Timber - Repairs","NO",29.05,{"$f":"SUMIF('Contractor##'!C:C,'Planned Maint v6.2 CSV File'!C:C,'Contractor##'!F:F)","v":-0.1135},25.752824999999998,"Window:Overhaul timber casement window, dismantle as necessary and subsequently reassemble including freeing, easing and adjusting casements to give correct operation, renew sealing gaskets, renew fixing screws, remove, refit or renew ironmongery as necessary, rake out and renew defective putty and mastic, touch up decorations internally to match existing and prepare for redecoration externally, and remove waste and debris."]
["3150CA","WINDOW:OVERHAUL SASH-CORDS","CARPENTRY AND JOINERY","Windows","Windows - Timber - Repairs","NO",35.61,{"$f":"SUMIF('Contractor##'!C:C,'Planned Maint v6.2 CSV File'!C:C,'Contractor##'!F:F)","v":-0.1135},31.568264999999997,"Window:Overhaul timber sash window, renew staff and parting beads, take out sashes and later rehang on appropriate sized new undyed plaited nylon sash cords, renew pocket pieces, wedge and cramp loose sash frames, oil pulleys, ease and adjust sashes, remove, refit or renew ironmongery, rake out and renew defective putty and mastic, touch up decorations internally to match existing and prepare for redecoration externally, and remove waste and debris."]
["3150CB","WINDOW:OVERHAUL SASH-BALANCES","CARPENTRY AND JOINERY","Windows","Windows - Timber - Repairs","NO",98.99,{"$f":"SUMIF('Contractor##'!C:C,'Planned Maint v6.2 CSV File'!C:C,'Contractor##'!F:F)","v":-0.1135},87.754634999999993,"Window:Overhaul sash window, renew staff and parting beads, take out sashes and later rehang on spiral sash balances, renew pocket pieces, wedge and cramp loose sash frames, ease and adjust sashes, remove, refit or renew ironmongery, rake out and renew defective putty and mastic, touch up decorations internally to match existing and prepare for redecoration externally, and remove waste and debris."]
["3150FA","ESCAPE WINDOW:FORM IN EXISTING WINDOW","CARPENTRY AND JOINERY","Windows","Windows - Timber - Repairs","IT",126.87,{"$f":"SUMIF('Contractor##'!C:C,'Planned Maint v6.2 CSV File'!C:C,'Contractor##'!F:F)","v":-0.1135},112.47025499999999,"Escape Window:Form escape opening casement in existing window, remove glass, adjust frame to receive ne 900x600mm double glazed casement, to match existing, all ironmongery, prepare to decorate. "]
["3160AA","STEEL WINDOW:RENEW WITH POLYESTER COATED 1 LIGHT","CARPENTRY AND JOINERY","Windows","Windows - Polyester Coated Steel","SM",396.25,{"$f":"SUMIF('Contractor##'!C:C,'Planned Maint v6.2 CSV File'!C:C,'Contractor##'!F:F)","v":-0.1135},351.27562499999999,"Window:Renew steel window, polyester powder coated casement window, 1 opening light, weaterstripping, remove existing, fix new in prepared opening, point in sealant, double glazed internally with 28mm thick sealed Low E glass unit, all ironmongery, make good to structure and all finishings and decorations internnaly and externally."]
["3160AB","STEEL WINDOW:RENEW WITH POLYESTER COATED 2 LIGHT","CARPENTRY AND JOINERY","Windows","Windows - Polyester Coated Steel","SM",416.25,{"$f":"SUMIF('Contractor##'!C:C,'Planned Maint v6.2 CSV File'!C:C,'Contractor##'!F:F)","v":-0.1135},369.00562500000001,"Window:Renew steel window, polyester powder coated casement window, 2 opening lights, weaterstripping, remove existing, fix new in prepared opening, point in sealant, double glazed internally with 28mm thick sealed Low E glass unit, all ironmongery, make good to structure and all finishings and decorations internnaly and externally."]
["3160AC","STEEL WINDOW:RENEW WITH POLYESTER COATED 3 LIGHT","CARPENTRY AND JOINERY","Windows","Windows - Polyester Coated Steel","SM",436.25,{"$f":"SUMIF('Contractor##'!C:C,'Planned Maint v6.2 CSV File'!C:C,'Contractor##'!F:F)","v":-0.1135},386.73562499999997,"Window:Renew steel window, polyester powder coated casement window, 3 opening lights, weaterstripping, remove existing, fix new in prepared opening, point in sealant, double glazed internally with 28mm thick sealed Low E glass unit, all ironmongery, make good to structure and all finishings and decorations internnaly and externally."]
["3161AA","ALUMINIUM WDW:RENEW WITH POLYESTER COATED 1 LIGHT","CARPENTRY AND JOINERY","Windows","Windows - Polyester Coated Aluminium","SM",394.87,{"$f":"SUMIF('Contractor##'!C:C,'Planned Maint v6.2 CSV File'!C:C,'Contractor##'!F:F)","v":-0.1135},350.052255,"Window:Renew aluminium window, polyester powder coated casement window, 1 opening light, weaterstripping, remove existing, fix new in prepared opening, point in sealant, double glazed internally with 28mm thick sealed Low E glass unit, all ironmongery, make good to structure and all finishings and decorations internnaly and externally."]
["3161AB","ALUMINIUM WDW:RENEW WITH POLYESTER COATED 2 LIGHT","CARPENTRY AND JOINERY","Windows","Windows - Polyester Coated Aluminium","SM",400.87,{"$f":"SUMIF('Contractor##'!C:C,'Planned Maint v6.2 CSV File'!C:C,'Contractor##'!F:F)","v":-0.1135},355.37125499999996,"Window:Renew aluminium window, polyester powder coated casement window, 2 opening lights, weaterstripping, remove existing, fix new in prepared opening, point in sealant, double glazed internally with 28mm thick sealed Low E glass unit, all ironmongery, make good to structure and all finishings and decorations internnaly and externally."]
["3161AC","ALUMINIUM WDW:RENEW WITH POLYESTER COATED 3 LIGHT","CARPENTRY AND JOINERY","Windows","Windows - Polyester Coated Aluminium","SM",402.87,{"$f":"SUMIF('Contractor##'!C:C,'Planned Maint v6.2 CSV File'!C:C,'Contractor##'!F:F)","v":-0.1135},357.14425499999999,"Window:Renew aluminium window, polyester powder coated casement window, 3 opening lights, weaterstripping, remove existing, fix new in prepared opening, point in sealant, double glazed internally with 28mm thick sealed Low E glass unit, all ironmongery, make good to structure and all finishings and decorations internnaly and externally."]
["3161AD","FRAME:ALUMINIUM PPC COMBINATION UNIT","CARPENTRY AND JOINERY","Windows","Windows - Polyester Coated Aluminium","IT",305.62,{"$f":"SUMIF('Contractor##'!C:C,'Planned Maint v6.2 CSV File'!C:C,'Contractor##'!F:F)","v":-0.1135},270.93212999999997,"Frame:Renew window/door frame unit with standard polyester powder coated alumium unit including ne 2 No opening lights, compressible weatherstripping, ironmongery including locking handles, glazing beads, remove existing frame and fix new in prepared opening,point with sealant, double glazed, make good to all finishes and decorate to match existing internally and externally, and remove waste and debris. (remove/rehang existing door or renew door to be ordered separately)."]
["3161AE","FRAME:ALUMINIUM PPC FIXED LIGHT UNIT","CARPENTRY AND JOINERY","Windows","Windows - Polyester Coated Aluminium","IT",275.62,{"$f":"SUMIF('Contractor##'!C:C,'Planned Maint v6.2 CSV File'!C:C,'Contractor##'!F:F)","v":-0.1135},244.33713,"Frame:Renew fixed light/door frame unit with standard polyester powder coated aluminium unit including 2 No fixed lights, compressible weatherstripping, glazing beads, remove existing frame and fix new in prepared opening, point with sealant, glaze, make.good to all finishes and decorate to match existing internally and externally, and remove waste and debris. (remove/rehang existing door or renew door to be ordered separately)."]
["3162AA","WINDOW:RENEW SUB-FRAME TO METAL","CARPENTRY AND JOINERY","Windows","Windows - Metal - Timber Sub - Frame","LM",22.22,{"$f":"SUMIF('Contractor##'!C:C,'Planned Maint v6.2 CSV File'!C:C,'Contractor##'!F:F)","v":-0.1135},19.698029999999999,"Window:Renew timber sub-frame and cill to any steel window, including take out existing metal window and set aside, remove sub- frame, prepare for and supply and fix preservative treated softwood frame and preservative treated hardwood cill to any size or profile to match existing suit window bedded in mortar and pointed with sealant refix steel window, make good to plasterwork and cill board and redecorate to match existing internally and prepare for redecoration externally, and remove waste and debris."]
["3162CA","WINDOW:RENEW PVCU SUB-FRAME TO METAL","CARPENTRY AND JOINERY","Windows","Windows - Metal - PVCu Sub - Frame","NO",50,{"$f":"SUMIF('Contractor##'!C:C,'Planned Maint v6.2 CSV File'!C:C,'Contractor##'!F:F)","v":-0.1135},44.324999999999996,"Window:Renew with PVCu sub-frame and cill to any metal window, including take out existing metal window and set aside, remove sub-frame, prepare for and supply and fix proprietary PVCu sub-frame and cill to suit window bedded in mortar and pointed with sealant, refix metal window, make good to plasterwork and cillboard."]
["3164AB","WINDOW:EASE OIL BUTTS ADJUST ANY METAL","CARPENTRY AND JOINERY","Windows","Windows - Metal - Repairs","NO",6.5,{"$f":"SUMIF('Contractor##'!C:C,'Planned Maint v6.2 CSV File'!C:C,'Contractor##'!F:F)","v":-0.1135},5.7622499999999999,"Window:Ease and oil butts to metal window including force open if necessary, strip paint, file and grind edges, ease hinges to metal window, touch up decorations internally to match existing and prepare for redecoration externally."]
["3164AC","WINDOW:RENEW WEATHER/DRAUGHT PROOFING METAL","CARPENTRY AND JOINERY","Windows","Windows - Metal - Repairs","IT",14.17,{"$f":"SUMIF('Contractor##'!C:C,'Planned Maint v6.2 CSV File'!C:C,'Contractor##'!F:F)","v":-0.1135},12.561705,"Window:Renew proprietary weather/draught proofing to any opening light to metal window and adjust window as necessary to ensure effective operation."]
["3164BA","WINDOW:OVERHAUL METAL","CARPENTRY AND JOINERY","Windows","Windows - Metal - Repairs","NO",28.43,{"$f":"SUMIF('Contractor##'!C:C,'Planned Maint v6.2 CSV File'!C:C,'Contractor##'!F:F)","v":-0.1135},25.203194999999997,"Window:Overhaul any type of metal window, dismantle as necessary and subsequently reassemble including freeing, easing, oiling and adjusting casements to give correct operation, including file and grind edges, renew fixing screws, remove, refit or renew ironmongery as necessary, rake out and renew defective putty and mastic, touch up decorations internally to match existing, and remove waste and debris."]
["3172AA","WINDOW:EASE OIL BUTTS ADJUST ANY ALUMINIUM ","CARPENTRY AND JOINERY","Windows","Windows - Aluminium - Repairs","NO",5.93,{"$f":"SUMIF('Contractor##'!C:C,'Planned Maint v6.2 CSV File'!C:C,'Contractor##'!F:F)","v":-0.1135},5.2569449999999991,"Window:Ease and oil butts to any type of aluminium window including renewing runners if necessary."]
["3172BA","WINDOW:OVERHAUL ALUMINIUM","CARPENTRY AND JOINERY","Windows","Windows - Aluminium - Repairs","NO",28.43,{"$f":"SUMIF('Contractor##'!C:C,'Planned Maint v6.2 CSV File'!C:C,'Contractor##'!F:F)","v":-0.1135},25.203194999999997,"Window:Overhaul any type of aluminium window, dismantle as necessary and subsequently reassemble including freeing, easing, and adjusting casements to give correct operation, renew fixing screws, remove, refit or renew ironmongery as necessary, rake out and renew defective sealants and mastic, make good."]
["3181AA","WINDOW:RENEW FANLIGHT PVCU SASH","CARPENTRY AND JOINERY","Windows","Windows - PVCu - Repairs","NO",39.69,{"$f":"SUMIF('Contractor##'!C:C,'Planned Maint v6.2 CSV File'!C:C,'Contractor##'!F:F)","v":-0.1135},35.185184999999997,"Window:Renew any size and type of fanlight sash to PVCu window including double glazing and all ironmongery and make good."]
["3181AB","WINDOW:RENEW SIDE HUNG PVCU SASH","CARPENTRY AND JOINERY","Windows","Windows - PVCu - Repairs","NO",72.81,{"$f":"SUMIF('Contractor##'!C:C,'Planned Maint v6.2 CSV File'!C:C,'Contractor##'!F:F)","v":-0.1135},64.546064999999999,"Window:Renew any size and type of sidehung sash to PVCu window including double glazing and all ironmongery and make good."]
["3181AC","WINDOW:RENEW TRICKLE VENT TO PVCU","CARPENTRY AND JOINERY","Windows","Windows - PVCu - Repairs","IT",8.9600000000000009,{"$f":"SUMIF('Contractor##'!C:C,'Planned Maint v6.2 CSV File'!C:C,'Contractor##'!F:F)","v":-0.1135},7.9430400000000008,"Window:Renew or repair any trickle vent to PVCu window."]
["3181AD","WINDOW:RENEW HANDLE TO PVCU","CARPENTRY AND JOINERY","Windows","Windows - PVCu - Repairs","NO",12.9,{"$f":"SUMIF('Contractor##'!C:C,'Planned Maint v6.2 CSV File'!C:C,'Contractor##'!F:F)","v":-0.1135},11.43585,"Window:Renew any defective or broken handle to PVCu window including remove existing, check, lubricate operating mechanism, renew handle to match existing and test."]
["3181AE","WINDOW:RENEW HINGE TO PVCU","CARPENTRY AND JOINERY","Windows","Windows - PVCu - Repairs","NO",7.85,{"$f":"SUMIF('Contractor##'!C:C,'Planned Maint v6.2 CSV File'!C:C,'Contractor##'!F:F)","v":-0.1135},6.9590249999999996,"Window:Renew any defective or broken hinge to PVCu window including remove existing and renew hinge to match existing, and remove waste and debris."]
["3181AF","WINDOW:RENEW ESPAGNOLETTE LOCK TO PVCU","CARPENTRY AND JOINERY","Windows","Windows - PVCu - Repairs","IT",16.95,{"$f":"SUMIF('Contractor##'!C:C,'Planned Maint v6.2 CSV File'!C:C,'Contractor##'!F:F)","v":-0.1135},15.026174999999999,"Window:Renew any defective or broken espagnolette locking mechanism to PVCu window including remove existing and renew to match existing and test."]
["3181AG","WINDOW:RENEW SEALING GASKET TO PVCU","CARPENTRY AND JOINERY","Windows","Windows - PVCu - Repairs","IT",5.21,{"$f":"SUMIF('Contractor##'!C:C,'Planned Maint v6.2 CSV File'!C:C,'Contractor##'!F:F)","v":-0.1135},4.618665,"Window:Renew sealing gasket to any opening light of PVCu window (per opening light)."]
["3181AH","WINDOW:CHECK LUBRICATE FITTINGS TO PVCU","CARPENTRY AND JOINERY","Windows","Windows - PVCu - Repairs","IT",4.8099999999999996,{"$f":"SUMIF('Contractor##'!C:C,'Planned Maint v6.2 CSV File'!C:C,'Contractor##'!F:F)","v":-0.1135},4.2640649999999996,"Window:Check operation of all fittings and operating mechanisms to PVCu window complete including lubricate and adjust as necessary."]
["3181AI","WINDOW:EASE AND ADJUST PVCU SASH","CARPENTRY AND JOINERY","Windows","Windows - PVCu - Repairs","IT",8,{"$f":"SUMIF('Contractor##'!C:C,'Planned Maint v6.2 CSV File'!C:C,'Contractor##'!F:F)","v":-0.1135},7.0919999999999996,"Window:Ease and adjust PVCu sash including realign as necessary."]
["3181AJ","WINDOW:OVERHAUL TILT TURN MECHANISM TO PVCU","CARPENTRY AND JOINERY","Windows","Windows - PVCu - Repairs","NO",13.44,{"$f":"SUMIF('Contractor##'!C:C,'Planned Maint v6.2 CSV File'!C:C,'Contractor##'!F:F)","v":-0.1135},11.91456,"Window:Check operation of tilt and turn mechanism to PVCu window including overhaul, lubricate and adjust as necessary."]
["3181AK","WINDOW:RENEW TILT TURN MECHANISM TO PVCU","CARPENTRY AND JOINERY","Windows","Windows - PVCu - Repairs","NO",80.13,{"$f":"SUMIF('Contractor##'!C:C,'Planned Maint v6.2 CSV File'!C:C,'Contractor##'!F:F)","v":-0.1135},71.035244999999989,"Window:Renew any tilt and turn mechanism complete to PVCu window of any size to match existing, including remove existing, test and leave in proper working order."]
["3181AL","WINDOW:CHILD RESTRICTOR TO PVCU","CARPENTRY AND JOINERY","Windows","Windows - PVCu - Repairs","NO",7.88,{"$f":"SUMIF('Contractor##'!C:C,'Planned Maint v6.2 CSV File'!C:C,'Contractor##'!F:F)","v":-0.1135},6.9856199999999999,"Window:Renew or supply and fix new adjustable child proof restrictor/catch to any type of PVCu window including removing existing fitting."]
["3181AM","WINDOW:RENEW LOCKING HANDLE TO PVCU","CARPENTRY AND JOINERY","Windows","Windows - PVCu - Repairs","NO",17.010000000000002,{"$f":"SUMIF('Contractor##'!C:C,'Planned Maint v6.2 CSV File'!C:C,'Contractor##'!F:F)","v":-0.1135},15.079365000000001,"Window:Renew any defective or broken locking handle to PVCu window including remove existing, check, lubricate operating mechanism, renew handle to match existing and test."]
["3181AN","WINDOW:RENEW GLAZING BEAD TO PVCU","CARPENTRY AND JOINERY","Windows","Windows - PVCu - Repairs","LM",4.63,{"$f":"SUMIF('Contractor##'!C:C,'Planned Maint v6.2 CSV File'!C:C,'Contractor##'!F:F)","v":-0.1135},4.104495,"Window:Renew any type of defective PVCu glazing bead including remove existing bead, clean, prepare and supply and fit new bead to match existing including all cutting, mitres, sealing with silicone sealant as necessary."]
["3181AP","WINDOW:RENEW OPENER GASKET TO PVCU","CARPENTRY AND JOINERY","Windows","Windows - PVCu - Repairs","LM",1.82,{"$f":"SUMIF('Contractor##'!C:C,'Planned Maint v6.2 CSV File'!C:C,'Contractor##'!F:F)","v":-0.1135},1.6134299999999999,"Window:Renew gasket to any style of PVCu window opening light."]
["3181AQ","WINDOW:RENEW FRICTION STAY TO PVCU","CARPENTRY AND JOINERY","Windows","Windows - PVCu - Repairs","NO",6.42,{"$f":"SUMIF('Contractor##'!C:C,'Planned Maint v6.2 CSV File'!C:C,'Contractor##'!F:F)","v":-0.1135},5.6913299999999998,"Window:Renew any type of stay with stainless steel friction stay to PVCu window."]
["3181AR","WINDOW:RENEW RESTRAINING WEDGES TO PVCU","CARPENTRY AND JOINERY","Windows","Windows - PVCu - Repairs","NO",2.2999999999999998,{"$f":"SUMIF('Contractor##'!C:C,'Planned Maint v6.2 CSV File'!C:C,'Contractor##'!F:F)","v":-0.1135},2.0389499999999998,"Window:Renew plastic restraining wedges to friction stay guide to PVCu window."]
["3181AS","WINDOW:RENEW RESTRICTOR STAY TO PVCU","CARPENTRY AND JOINERY","Windows","Windows - PVCu - Repairs","NO",7.88,{"$f":"SUMIF('Contractor##'!C:C,'Planned Maint v6.2 CSV File'!C:C,'Contractor##'!F:F)","v":-0.1135},6.9856199999999999,"Window:Renew restrictor stay to match existing to PVCu window."]
["3181AT","WINDOW:RENEW LOCKING PLATE TO PVCU","CARPENTRY AND JOINERY","Windows","Windows - PVCu - Repairs","NO",11.35,{"$f":"SUMIF('Contractor##'!C:C,'Planned Maint v6.2 CSV File'!C:C,'Contractor##'!F:F)","v":-0.1135},10.061774999999999,"Window:Renew any type of window handle and striker plate with ‘Securistyle Empress’ locking plate to PVCu window."]
["3181AW","WINDOW:RENEW DRIP MOULD BEAD TO PVCU","CARPENTRY AND JOINERY","Windows","Windows - PVCu - Repairs","LM",4.04,{"$f":"SUMIF('Contractor##'!C:C,'Planned Maint v6.2 CSV File'!C:C,'Contractor##'!F:F)","v":-0.1135},3.5814599999999999,"Window:Renew drip mould bead to PVCu window and make good."]
["3181AY","WINDOW:PROVIDE DRIP MOULD BEAD TO PVCU","CARPENTRY AND JOINERY","Windows","Windows - PVCu - Repairs","LM",3.1,{"$f":"SUMIF('Contractor##'!C:C,'Planned Maint v6.2 CSV File'!C:C,'Contractor##'!F:F)","v":-0.1135},2.7481499999999999,"Window:Provide standard section PVCu drip mould bead, fix to PVCu window and make good."]
["3181BA","WINDOW:OVERHAUL PVCU","CARPENTRY AND JOINERY","Windows","Windows - PVCu - Repairs","NO",28.43,{"$f":"SUMIF('Contractor##'!C:C,'Planned Maint v6.2 CSV File'!C:C,'Contractor##'!F:F)","v":-0.1135},25.203194999999997,"Window:Overhaul any type of PVCu window, dismantle as necessary and subsequently reassemble including freeing, easing and adjusting casements to give correct operation, renew fixing screws, remove, refit or renew ironmongery as necessary, check, lubricate operating mechanism, renew gaskets, make good and test."]
["3181BB","WINDOW:PROVIDE 30MM EXTENSION FLANGE TO PVCU","CARPENTRY AND JOINERY","Windows","Windows - PVCu - Repairs","LM",4.3,{"$f":"SUMIF('Contractor##'!C:C,'Planned Maint v6.2 CSV File'!C:C,'Contractor##'!F:F)","v":-0.1135},{"$f":"(1+H1028)*G1028","v":3.8119499999999995},"Window:Provide 30mm standard section PVCu extension flange, fix to PVCu window and make good."]
["3181BC","WINDOW:PROVIDE 45MM EXTENSION FLANGE TO PVCU","CARPENTRY AND JOINERY","Windows","Windows - PVCu - Repairs","LM",4.54,{"$f":"SUMIF('Contractor##'!C:C,'Planned Maint v6.2 CSV File'!C:C,'Contractor##'!F:F)","v":-0.1135},4.0247099999999998,"Window:Provide 45mm standard section PVCu extension flange, fix to PVCu window and make good."]
["3181BD","WINDOW:PROVIDE 30MM BOX EXTENSION TO PVCU","CARPENTRY AND JOINERY","Windows","Windows - PVCu - Repairs","LM",4.3,{"$f":"SUMIF('Contractor##'!C:C,'Planned Maint v6.2 CSV File'!C:C,'Contractor##'!F:F)","v":-0.1135},3.8119499999999995,"Window:Provide 30mm PVCu box extension piece, fix to PVCu window and make good."]
["3181BE","WINDOW:PROVIDE 45MM BOX EXTENSION TO PVCU","CARPENTRY AND JOINERY","Windows","Windows - PVCu - Repairs","LM",4.54,{"$f":"SUMIF('Contractor##'!C:C,'Planned Maint v6.2 CSV File'!C:C,'Contractor##'!F:F)","v":-0.1135},4.0247099999999998,"Window:Provide 45mm PVCu box extension piece fix to PVCu window and make good."]
["3181BF","WINDOW:RENEW DRAIN CAPS TO PVCU","CARPENTRY AND JOINERY","Windows","Windows - PVCu - Repairs","IT",1.55,{"$f":"SUMIF('Contractor##'!C:C,'Planned Maint v6.2 CSV File'!C:C,'Contractor##'!F:F)","v":-0.1135},1.3740749999999999,"Window:Renew any missing or broken drain caps to PVCu window (per window)."]
["3181BG","WINDOW:REPOINT SILICONE TO PVCU FRAME","CARPENTRY AND JOINERY","Windows","Windows - PVCu - Repairs","LM",2.9,{"$f":"SUMIF('Contractor##'!C:C,'Planned Maint v6.2 CSV File'!C:C,'Contractor##'!F:F)","v":-0.1135},2.5708499999999996,"Window:Rake out, prepare and repoint with silicone mastic sealant complete around any external face of PVCu window frame."]
["3181CA","WINDOW:RENEW QUADRANT FILLET TO PVCU","CARPENTRY AND JOINERY","Windows","Windows - PVCu - Repairs","LM",3.93,{"$f":"SUMIF('Contractor##'!C:C,'Planned Maint v6.2 CSV File'!C:C,'Contractor##'!F:F)","v":-0.1135},3.4839449999999998,"Window:Renew cellular PVCu quadrant cover fillet fixed with approved adhesive or other approved concealed fixing method internally around windows make good plasterwork and decorations."]
["3181DA","WINDOW:RENEW CILL TO PVCU","CARPENTRY AND JOINERY","Windows","Windows - PVCu - Repairs","LM",14.1,{"$f":"SUMIF('Contractor##'!C:C,'Planned Maint v6.2 CSV File'!C:C,'Contractor##'!F:F)","v":-0.1135},12.499649999999999,"Window:Renew standard section PVCu cill to PVCu window, remove existing cill, clean, prepare and supply and fit new cill to match existing including end caps, all cutting, mitres, sealing with silicone sealant as necessary and make good."]
["3181EA","WINDOW:PROVIDE CILL TO PVCU","CARPENTRY AND JOINERY","Windows","Windows - PVCu - Repairs","LM",10.97,{"$f":"SUMIF('Contractor##'!C:C,'Planned Maint v6.2 CSV File'!C:C,'Contractor##'!F:F)","v":-0.1135},9.7249049999999997,"Window:Provide standard section PVCu cill to PVCu window clean, prepare and supply and fit new cill including end caps all cutting, mitres, sealing with silicone sealant as necessary and make good."]
["3181FA","WINDOW:RENEW CILL ENDS TO PVCU","CARPENTRY AND JOINERY","Windows","Windows - PVCu - Repairs","NO",1.68,{"$f":"SUMIF('Contractor##'!C:C,'Planned Maint v6.2 CSV File'!C:C,'Contractor##'!F:F)","v":-0.1135},1.48932,"Window:Renew any missing or broken cill ends to PVCu window (per window)."]
["3182AA","DOOR FRAME:RAKE OUT AND REPOINT SEALANT","CARPENTRY AND JOINERY","Windows","Windows and Door Frames - Silicone Pointing","IT",10.64,{"$f":"SUMIF('Contractor##'!C:C,'Planned Maint v6.2 CSV File'!C:C,'Contractor##'!F:F)","v":-0.1135},9.4323599999999992,"Door Frame:Rake out, prepare and repoint with silicone mastic sealant complete around any door frame of any size (per face)."]
["3182BA","WINDOW FRAME:RAKE OUT AND REPOINT","CARPENTRY AND JOINERY","Windows","Windows and Door Frames - Silicone Pointing","IT",11.4,{"$f":"SUMIF('Contractor##'!C:C,'Planned Maint v6.2 CSV File'!C:C,'Contractor##'!F:F)","v":-0.1135},10.1061,"Window Frame:Rake out, prepare and repoint with silicone mastic sealant complete around any window frame (per face)."]
["3182CA","WINDOW FRAME:PROVIDE AND FIX BEAD OR SEALANT","CARPENTRY AND JOINERY","Windows","Windows and Door Frames - Silicone Pointing","NO",16.87,{"$f":"SUMIF('Contractor##'!C:C,'Planned Maint v6.2 CSV File'!C:C,'Contractor##'!F:F)","v":-0.1135},14.955254999999999,"Window Frame:Provide and fix suitable size PVCu quadrant or flexible PVC cover trim fixed with silicone mastic sealant to form a neat clean beaded surround, to jambs and head of any window frame, any location internally and ne 2 storeys externally, including raking out existing defective sealant, hacking back plaster or render as necessary, cleaning and notching new quadrant and trim around all obstructions (per face)."]
["3183AA","WINDOWS/DOORS:PVCU 1 BED HOUSE CHECK CLEAN","CARPENTRY AND JOINERY","Windows","Windows - PVCu - Check All","IT",31.02,{"$f":"SUMIF('Contractor##'!C:C,'Planned Maint v6.2 CSV File'!C:C,'Contractor##'!F:F)","v":-0.1135},27.499229999999997,"Windows/doors:Check all PVCu windows and doors to 1 bed house or maisonette, including freeing, easing, adjusting, realigning/ rehanging opening sashes/casements and doors, checking operation of all fittings and operating mechanisms, lubricating and adjusting as necessary to give correct operation, replace any missing fixings, recording any other defects requiring repair/replacement and provide written report to Client’s Representative, clean all surfaces/profiles externally using proprietary cleaner, wash and dry off."]
["3183AB","WINDOWS/DOORS:PVCU 2 BED HOUSE CHECK CLEAN","CARPENTRY AND JOINERY","Windows","Windows - PVCu - Check All","IT",39.56,{"$f":"SUMIF('Contractor##'!C:C,'Planned Maint v6.2 CSV File'!C:C,'Contractor##'!F:F)","v":-0.1135},35.069940000000003,"Windows/doors:Check all PVCu windows and doors to 2 bed house or maisonette, including freeing, easing, adjusting, realigning/ rehanging opening sashes/casements and doors, checking operation of all fittings and operating mechanisms, lubricating and adjusting as necessary to give correct operation, replace any missing fixings, recording any other defects requiring repair/replacement and provide written report to Client’s Representative, clean all surfaces/profiles externally using proprietary cleaner, wash and dry off."]
["3183AC","WINDOWS/DOORS:PVCU 3 BED HOUSE CHECK CLEAN","CARPENTRY AND JOINERY","Windows","Windows - PVCu - Check All","IT",44.68,{"$f":"SUMIF('Contractor##'!C:C,'Planned Maint v6.2 CSV File'!C:C,'Contractor##'!F:F)","v":-0.1135},39.608819999999994,"Windows/doors:Check all PVCu windows and doors to 3 bed house or maisonette, including freeing, easing, adjusting, realigning/ rehanging opening sashes/casements and doors, checking operation of all fittings and operating mechanisms, lubricating and adjusting as necessary to give correct operation, replace any missing fixings, recording any other defects requiring repair/replacement and provide written report to Client’s Representative, clean all surfaces/profiles externally using proprietary cleaner, wash and dry off."]
["3183AD","WINDOWS/DOORS:PVCU 4 BED HOUSE CHECK CLEAN","CARPENTRY AND JOINERY","Windows","Windows - PVCu - Check All","IT",51.65,{"$f":"SUMIF('Contractor##'!C:C,'Planned Maint v6.2 CSV File'!C:C,'Contractor##'!F:F)","v":-0.1135},45.787724999999995,"Windows/doors:Check all PVCu windows and doors to 4 bed house or maisonette, including freeing, easing, adjusting, realigning/ rehanging opening sashes/casements and doors, checking operation of all fittings and operating mechanisms, lubricating and adjusting as necessary to give correct operation, replace any missing fixings, recording any other defects requiring repair/replacement and provide written report to Client’s Representative, clean all surfaces/profiles externally using proprietary cleaner, wash and dry off."]
["3183AE","WINDOWS/DOORS:PVCU 5 BED HOUSE CHECK CLEAN","CARPENTRY AND JOINERY","Windows","Windows - PVCu - Check All","IT",56.78,{"$f":"SUMIF('Contractor##'!C:C,'Planned Maint v6.2 CSV File'!C:C,'Contractor##'!F:F)","v":-0.1135},50.335470000000001,"Windows/doors:Check all PVCu windows and doors to 5 bed house or maisonette, including freeing, easing, adjusting, realigning/ rehanging opening sashes/casements and doors, checking operation of all fittings and operating mechanisms, lubricating and adjusting as necessary to give correct operation, replace any missing fixings, recording any other defects requiring repair/replacement and provide written report to Client’s Representative, clean all surfaces/profiles externally using proprietary cleaner, wash and dry off."]
["3183BA","WINDOWS/DOORS:PVCU 1 BED FLAT CHECK CLEAN","CARPENTRY AND JOINERY","Windows","Windows - PVCu - Check All","IT",24.82,{"$f":"SUMIF('Contractor##'!C:C,'Planned Maint v6.2 CSV File'!C:C,'Contractor##'!F:F)","v":-0.1135},22.002929999999999,"Windows/doors:Check all PVCu windows and doors to 1 bed flat or bungalow, including freeing, easing, adjusting, realigning/ rehanging opening sashes/casements and doors, checking operation of all fittings and operating mechanisms, lubricating and adjusting as necessary to give correct operation, replace any missing fixings, recording any other defects requiring repair/replacement and provide written report to Client’s Representative, clean all surfaces/profiles externally using proprietary cleaner, wash and dry off."]
["3183BB","WINDOWS/DOORS:PVCU 2 BED FLAT CHECK CLEAN","CARPENTRY AND JOINERY","Windows","Windows - PVCu - Check All","IT",27.53,{"$f":"SUMIF('Contractor##'!C:C,'Planned Maint v6.2 CSV File'!C:C,'Contractor##'!F:F)","v":-0.1135},24.405345000000001,"Windows/doors:Check all PVCu windows and doors to 2 bed flat or bungalow, including freeing, easing, adjusting, realigning/ rehanging opening sashes/casements and doors, checking operation of all fittings and operating mechanisms, lubricating and adjusting as necessary to give correct operation, replace any missing fixings, recording any other defects requiring repair/replacement and provide written report to Client’s Representative, clean all surfaces/profiles externally using proprietary cleaner, wash and dry off."]
["3183BC","WINDOWS/DOORS:PVCU 3 BED FLAT CHECK CLEAN","CARPENTRY AND JOINERY","Windows","Windows - PVCu - Check All","IT",37.85,{"$f":"SUMIF('Contractor##'!C:C,'Planned Maint v6.2 CSV File'!C:C,'Contractor##'!F:F)","v":-0.1135},33.554025000000003,"Windows/doors:Check all PVCu windows and doors to 3 bed flat or bungalow, including freeing, easing, adjusting, realigning/ rehanging opening sashes/casements and doors, checking operation of all fittings and operating mechanisms, lubricating and adjusting as necessary to give correct operation, replace any missing fixings, recording any other defects requiring repair/replacement and provide written report to Client’s Representative, clean all surfaces/profiles externally using proprietary cleaner, wash and dry off."]
["3183BD","WINDOWS/DOORS:PVCU 4 BED FLAT CHECK CLEAN","CARPENTRY AND JOINERY","Windows","Windows - PVCu - Check All","IT",46.53,{"$f":"SUMIF('Contractor##'!C:C,'Planned Maint v6.2 CSV File'!C:C,'Contractor##'!F:F)","v":-0.1135},41.248844999999996,"Windows/doors:Check all PVCu windows and doors to 4 bed flat or bungalow, including freeing, easing, adjusting, realigning/ rehanging opening sashes/casements and doors, checking operation of all fittings and operating mechanisms, lubricating and adjusting as necessary to give correct operation, replace any missing fixings, recording any other defects requiring repair/replacement and provide written report to Client’s Representative, clean all surfaces/profiles externally using proprietary cleaner, wash and dry off."]
["3183BE","WINDOWS/DOORS:PVCU 5 BED FLAT CHECK CLEAN","CARPENTRY AND JOINERY","Windows","Windows - PVCu - Check All","IT",48.39,{"$f":"SUMIF('Contractor##'!C:C,'Planned Maint v6.2 CSV File'!C:C,'Contractor##'!F:F)","v":-0.1135},42.897734999999997,"Windows/doors:Check all PVCu windows and doors to 5 bed flat or bungalow, including freeing, easing, adjusting, realigning/ rehanging opening sashes/casements and doors, checking operation of all fittings and operating mechanisms, lubricating and adjusting as necessary to give correct operation, replace any missing fixings, recording any other defects requiring repair/replacement and provide written report to Client’s Representative, clean all surfaces/profiles externally using proprietary cleaner, wash and dry off."]
["3190AA","ROOF WINDOW:RENEW NE 0.78X0.98M","CARPENTRY AND JOINERY","Windows","Windows - Roof - Velux","NO",532.80999999999995,{"$f":"SUMIF('Contractor##'!C:C,'Planned Maint v6.2 CSV File'!C:C,'Contractor##'!F:F)","v":-0.1135},472.33606499999991,"Roof Window:Renew roof window complete size ne 0.78 x 0.98m with Velux aluminium clad externally roof window with factory fitted clear float double glazed sealed unit, all upstands, flashings and dressing of flashings, fixing to timber with screws and make good all finishings internally and roof coverings externally, and remove waste and debris."]
["3190AB","ROOF WINDOW:RENEW NE 1.14X1.18MM","CARPENTRY AND JOINERY","Windows","Windows - Roof - Velux","NO",606.76,{"$f":"SUMIF('Contractor##'!C:C,'Planned Maint v6.2 CSV File'!C:C,'Contractor##'!F:F)","v":-0.1135},537.89274,"Roof Window:Renew roof window complete size ne 1.14 x 1.18mm with Velux aluminium clad externally roof window with factory fitted clear float double glazed sealed unit, all upstands, flashings and dressing of flashings, fixing to timber with screws and make good all finishings internally and roof coverings externally, and remove waste and debris."]
["3190AC","ROOF WINDOW:RENEW NE 1.34X1.40MM","CARPENTRY AND JOINERY","Windows","Windows - Roof - Velux","NO",684.06,{"$f":"SUMIF('Contractor##'!C:C,'Planned Maint v6.2 CSV File'!C:C,'Contractor##'!F:F)","v":-0.1135},606.41918999999996,"Roof Window:Renew roof window complete size ne 1340 x 1400mm with Velux aluminium clad externally roof window with factory fitted clear float double glazed sealed unit, all upstands, flashings and dressing of flashings, fixing to timber with screws and make good all finishings internally and roof coverings externally, and remove waste and debris."]
["3191AA","ROOF WINDOW:REDRESS FLASHINGS","CARPENTRY AND JOINERY","Windows","Windows - Roof - Repairs","NO",15.62,{"$f":"SUMIF('Contractor##'!C:C,'Planned Maint v6.2 CSV File'!C:C,'Contractor##'!F:F)","v":-0.1135},13.847129999999998,"Roof Window:Redress roof flashings around roof window and reseal to prevent water penetration."]
["3191AB","ROOF WINDOW:OVERHAUL OPENING GEAR","CARPENTRY AND JOINERY","Windows","Windows - Roof - Repairs","NO",20.62,{"$f":"SUMIF('Contractor##'!C:C,'Planned Maint v6.2 CSV File'!C:C,'Contractor##'!F:F)","v":-0.1135},18.279630000000001,"Roof Window:Overhaul opening gear to any type of roof window."]
["3191AC","ROOF WINDOW:RENEW CONTROL CORDS","CARPENTRY AND JOINERY","Windows","Windows - Roof - Repairs","NO",22.5,{"$f":"SUMIF('Contractor##'!C:C,'Planned Maint v6.2 CSV File'!C:C,'Contractor##'!F:F)","v":-0.1135},19.946249999999999,"Roof Window:Renew operating control cords to any roof window."]
["3192AA","CURTAIN WALLING:RENEW GLAZED FIXED","CARPENTRY AND JOINERY","Windows","Curtain Walling","SM",262.5,{"$f":"SUMIF('Contractor##'!C:C,'Planned Maint v6.2 CSV File'!C:C,'Contractor##'!F:F)","v":-0.1135},232.70624999999998,"Curtain Walling:Renew any type of curtain walling with Sheerframe or other equal and approved curtain walling, take out existing curtain walling, clear away and renew walling complete with aluminium jambs, heads, mullions, cills, pressure plate etc., completed with UPVC cover caps, internally and externally, UPVC fixed lights, factory glazed 28mm hermetically sealed clear double glazed units, internally glazed, thermal breaks, UPVC quadrant bead trimmings, internally, pointing internally and externally with approved sealants, and make good all finishings internally and roof coverings externally, and remove waste and debris."]
["3192AB","CURTAIN WALLING:RENEW GLAZED OPENING","CARPENTRY AND JOINERY","Windows","Curtain Walling","SM",301.35000000000002,{"$f":"SUMIF('Contractor##'!C:C,'Planned Maint v6.2 CSV File'!C:C,'Contractor##'!F:F)","v":-0.1135},267.14677499999999,"Curtain Walling:Renew any type of curtain walling with Sheerframe or other equal and approved curtain walling, take out existing curtain walling, clear away and renew walling complete with aluminium jambs, heads, mullions, cills, pressure plate etc., completed with UPVC cover caps, internally and externally, UPVC fixed and opening lights, factory glazed 28mm hermetically sealed clear double glazed units, internally glazed, thermal breaks, UPVC quadrant bead trimmings, internally, pointing internally and externally with approved sealants, and make good all finishings internally and roof coverings externally, and remove waste and debris."]
["3195AA","VENT:PM TREATED SW FIXED LOUVRE VENT UNIT NE 1SM","CARPENTRY AND JOINERY","Windows","Louvre Vents - Softwood","IT",203.12,{"$f":"SUMIF('Contractor##'!C:C,'Planned Maint v6.2 CSV File'!C:C,'Contractor##'!F:F)","v":-0.1135},180.06587999999999,"Vent:Renew fixed louvre vent unit ne 1sm,with purpose made treated softwood louvre vent, including insect mesh,remove existing vent and fix new in prepared opening, point with sealant, make.good to all finishes and decorate to match existing internally and externally, and remove waste and debris."]
["3195AB","VENT:PM TREATED SW FIXED LOUVRE VENT UNIT OVER 1SM","CARPENTRY AND JOINERY","Windows","Louvre Vents - Softwood","SM",188.12,{"$f":"SUMIF('Contractor##'!C:C,'Planned Maint v6.2 CSV File'!C:C,'Contractor##'!F:F)","v":-0.1135},166.76838000000001,"Vent:Renew fixed louvre vent unit over 1sm,with purpose made treated softwood louvre vent, including insect mesh,remove existing vent and fix new in prepared opening, point with sealant, make.good to all finishes and decorate to match existing internally and externally, and remove waste and debris."]
["3195BA","VENT:PM PCG STEEL FIXED LOUVRE VENT UNIT NE 1SM","CARPENTRY AND JOINERY","Windows","Louvre Vents - Polyester Coated Steel","IT",503.44,{"$f":"SUMIF('Contractor##'!C:C,'Planned Maint v6.2 CSV File'!C:C,'Contractor##'!F:F)","v":-0.1135},446.29955999999999,"Vent:Renew fixed louvre vent unit ne 1sm,with purpose made polyester coated galvanised steel louvre vent, including insect mesh,remove existing vent and fix new in prepared opening, point with sealant, make.good to all finishes and decorate to match existing internally and externally, and remove waste and debris."]
["3195BB","VENT:PM PCG STEEL FIXED LOUVRE VENT UNIT OVER 1SM","CARPENTRY AND JOINERY","Windows","Louvre Vents - Polyester Coated Steel","SM",443.44,{"$f":"SUMIF('Contractor##'!C:C,'Planned Maint v6.2 CSV File'!C:C,'Contractor##'!F:F)","v":-0.1135},393.10955999999999,"Vent:Renew fixed louvre vent unit over 1sm,with purpose made polyester coated galvanised steel louvre vent, including insect mesh,remove existing vent and fix new in prepared opening, point with sealant, make.good to all finishes and decorate to match existing internally and externally, and remove waste and debris."]
["3195CA","VENT:PM PC ALUMINIUM FIXED LOUVRE VENT UNIT NE 1SM","CARPENTRY AND JOINERY","Windows","Louvre Vents - Polyester Coated Aluminium","IT",568.75,{"$f":"SUMIF('Contractor##'!C:C,'Planned Maint v6.2 CSV File'!C:C,'Contractor##'!F:F)","v":-0.1135},504.19687499999998,"Vent:Renew fixed louvre vent unit ne 1sm,with purpose made polyester coated aluminium louvre vent, including insect mesh,remove existing vent and fix new in prepared opening, point with sealant, make.good to all finishes and decorate to match existing internally and externally, and remove waste and debris."]
["3195CB","VENT:PM PC ALUMINIUM FIXED LOUVRE VENT UNIT EX 1SM","CARPENTRY AND JOINERY","Windows","Louvre Vents - Polyester Coated Aluminium","SM",468.75,{"$f":"SUMIF('Contractor##'!C:C,'Planned Maint v6.2 CSV File'!C:C,'Contractor##'!F:F)","v":-0.1135},415.546875,"Vent:Renew fixed louvre vent unit over 1sm,with purpose made polyester coated aluminium louvre vent, including insect mesh,remove existing vent and fix new in prepared opening, point with sealant, make.good to all finishes and decorate to match existing internally and externally, and remove waste and debris."]
["3211AA","DOOR:RENEW HW PANELLED OR GLAZED BACK DOOR","CARPENTRY AND JOINERY","External Doors","Doors - External Panelled or Glazed - Hardwood - Standard","NO",360.84,{"$f":"SUMIF('Contractor##'!C:C,'Planned Maint v6.2 CSV File'!C:C,'Contractor##'!F:F)","v":-0.1135},319.88465999999994,"Door:Renew back door with any size 44mm hardwood panelled, glazed or part glazed door prepared for glazing, hang on 1.5 pair butts, fix new mortice lock, furniture, keep, pair of bolts, hardwood weathermould, adjust stops and ease rebates, cut out and make good to frame to suit new position of hinges, weathermould and lock, rebate door bottom as necessary and fit new water bar if required, double glazed and decorate to match existing internally and prepare for redecoration externally, and remove waste and debris."]
["3211BA","DOOR:RENEW HW PANELLED OR GLAZED FRONT DOOR","CARPENTRY AND JOINERY","External Doors","Doors - External Panelled or Glazed - Hardwood - Standard","NO",461.13,{"$f":"SUMIF('Contractor##'!C:C,'Planned Maint v6.2 CSV File'!C:C,'Contractor##'!F:F)","v":-0.1135},408.79174499999999,"Door:Renew front door with any size 44mm hardwood panelled, glazed or part glazed door prepared for glazing, hang on 1.5 pair butts, fix new mortice lock, furniture, keep, pair of bolts, cylinder latch and pull, security restraint device, letter plate including cutting mortice in door to suit, numerals, hardwood weathermould, adjust stops, ease rebates, cut out and make good to frame to suit new position of butts, weathermould, lock and latch, rebate door bottom as necessary and fit new waterbar if required, double glazed and decorate to match existing internally and prepare for redecoration externally, and remove waste and debris."]
["3211CA","DOOR:RENEW HW PANELLED OR GLAZED UNEQUAL PAIR","CARPENTRY AND JOINERY","External Doors","Doors - External Panelled or Glazed - Hardwood - Standard","PR",561.69000000000005,{"$f":"SUMIF('Contractor##'!C:C,'Planned Maint v6.2 CSV File'!C:C,'Contractor##'!F:F)","v":-0.1135},497.93818500000003,"Door:Renew unequal pair of doors with similar size ne 3.00sm 50mm hardwood panelled, glazed or part glazed doors, prepared for glazing, each hung on 1.5 pair hinges, fix new mortice security lock and furniture, keep, 2 pairs of bolts, adjust stops and ease rebates, cut out and make good frame to suit new position of hinges, and lock, rebate door bottoms as necessary and fit new water bar if required, double glazed and decorate to match existing internally and prepare for redecoration externally, and remove waste and debris."]
["3211CB","DOOR:RENEW HW PANELLED OR GLAZED STANDARD PAIR","CARPENTRY AND JOINERY","External Doors","Doors - External Panelled or Glazed - Hardwood - Standard","PR",608.12,{"$f":"SUMIF('Contractor##'!C:C,'Planned Maint v6.2 CSV File'!C:C,'Contractor##'!F:F)","v":-0.1135},539.09838000000002,"Door:Renew equal pair of doors with similar size ne 4.00sm 50mm hardwood panelled, glazed or part glazed doors, prepared for glazing, each hung on 1.5 pair hinges, fix new mortice security lock and furniture, keep, 2 pairs of bolts, adjust stops and ease rebates, cut out and make good frame to suit new position hinges, lock, rebate door bottoms as necessary and fit newwater bar if required, double glazed and decorate to match existing internally and prepare for redecoration externally, and remove waste and debris."]
["3213AA","DOOR:RENEW PM HW PANELLED OR GLAZED BACK DOOR","CARPENTRY AND JOINERY","External Doors","Doors - External Panelled or Glazed - Hardwood - Purpose Made","NO",528.67999999999995,{"$f":"SUMIF('Contractor##'!C:C,'Planned Maint v6.2 CSV File'!C:C,'Contractor##'!F:F)","v":-0.1135},468.67481999999995,"Door:Renew back door with any size 44mm hardwood panelled glazed or part glazed door, purpose made, prepared for glazing, hang on 1.5 pair butts, fix new mortice lock and furniture, keep, pair of bolts, hardwood weathermould, adjust stops and ease rebates, cut out and make good to frame to suit new position of butts, weathermould and lock, rebate door bottom as necessary and fit new waterbar if required, double glazed and decorate to match existing internally and prepare for redecoration externally, and remove waste and debris."]
["3213BA","DOOR:RENEW PM HW PANELLED OR GLAZED FRONT DOOR ","CARPENTRY AND JOINERY","External Doors","Doors - External Panelled or Glazed - Hardwood - Purpose Made","NO",616.12,{"$f":"SUMIF('Contractor##'!C:C,'Planned Maint v6.2 CSV File'!C:C,'Contractor##'!F:F)","v":-0.1135},546.19038,"Door:Renew front door with any size 44mm hardwood purpose made panelled, glazed or part glazed door, prepared for glazing, hang on 1.5 pair butts, fix new mort. lock, furniture, keep, pr of bolts, cylinder latch and pull, security restraint device, letter plate including cutting mortice in door to suit, numerals and fix new weathermould, adjust stops, ease rebates, cut out and make good to frame to suit new position of butts, weathermould, lock and latch rebate door bottom as necessary and fit new waterbar if required, double glazed and decorate to match existing internally and prepare for redecoration externally, and remove waste and debris."]
["3213CA","DOOR:RENEW PM HW PANEL GLAZED UNEQUAL PAIR NE3SM","CARPENTRY AND JOINERY","External Doors","Doors - External Panelled or Glazed - Hardwood - Purpose Made","PR",1143.18,{"$f":"SUMIF('Contractor##'!C:C,'Planned Maint v6.2 CSV File'!C:C,'Contractor##'!F:F)","v":-0.1135},1013.42907,"Door:Renew unequal pair of doors with similar size ne 3.00sm 50mm thick hardwood purpose made panelled glazed or part glazed doors, prepared for glazing, each hung on 1.5 pair hinges, fix new mortice security lock and furniture, keep, 2 pairs of bolts, adjust stops and ease rebates, cut out and make good frame to suit new position of hinges, rebate door bottoms as necessary and fit new water bar if required, double glazed and decorate to match existing internally and prepare for prepare for redecoration externally, and remove waste and debris."]
["3213CB","DOOR:RENEW PM HW PANEL GLAZED EQUAL PAIR NE4SM","CARPENTRY AND JOINERY","External Doors","Doors - External Panelled or Glazed - Hardwood - Purpose Made","PR",1217.27,{"$f":"SUMIF('Contractor##'!C:C,'Planned Maint v6.2 CSV File'!C:C,'Contractor##'!F:F)","v":-0.1135},1079.1098549999999,"Door:Renew equal pair of doors with similar size ne 4.00sm over 50mm thick hardwood purpose made panelled glazed or part glazed doors, prepared for glazing, each hung on 1.5 pair hinges, fix new mortice security lock and furniture, keep, 2 pairs of bolts, adjust stops and ease rebates, cut out and make good frame to suit new position of hinges, lock, rebate door bottoms as necessary and fit new water bar if required, double glazed and decorate to match existing internally and prepare for redecoration externally, and remove waste and debris."]
["3213CC","DOOR:RENEW PM HW PANEL GL UNEQUAL PAIR OVER 3SM","CARPENTRY AND JOINERY","External Doors","Doors - External Panelled or Glazed - Hardwood - Purpose Made","PR",1247.5899999999999,{"$f":"SUMIF('Contractor##'!C:C,'Planned Maint v6.2 CSV File'!C:C,'Contractor##'!F:F)","v":-0.1135},1105.988535,"Door:Renew unequal pair of doors with similar size over 3.00sm 50mm thick hardwood purpose made panelled glazed or part glazed doors, prepared for glazing, each hung on 1.5 pair hinges, fix new mortice security lock and furniture, keep, 2 pairs of bolts, adjust stops and ease rebates, cut out and make good frame to suit new position of hinges, rebate door bottoms as necessary and fit new water bar if required, double glazed and decorate to match existing internally and prepare for redecoration externally, and remove waste and debris."]
["3213CD","DOOR:RENEW PM HW PANEL GLAZED EQUAL PAIR OVER 4SM","CARPENTRY AND JOINERY","External Doors","Doors - External Panelled or Glazed - Hardwood - Purpose Made","PR",1033.95,{"$f":"SUMIF('Contractor##'!C:C,'Planned Maint v6.2 CSV File'!C:C,'Contractor##'!F:F)","v":-0.1135},916.596675,"Door:Renew equal pair of doors with similar size over 4.00sm 50mm thick hardwood purpose made panelled glazed or part glazed doors, prepared for glazing, each hung on 1.5 pair hinges, fix new mortice security lock and furniture, keep, 2 pairs of bolts, adjust stops and ease rebates, cut out and make good frame to suit new position of hinges lock, rebate door bottoms as necessary and fit new water bar if required, double glazed and decorate to match existing internally and prepare for redecoration externally, and remove waste and debris."]
["3213CE","DOOR:RENEW PM HW PANEL GL UNEQU PAIR OVER 50MM 3SM","CARPENTRY AND JOINERY","External Doors","Doors - External Panelled or Glazed - Hardwood - Purpose Made","PR",1311.85,{"$f":"SUMIF('Contractor##'!C:C,'Planned Maint v6.2 CSV File'!C:C,'Contractor##'!F:F)","v":-0.1135},1162.9550249999998,"Door:Renew unequal pair of doors with similar size over 3.00sm over 50mm thick hardwood purpose made panelled glazed or part glazed doors, prepared for glazing, each hung on 1.5 pair hinges, fix new mortice security lock and furniture, keep, 2 pairs of bolts, adjust stops and ease rebates, cut out and make good frame to suit new position of hinges, rebate door bottoms as necessary and fit new water bar if required, double glazed and decorate to match existing internally and prepare for redecoration externally, and remove waste and debris."]
["3213CF","DOOR:RENEW PM HW PANEL GL EQUAL PAIR OVER 50MM 4SM","CARPENTRY AND JOINERY","External Doors","Doors - External Panelled or Glazed - Hardwood - Purpose Made","PR",1393.97,{"$f":"SUMIF('Contractor##'!C:C,'Planned Maint v6.2 CSV File'!C:C,'Contractor##'!F:F)","v":-0.1135},1235.7544049999999,"Door:Renew equal pair of doors with similar size over 4.00sm over 50mm hardwood purpose made panelled glazed or part glazed doors, prepared for glazing, each hung on 1.5 pair hinges, fix new mortice security lock and furniture, keep, 2 pairs of bolts, adjust stops and ease rebates, cut out and make good frame to suit new position of hinges, lock, rebate door bottoms as necessary and fit new water bar if required, double glazed and decorate to match existing internally and prepare for redecoration externally, and remove waste and debris."]
["3214AA","DOOR:RENEW PM HW FRAMED GLAZED DOOR","CARPENTRY AND JOINERY","External Doors","Framed Glazed - Hardwood - Purpose Made","NO",545.62,{"$f":"SUMIF('Contractor##'!C:C,'Planned Maint v6.2 CSV File'!C:C,'Contractor##'!F:F)","v":-0.1135},483.69212999999996,"Door:Renew any door with any size 44mm hardwood framed glazed or multi-pane glazed door, purpose made, prepared for glazing, hang on 1.5 pair butts, fix new mortice lock and furniture, keep, pair of bolts, hardwood weathermould, adjust stops and ease rebates, cut out and make good to frame to suit new position of butts, weathermould and lock, rebate door bottom as necessary and fit new waterbar if required, double glazed and decorate to match existing internally and prepare for redecoration externally, and remove waste and debris."]
["3214AB","DOOR:RENEW PM HW FRAMED GLAZED UNEQUAL PAIR NE 3SM","CARPENTRY AND JOINERY","External Doors","Framed Glazed - Hardwood - Purpose Made","PR",1231.24,{"$f":"SUMIF('Contractor##'!C:C,'Planned Maint v6.2 CSV File'!C:C,'Contractor##'!F:F)","v":-0.1135},1091.4942599999999,"Door:Renew unequal pair of doors with similar size ne 3.00sm 50mm thick hardwood purpose made framed glazed or multi-pane glazed doors, prepared for glazing, each hung on 1.5 pair hinges, fix new mortice security lock and furniture, keep, 2 pairs of bolts, adjust stops and ease rebates, cut out and make good frame to suit new position of hinges, rebate door bottoms as necessary and fit new water bar if required, double glazed and decorate to match existing internally and prepare for prepare for redecoration externally, and remove waste and debris."]
["3214AC","DOOR:RENEW PM HW FRAMED GLAZED EQUAL PAIR NE 4SM","CARPENTRY AND JOINERY","External Doors","Framed Glazed - Hardwood - Purpose Made","PR",1281.24,{"$f":"SUMIF('Contractor##'!C:C,'Planned Maint v6.2 CSV File'!C:C,'Contractor##'!F:F)","v":-0.1135},1135.81926,"Door:Renew equal pair of doors with similar size ne 4.00sm over 50mm thick hardwood purpose made framed glazed or multi-pane glazed doors, prepared for glazing, each hung on 1.5 pair hinges, fix new mortice security lock and furniture, keep, 2 pairs of bolts, adjust stops and ease rebates, cut out and make good frame to suit new position of hinges, lock, rebate door bottoms as necessary and fit new water bar if required, double glazed and decorate to match existing internally and prepare for redecoration externally, and remove waste and debris."]
["3214AD","DOOR:RENEW PM HW FRAMED GL UNEQUAL PAIR OVER 3SM","CARPENTRY AND JOINERY","External Doors","Framed Glazed - Hardwood - Purpose Made","PR",1331.24,{"$f":"SUMIF('Contractor##'!C:C,'Planned Maint v6.2 CSV File'!C:C,'Contractor##'!F:F)","v":-0.1135},1180.14426,"Door:Renew unequal pair of doors with similar size over 3.00sm 50mm thick hardwood purpose made framed glazed or multi-pane glazed doors, prepared for glazing, each hung on 1.5 pair hinges, fix new mortice security lock and furniture, keep, 2 pairs of bolts, adjust stops and ease rebates, cut out and make good frame to suit new position of hinges, rebate door bottoms as necessary and fit new water bar if required, double glazed and decorate to match existing internally and prepare for redecoration externally, and remove waste and debris."]
["3214AE","DOOR:RENEW PM HW FRAMED GLAZED EQUAL PAIR OVER 4SM","CARPENTRY AND JOINERY","External Doors","Framed Glazed - Hardwood - Purpose Made","PR",1131.24,{"$f":"SUMIF('Contractor##'!C:C,'Planned Maint v6.2 CSV File'!C:C,'Contractor##'!F:F)","v":-0.1135},1002.84426,"Door:Renew equal pair of doors with similar size over 4.00sm 50mm thick hardwood purpose made framed glazed or multi-pane glazed doors, prepared for glazing, each hung on 1.5 pair hinges, fix new mortice security lock and furniture, keep, 2 pairs of bolts, adjust stops and ease rebates, cut out and make good frame to suit new position of hinges lock, rebate door bottoms as necessary and fit new water bar if required, double glazed and decorate to match existing internally and prepare for redecoration externally, and remove waste and debris."]
["3214AF","DOOR:RENEW PM HW FRAMED GL DOOR -FXD SCRN NE 4SM","CARPENTRY AND JOINERY","External Doors","Framed Glazed - Hardwood - Purpose Made","PR",1518.74,{"$f":"SUMIF('Contractor##'!C:C,'Planned Maint v6.2 CSV File'!C:C,'Contractor##'!F:F)","v":-0.1135},1346.36301,"Door:Renew external door and fixed side screen with similar size over 3.00sm over 50mm thick hardwood purpose made framed glazed or multi-pane glazed doors, prepared for glazing, each hung on 1.5 pair hinges, fix new mortice security lock and furniture, keep, 2 pairs of bolts, adjust stops and ease rebates, cut out and make good frame to suit new position of hinges, rebate door bottoms as necessary and fit new water bar if required, double glazed and decorate to match existing internally and prepare for redecoration externally, and remove waste and debris."]
["3214AG","DOOR:RENEW PM HW FRAMED GL DOOR -FXD SCRN OVER 4SM","CARPENTRY AND JOINERY","External Doors","Framed Glazed - Hardwood - Purpose Made","PR",1568.74,{"$f":"SUMIF('Contractor##'!C:C,'Planned Maint v6.2 CSV File'!C:C,'Contractor##'!F:F)","v":-0.1135},1390.6880099999998,"Door:Renew external door and fixed side screenwith similar size over 4.00sm over 50mm hardwood purpose made framed glazed or multi-pane glazed doors, prepared for glazing, each hung on 1.5 pair hinges, fix new mortice security lock and furniture, keep, 2 pairs of bolts, adjust stops and ease rebates, cut out and make good frame to suit new position of hinges, lock, rebate door bottoms as necessary and fit new water bar if required, double glazed and decorate to match existing internally and prepare for redecoration externally, and remove waste and debris."]
["3215AA","DOOR:RENEW SW PANELLED OR GLAZED BACK DOOR","CARPENTRY AND JOINERY","External Doors","Doors - External Panelled or Glazed - Softwood - Standard","NO",287.79000000000002,{"$f":"SUMIF('Contractor##'!C:C,'Planned Maint v6.2 CSV File'!C:C,'Contractor##'!F:F)","v":-0.1135},255.125835,"Door:Renew back door with any size 44mm softwood panelled, glazed or part glazed door prepared for glazing, hang on 1.5 pair butts, fix new mortice lock, furniture, keep, pair of bolts, softwood weathermould, adjust stops and ease rebates, cut out and make good to frame to suit new position of hinges, weathermould and lock, rebate door bottom as necessary and fit new water bar if required, double glazed and decorate to match existing internally and prepare for redecoration externally, and remove waste and debris."]
["3215BA","DOOR:RENEW SW PANELLED OR GLAZED FRONT DOOR","CARPENTRY AND JOINERY","External Doors","Doors - External Panelled or Glazed - Softwood - Standard","NO",391.21,{"$f":"SUMIF('Contractor##'!C:C,'Planned Maint v6.2 CSV File'!C:C,'Contractor##'!F:F)","v":-0.1135},346.80766499999999,"Door:Renew front door with any size 44mm softwood panelled, glazed or part glazed door prepared for glazing, hang on 1.5 pair butts, fix new mortice lock, furniture, keep, pair of bolts, cylinder latch and pull, security restraint device, letter plate including cutting mortice in door to suit, numerals, softwood weathermould, adjust stops, ease rebates, cut out and make good to frame to suit new position of butts, weathermould, lock and latch, rebate door bottom as necessary and fit new waterbar if required, double glazed and decorate to match existing internally and prepare for redecoration externally, and remove waste and debris."]
["3215CA","DOOR:RENEW SW PANELLED OR GLAZED UNEQUAL PAIR","CARPENTRY AND JOINERY","External Doors","Doors - External Panelled or Glazed - Softwood - Standard","PR",497.65,{"$f":"SUMIF('Contractor##'!C:C,'Planned Maint v6.2 CSV File'!C:C,'Contractor##'!F:F)","v":-0.1135},441.16672499999999,"Door:Renew unequal pair of doors with similar size ne 3.00sm 44mm softwood panelled, glazed or part glazed doors, prepared for glazing, each hung on 1.5 pair hinges, fix new mortice security lock and furniture, keep, 2 pairs of bolts, adjust stops and ease rebates, cut out and make good frame to suit new position of hinges, and lock, rebate door bottoms as necessary and fit new water bar if required, double glazed and decorate to match existing internally and prepare for redecoration externally, and remove waste and debris."]
["3215DA","DOOR:RENEW SW PANELLED OR GLAZED EQUAL PAIR","CARPENTRY AND JOINERY","External Doors","Doors - External Panelled or Glazed - Softwood - Standard","PR",526.23,{"$f":"SUMIF('Contractor##'!C:C,'Planned Maint v6.2 CSV File'!C:C,'Contractor##'!F:F)","v":-0.1135},466.50289499999997,"Door:Renew equal pair of doors with similar size ne 4.00sm 44mm softwood standard panelled, glazed or part glazed doors, prepared for glazing, each hung on 1.5 pair hinges, fix new mortice security lock and furniture, keep, 2 pairs of bolts, adjust stops and ease rebates, cut out and make good frame to suit new position of hinges and lock, rebate door bottoms as necessary and fit new water bar if required, double glazed and decorate to match existing internally and prepare for redecoration externally, and remove waste and debris.."]
["3217AA","DOOR:RENEW PM SW PANELLED OR GLAZED BACK DOOR","CARPENTRY AND JOINERY","External Doors","Doors - External Panelled or Glazed - Softwood - Purpose Made","NO",490.39,{"$f":"SUMIF('Contractor##'!C:C,'Planned Maint v6.2 CSV File'!C:C,'Contractor##'!F:F)","v":-0.1135},434.73073499999998,"Door:Renew back door with any size 44mm softwood panelled, glazed or part glazed purpose made door prepared for glazing, hang on 1.5 pair butts, fix new mortice lock, furniture, keep, pair of bolts, softwood weathermould, adjust stops and ease rebates, cut out and make good to frame to suit new position of hinges, weathermould and rebate door bottom as necessary and fit new water bar if required, double glazed and decorate to match existing internally and prepare for redecoration externally, and remove waste and debris."]
["3217BA","DOOR:RENEW PM SW PANELLED OR GLAZED FRONT DOOR","CARPENTRY AND JOINERY","External Doors","Doors - External Panelled or Glazed - Softwood - Purpose Made","NO",590.67999999999995,{"$f":"SUMIF('Contractor##'!C:C,'Planned Maint v6.2 CSV File'!C:C,'Contractor##'!F:F)","v":-0.1135},523.63781999999992,"Door:Renew front door with any size 44mm softwood panelled, glazed or part glazed purpose made door prepared for glazing, hang on 1.5 pair butts, fix new mortice lock, furniture, keep, pair of bolts, cylinder latch and pull, security restraint device, letter plate including cutting mortice in door to suit, numerals, softwood weathermould, adjust stops, ease rebates, cut out and make good to frame to suit new position of butts, weathermould, lock and latch, rebate door bottom as necessary and fit new waterbar if required, double glazed and decorate to match existing internally and prepare for redecoration externally, and remove waste and debris."]
["3217CA","DOOR:RENEW PM SW PANELLED OR GLAZED UNEQUAL PAIR","CARPENTRY AND JOINERY","External Doors","Doors - External Panelled or Glazed - Softwood - Purpose Made","PR",892.31,{"$f":"SUMIF('Contractor##'!C:C,'Planned Maint v6.2 CSV File'!C:C,'Contractor##'!F:F)","v":-0.1135},791.03281499999991,"Door:Renew unequal pair of doors with similar size ne 3.00sm 44mm softwood purpose made panelled glazed or part glazed doors, prepared for glazing, each hung on 1.5 pair hinges, fix new mortice security lock and furniture, keep, 2 pairs of bolts, adjust stops and ease rebates cut out and make good frame to suit new position of hinges, and lock, rebate door bottoms as necessary and fit new water bar if required, double glazed and decorate to match internally and prepare for redecoration externally, and remove waste and debris.."]
["3217CB","DOOR:RENEW PM SW PANNELED OR GLAZED EQUAL PAIR","CARPENTRY AND JOINERY","External Doors","Doors - External Panelled or Glazed - Softwood - Purpose Made","PR",958.26,{"$f":"SUMIF('Contractor##'!C:C,'Planned Maint v6.2 CSV File'!C:C,'Contractor##'!F:F)","v":-0.1135},849.49748999999997,"Door:Renew equal pair of doors with similar size ne 4.00sm 44mm softwood purpose made panelled glazed or part glazed doors, prepared for glazing, each hung on 1.5 pair hinges, fix new mortice security lock and furniture, keep, 2 pairs of bolts, adjust stops and ease rebates cut out and make good frame to suit new position of hinges, and lock, rebate door bottoms as necessary and fit new water bar if required, double glazed and decorate to match internally and prepare for redecoration externally, and remove waste and debris."]
["3218AA","DOOR:RENEW PM SW LOUVRE DOOR","CARPENTRY AND JOINERY","External Doors","Louvre - Softwood - Purpose Made","NO",419.37,{"$f":"SUMIF('Contractor##'!C:C,'Planned Maint v6.2 CSV File'!C:C,'Contractor##'!F:F)","v":-0.1135},{"$f":"(1+H1092)*G1092","v":371.77150499999999},"Door:Renew door with any size 44mm softwood purpose made louvre door complete with insect mesh, hang on 1.5 pair butts, fix new mortice lock, furniture, keep, pair of bolts, softwood weathermould, adjust stops and ease rebates, cut out and make good to frame to suit new position of hinges, weathermould and rebate door bottom as necessary and fit new water bar if required, and decorate to match existing internally and prepare for redecoration externally, and remove waste and debris."]
["3218AB","DOOR:RENEW PM SW LOUVRE UNEQUAL PAIR OF DOORS","CARPENTRY AND JOINERY","External Doors","Louvre - Softwood - Purpose Made","PR",812.5,{"$f":"SUMIF('Contractor##'!C:C,'Planned Maint v6.2 CSV File'!C:C,'Contractor##'!F:F)","v":-0.1135},720.28125,"Door:Renew unequal pair of doors with similar size ne 3.00sm 44mm softwood purpose made louvre doors complete with insect mesh, each hung on 1.5 pair hinges, fix new mortice security lock and furniture, keep, 2 pairs of bolts, adjust stops and ease rebates cut out and make good frame to suit new position of hinges, and lock, rebate door bottoms as necessary and fit new water bar if required,and decorate to match internally and prepare for redecoration externally, and remove waste and debris.."]
["3218AC","DOOR:RENEW PM SW LOUVRE EQUAL PAIR OF DOORS","CARPENTRY AND JOINERY","External Doors","Louvre - Softwood - Purpose Made","PR",872.5,{"$f":"SUMIF('Contractor##'!C:C,'Planned Maint v6.2 CSV File'!C:C,'Contractor##'!F:F)","v":-0.1135},773.47124999999994,"Door:Renew equal pair of doors with similar size ne 4.00sm 44mm softwood purpose made louvre doors complete with insect mesh, each hung on 1.5 pair hinges, fix new mortice security lock and furniture, keep, 2 pairs of bolts, adjust stops and ease rebates cut out and make good frame to suit new position of hinges, and lock, rebate door bottoms as necessary and fit new water bar if required, and decorate to match internally and prepare for redecoration externally, and remove waste and debris."]
["3221AA","DOOR:HIGH PERFORMANCE BACK DOOR","CARPENTRY AND JOINERY","External Doors","Doors - External - High Performance","NO",447.7,{"$f":"SUMIF('Contractor##'!C:C,'Planned Maint v6.2 CSV File'!C:C,'Contractor##'!F:F)","v":-0.1135},396.88604999999995,"Door:Renew back door with any size proprietary high performance door or similar prefinished and preglazed, hang on 1.5 pair butts, fix new mortice lock, door furniture, keeps, pair of bolts, proprietary weathermould, adjust stops and ease rebates, cut out and make good to frame to suit new position of hinges, weathermould and lock, rebate door bottom as necessary and fit new water bar if required, touch up decorations to match existing, and remove waste and debris."]
["3221AB","DOOR:HIGH PERFORMANCE FRONT DOOR","CARPENTRY AND JOINERY","External Doors","Doors - External - High Performance","NO",538.62,{"$f":"SUMIF('Contractor##'!C:C,'Planned Maint v6.2 CSV File'!C:C,'Contractor##'!F:F)","v":-0.1135},477.48662999999999,"Door:Renew front door with any size proprietary high performance door or similar prefinished and preglazed, hang on 1.5 pair butts, fix new mortice lock, door furniture, keeps, pair of bolts, cylinder nightlatch and pull, security restraint device, proprietary letter plate including cutting mortice in door to suit, numerals, proprietary weathermould, adjust stops and ease rebates, cut out and make good to frame to suit new position of butts, weathermould, lock and lock, rebate door bottom as necessary and fit new new waterbar if required, touch up decorations to match existing, and remove waste and debris."]
["3221BA","DOOR:HIGH PERFORMANCE GRP 1/2 HOUR BACK DOOR","CARPENTRY AND JOINERY","External Doors","Doorsets - GRP","NO",906.25,{"$f":"SUMIF('Contractor##'!C:C,'Planned Maint v6.2 CSV File'!C:C,'Contractor##'!F:F)","v":-0.1135},803.390625,"Door:Renew back door with any size panelled, glazed or partially glazed or similar proprietary high performance GRP door, prefinished and preglazed, hang on 1.5 pair butts, including new mortice lock, door furniture, keeps, pair of bolts, proprietary weathermould, adjust stops and ease rebates, cut out and make good to frame to suit new position of hinges, weathermould and lock, rebate door bottom as necessary and fit new water bar if required, and remove waste and debris."]
["3221BB","DOOR:HIGH PERFORMANCE GRP 1/2 HOUR FRONT DOOR","CARPENTRY AND JOINERY","External Doors","Doorsets - GRP","NO",1031.25,{"$f":"SUMIF('Contractor##'!C:C,'Planned Maint v6.2 CSV File'!C:C,'Contractor##'!F:F)","v":-0.1135},914.203125,"hang on 1.5 pair butts, including new mortice lock, door furniture, keeps, pair of bolts, cylinder nightlatch and pull, security restraint device, proprietary letter plate, numerals, proprietary weathermould, adjust stops and ease rebates, cut out and make good to frame to suit new position of butts, weathermould, lock and lock, rebate door bottom as necessary and fit new waterbar if required, and remove waste and debris."]
["3221CA","DOOR:HIGH PERFORMANCE GRP 1/2 HOUR BACK DOORSET","CARPENTRY AND JOINERY","External Doors","Doorsets - GRP","NO",1068.75,{"$f":"SUMIF('Contractor##'!C:C,'Planned Maint v6.2 CSV File'!C:C,'Contractor##'!F:F)","v":-0.1135},947.44687499999998,"Door:Renew back door with any size panelled, glazed or partially glazed or similar proprietary high performance GRP door, prefinished, preglazed, and prehung to and including proprietary door frame and cill, including  new mortice lock, door furniture, keeps, pair of bolts, proprietary weathermould, fix frame and cill to struycture, seal around frame and cill, make good  and remove waste and debris."]
["3221CB","DOOR:HIGH PERFORMANCE GRP 1/2 HOUR FRONT DOORSET","CARPENTRY AND JOINERY","External Doors","Doorsets - GRP","NO",1212.5,{"$f":"SUMIF('Contractor##'!C:C,'Planned Maint v6.2 CSV File'!C:C,'Contractor##'!F:F)","v":-0.1135},1074.8812499999999,"Door:Renew front door with any size panelled, glazed or partially glazed or similar proprietary high performance GRP door, prefinished, preglazed, and prehung to and including proprietary door frame and cill, including  new mortice lock, door furniture, keeps, pair of bolts, cylinder nightlatch and pull, security restraint device, proprietary letter plate, numerals, proprietary weathermould, fix frame and cill to struycture, seal around frame and cill, make good  and remove waste and debris."]
["3231AA","DOOR:RENEW 1/2HR FLUSH FRONT DOOR","CARPENTRY AND JOINERY","External Doors","Doors - External - Firecheck Flush","NO",325.62,{"$f":"SUMIF('Contractor##'!C:C,'Planned Maint v6.2 CSV File'!C:C,'Contractor##'!F:F)","v":-0.1135},288.66212999999999,"Door:Renew front door with any size 0.50hr flush firecheck door and hang on 1.5 pair butts, fix new mortice lock, furniture and keep, pair bolts, cylinder latch and pull, security restraint device letter plate including cutting/adapting mortice in door to suit, numerals, fix new weathermould, adjust stops, ease rebates, fix intumescent strips seals etc., cut out and make good to frame to suit new position of butts, weathermould, lock and latch, rebate door bottom as necessary and fit new waterbar if required and decorate to match existing internally and prepare for redecoration externally, and remove waste and debris."]
["3231AB","DOOR:RENEW 1.00HR FLUSH FRONT DOOR","CARPENTRY AND JOINERY","External Doors","Doors - External - Firecheck Flush","NO",401.44,{"$f":"SUMIF('Contractor##'!C:C,'Planned Maint v6.2 CSV File'!C:C,'Contractor##'!F:F)","v":-0.1135},355.87655999999998,"Door:Renew front door with any size 1.00hr flush firecheck door and ang on 1.5 pair butts, fix new mortice lock, furniture and keep, pair bolts, cylinder latch and pull, security restraint device letter plate including cutting/adapting mortice in door to suit, numerals, fix new weathermould, adjust stops, ease rebates, fix intumescent strips, seals etc., cut out and make good to frame to suit new position of butts, weathermould, lock and latch, rebate door bottom as necessary and fit new waterbar if required and decorate to match existing internally and prepare for redecoration externally, and remove waste and debris."]
["3231AC","DOOR:RENEW FLUSH DOOR T90","CARPENTRY AND JOINERY","External Doors","Doors - External - Firecheck Flush","NO",483.13,{"$f":"SUMIF('Contractor##'!C:C,'Planned Maint v6.2 CSV File'!C:C,'Contractor##'!F:F)","v":-0.1135},428.29474499999998,"Door:Renew door with any size ne 2.00sm flush firecheck door T90 and hang on 1.5 pair hinges, fix new mortice lock, furniture and keep, pair bolts, adjust stops, ease rebates, fix intumescent strips, seals etc, cut out, make good to frame to suit new position of hinges, lock, rebate door bottom as necessary and fit new waterbar if required, decorate to match existing internally and prepare for redecoration externally, and remove waste and debris."]
["3231AD","DOOR:RENEW FLUSH DOOR T120","CARPENTRY AND JOINERY","External Doors","Doors - External - Firecheck Flush","NO",579.20000000000005,{"$f":"SUMIF('Contractor##'!C:C,'Planned Maint v6.2 CSV File'!C:C,'Contractor##'!F:F)","v":-0.1135},513.46080000000006,"Door:Renew door with any size ne 2.00sm flush firecheck door T120 and hang on 1.5 pair hinges, fix new mortice lock, furniture and keep, pair bolts, adjust stops, ease rebates, fix intumescent strips, seals etc, cut out, make good to frame to suit new position of hinges, lock, rebate door bottom as necessary and fit new waterbar if required, decorate to match existing internally and prepare for redecoration externally, and remove waste and debris"]
["3231BA","DOOR:RENEW 1/2HR FLUSH COMMUNAL DOOR","CARPENTRY AND JOINERY","External Doors","Doors - External - Firecheck Flush","NO",223.35,{"$f":"SUMIF('Contractor##'!C:C,'Planned Maint v6.2 CSV File'!C:C,'Contractor##'!F:F)","v":-0.1135},197.99977499999997,"Door:Renew communal door with any size 0.50hr flush firecheck door and hang on 1.5 pair butts, fix new mortice dead lock, furniture and keep, door closer, including cutting/adapting mortice in door to suit, fix new weathermould, adjust stops, ease rebates, fix intumescent strips seals etc., cut out and make good to frame to suit new position of butts, weathermould, lock, rebate door bottom as necessary and fit new waterbar if required and decorate to match existing internally and prepare for redecoration externally, and remove waste and debris."]
["3231BB","DOOR:RENEW 1.00HR FLUSH COMMUNAL DOOR","CARPENTRY AND JOINERY","External Doors","Doors - External - Firecheck Flush","NO",272.74,{"$f":"SUMIF('Contractor##'!C:C,'Planned Maint v6.2 CSV File'!C:C,'Contractor##'!F:F)","v":-0.1135},241.78400999999999,"Door:Renew communal door with any size 1.00hr flush firecheck door and hang on 1.5 pair butts, fix new firecheck door and hang on 1.5 pair butts, fix new mortice dead lock, furniture and keep, door closer, including cutting/adapting mortice in door to suit, fix new weathermould, adjust stops, ease rebates, fix intumescent strips seals etc., cut out and make good to frame to suit new position of butts, weathermould, lock, rebate door bottom as necessary and fit new waterbar if required and decorate to match existing internally and prepare for redecoration externally, and remove waste and debris."]
["3235AA","DOOR:RENEW PVCU PANEL GLAZED DOOR AND FRAME","CARPENTRY AND JOINERY","External Doors","Doors - External - PVCu Residential Type","NO",470.78,{"$f":"SUMIF('Contractor##'!C:C,'Planned Maint v6.2 CSV File'!C:C,'Contractor##'!F:F)","v":-0.1135},417.34646999999995,"Door:Renew any type door and frame with any size pvc-u panelled/half glazed door, double glazed internally with 20mm thick, hermetically sealed unit, PVCu frame, prehung, complete with multipoint locking system, handles, threshold and integral weather seals, remove existing and fix new to prepared opening using cleats or screw bolts, seal around externally with flexible foam strip and silicone sealant, make good all finishes internally and externally, and remove waste and debris."]
["3235AB","DOOR:RENEW PVCU 2 PANEL DOOR AND FRAME","CARPENTRY AND JOINERY","External Doors","Doors - External - PVCu Residential Type","NO",541.30999999999995,{"$f":"SUMIF('Contractor##'!C:C,'Planned Maint v6.2 CSV File'!C:C,'Contractor##'!F:F)","v":-0.1135},479.87131499999992,"Door:Renew any type door and frame with any size PVCu two panel/half glazed door, double glazed internally with 20mm thick, hermetically sealed unit, PVCu frame, prehung, complete with multipoint locking system, handles, threshold and integral weather seals, remove existing and fix new to prepared opening using cleats or screw bolts, seal around externally with flexible foam strip and silicone sealant, make good all finishes internally and externally, and remove waste and debris."]
["3235BA","DOOR:RENEW PVCU PANEL GLAZED DOOR","CARPENTRY AND JOINERY","External Doors","Doors - External - PVCu Residential Type","NO",386.75,{"$f":"SUMIF('Contractor##'!C:C,'Planned Maint v6.2 CSV File'!C:C,'Contractor##'!F:F)","v":-0.1135},342.85387499999996,"Door:Renew any door with any size PVCu panelled/half glazed door, double glazed internally with 20mm thick hermetically sealed unit hanging to existing PVCu frame on new hinges, complete with multipoint locking system, handles, threshold and integral weather seals, remove existing door and clear away, make good all finishes internally and externally, and remove waste and debris."]
["3235BB","DOOR:RENEW PVCU 2 PANEL DOOR","CARPENTRY AND JOINERY","External Doors","Doors - External - PVCu Residential Type","NO",386.75,{"$f":"SUMIF('Contractor##'!C:C,'Planned Maint v6.2 CSV File'!C:C,'Contractor##'!F:F)","v":-0.1135},342.85387499999996,"Door:Renew any door with any size PVCu two panel/half glazed door, double glazed internally with 20mm thick hermetically sealed unit hanging to existing PVCu frame on new hinges, complete with multipoint locking system, handles, threshold and integral weather seals, remove existing door and clear away, make good all finishes internally and externally, and remove waste and debris."]
["3235CA","DOOR:RENEW PVCU TILT AND TURN FRENCH DOOR","CARPENTRY AND JOINERY","External Doors","Doors - External - PVCu Residential Type","IT",1189.6400000000001,{"$f":"SUMIF('Contractor##'!C:C,'Planned Maint v6.2 CSV File'!C:C,'Contractor##'!F:F)","v":-0.1135},1054.6158600000001,"Door:Renew any type door and frame with pair of any size ne 5.00sm PVCu french tilt/turn door, double glazed internally 20mm thick, hermetically sealed unit, PVCu frame, prehung, complete with multipoint locking system, handles, threshold and integral weather seals, remove existing and fix new to prepared opening using cleats or screw bolts, seal around externally with flexible foam strip and silicone sealant, make good all finishes internally and externally, and remove waste and debris."]
["3236AA","DOOR:HIGH PERFORMANCE PVCU BACK DOOR","CARPENTRY AND JOINERY","External Doors","Doors - External - High Performance PVCu Residential Type","NO",485.08,{"$f":"SUMIF('Contractor##'!C:C,'Planned Maint v6.2 CSV File'!C:C,'Contractor##'!F:F)","v":-0.1135},430.02341999999999,"Door:Renew back door with any size panelled, glazed or partially glazed or similar proprietary high performance PVCu door, prefinished and preglazed, hang on 1.5 pair butts, fix new mortice lock, door furniture, keeps, pair of bolts, proprietary weathermould, adjust stops and ease rebates, cut out and make good to frame to suit new position of hinges, weathermould and lock, rebate door bottom as necessary and fit new water bar if required, and remove waste and debris."]
["3236BA","DOOR:HIGH PERFORMANCE PVCU FRONT DOOR","CARPENTRY AND JOINERY","External Doors","Doors - External - High Performance PVCu Residential Type","NO",562.27,{"$f":"SUMIF('Contractor##'!C:C,'Planned Maint v6.2 CSV File'!C:C,'Contractor##'!F:F)","v":-0.1135},498.45235499999995,"Door:Renew front door with any size panelled, glazed or partially glazed or similar proprietary high performance PVCu door, prefinished and preglazed, hang on 1.5 pair butts, fix new mortice lock, door furniture, keeps, pair of bolts, cylinder nightlatch and pull, security restraint device, proprietary letter plate including cutting mortice in door to suit, numerals, proprietary weathermould, adjust stops and ease rebates, cut out and make good to frame to suit new position of butts, weathermould, lock and lock, rebate door bottom as necessary and fit new waterbar if required, and remove waste and debris."]
["3236CA","DOOR:HIGH PERFORMANCE PVCU 1/2 HOUR  BACK DOORSET","CARPENTRY AND JOINERY","External Doors","Doorsets - PVCU","NO",716.89,{"$f":"SUMIF('Contractor##'!C:C,'Planned Maint v6.2 CSV File'!C:C,'Contractor##'!F:F)","v":-0.1135},635.52298499999995,"Door:Renew back door with any size panelled, glazed or partially glazed or similar proprietary high performance PVCu door, prefinished, preglazed, and prehung to and including proprietary door frame and cill, including  new mortice lock, door furniture, keeps, pair of bolts, proprietary weathermould, fix frame and cill to struycture, seal around frame and cill, make good  and remove waste and debris."]
["3236CB","DOOR:HIGH PERFORMANCE PVCU 1/2 HOUR  FRONT DOORET","CARPENTRY AND JOINERY","External Doors","Doorsets - PVCU","NO",825.31,{"$f":"SUMIF('Contractor##'!C:C,'Planned Maint v6.2 CSV File'!C:C,'Contractor##'!F:F)","v":-0.1135},731.63731499999994,"Door:Renew front door with any size panelled, glazed or partially glazed or similar proprietary high performance PVCu door, prefinished, preglazed, and prehung to and including proprietary door frame and cill, including  new mortice lock, door furniture, keeps, pair of bolts, cylinder nightlatch and pull, security restraint device, proprietary letter plate, numerals, proprietary weathermould, fix frame and cill to struycture, seal around frame and cill, make good  and remove waste and debris."]
["3237AA","DOOR:PLASTIC COATED TIMBER DOOR","CARPENTRY AND JOINERY","External Doors","Plastic Coated Timber","NO",416.25,{"$f":"SUMIF('Contractor##'!C:C,'Planned Maint v6.2 CSV File'!C:C,'Contractor##'!F:F)","v":-0.1135},369.00562500000001,"Door:Renew any door with any size panelled, glazed or partially glazed or similar proprietary plastic coated timber door, prefinished and preglazed, hang on 1.5 pair butts, fix new mortice lock, door furniture, keeps, pair of bolts, proprietary weathermould, adjust stops and ease rebates, cut out and make good to frame to suit new position of hinges, weathermould and lock, rebate door bottom as necessary and fit new water bar if required, and remove waste and debris."]
["3241AB","DOOR:EASE AND ADJUST INCLUDING REMOVE","CARPENTRY AND JOINERY","External Doors","Doors - External - Repairs - Timber","NO",8.06,{"$f":"SUMIF('Contractor##'!C:C,'Planned Maint v6.2 CSV File'!C:C,'Contractor##'!F:F)","v":-0.1135},7.1451900000000004,"Door:Ease and adjust door, hung on upto 1.5 pairs of butt hinges, including remove and rehang door and make good to butt recesses to frame and touch up decorations."]
["3241AC","DOOR:REFIX LOOSE GLAZING BEADS","CARPENTRY AND JOINERY","External Doors","Door Repairs - Timber","NO",5.7,{"$f":"SUMIF('Contractor##'!C:C,'Planned Maint v6.2 CSV File'!C:C,'Contractor##'!F:F)","v":-0.1135},5.0530499999999998,"Door:Refix loose glazing beads including bedding and sealing with sealant. (per door)."]
["3241AD","DOOR:RENEW PLYWOOD PANEL","CARPENTRY AND JOINERY","External Doors","Door Repairs - Timber","NO",17.98,{"$f":"SUMIF('Contractor##'!C:C,'Planned Maint v6.2 CSV File'!C:C,'Contractor##'!F:F)","v":-0.1135},15.939269999999999,"Door:Renew 9mm external quality plywood panel size 610x610mm to door, including remove weather- seal, refix or renew beads, renew weatherseal and decorate to match existing internally and prepare for redecoration externally, and remove waste and debris."]
["3241AE","DOOR:PATCH OR REPAIR DOOR STILE","CARPENTRY AND JOINERY","External Doors","Door Repairs - Timber","NO",17.57,{"$f":"SUMIF('Contractor##'!C:C,'Planned Maint v6.2 CSV File'!C:C,'Contractor##'!F:F)","v":-0.1135},15.575804999999999,"Door:Patch, repair hanging or closing stile of softwood door including cut out and splice in new timber upto 600mm long, and decorate to match existing internally and prepare for redecoration externally, and remove waste and debris."]
["3241AF","DOOR:RENEW SOFTWOOD DOOR STILE","CARPENTRY AND JOINERY","External Doors","Door Repairs - Timber","IT",44.82,{"$f":"SUMIF('Contractor##'!C:C,'Planned Maint v6.2 CSV File'!C:C,'Contractor##'!F:F)","v":-0.1135},39.732929999999996,"Door:Renew closing stile to softwood door, remove glass or plywood panels and beads and set aside, take down door and remove hinges, remove iron- mongery and set aside, cut out defective stile to top, middle and bottom rails, refix glass or plywood panels and beads, refix ironmongery, ease and adjust door, and decorate to match existing internally and prepare for redecoration externally, and remove waste and debris."]
["3241AG","DOOR:SUPPLY AND FIX WEATHERBOARD","CARPENTRY AND JOINERY","External Doors","Door Repairs - Timber","NO",12.51,{"$f":"SUMIF('Contractor##'!C:C,'Planned Maint v6.2 CSV File'!C:C,'Contractor##'!F:F)","v":-0.1135},11.090114999999999,"Door:Supply and fix preservative treated redwood weatherboard to door, bedded and pointed in sealant, cut out base of door frame to accomodate weatherboard and prepare for redecoration, and remove waste and debris."]
["3241AH","DOOR:PROVIDE HARDWOOD RAIN DEFLECTOR","CARPENTRY AND JOINERY","External Doors","Door Repairs - Timber","NO",11.43,{"$f":"SUMIF('Contractor##'!C:C,'Planned Maint v6.2 CSV File'!C:C,'Contractor##'!F:F)","v":-0.1135},10.132695,"Door:Supply and fix 50mm x 19mm hardwood bevelled rain deflector with neoprene or rubber flexible pad at bottom, bedded in sealant and screwed to face of door."]
["3241AJ","DOOR:RENEW HARDWOOD GLAZING BEADS","CARPENTRY AND JOINERY","External Doors","Door Repairs - Timber","LM",6.26,{"$f":"SUMIF('Contractor##'!C:C,'Planned Maint v6.2 CSV File'!C:C,'Contractor##'!F:F)","v":-0.1135},5.5494899999999996,"Door:Renew with preservative treated hardwood rebated splayed and twice rounded glazing beads of any size and of any profile including mitres and ends, bedding and pointing with sealant and prepare for redecoration, and remove waste and debris."]
["3241AK","DOOR:RENEW HARDWOOD DOOR STILE","CARPENTRY AND JOINERY","External Doors","Door Repairs - Timber","IT",78.64,{"$f":"SUMIF('Contractor##'!C:C,'Planned Maint v6.2 CSV File'!C:C,'Contractor##'!F:F)","v":-0.1135},69.714359999999999,"Door:Renew closing stile to hardwood door, remove glass or plywood panels and beads and set aside, take down door and remove hinges, remove iron- mongery and set aside, cut out defective stile to top, middle and bottom rails, refix glass or plywood panels and beads, refix ironmongery, ease and adjust door, and prepare for redecoration, and remove waste and debris."]
["3241AL","DOOR:RENEW BOARD TO LEDGED AND BRACED DOOR","CARPENTRY AND JOINERY","External Doors","Door Repairs - Timber","IT",12.1,{"$f":"SUMIF('Contractor##'!C:C,'Planned Maint v6.2 CSV File'!C:C,'Contractor##'!F:F)","v":-0.1135},10.726649999999999,"Door:Renew 114x25mm preservative treated softwood tongued and grooved board to ledged and braced door and prepare for redecoration, and remove waste and debris."]
["3241AM","DOOR:RENEW LEDGE OR BRACE TO DOOR","CARPENTRY AND JOINERY","External Doors","Door Repairs - Timber","IT",9.52,{"$f":"SUMIF('Contractor##'!C:C,'Planned Maint v6.2 CSV File'!C:C,'Contractor##'!F:F)","v":-0.1135},8.4394799999999996,"Door:Renew 105x20mm preservative treated softwood ledge or brace to ledged and braced door, and prepare for redecoration, and remove waste and debris."]
["3241DA","DOOR:OVERHAUL EXTERNAL COMPLETE","CARPENTRY AND JOINERY","External Doors","Doors - External - Repairs - Timber","NO",60.61,{"$f":"SUMIF('Contractor##'!C:C,'Planned Maint v6.2 CSV File'!C:C,'Contractor##'!F:F)","v":-0.1135},53.730764999999998,"Door:Overhaul external door and frame complete, remove all ironmongery, piece out door, frame and architraves where ironmongery removed make good any damage, defects to timber, resecure architraves if loose, rehang door on one and a half pair of butt hinges, ease and adjust, prepare door for redecoration, and remove waste and debris."]
["3241DB","DOOR:OVERHAUL EXTERNAL COMPLETE FANLIGHT","CARPENTRY AND JOINERY","External Doors","Doors - External - Repairs - Timber","NO",81.569999999999993,{"$f":"SUMIF('Contractor##'!C:C,'Planned Maint v6.2 CSV File'!C:C,'Contractor##'!F:F)","v":-0.1135},72.311804999999993,"Door:Overhaul external door and frame with fanlight complete, remove all ironmongery, piece out door, frame, and architraves where ironmongery removed make good any damage, defects to timber, resecure glazing beads, and architraves if loose, rehang door on one and a half pair of butt hinges, ease and adjust, reglaze fanlight as necessary to BS 6262, prepare door for redecoration, and remove waste and debris."]
["3251AA","DOOR:RENEW ANY BUTT HINGE TO PVCU","CARPENTRY AND JOINERY","External Doors","Doors - External - Repairs - PVCu","NO",10.99,{"$f":"SUMIF('Contractor##'!C:C,'Planned Maint v6.2 CSV File'!C:C,'Contractor##'!F:F)","v":-0.1135},9.7426349999999999,"Door:Renew any butt hinge to door."]
["3251AB","DOOR:OVERHAUL MULTIPOINT LOCK TO PVCU","CARPENTRY AND JOINERY","External Doors","Doors - External - Repairs - PVCu","IT",8.1199999999999992,{"$f":"SUMIF('Contractor##'!C:C,'Planned Maint v6.2 CSV File'!C:C,'Contractor##'!F:F)","v":-0.1135},7.1983799999999993,"Door:Overhaul and lubricate multi-point door locking system."]
["3251AC","DOOR:ADJUST LOCK TO PVCU","CARPENTRY AND JOINERY","External Doors","Doors - External - Repairs - PVCu","NO",88.57,{"$f":"SUMIF('Contractor##'!C:C,'Planned Maint v6.2 CSV File'!C:C,'Contractor##'!F:F)","v":-0.1135},78.517304999999993,"Door:Carefully remove existing PVCu door lock, ease and adjust door lock in order to ensure correct working, refix existing lock."]
["3251AD","DOOR:RENEW MULTIPOINT LOCK TO PVCU","CARPENTRY AND JOINERY","External Doors","Doors - External - Repairs - PVCu","NO",65.63,{"$f":"SUMIF('Contractor##'!C:C,'Planned Maint v6.2 CSV File'!C:C,'Contractor##'!F:F)","v":-0.1135},58.180994999999996,"Door:Renew any defective or broken multi-point door locking system complete, adapt keep if necessary, including remove existing, test and leave in proper working order and remove waste and debris."]
["3251AE","DOOR:RENEW HANDLES TO PVCU","CARPENTRY AND JOINERY","External Doors","Doors - External - Repairs - PVCu","NO",33.72,{"$f":"SUMIF('Contractor##'!C:C,'Planned Maint v6.2 CSV File'!C:C,'Contractor##'!F:F)","v":-0.1135},29.892779999999998,"Door:Carefully remove existing pair of lever handles and plates and remove from site, provide and fix new set of lever handles and plates (per set)."]
["3251AF","DOOR:RENEW LOCK CYLINDER TO PVCU ","CARPENTRY AND JOINERY","External Doors","Door Repairs - PVCu","NO",26.19,{"$f":"SUMIF('Contractor##'!C:C,'Planned Maint v6.2 CSV File'!C:C,'Contractor##'!F:F)","v":-0.1135},23.217434999999998,"Door:Renew any type of lock cylinder to PVCu door including drilling out old cylinder, replacing with new matching cylinder complete with 2 No. keys, make good, test and leave in proper working order and remove waste and debris."]
["3251AG","DOOR:RENEW LOCK CATCH OR KEEP TO PVCU","CARPENTRY AND JOINERY","External Doors","Door Repairs - PVCu","NO",10.38,{"$f":"SUMIF('Contractor##'!C:C,'Planned Maint v6.2 CSV File'!C:C,'Contractor##'!F:F)","v":-0.1135},9.2018699999999995,"Door:Renew any door catch or keep to PVCu door including all adjustment and making good necessary."]
["3251AH","DOOR:REPAIR HANDLES TO PVCU","CARPENTRY AND JOINERY","External Doors","Door Repairs - PVCu","NO",10.62,{"$f":"SUMIF('Contractor##'!C:C,'Planned Maint v6.2 CSV File'!C:C,'Contractor##'!F:F)","v":-0.1135},9.4146299999999989,"Door:Repair any type of door handle to PVCu door including carefully removing and refixing as necessary and making good."]
["3251BA","DOOR:OVERHAUL TO PVCU","CARPENTRY AND JOINERY","External Doors","Doors - External - Repairs - PVCu","NO",24.99,{"$f":"SUMIF('Contractor##'!C:C,'Planned Maint v6.2 CSV File'!C:C,'Contractor##'!F:F)","v":-0.1135},22.153634999999998,"Door:Overhaul any type of PVCu door, including remove door from frame, adjust door locking mechanisms and hinges to ensure that door operates correctly, rehang door, remove, refix or renew ironmongery as necessary, check lubricate operating mechanisms, renew gaskets and seals, make good and test."]
["3251CA","DOOR:RENEW PANEL NE 0.5SM TO PVCU","CARPENTRY AND JOINERY","External Doors","Door Repairs - PVCu","NO",72.069999999999993,{"$f":"SUMIF('Contractor##'!C:C,'Planned Maint v6.2 CSV File'!C:C,'Contractor##'!F:F)","v":-0.1135},63.89005499999999,"Door:Supply and fix composite insulated panel PVCu faced both sides to PVCu door, fixed with and including matching PVCu trim and beading, carefully remove existing defective and redundant panel or glazing and making good, any size ne 0.50sm and remove waste and debris."]
["3251CB","DOOR:RENEW PANEL 0.5-1.0SM TO PVCU","CARPENTRY AND JOINERY","External Doors","Door Repairs - PVCu","NO",106.01,{"$f":"SUMIF('Contractor##'!C:C,'Planned Maint v6.2 CSV File'!C:C,'Contractor##'!F:F)","v":-0.1135},93.977864999999994,"Door:Supply and fix composite insulated panel PVCu faced both sides to PVCu door, fixed with and including matching PVCu trim and beading. carefully remove existing defective and redundant panel or glazing and making good, any size over 0.50sm and ne 1.00sm and remove waste and debris."]
["3261AA","DOOR:RENEW GLAZED STEEL DOOR","CARPENTRY AND JOINERY","External Doors","Doors - External - Steel","NO",1044.55,{"$f":"SUMIF('Contractor##'!C:C,'Planned Maint v6.2 CSV File'!C:C,'Contractor##'!F:F)","v":-0.1135},925.99357499999996,"Door:Renew galvanised steel external glazed door, any size, including glazing and hanging to existing frame with new butts, supply and fix new mortice lock and keep and new bolts including all making good, decorate internally and prepare for redecoration externally."]
["3261AB","DOOR:RENEW PP COAT GLAZED STEEL DOOR","CARPENTRY AND JOINERY","External Doors","Doors - External - Polyester Coated Steel","NO",1268.28,{"$f":"SUMIF('Contractor##'!C:C,'Planned Maint v6.2 CSV File'!C:C,'Contractor##'!F:F)","v":-0.1135},1124.3302199999998,"Door:Renew galvanised steel polyester powder coated external glazed door, any size, including hanging to existing frame with new butts, supply and fix new mortice lock and keep and new bolts, glaze and make good."]
["3261BA","DOOR:EASE/OIL AND ADJUST STEEL","CARPENTRY AND JOINERY","External Doors","Doors - External - Galvanised Steel [Crittall type]","NO",7.94,{"$f":"SUMIF('Contractor##'!C:C,'Planned Maint v6.2 CSV File'!C:C,'Contractor##'!F:F)","v":-0.1135},7.0388099999999998,"Door:Ease including force open if necessary, strip paint, file and grind edges, ease and oil hinges to steel door."]
["3261CA","DOOR:RENEW LOCK TO STEEL","CARPENTRY AND JOINERY","External Doors","Doors - External - Galvanised Steel [Crittall type]","NO",59.9,{"$f":"SUMIF('Contractor##'!C:C,'Planned Maint v6.2 CSV File'!C:C,'Contractor##'!F:F)","v":-0.1135},53.101349999999996,"Door:Renew lock to any Crittall type of steel door including remove existing and fix new, make all necessary adjustments to door and frame, make good decorations internally and provide 2 No keys, touch up decoration externally, and remove waste and debris."]
["3261DA","DOOR:OVERHAUL METAL","CARPENTRY AND JOINERY","External Doors","Doors - External - Galvanised Steel [Crittall type]","NO",24.99,{"$f":"SUMIF('Contractor##'!C:C,'Planned Maint v6.2 CSV File'!C:C,'Contractor##'!F:F)","v":-0.1135},22.153634999999998,"Door:Overhaul any type of metal door dismantle as necessary and subsequently reassemble including freeing, easing oiling and adjusting door to give correct operation, including file and grind edges, renew fixing screws, remove, refit or renew ironmongery as necessary, rake out and renew defective putty and mastic, touch up decorations to match existing, and remove waste and debris."]
["3271AA","DOOR:RENEW GLAZED ALUMINIUM DOOR","CARPENTRY AND JOINERY","External Doors","Doors - External - Aluminium","NO",431.42,{"$f":"SUMIF('Contractor##'!C:C,'Planned Maint v6.2 CSV File'!C:C,'Contractor##'!F:F)","v":-0.1135},382.45382999999998,"Door:Renew any metal external glazed door, with polyester powder coated aluminium external glazed door, any size including glazing and hanging to existing frame with new butts, supply and fix new mortice lock and keep and new bolts including making good and prepare for redecoration, and remove waste and debris."]
["3271BA","DOOR:RENEW DOUBLE GLAZED ALUMINIUM PATIO DOOR","CARPENTRY AND JOINERY","External Doors","Doors - External - Aluminium","NO",1375.91,{"$f":"SUMIF('Contractor##'!C:C,'Planned Maint v6.2 CSV File'!C:C,'Contractor##'!F:F)","v":-0.1135},1219.7442149999999,"Door:Renew any glazed doors and frame, with polyester powder coated aluminium external glazed patio doors and frame, including double glazing internally with 20mm thick hermetically sealed safety glass unit, frame built into opening, complete with mortice lock and keep and new bolts including making good, and remove waste and debris."]
["3271CA","DOOR:INSTALL GLAZED ALUMINIUM PATIO DOOR","CARPENTRY AND JOINERY","External Doors","Doors - External - Aluminium","NO",1357.16,{"$f":"SUMIF('Contractor##'!C:C,'Planned Maint v6.2 CSV File'!C:C,'Contractor##'!F:F)","v":-0.1135},1203.1223400000001,"Door:Supply and instal polyester powder coated aluminium external glazed patio doors and frame, including double glazing internally with 20mm thick hermeticlly sealed safety glass unit, frame built into opening, complete with mortice lock and keep and new bolts including making good, and remove waste and debris."]
["3271DA","DOOR:EASE OIL AND ADJUST ALUMINIUM","CARPENTRY AND JOINERY","External Doors","Doors - External - Repairs - Aluminium","NO",4.8099999999999996,{"$f":"SUMIF('Contractor##'!C:C,'Planned Maint v6.2 CSV File'!C:C,'Contractor##'!F:F)","v":-0.1135},4.2640649999999996,"Door:Ease including force open if necessary, strip paint, file and grind edges, ease and oil hinges to aluminium door."]
["3271EA","DOOR:RENEW LOCK TO ALUMINIUM","CARPENTRY AND JOINERY","External Doors","Doors - External - Repairs - Aluminium","NO",59.9,{"$f":"SUMIF('Contractor##'!C:C,'Planned Maint v6.2 CSV File'!C:C,'Contractor##'!F:F)","v":-0.1135},53.101349999999996,"Door:Renew lock to any type of aluminium door including remove existing and fix new, make all necessary adjustments to door and frame, make good and provide 2 No. keys."]
["3271FA","DOOR:OVERHAUL ALUMINIUM","CARPENTRY AND JOINERY","External Doors","Doors - External - Repairs - Aluminium","NO",24.99,{"$f":"SUMIF('Contractor##'!C:C,'Planned Maint v6.2 CSV File'!C:C,'Contractor##'!F:F)","v":-0.1135},22.153634999999998,"Door:Overhaul any type of aluminium door dismantle as necessary and subsequently reassemble including freeing, easing oiling and adjusting door to give correct operation, renew fixing screws, remove, refit or renew ironmongery as necessary, rake out and renew defective sealants and mastic, touch up decorations internally to match existing good, and remove waste and debris.."]
["3281AA","DOOR:RENEW L and B DOOR","CARPENTRY AND JOINERY","External Doors","Doors - External Matchboard - Softwood","NO",154.81,{"$f":"SUMIF('Contractor##'!C:C,'Planned Maint v6.2 CSV File'!C:C,'Contractor##'!F:F)","v":-0.1135},137.23906499999998,"Door:Renew external door with any size 40mm thick single softwood matchboard ledged and braced door with 169x20mm ledges and 106x20mm braces covered on face with 20mm tongued, grooved and v jointed boarding, including remove existing door and hinges, remove and refit door stop as necessary, fit and hang new door on one pair of hinges, make good frame, complete with all ironmongery and prepare for redecoration, and remove waste and debris."]
["3281AB","DOOR:RENEW PAIR L AND B DOORS","CARPENTRY AND JOINERY","External Doors","Doors - External Matchboard - Softwood","NO",250.8,{"$f":"SUMIF('Contractor##'!C:C,'Planned Maint v6.2 CSV File'!C:C,'Contractor##'!F:F)","v":-0.1135},222.33420000000001,"Door:Renew external doors with 45mm thick pair of softwood matchboard ledged and braced doors with 169x20mm ledges and 106x20mm braces covered on face with 20mm tongued, grooved and v-jointed boarding, including remove existing doors and hinges, remove and refit door stop as necessary, fit and hang each new doors on one pair of hinges, make good frame, complete with all ironmongery and prepare for redecoration, and remove waste and debris."]
["3281BA","DOOR:RENEW F L and B DOOR","CARPENTRY AND JOINERY","External Doors","Doors - External Matchboard - Softwood","NO",169.91,{"$f":"SUMIF('Contractor##'!C:C,'Planned Maint v6.2 CSV File'!C:C,'Contractor##'!F:F)","v":-0.1135},150.625215,"Door:Renew external door with any size 40mm thick single softwood matchboard framed,ledged and braced door with 169x20mm ledges and 106x20mm braces covered on face with 20mm tongued, grooved and v jointed boarding, including remove existing door and hinges, remove and refit door stop as necessary, fit and hang new door on one pair of hinges, make good frame, complete with all ironmongery and prepare for redecoration, and remove waste and debris."]
["3281BB","DOOR:RENEW PAIR FL AND B DOORS","CARPENTRY AND JOINERY","External Doors","Doors - External Matchboard - Softwood","NO",280.98,{"$f":"SUMIF('Contractor##'!C:C,'Planned Maint v6.2 CSV File'!C:C,'Contractor##'!F:F)","v":-0.1135},249.08877000000001,"Door:Renew external door with 45mm thick pair of softwood matchboard framed,ledged and braced doors with 169x20mm ledges and 106x20mm braces covered on face with 20mm tongued, grooved and v-jointed boarding, including remove existing doors and hinges, remove and refit door stop as necessary, fit and hang each new door on one pair of hinges, make good frame, complete with all ironmongery and prepare for redecoration."]
["3281CA","DOOR:EASE/ADJUST INCLUDING REMOVE","CARPENTRY AND JOINERY","External Doors","Doors - External - Repairs - Timber","NO",41.24,{"$f":"SUMIF('Contractor##'!C:C,'Planned Maint v6.2 CSV File'!C:C,'Contractor##'!F:F)","v":-0.1135},{"$f":"(1+H1156)*G1156","v":36.559260000000002},"Door:Ease and adjust pair of doors, each hung on pair of tee hinges, including remove and rehang doors, make good to frame and touch up decorations."]
["3290AA","DOOR/SCREEN:INSTALL SOFTWOOD NE 1.25X2.4M","CARPENTRY AND JOINERY","External Doors and Screen","Door and Screen - Softwood Glazed","NO",1691.69,{"$f":"SUMIF('Contractor##'!C:C,'Planned Maint v6.2 CSV File'!C:C,'Contractor##'!F:F)","v":-0.1135},1499.6831849999999,"Door/Screen:Install purpose made softwood factory glazed outward opening single door hung on and including softwood rebated door frame, fanlight and sidelight to suit size of existing or newly formed opening ne 1250x2400mm, frame complete with stainless steel channel sub-framing, frame fixed to structure,silicone mastic sealant to both sides, door and frame glazed internally in 6.4mm laminated clear glass, non setting glazing compound and hardwood screwed beads, door hung on 1.5 pairs of stainless steel heavy duty butt hinges and complete with all ironmongery, fittings and hardware specified, decorate internally and prepare for redecoration externally, and remove waste and debris.."]
["3290AB","DOOR/SCREEN:INSTALL SOFTWOOD NE 1.6X2.4M","CARPENTRY AND JOINERY","External Doors and Screen","Door and Screen - Softwood Glazed","NO",1892.02,{"$f":"SUMIF('Contractor##'!C:C,'Planned Maint v6.2 CSV File'!C:C,'Contractor##'!F:F)","v":-0.1135},1677.2757299999998,"Door/Screen:Install purpose made softwood factory glazed outward opening single door hung on and including softwood rebated door frame, fanlight and sidelight to suit size of existing or newly formed opening, ne 1600x2400mm, frame complete with stainless steel channel sub-framing, frame fixed to structure, silicone mastic sealant to both sides, door and frame glazed internally in 6.4mm laminated clear glass, non setting glazing compound and hardwood screwed beads, door hung on 1.5 pairs of stainless steel heavy duty butt hinges and complete with all ironmongery, fittings and hardware specified, decorate internally and prepare for redecoration externally, and remove waste and debris."]
["3290AC","DOOR/SCREEN:INSTALL SOFTWOOD NE 2.1X2.4M","CARPENTRY AND JOINERY","External Doors and Screen","Door and Screen - Softwood Glazed","NO",2219.06,{"$f":"SUMIF('Contractor##'!C:C,'Planned Maint v6.2 CSV File'!C:C,'Contractor##'!F:F)","v":-0.1135},1967.1966899999998,"Door/Screen:Install purpose made softwood factory glazed outward opening single door hung on and including softwood rebated door frame, fanlight and sidelight to suit size of existing or newly formed opening, ne 2100x2400mm, frame complete with stainless steel channel sub-framing, frame fixed to structure, silicone mastic sealant to both sides, door and frame glazed internally in 6.4mm laminated clear glass, non setting glazing compound and hardwood screwed beads, door hung on 1.5 pairs of stainless steel heavy duty butt hinges and complete with all ironmongery, fittings and hardware specified, decorate internally and prepare for redecoration externally, and remove waste and debris."]
["3290AD","DOOR/SCREEN:INSTALL SOFTWOOD NE 2.7X2.4M","CARPENTRY AND JOINERY","External Doors and Screen","Door and Screen - Softwood Glazed","NO",2813.31,{"$f":"SUMIF('Contractor##'!C:C,'Planned Maint v6.2 CSV File'!C:C,'Contractor##'!F:F)","v":-0.1135},2493.999315,"Door/Screen:Install purpose made softwood factory glazed outward opening single door hung on and including softwood rebated door frame, fanlight and sidelight to suit size of existing or newly formed opening, ne 2700x2400mm, frame complete with stainless steel channel sub-framing, frame fixed to structure, silicone mastic sealant to both sides, door and frame glazed internally in 6.4mm laminated clear glass, non setting glazing compound and hardwood screwed beads, door hung on 1.5 pairs of stainless steel heavy duty butt hinges and complete with all ironmongery, fittings and hardware specified, decorate internally and prepare for redecoration externally, and remove waste and debris."]
["3291AA","DOOR/SCREEN:INSTALL HARDWOOD NE 1.2X2.4M","CARPENTRY AND JOINERY","External Doors and Screen","Door and Screen - Hardwood Glazed","NO",2086.1,{"$f":"SUMIF('Contractor##'!C:C,'Planned Maint v6.2 CSV File'!C:C,'Contractor##'!F:F)","v":-0.1135},1849.3276499999997,"Door/Screen:Install purpose made hardwood factory glazed outward opening single door hung on and including hardwood rebated door frame, fanlight and sidelight to suit size of existing or newly formed opening ne 1250x2400mm, frame complete with stainless steel channel sub-framing, frame fixed to structure, silicone mastic sealant to both sides, door and frame glazed internally in 6.4mm laminated clear glass, non setting glazing compound and hardwood screwed beads, door hung on 1.5 pairs of stainless steel heavy duty butt hinges and complete with all ironmongery, fittings and hardware specified, decorate internally and prepare for redecoration externally, and remove waste and debris."]
["3291AB","DOOR/SCREEN:INSTALL HARDWOOD NE 1.6X2.4M","CARPENTRY AND JOINERY","External Doors and Screen","Door and Screen - Hardwood Glazed","NO",2282.79,{"$f":"SUMIF('Contractor##'!C:C,'Planned Maint v6.2 CSV File'!C:C,'Contractor##'!F:F)","v":-0.1135},2023.6933349999999,"Door/Screen:Install purpose made hardwood factory glazed outward opening single door hung on and including hardwood rebated door frame, fanlight and sidelight to suit size of existing or newly formed opening, ne 1600x2400mm, frame complete with stainless steel channel sub-framing, frame fixed to structure, silicone mastic sealant to both sides, door and frame glazed internally in 6.4mm laminated clear glass, non setting glazing compound and hardwood screwed beads, door hung on 1.5 pairs of stainless steel heavy duty butt hinges and complete with all ironmongery, fittings and hardware specified, decorate internally and prepare for redecoration externally, and remove waste and debris."]
["3291AC","DOOR/SCREEN:INSTALL HARDWOOD NE 2.1X2.4M","CARPENTRY AND JOINERY","External Doors and Screen","Door and Screen - Hardwood Glazed","NO",2606.35,{"$f":"SUMIF('Contractor##'!C:C,'Planned Maint v6.2 CSV File'!C:C,'Contractor##'!F:F)","v":-0.1135},2310.5292749999999,"Door/Screen:Install purpose made hardwood factory glazed outward opening single door hung on and including hardwood rebated door frame, fanlight and sidelight to suit size of existing or newly formed opening, ne 2100x2400mm, frame complete with stainless steel channel sub-framing, frame fixed to structure, silicone mastic sealant to both sides, door and frame glazed internally in 6.4mm laminated clear glass, non setting glazing compound and hardwood screwed beads, door hung on 1.5 pairs of stainless steel heavy duty butt hinges and complete with all ironmongery, fittings and hardware specified, decorate internally and prepare for redecoration externally, and remove waste and debris."]
["3291AD","DOOR/SCREEN:INSTALL HARDWOOD NE 2.7X2.4M","CARPENTRY AND JOINERY","External Doors and Screen","Door and Screen - Hardwood Glazed","NO",3599.93,{"$f":"SUMIF('Contractor##'!C:C,'Planned Maint v6.2 CSV File'!C:C,'Contractor##'!F:F)","v":-0.1135},3191.3379449999998,"Door/Screen:Install purpose made hardwood factory glazed outward opening single door hung on and including hardwood rebated door frame, fanlight and sidelight to suit size of existing or newly formed opening, ne 2700x2400mm, frame complete with stainless steel channel sub-framing, frame fixed to structure, silicone mastic sealant to both sides, door and frame glazed internally in 6.4mm laminated clear glass, non setting glazing compound and hardwood screwed beads, door hung on 1.5 pairs of stainless steel heavy duty butt hinges and complete with all ironmongery, fittings and hardware specified, decorate internally and prepare for redecoration externally, and remove waste and debris."]
["3292AA","DOOR/SCREEN:INSTALL FLUSH NE 1.25X2.4M","CARPENTRY AND JOINERY","External Doors and Screen","Door and Screen - Flush Door - Glazed","NO",1924.6,{"$f":"SUMIF('Contractor##'!C:C,'Planned Maint v6.2 CSV File'!C:C,'Contractor##'!F:F)","v":-0.1135},1706.1578999999999,"Door/Screen:Install purpose made external solid flush factory glazed outward opening single door hung on and including hardwood rebated door frame, fanlight and sidelight to suit size of existing or newly formed opening ne 1250x2400mm, frame complete with stainless steel channel sub-framing, frame fixed to structure, silicone mastic sealant to both sides, door and frame glazed internally in 6.4mm laminated clear glass, non setting glazing compound and hardwood screwed beads, door hung on 1.5 pairs of stainless steel heavy duty butt hinges and complete with all ironmongery, fittings and hardware specified, decorate internally and prepare for redecoration externally, and remove waste and debris."]
["3292AB","DOOR/SCREEN:INSTALL FLUSH NE 1.6X2.4M","CARPENTRY AND JOINERY","External Doors and Screen","Door and Screen - Flush Door - Glazed","NO",2121.29,{"$f":"SUMIF('Contractor##'!C:C,'Planned Maint v6.2 CSV File'!C:C,'Contractor##'!F:F)","v":-0.1135},1880.5235849999999,"Door/Screen:Install purpose made external solid flush factory glazed outward opening single door hung on and including hardwood rebated door frame, fanlight and sidelight to suit size of existing or newly formed opening, ne 1600x2400mm, frame complete with stainless steel channel sub-framing, frame fixed to structure, silicone mastic sealant to both sides, door and frame glazed internally in 6.4mm laminated clear glass, non setting glazing compound and hardwood screwed beads, door hung on 1.5 pairs of stainless steel heavy duty butt hinges and complete with all ironmongery, fittings and hardware specified, decorate internally and prepare for redecoration externally, and remove waste and debris."]
["3292AC","DOOR/SCREEN:INSTALL FLUSH NE 2.1X2.4M","CARPENTRY AND JOINERY","External Doors and Screen","Door and Screen - Flush Door - Glazed","NO",2444.85,{"$f":"SUMIF('Contractor##'!C:C,'Planned Maint v6.2 CSV File'!C:C,'Contractor##'!F:F)","v":-0.1135},2167.3595249999998,"Door/Screen:Install purpose made external solid flush factory glazed outward opening single door hung on and including hardwood rebated door frame, fanlight and sidelight to suit size of existing or newly formed opening, ne 2100x2400mm, frame complete with stainless steel channel sub-framing, frame fixed to structure, silicone mastic sealant to both sides, door and frame glazed internally in 6.4mm laminated clear glass, non setting glazing compound and hardwood screwed beads, door hung on 1.5 pairs of stainless steel heavy duty butt hinges and complete with all ironmongery, fittings and hardware specified, decorate internally and prepare for redecoration externally, and remove waste and debris."]
["3292AD","DOOR/SCREEN:INSTALL FLUSH NE 2.7X2.4M","CARPENTRY AND JOINERY","External Doors and Screen","Door and Screen - Flush Door - Glazed","NO",3276.95,{"$f":"SUMIF('Contractor##'!C:C,'Planned Maint v6.2 CSV File'!C:C,'Contractor##'!F:F)","v":-0.1135},2905.0161749999997,"Door/Screen:Install purpose made external solid flush factory glazed outward opening single door hung on and including hardwood rebated door frame, fanlight and sidelight to suit size of existing or newly formed opening, ne 2700x2400mm, frame complete with stainless steel channel sub-framing, frame fixed to structure,silicone mastic sealant to both sides, door and frame glazed internally in 6.4mm laminated clear glass, non setting glazing compound and hardwood screwed beads, door hung on 1.5 pairs of stainless steel heavy duty butt hinges and complete with all ironmongery, fittings and hardware specified, decorate internally and prepare for redecoration externally, and remove waste and debris."]
["3293AA","DOOR/SCREEN:INSTALL POLYESTER COATED NE 1.25X2.4M","CARPENTRY AND JOINERY","External Doors and Screen","Door and Screen - Polyester Coated - Glazed","NO",1498.12,{"$f":"SUMIF('Contractor##'!C:C,'Planned Maint v6.2 CSV File'!C:C,'Contractor##'!F:F)","v":-0.1135},1328.0833799999998,"Door/Screen:Install purpose made polyester powder coated steel factory glazed outward opening single door hung on and including door frame, fanlight and sidelight to suit size of existing or newly formed opening ne 1250x2400mm,  frame fixed to structure,silicone mastic sealant to both sides, door and frame glazed internally in 6.4mm laminated clear glass, non setting glazing compound and polyester coated steel screwed beads, door hung on 1.5 pairs of stainless steel heavy duty butt hinges and complete with all ironmongery, fittings and hardware specified, remove waste and debris."]
["3293AB","DOOR/SCREEN:INSTALL POLYESTER COATED NE 1.60X2.4M","CARPENTRY AND JOINERY","External Doors and Screen","Door and Screen - Polyester Coated - Glazed","NO",1832.05,{"$f":"SUMIF('Contractor##'!C:C,'Planned Maint v6.2 CSV File'!C:C,'Contractor##'!F:F)","v":-0.1135},1624.1123249999998,"Door/Screen:Install purpose made polyester powder coated steel factory glazed outward opening single door hung on and including door frame, fanlight and sidelight to suit size of existing or newly formed opening ne 1600x2400mm,  frame fixed to structure,silicone mastic sealant to both sides, door and frame glazed internally in 6.4mm laminated clear glass, non setting glazing compound and polyester coated steel screwed beads, door hung on 1.5 pairs of stainless steel heavy duty butt hinges and complete with all ironmongery, fittings and hardware specified, remove waste and debris."]
["3293AC","DOOR/SCREEN:INSTALL POLYESTER COATED NE 2.10X2.4M","CARPENTRY AND JOINERY","External Doors and Screen","Door and Screen - Polyester Coated - Glazed","NO",2301.09,{"$f":"SUMIF('Contractor##'!C:C,'Planned Maint v6.2 CSV File'!C:C,'Contractor##'!F:F)","v":-0.1135},2039.916285,"Door/Screen:Install purpose made polyester powder coated steel factory glazed outward opening single door hung on and including door frame, fanlight and sidelight to suit size of existing or newly formed opening ne 2100x2400mm,  frame fixed to structure,silicone mastic sealant to both sides, door and frame glazed internally in 6.4mm laminated clear glass, non setting glazing compound and polyester coated steel screwed beads, door hung on 1.5 pairs of stainless steel heavy duty butt hinges and complete with all ironmongery, fittings and hardware specified, remove waste and debris."]
["3293AD","DOOR/SCREEN:INSTALL POLYESTER COATED NE 2.70X2.4M","CARPENTRY AND JOINERY","External Doors and Screen","Door and Screen - Polyester Coated - Glazed","NO",2859.44,{"$f":"SUMIF('Contractor##'!C:C,'Planned Maint v6.2 CSV File'!C:C,'Contractor##'!F:F)","v":-0.1135},2534.89356,"Door/Screen:Install purpose made polyester powder coated steel factory glazed outward opening single door hung on and including door frame, fanlight and sidelight to suit size of existing or newly formed opening ne 2700x2400mm,  frame fixed to structure,silicone mastic sealant to both sides, door and frame glazed internally in 6.4mm laminated clear glass, non setting glazing compound and polyester coated steel screwed beads, door hung on 1.5 pairs of stainless steel heavy duty butt hinges and complete with all ironmongery, fittings and hardware specified, remove waste and debris."]
["3300AA","DOOR:RENEW INTERNAL PLY FLUSH","CARPENTRY AND JOINERY","Internal Timber Doors","Doors - Internal - Flush","NO",100.37,{"$f":"SUMIF('Contractor##'!C:C,'Planned Maint v6.2 CSV File'!C:C,'Contractor##'!F:F)","v":-0.1135},88.978004999999996,"Door:Renew internal door with any size ne 40mm thick single skeleton core flush doorwith 3.2mm luan, white Meranti or other approved plywood facing both sides and 9mm hardwood lipping on long edges, including remove existing door and hinges, remove and refit door stops as necessary, fit and hang new door on one pair of 100mm steel butt hinges, make good or alter butt recesses on frame, door complete with all ironmongery, make good and prepare door for decoration and make good decorations to frame, and remove waste and debris."]
["3300AB","DOOR:RENEW INTERNAL HARDBOARD FACED","CARPENTRY AND JOINERY","Internal Timber Doors","Doors - Internal - Flush","NO",85.62,{"$f":"SUMIF('Contractor##'!C:C,'Planned Maint v6.2 CSV File'!C:C,'Contractor##'!F:F)","v":-0.1135},75.90213,"Door:Renew internal door with any size ne 40mm thick single skeleton core hardboard facedboth sides flush internal door with hardwood lipping on long edges including remove existing door and hinges, remove and refit door stops as necessary, fit and hang new door on one pair of 100mm steel butt hinges, make good or alter butt recesses on frame, door complete with all ironmongery, make good and prepare door for decoration and make good decorations to frame, and remove waste and debris."]
["3300AC","DOOR:RENEW INTERNAL EMBOSSED PANELLED","CARPENTRY AND JOINERY","Internal Timber Doors","Doors - Internal - Flush","NO",104.1,{"$f":"SUMIF('Contractor##'!C:C,'Planned Maint v6.2 CSV File'!C:C,'Contractor##'!F:F)","v":-0.1135},92.284649999999985,"Door:Renew internal door with any size ne 40mm thick single embossed hardboard panelled door including remove existing door and hinges, remove and refit door stops as necessary, fit and hang new door on one pair of 100mm steel butt hinges, make good or alter butt recesses on frame, door complete with all ironmongery, make good and prepare door for decoration and make good decorations to frame, and remove waste and debris."]
["3300AD","DOOR:RENEW INTERNAL SOFTWOOD GLAZED","CARPENTRY AND JOINERY","Internal Timber Doors","Doors - Internal - Framed","NO",235.86,{"$f":"SUMIF('Contractor##'!C:C,'Planned Maint v6.2 CSV File'!C:C,'Contractor##'!F:F)","v":-0.1135},209.08989,"Door:Renew internal door with any size ne 40mm thick softwood glazed door including remove existing door and hinges, remove and refix door stops as necessary, fit and hang new door on one pair of 100mm steel butt hinges, make good or alter butt recessaes on frame, door complete with glass and all ironmongery, make good and prepare door for decoration and make good decorations to frame, and remove waste and debris."]
["3300AE","DOOR:RENEW INTERNAL HARDWOOD GLAZED","CARPENTRY AND JOINERY","Internal Timber Doors","Doors - Internal - Framed","NO",357.9,{"$f":"SUMIF('Contractor##'!C:C,'Planned Maint v6.2 CSV File'!C:C,'Contractor##'!F:F)","v":-0.1135},317.27834999999999,"Door:Renew internal door with any size ne 40mm thick hardwood glazed door including remove existing door and hinges, remove and refit door stops as necessary, fit and hang new door on one pair of 100mm steel butt hinges, make good or alter butt recesses on frame, door complete with glass and all ironmongery, make good and prepare door for decoration and make good decorations to frame, and remove waste and debris."]
["3300AF","DOOR:RENEW INTERNAL HARDWOOD VENEERED","CARPENTRY AND JOINERY","Internal Timber Doors","Doors - Internal - Flush","NO",96.15,{"$f":"SUMIF('Contractor##'!C:C,'Planned Maint v6.2 CSV File'!C:C,'Contractor##'!F:F)","v":-0.1135},85.236975000000001,"Door:Renew internal door with any size ne 40mm thick hardwood veneered door including remove existing door and hinges, remove and refit door stops as necessary, fit and hang new door on one pair of 100mm steel butt hinges, make good or alter butt recesses on frame, door complete with glass and all ironmongery, make good and prepare door for decoration and make good decorations to frame, and remove waste and debris."]
["3300BA","DOOR:RENEW 1/2HR FIRE INTERNAL","CARPENTRY AND JOINERY","Internal Timber Doors","Doors - Internal - Firecheck","NO",140.21,{"$f":"SUMIF('Contractor##'!C:C,'Planned Maint v6.2 CSV File'!C:C,'Contractor##'!F:F)","v":-0.1135},124.296165,"Door:Renew internal door with any size single half-hour fire check flush door having 3.2mm luan, white Meranti or other approved plywood facing both sides and 9mm hardwood lipping on long edges, including remove existing door and hinges, remove and refit door stops as necessary, fit and hang new door on 1.50 pairs of 100mm steel butt hinges, make good or alter recesses on frame, door complete with all ironmongery, intumescent strips and smoke seals, make good and prepare door for decoration and make good decorations to frame, and remove waste and debris."]
["3300BB","DOOR:RENEW 1HR FIRE INTERNAL","CARPENTRY AND JOINERY","Internal Timber Doors","Doors - Internal - Firecheck","NO",242,{"$f":"SUMIF('Contractor##'!C:C,'Planned Maint v6.2 CSV File'!C:C,'Contractor##'!F:F)","v":-0.1135},214.53299999999999,"Door:Renew internal door with any size single one-hour fire check flush door having 3.2mm luan, white Meranti or other approved plywood facing both sides and 9mm hardwood lipping on long edges, including remove existing door and hinges, remove and refit door stops as necessary, fit and hang new door on 1.50 pairs of 100mm steel butt hinges, make good or alter recesses on frame, door complete with all ironmongery, intumescent strips and smoke seals, make good and prepare door for decoration and make good decorations to frame, and remove waste and debris."]
["3300BC","DOOR:RENEW T90 FIRE INTERNAL","CARPENTRY AND JOINERY","Internal Timber Doors","Doors - Internal - Firecheck","NO",448.98,{"$f":"SUMIF('Contractor##'!C:C,'Planned Maint v6.2 CSV File'!C:C,'Contractor##'!F:F)","v":-0.1135},398.02076999999997,"Door:Renew internal door with any size single T90 fire check flush door having 3.2mm luan, white Meranti or other approved plywood facing both sides and 9mm hardwood lipping on long edges, including remove existing door and hinges, remove and refit door stops as necessary, fit and hang new door on 1.50 pairs of 100mm steel butt hinges, make good or alter recesses on frame, door complete with all ironmongery, intumescent strips and smoke seals, make good and prepare door for decoration and make good decorations to frame, and remove waste and debris."]
["3300BD","DOOR:RENEW 1/2HR GLAZED FIRE INTERNAL","CARPENTRY AND JOINERY","Internal Timber Doors","Doors - Internal - Firecheck","NO",180.78,{"$f":"SUMIF('Contractor##'!C:C,'Planned Maint v6.2 CSV File'!C:C,'Contractor##'!F:F)","v":-0.1135},160.26147,"Door:Renew internal door with any size single half-hour fire check glazed door having 3.2mm luan, white Meranti or other approved plywood facing both sides and 9mm hardwood lipping on long edges, including remove existing door and hinges, remove and refit door stops as necessary, fit and hang new door on 1.50 pairs of 100mm steel butt hinges, make good or alter recesses on frame, door complete with all ironmongery, intumescent strips and smoke seals, glass, make good and prepare door for decoration and make good decorations to frame, and remove waste and debris."]
["3300BE","DOOR:RENEW 1/2HR FIRE INTERNAL AND STOPS","CARPENTRY AND JOINERY","Internal Timber Doors","Doors - Internal - Firecheck","NO",168.48,{"$f":"SUMIF('Contractor##'!C:C,'Planned Maint v6.2 CSV File'!C:C,'Contractor##'!F:F)","v":-0.1135},149.35751999999999,"Door:Renew internal with any size FD30S plywood faced fire check flush door, including remove existing door, hinges and stops, fit and hang new door on 1.5 pairs of 100mm steel hinges, make good or alter recesses on frame, door complete with all ironmongery, intumescent strips and smoke seals,  provide and fix 25x32mm door stop set, make good and prepare door for decoration and make good decorations to frame, and remove waste and debris."]
["3300BF","DOOR:RENEW 1HR FIRE INTERNAL AND STOPS","CARPENTRY AND JOINERY","Internal Timber Doors","Doors - Internal - Firecheck","NO",260.27,{"$f":"SUMIF('Contractor##'!C:C,'Planned Maint v6.2 CSV File'!C:C,'Contractor##'!F:F)","v":-0.1135},230.72935499999997,"Door:Renew internal with any size FD60S plywood faced fire check flush door, including remove existing door, hinges and stops, fit and hang new door on 1.5 pairs of 100mm steel hinges, make good or alter recesses on frame, door complete with all ironmongery, intumescent strips and smoke seals,  provide and fix 25x32mm door stop set, make good and prepare door for decoration and make good decorations to frame, and remove waste and debris."]
["3300CA","DOOR:CUT OPENINGS/SUPPLY AND FIX 225X75MM VENTS","CARPENTRY AND JOINERY","Internal Timber Doors","Doors - Internal - Flush","IT",9.48,{"$f":"SUMIF('Contractor##'!C:C,'Planned Maint v6.2 CSV File'!C:C,'Contractor##'!F:F)","v":-0.1135},8.4040199999999992,"Door:Cut opening in solid or hollow core door for 225x75mm aluminium louvre ventilators and screw fix new ventilators to both faces of door."]
["3300CB","DOOR:FORM VISION PANEL","CARPENTRY AND JOINERY","Internal Timber Doors","Doors - Internal - Flush","NO",49.85,{"$f":"SUMIF('Contractor##'!C:C,'Planned Maint v6.2 CSV File'!C:C,'Contractor##'!F:F)","v":-0.1135},44.192025000000001,"Door:Cut opening approx 500x500mm in flush door and form vision panel, glazed in 6mm Georgian Wired Polished Plate glass, bedded in washleather strip with minimum 15mm chamfered beads fixed with brass cups and screws and decorate."]
["3300DA","DOOR AND FRAME:UPGRADE TO FD30S","CARPENTRY AND JOINERY","Internal Timber Doors","Doors - Internal - Firecheck","NO",152.85,{"$f":"SUMIF('Contractor##'!C:C,'Planned Maint v6.2 CSV File'!C:C,'Contractor##'!F:F)","v":-0.1135},135.50152499999999,"Door and Frame:Renew internal door and frincluding remove existing door, hinges and frame, install 32mm door frame with 25x32mm stops, fit and hang new any size FD30S plywood faced fire check flush door on 1.5 pairs of 100mm steel hinges, make good or alter recesses on frame, door complete with all ironmongery, intumescent strips and smoke seals, make good and prepare door and frame for decoration and remove waste and debris."]
["3300EA","DOOR:RENEW INTERNAL PLY FLUSH – DECORATE","CARPENTRY AND JOINERY","Internal Doors","Doors - Internal - Decorated","NO",135.61000000000001,{"$f":"SUMIF('Contractor##'!C:C,'Planned Maint v6.2 CSV File'!C:C,'Contractor##'!F:F)","v":-0.1135},120.218265,"Door:Renew internal door with any size ne 40mm thick single skeleton core flush door with 3.2mm luan, white Meranti or other approved plywood facing both sides and 9mm hardwood lipping on long edges, including remove existing door and hinges, remove and refit door stops as necessary, fit and hang new door on one pair of 100mm steel butt hinges, make good or alter butt recesses on frame, door complete with all ironmongery, make good, redecorate to match existing and remove waste and debris."]
["3300EB","DOOR:RENEW INTERNAL HARDBOARD FACED – DECORATE","CARPENTRY AND JOINERY","Internal Doors","Doors - Internal - Decorated","NO",118.47,{"$f":"SUMIF('Contractor##'!C:C,'Planned Maint v6.2 CSV File'!C:C,'Contractor##'!F:F)","v":-0.1135},105.02365499999999,"Door:Renew internal door with any size ne 40mm thick single skeleton core hardboard faced both sides flush internal door with hardwood lipping on long edges including remove existing door and hinges, remove and refit door stops as necessary, fit and hang new door on one pair of 100mm steel butt hinges, make good or alter butt recesses on frame, door complete with all ironmongery, make good, redecorate to match existing and remove waste and debris."]
["3300EC","DOOR:RENEW INTERNAL EMBOSSED PANELLED – DECORATE","CARPENTRY AND JOINERY","Internal Doors","Doors - Internal - Decorated","NO",139.94,{"$f":"SUMIF('Contractor##'!C:C,'Planned Maint v6.2 CSV File'!C:C,'Contractor##'!F:F)","v":-0.1135},124.05681,"Door:Renew internal door with any size ne 40mm thick single embossed hardboard panelled door including remove existing door and hinges, remove and refit door stops as necessary, fit and hang new door on one pair of 100mm steel butt hinges, make good or alter butt recesses on frame, door complete with all ironmongery, make good, redecorate to match existing and remove waste and debris."]
["3300ED","DOOR:RENEW INTERNAL HARDWOOD VENEERED – DECORATE","CARPENTRY AND JOINERY","Internal Doors","Doors - Internal - Decorated","NO",133.22,{"$f":"SUMIF('Contractor##'!C:C,'Planned Maint v6.2 CSV File'!C:C,'Contractor##'!F:F)","v":-0.1135},118.09952999999999,"Door:Renew internal door with any size ne 40mm thick hardwood veneered door including remove existing door and hinges, remove and refit door stops as necessary, fit and hang new door on one pair of 100mm steel butt hinges, make good or alter butt recesses on frame, door complete with glass and all ironmongery, make good, redecorate to match existing and remove waste and debris."]
["3300EE","DOOR:RENEW INTERNAL SOFTWOOD GLAZED – DECORATE","CARPENTRY AND JOINERY","Internal Doors","Doors - Internal - Decorated","NO",288.95999999999998,{"$f":"SUMIF('Contractor##'!C:C,'Planned Maint v6.2 CSV File'!C:C,'Contractor##'!F:F)","v":-0.1135},256.16303999999997,"Door:Renew internal door with any size ne 40mm thick framed softwood glazed door including remove existing door and hinges, remove and refix door stops as necessary, fit and hang new door on 1.5 pair of 100mm steel butt hinges, make good or alter butt recesses on frame, door complete with glazing and all ironmongery, make good, redecorate to match existing and remove waste and debris."]
["3300EF","DOOR:RENEW INTERNAL HARDWOOD GLAZED – DECORATE","CARPENTRY AND JOINERY","Internal Doors","Doors - Internal - Decorated","NO",432,{"$f":"SUMIF('Contractor##'!C:C,'Planned Maint v6.2 CSV File'!C:C,'Contractor##'!F:F)","v":-0.1135},382.96799999999996,"Door:Renew internal door with any size ne 40mm thick framed hardwood glazed door including remove existing door and hinges, remove and refit door stops as necessary, fit and hang new door on 1.5 pairs of 100mm steel butt hinges, make good or alter butt recesses on frame, door complete with glazing and all ironmongery, make good, redecorate to match existing and remove waste and debris."]
["3300FA","DOOR:RENEW 1/2HR FIRE INTERNAL – DECORATE","CARPENTRY AND JOINERY","Internal Doors","Doors - Internal - Decorated","NO",176.99,{"$f":"SUMIF('Contractor##'!C:C,'Planned Maint v6.2 CSV File'!C:C,'Contractor##'!F:F)","v":-0.1135},156.901635,"Door:Renew internal door with any size single half-hour fire check flush door having 3.2mm luan, white Meranti or other approved plywood facing both sides and 9mm hardwood lipping on long edges, including remove existing door and hinges, remove and refit door stops as necessary, fit and hang new door on 1.5 pairs of 100mm steel butt hinges, make good or alter recesses on frame, door complete with all ironmongery, intumescent strips and smoke seals, redecorate to match existing and remove waste and debris."]
["3300FB","DOOR:RENEW 1HR FIRE INTERNAL - DECORATE","CARPENTRY AND JOINERY","Internal Doors","Doors - Internal - Decorated","NO",294.22000000000003,{"$f":"SUMIF('Contractor##'!C:C,'Planned Maint v6.2 CSV File'!C:C,'Contractor##'!F:F)","v":-0.1135},260.82603,"Door:Renew internal door with any size single one-hour fire check flush door having 3.2mm luan, white Meranti or other approved plywood facing both sides and 9mm hardwood lipping on long edges, including remove existing door and hinges, remove and refit door stops as necessary, fit and hang new door on 1.50 pairs of 100mm steel butt hinges, make good or alter recesses on frame, door complete with all ironmongery, intumescent strips and smoke seals, redecorate to match existing and remove waste and debris."]
["3300FC","DOOR:RENEW 1/2HR GLAZED FIRE INTERNAL - DECORATE","CARPENTRY AND JOINERY","Internal Doors","Doors - Internal - Decorated","NO",222.2,{"$f":"SUMIF('Contractor##'!C:C,'Planned Maint v6.2 CSV File'!C:C,'Contractor##'!F:F)","v":-0.1135},196.98029999999997,"Door:Renew internal door with any size single half-hour fire check glazed door having 3.2mm luan, white Meranti or other approved plywood facing both sides and 9mm hardwood lipping on long edges, including remove existing door and hinges, remove and refit door stops as necessary, fit and hang new door on 1.50 pairs of 100mm steel butt hinges, make good or alter recesses on frame, door complete with all ironmongery, intumescent strips and smoke seals, glazed, redecorate to match existing and remove waste and debris."]
["3301AA","DOOR:RENEW SLIDING - HARDWOOD","CARPENTRY AND JOINERY","Internal Timber Doors","Doors - Internal - Sliding","NO",213.45,{"$f":"SUMIF('Contractor##'!C:C,'Planned Maint v6.2 CSV File'!C:C,'Contractor##'!F:F)","v":-0.1135},189.22342499999999,"Door:Renew internal sliding door with any size ne 52mm thick hardwood sliding door including remove existing door and sliding door gear and remove/refix door stop, fit and hang new door on and including sliding door gear, adjust track as necessary, door complete with all ironmongery, make good and prepare for redecoration including make good decoration to frames, and remove waste and debris."]
["3301AB","DOOR:RENEW SLIDING - SOFTWOOD","CARPENTRY AND JOINERY","Internal Timber Doors","Doors - Internal - Sliding","NO",178.81,{"$f":"SUMIF('Contractor##'!C:C,'Planned Maint v6.2 CSV File'!C:C,'Contractor##'!F:F)","v":-0.1135},158.51506499999999,"Door:Renew internal sliding door with any size ne 52mm thick softwood sliding door including remove existing door and sliding door gear and remove/refix door stop, fit and hang newdoor on and including sliding door gear, adjust track as necessary, door complete with all ironmongery, make good and prepare for redecoration including make good decoration to frames, and remove waste and debris."]
["3301AC","DOOR:RENEW SLIDING - PLYWOOD FACED","CARPENTRY AND JOINERY","Internal Timber Doors","Doors - Internal - Sliding","NO",114.08,{"$f":"SUMIF('Contractor##'!C:C,'Planned Maint v6.2 CSV File'!C:C,'Contractor##'!F:F)","v":-0.1135},101.13191999999999,"Door:Renew internal sliding door with any size ne 40mm thick single skeleton core flush door with 3.2mm luan, white Meranti or other approved plywood facing both sides and 9mm hardwood lipping on long edges sliding door including remove existing door and sliding door gear and remove/refix door stop, fit and hang newdoor on and including sliding door gear, adjust track as necessary, door complete with all ironmongery, make good and prepare for redecoration including make good decoration to frames, and remove waste and debris."]
["3301AD","DOOR:RENEW SLIDING - HARDBOARD FACED","CARPENTRY AND JOINERY","Internal Timber Doors","Doors - Internal - Sliding","NO",99.33,{"$f":"SUMIF('Contractor##'!C:C,'Planned Maint v6.2 CSV File'!C:C,'Contractor##'!F:F)","v":-0.1135},88.056044999999997,"Door:Renew internal sliding door with any size ne 40mm thick single skeleton core hardboard faced both sides flush internal door with hardwood lipping on long edges sliding door including remove existing door and sliding door gear and remove/refix door stop, fit and hang newdoor on and including sliding door gear, adjust track as necessary, door complete with all ironmongery, make good and prepare for redecoration including make good decoration to frames, and remove waste and debris."]
["3301BA","DOOR:SUPPLY AND FIX SLIDING DOOR GEAR","CARPENTRY AND JOINERY","Internal Timber Doors","Doors - Internal - Sliding","NO",35.49,{"$f":"SUMIF('Contractor##'!C:C,'Planned Maint v6.2 CSV File'!C:C,'Contractor##'!F:F)","v":-0.1135},31.461884999999999,"Door:Supply and fix sliding door gear for hanging of any internal door."]
["3302AA","STABLE DOOR:RENEW SOFTWOOD COMPLETE","CARPENTRY AND JOINERY","Internal Timber Doors","Doors - Internal - Stable Door ","NO",151.35,{"$f":"SUMIF('Contractor##'!C:C,'Planned Maint v6.2 CSV File'!C:C,'Contractor##'!F:F)","v":-0.1135},134.171775,"Stable Door:Renew stable door with upto 52mm thick softwood stable door including removing existing doors and hinges and fit and hang new doors on 2 pairs of 100mm steel hinges, door complete with all ironmongery, make good all finishes, prepare for redecoration including make good decoration to frame, and remove waste and debris."]
["3302AB","STABLE DOOR:RENEW HARDWOOD COMPLETE","CARPENTRY AND JOINERY","Internal Timber Doors","Doors - Internal - Stable Door ","NO",198.59,{"$f":"SUMIF('Contractor##'!C:C,'Planned Maint v6.2 CSV File'!C:C,'Contractor##'!F:F)","v":-0.1135},176.05003499999998,"Stable Door:Renew stable door with upto 44mm thick hardwood stable door including removing existing doors and hinges and fit and hang new doors on 2 pairs of 100mm steel hinges, door complete with all ironmongery, make good all finishes and prepare for redecoration including make good decoration to frame, and remove waste and debris."]
["3303AA","DOOR:RENEW WITH BI FOLD","CARPENTRY AND JOINERY","Internal Timber Doors","Doors - Internal - BiFold Door ","IT",273.95,{"$f":"SUMIF('Contractor##'!C:C,'Planned Maint v6.2 CSV File'!C:C,'Contractor##'!F:F)","v":-0.1135},242.85667499999997,"Door:Renew internal door with any size ne 52mm thick hardwood veneered bi fold two doors set hinged together, incl. remove existing door and hinges,remove and refit door stops as necessary, fit and hang new doors complete with folding gear comprising top track with pivot bracket, 2 top pivots, 1 bottom pivot, 1 jamb bracket, 1 slide guide, 1 aligner, make good butt recesses on frame, doors complete with all handles, cover fillets, etc, make good and prepare for redecoration including make good decorations to frame, and remove waste and debris."]
["3304AA","DOOR:CHANGE TO TWO WAY OPERATION","CARPENTRY AND JOINERY","Doors","Door Adaptations and Ironmongery","IT",43.77,{"$f":"SUMIF('Contractor##'!C:C,'Planned Maint v6.2 CSV File'!C:C,'Contractor##'!F:F)","v":-0.1135},38.802104999999997,"Door:Change operation of door to two-way operation including remove door and stops, rehang door on two way hinges, make good including touch up decorations to match existing where stops removed, and remove waste and debris."]
["3304AB","DOOR:CHANGE INWARD TO OUT OPENING","CARPENTRY AND JOINERY","Doors","Door Adaptations and Ironmongery","IT",31.87,{"$f":"SUMIF('Contractor##'!C:C,'Planned Maint v6.2 CSV File'!C:C,'Contractor##'!F:F)","v":-0.1135},28.252755000000001,"Door:Change operation of inward opening door to outward opening including remove door and rehang, remove and refix stops, relocate lock or latch keep and make good where butts/keep removed. redecorate to match existing, and remove waste and debris."]
["3304AC","DOOR:CHANGE TO SLIDING","CARPENTRY AND JOINERY","Doors","Door Adaptations and Ironmongery","IT",97.15,{"$f":"SUMIF('Contractor##'!C:C,'Planned Maint v6.2 CSV File'!C:C,'Contractor##'!F:F)","v":-0.1135},86.123474999999999,"Door:Change operation of door to sliding operation including remove door, stops and architraves as necessary, provide and fix proprietary double track sliding door gear mechanism 1.2m opening including pelmet, stop board, rehang door, change ironmongery to suit sliding door operation, make good including touch up decoration to match existing."]
["3310AB","DOOR:RENEW PVCU 2 PANEL DOOR AND FRAME NE 2SM","CARPENTRY AND JOINERY","Internal PVCu Doors","Doors - Internal - PVCU","NO",424.55,{"$f":"SUMIF('Contractor##'!C:C,'Planned Maint v6.2 CSV File'!C:C,'Contractor##'!F:F)","v":-0.1135},376.36357499999997,"Door:Renew any type door and frame with any size ne 2sm PVCu two panel/half glazed door, double glazed with 20mm thick, hermetically sealed unit, PVCu frame, prehung, complete with latch, lock and handles, remove existing and fix new to prepared opening using cleats or screw bolts, seal around internally with flexible foam strip and silicone sealant, make good all finishes internally and externally, and remove waste and debris."]
["3310BA","DOOR:RENEW PAIR OF DOORS/FRAME","CARPENTRY AND JOINERY","Internal PVCu Doors","Doors - Internal - PVCU","IT",797.92,{"$f":"SUMIF('Contractor##'!C:C,'Planned Maint v6.2 CSV File'!C:C,'Contractor##'!F:F)","v":-0.1135},707.35607999999991,"Door:Renew any type door and frame with pair of any size ne 5sm PVCu doors, double glazed internally with 20mm thick, hermetically sealed unit, PVCu frame, prehung, complete with latch, lock, bolts and handles, remove existing and fix new to prepared opening using cleats or screw bolts, seal around internally with flexible foam strip and silicone sealant, make good all finishes internally and externally, and remove waste and debris."]
["3310CB","DOOR:RENEW PVCU 2 PANEL DOOR NE 2SM","CARPENTRY AND JOINERY","Internal PVCu Doors","Doors - Internal - PVCU","NO",378.04,{"$f":"SUMIF('Contractor##'!C:C,'Planned Maint v6.2 CSV File'!C:C,'Contractor##'!F:F)","v":-0.1135},335.13245999999998,"Door:Renew any type door with any size ne 2sm PVCu two panel glazed door, double glazed with 20mm thick hermetically sealed unit, hung in frame, on 1.5 pair of hinges complete with latch/lock and handles, and remove waste and debris."]
["3311AA","DOOR:RENEW ANY BUTT HINGE TO INTERNAL PVCU","CARPENTRY AND JOINERY","Internal PVCu Doors","Doors - Internal - Repairs - PVCU","NO",10.99,{"$f":"SUMIF('Contractor##'!C:C,'Planned Maint v6.2 CSV File'!C:C,'Contractor##'!F:F)","v":-0.1135},9.7426349999999999,"Door:Renew any butt hinge to internal PVCu door."]
["3311AB","DOOR:OVERHAUL MULTI-POINT LOCK TO INTERNAL PVCU","CARPENTRY AND JOINERY","Internal PVCu Doors","Doors - Internal - Repairs - PVCU","IT",8.1199999999999992,{"$f":"SUMIF('Contractor##'!C:C,'Planned Maint v6.2 CSV File'!C:C,'Contractor##'!F:F)","v":-0.1135},7.1983799999999993,"Door:Overhaul and lubricate multi-point door locking system to internal PVCu door."]
["3311AD","DOOR:RENEW HANDLES TO INTERNAL PVCU","CARPENTRY AND JOINERY","Internal PVCu Doors","Doors - Internal - Repairs - PVCU","NO",54.69,{"$f":"SUMIF('Contractor##'!C:C,'Planned Maint v6.2 CSV File'!C:C,'Contractor##'!F:F)","v":-0.1135},48.482684999999996,"Door:Carefully remove existing pair of lever handles and plates from PVCu internal door and remove from site, provide and fix new set of lever handles and plates (per set)."]
["3311AE","DOOR:REPAIR INTERNAL PVCU","CARPENTRY AND JOINERY","Internal PVCu Doors","Doors - Internal - Repairs - PVCU","NO",33.72,{"$f":"SUMIF('Contractor##'!C:C,'Planned Maint v6.2 CSV File'!C:C,'Contractor##'!F:F)","v":-0.1135},29.892779999999998,"Door:Repair internal PVCu door, including remove door from frame, adjust door locking mechanisms and hinges to ensure that door operates correctly, rehang existing door."]
["3350AB","DOOR:EASE ADJUST REHANG INTERNAL NEW BUTTS","CARPENTRY AND JOINERY","Internal Timber Doors","Doors - Internal - Repairs - Timber","NO",9.7100000000000009,{"$f":"SUMIF('Contractor##'!C:C,'Planned Maint v6.2 CSV File'!C:C,'Contractor##'!F:F)","v":-0.1135},8.6079150000000002,"Door:Ease, reduce if required and adjust internal door including take off and rehang on new butts, adjust stops or ease rebates, make good to door and lining as necessary and touch up paintwork to match existing."]
["3350BA","DOOR:OVERHAUL INTERNAL COMPLETE","CARPENTRY AND JOINERY","Internal Timber Doors","Doors - Internal - Repairs - Timber","NO",26.89,{"$f":"SUMIF('Contractor##'!C:C,'Planned Maint v6.2 CSV File'!C:C,'Contractor##'!F:F)","v":-0.1135},23.837985,"Door:Overhaul internal door and frame complete, remove all ironmongery, piece out door, lining, architraves and stops where ironmongery removed make good any damage, defects to timber, resecure architraves and stops if loose, rehang door on one pair of butt hinges, ease and adjust, prepare door for redecoration."]
["3350BB","DOOR:OVERHAUL INTERNAL FANLIGHT COMPLETE","CARPENTRY AND JOINERY","Internal Timber Doors","Doors - Internal - Repairs - Timber","NO",69.94,{"$f":"SUMIF('Contractor##'!C:C,'Planned Maint v6.2 CSV File'!C:C,'Contractor##'!F:F)","v":-0.1135},62.001809999999992,"Door:Overhaul internal door and frame with fanlight complete, remove all ironmongery, piece out door, lining, architraves and stops where ironmongery removed, make good any damage, defects to timber, resecure glazing beads, architraves and stops if loose, rehang door on one pair of butt hinges, ease and adjust, reglaze fanlight as necessary prepare door for redecoration."]
["3411AA","FRAME:RENEW EXTERNAL DOOR COMPLETE","CARPENTRY AND JOINERY","Door Frames and Linings","Door Frames - External - Timber","NO",117.9,{"$f":"SUMIF('Contractor##'!C:C,'Planned Maint v6.2 CSV File'!C:C,'Contractor##'!F:F)","v":-0.1135},104.51835,"Frame:Renew external door frame with rebated softwood door frame to suit any size single door, remove existing door and set aside, take out existing frame and bed new frame in cement mortar, plugged and screwed to brickwork and pointed with sealant, rehang door, ease and adjust, refix lock keep including housing out, make good all works disturbed including refix or renew any internal beads, architraves etc. and decorate to match existing internally and prepare for redecoration externally, and remove waste and debris."]
["3411AB","FRAME:RENEW EXTERNAL DOOR WITH CILL COMPLETE","CARPENTRY AND JOINERY","Door Frames and Linings","Door Frames - External - Timber","NO",124.71,{"$f":"SUMIF('Contractor##'!C:C,'Planned Maint v6.2 CSV File'!C:C,'Contractor##'!F:F)","v":-0.1135},110.55541499999998,"Frame:Renew external door frame with rebated softwood door frame with cill to suit any size single door, remove existing door and set aside, take out existing frame and bed new frame in cement mortar, plugged and screwed to brickwork and pointed with sealant, rehang door including ease and adjust, refix lock keep including housing out, make good all works disturbed including refix or renew any internal beads, architraves etc. and decorate to match existing internally and prepare for redecoration externally, and remove waste and debris."]
["3411AC","FRAME:RENEW EXTERNAL DOOR WITH FANLIGHT COMPLETE","CARPENTRY AND JOINERY","Door Frames and Linings","Door Frames - External - Timber","NO",197.62,{"$f":"SUMIF('Contractor##'!C:C,'Planned Maint v6.2 CSV File'!C:C,'Contractor##'!F:F)","v":-0.1135},{"$f":"(1+H1220)*G1220","v":175.19012999999998},"Frame:Renew external door frame with softwood door frame, rebated and with fanlight over, to suit any size single door, remove existing door and set aside, remove existing frame and bed new frame in mortar, plugged and screwed to brickwork and point with sealant, rehang door including ease and adjust, refix lock keep including housing out, make good all works disturbed including refix or renew internal beads, architraves etc., glaze to fanlight and decorate to match existing internally and prepare for redecoration externally, and remove waste and debris."]
["3411AD","FRAME:RENEW EXTERNAL SW DOOR FANLIGHT CILL","CARPENTRY AND JOINERY","Door Frames and Linings","Door Frames - External - Timber","NO",176.23,{"$f":"SUMIF('Contractor##'!C:C,'Planned Maint v6.2 CSV File'!C:C,'Contractor##'!F:F)","v":-0.1135},156.22789499999999,"Frame:Renew external door frame with softwood door frame, rebated with cill and fanlight to suit any size single door, remove existing door and set aside, remove existing frame and bed new frame in mortar, plugged and screwed to brickwork and point with sealant, rehang door including ease and adjust, refix lock keep including housing out, make good all works disturbed including refix or renew internal beads, architraves etc., glaze to fanlight and decorate to match existing internally and prepare for redecoration externally, and remove waste and debris."]
["3411BA","FRAME:RENEW EXTERNAL PAIR SW DOORS COMPLETE","CARPENTRY AND JOINERY","Door Frames and Linings","Door Frames - External - Timber","NO",141.59,{"$f":"SUMIF('Contractor##'!C:C,'Planned Maint v6.2 CSV File'!C:C,'Contractor##'!F:F)","v":-0.1135},125.51953499999999,"Frame:Renew external door frame with rebated softwood door frame to suit any size pair of doors, remove existing doors and set aside, take out existing frame and bed new frame in cement mortar, plugged and screwed to brickwork and pointed with sealant, rehang doors, ease and adjust, refix lock keep including housing out, make good all works disturbed including refix or renew any internal beads, architraves etc. and decorate to match existing internally and prepare for redecoration externally, and remove waste and debris."]
["3411BB","FRAME:RENEW EXTERNAL PAIR SW DOORS CILL COMPLETE","CARPENTRY AND JOINERY","Door Frames and Linings","Door Frames - External - Timber","NO",152.09,{"$f":"SUMIF('Contractor##'!C:C,'Planned Maint v6.2 CSV File'!C:C,'Contractor##'!F:F)","v":-0.1135},134.82778500000001,"Frame:Renew external door frame with rebated softwood door frame with cill to suit any size pair of doors, remove existing doors and set aside, take out existing frame and bed new frame in cement mortar, plugged and screwed to brickwork and pointed with sealant, rehang doors including ease and adjust, refix lock keep including housing out, make good all works disturbed including refix or renew any internal beads, architraves etc. and decorate to match existing internally and prepare for redecoration externally, and remove waste and debris."]
["3411BC","FRAME:RENEW EXTERNAL PAIR SW DOORS WITH FANLIGHT","CARPENTRY AND JOINERY","Door Frames and Linings","Door Frames - External - Timber","NO",197.93,{"$f":"SUMIF('Contractor##'!C:C,'Planned Maint v6.2 CSV File'!C:C,'Contractor##'!F:F)","v":-0.1135},175.464945,"Frame:Renew external door frame with softwood door frame, rebated and with fanlight over, to suit any size pair of doors, remove existing doors and set aside, remove existing frame and bed new frame in mortar, plugged and screwed to brickwork and point with sealant, rehang doors including ease and adjust, refix lock keep including housing out, make good all works disturbed including refix or renew internal beads, architraves etc., glaze to fanlight and decorate to match existing internally and prepare for redecoration externally, and remove waste and debris."]
["3411BD","FRAME:RENEW EXTERNAL PAIR SW DOORS FANLIGHT CILL","CARPENTRY AND JOINERY","Door Frames and Linings","Door Frames - External - Timber","NO",204.23,{"$f":"SUMIF('Contractor##'!C:C,'Planned Maint v6.2 CSV File'!C:C,'Contractor##'!F:F)","v":-0.1135},181.04989499999999,"Frame:Renew external door frame with softwood door frame, rebated with cill and fanlight to suit any size pair of doors, remove existing doors and set aside, remove existing frame and bed new frame in mortar, plugged and screwed to brickwork and point with sealant, rehang doors including ease and adjust, refix lock keep including housing out, make good all works disturbed including refix or renew internal beads, architraves etc., glaze to fanlight and decorate to match existing internally and prepare for redecoration externally, and remove waste and debris."]
["3412AA","FRAME:RENEW EXTERNAL HW DOOR COMPLETE","CARPENTRY AND JOINERY","Door Frames and Linings","Door Frames - External - Timber","NO",202.26,{"$f":"SUMIF('Contractor##'!C:C,'Planned Maint v6.2 CSV File'!C:C,'Contractor##'!F:F)","v":-0.1135},179.30348999999998,"Frame:Renew external door frame with rebated hardwood door frame to suit any size single door, remove existing door and set aside, take out existing frame and bed new frame in cement mortar, plugged and screwed to brickwork and pointed with sealant, rehang door, ease and adjust, refix lock keep including housing out, make good all works disturbed including refix or renew any internal beads, architraves etc. and decorate to match existing internally and prepare for redecoration externally, and remove waste and debris."]
["3412AB","FRAME:RENEW EXTERNAL HW DOOR WITH CILL COMPLETE","CARPENTRY AND JOINERY","Door Frames and Linings","Door Frames - External - Timber","NO",231.95,{"$f":"SUMIF('Contractor##'!C:C,'Planned Maint v6.2 CSV File'!C:C,'Contractor##'!F:F)","v":-0.1135},205.62367499999999,"Frame:Renew external door frame with rebated hardwood door frame with cill to suit any size single door, remove existing door and set aside, take out existing frame and bed new frame in cement mortar, plugged and screwed to brickwork and pointed with sealant, rehang door including ease and adjust, refix lock keep including housing out, make good all works disturbed including refix or renew any internal beads, architraves etc. and decorate to match existing internally and prepare for redecoration externally, and remove waste and debris."]
["3412AC","FRAME:RENEW EXTERNAL HW DOOR FANLIGHT COMPLETE","CARPENTRY AND JOINERY","Door Frames and Linings","Door Frames - External - Timber","NO",364.11,{"$f":"SUMIF('Contractor##'!C:C,'Planned Maint v6.2 CSV File'!C:C,'Contractor##'!F:F)","v":-0.1135},322.78351500000002,"Frame:Renew external door frame with hardwood door frame, rebated and with fanlight over, to suit any size single door, remove existing door and set aside, remove existing frame and bed new frame in mortar, plugged and screwed to brickwork and point with sealant, rehang door including ease and adjust, refix lock keep including housing out, make good all works disturbed including refix or renew internal beads, architraves etc., glaze to fanlight and decorate to match existing internally and prepare for redecoration externally, and remove waste and debris."]
["3412AD","FRAME:RENEW EXTERNAL HW DOOR FANLIGHT CILL","CARPENTRY AND JOINERY","Door Frames and Linings","Door Frames - External - Timber","NO",393.79,{"$f":"SUMIF('Contractor##'!C:C,'Planned Maint v6.2 CSV File'!C:C,'Contractor##'!F:F)","v":-0.1135},349.09483499999999,"Frame:Renew external door frame with hardwood door frame, rebated with cill and fanlight to suit any size single door, remove existing door and set aside, remove existing frame and bed new frame in mortar, plugged and screwed to brickwork and point with sealant, rehang door including ease and adjust, refix lock keep including housing out, make good all works disturbed including refix or renew internal beads, architraves etc., glaze to fanlight and decorate to match existing internally and prepare for redecoration externally, and remove waste and debris."]
["3413AC","FRAME:RENEW SOFTWOOD COMBINATION UNIT ","CARPENTRY AND JOINERY","Windows","Window and Door Frames - Combination - Softwood","SM",285.42,{"$f":"SUMIF('Contractor##'!C:C,'Planned Maint v6.2 CSV File'!C:C,'Contractor##'!F:F)","v":-0.1135},253.02483000000001,"Frame:Renew window/door frame unit with standard softwood unit  including ne 2 No opening lights, factory applied base stain or primer finish, compressible weatherstripping, ironmongery including locking handles, glazing beads, windows preslotted for trickle ventilators including screens, remove existing frame and fix new in prepared opening, bed in mortar and point with sealant, double glazed, make good to all finishes and decorate to match existing internally and prepare for redecoration externally, and remove waste and debris. (remove/rehang existing door or renew door to be ordered separately)."]
["3413BA","FRAME:RENEW SOFTWOOD FIXED LIGHT UNIT ","CARPENTRY AND JOINERY","Door Frames and Linings","Door Frames - External - High Performance","SM",269.5,{"$f":"SUMIF('Contractor##'!C:C,'Planned Maint v6.2 CSV File'!C:C,'Contractor##'!F:F)","v":-0.1135},238.91174999999998,"Frame:Renew fixed light/door frame unit with standard softwood unit including 2 No fixed lights, factory applied base stain or primer finish, compressible weatherstripping, glazing beads, frame with trickle ventilators including screens, remove existing frame and fix new in prepared opening, bed in mortar and point with sealant, glaze, make.good to all finishes and decorate to match existing internally and prepare for redecoration externally, and remove waste and debris. (remove/rehang existing door or renew door to be ordered separately)."]
["3414AA","FRAME:RENEW EXTERNAL HIGH PERFORMANCE FRAME","CARPENTRY AND JOINERY","Door Frames and Linings","Door Frames - External - High Performance","NO",140.33000000000001,{"$f":"SUMIF('Contractor##'!C:C,'Planned Maint v6.2 CSV File'!C:C,'Contractor##'!F:F)","v":-0.1135},124.402545,"Frame:Renew external door frame with any rebated proprietary high performance door frame to suit any size single door, take out existing frame and bed new frame in cement mortar, plugged and screwed to brickwork and pointed with sealant, make good all works disturbed including refix or renew any internal beads, architraves etc., and remove waste and debris."]
["3414AB","FRAME:RENEW HIGH PERFORMANCE FRAME WITH CILL","CARPENTRY AND JOINERY","Door Frames and Linings","Door Frames - External - High Performance","NO",150.94999999999999,{"$f":"SUMIF('Contractor##'!C:C,'Planned Maint v6.2 CSV File'!C:C,'Contractor##'!F:F)","v":-0.1135},133.81717499999999,"Frame:Renew external door frame with any rebated proprietary high performance door frame with cill to suit any size single door, take out existing frame and bed new frame in cement mortar, plugged and screwed to brickwork and pointed with sealant, make good all works disturbed including refix or renew any internal beads, architraves etc., and remove waste and debris."]
["3414AC","FRAME:RENEW HIGH PERFORMANCE WITH FANLIGHT","CARPENTRY AND JOINERY","Door Frames and Linings","Door Frames - External - High Performance","NO",245.26,{"$f":"SUMIF('Contractor##'!C:C,'Planned Maint v6.2 CSV File'!C:C,'Contractor##'!F:F)","v":-0.1135},217.42298999999997,"Frame:Renew external door frame with any rebated proprietary high performance door frame and fanlight over, to suit any size single door, remove existing frame and bed new frame in mortar, plugged and screwed to brickwork and pointed with sealant, make good all works disturbed including refix or renew any internal beads, architraves etc., double glaze to fanlight etc., and remove waste and debris."]
["3414AD","FRAME:RENEW HIGH PERFORMANCE WITH FANLIGHT CILL","CARPENTRY AND JOINERY","Door Frames and Linings","Door Frames - External - High Performance","NO",255.89,{"$f":"SUMIF('Contractor##'!C:C,'Planned Maint v6.2 CSV File'!C:C,'Contractor##'!F:F)","v":-0.1135},226.84648499999997,"Frame:Renew external door frame with any rebated proprietary high performance door frame with cill and fanlight to suit any size single door, remove existing frame and bed new frame in mortar, plugged and screwed to brickwork and pointed with sealant, make good all works disturbed including refix or renew any internal beads, architraves etc., double glaze to fanlight etc., and remove waste and debris."]
["3415AA","FRAME:RENEW HARDWOOD COMBINATION UNIT ","CARPENTRY AND JOINERY","Windows","Window and Door Frames - Combination - Hardwood","SM",392.76,{"$f":"SUMIF('Contractor##'!C:C,'Planned Maint v6.2 CSV File'!C:C,'Contractor##'!F:F)","v":-0.1135},348.18173999999999,"Frame:Renew window/door frame unit with standard hardwood unit including ne 2 No opening lights, factory applied base stain or primer finish, compressible weatherstripping, ironmongery including locking handles, glazing beads, windows preslotted for trickle ventilators including screens, remove existing frame and fix new in prepared opening, bed in mortar and point with sealant, double glazed, make good to all finishes and decorate to match existing internally and prepare for redecoration externally, and remove waste and debris. (remove/rehang existing door or renew door to be ordered separately)."]
["3415BA","FRAME:RENEW HARDWOOD FIXED LIGHT UNIT ","CARPENTRY AND JOINERY","Windows","Window and Door Frames - Combination - Hardwood","SM",371.25,{"$f":"SUMIF('Contractor##'!C:C,'Planned Maint v6.2 CSV File'!C:C,'Contractor##'!F:F)","v":-0.1135},329.11312499999997,"Frame:Renew fixed light/door frame unit with standard hardwood unit including 2 No fixed lights, factory applied base stain or primer finish, compressible weatherstripping, glazing beads, frame with trickle ventilators including screens, remove existing frame and fix new in prepared opening, bed in mortar and point with sealant, glaze, make.good to all finishes and decorate to match existing internally and prepare for redecoration redecoration externally, and remove waste and debris. (remove/rehang existing door or renew door to be ordered separately)."]
["3416AA","FRAME:RENEW PVCU COMBINATION UNIT - OPENING LIGHTS","CARPENTRY AND JOINERY","Windows","Window and Door Frames- Combination - PVCu","SM",307.72000000000003,{"$f":"SUMIF('Contractor##'!C:C,'Planned Maint v6.2 CSV File'!C:C,'Contractor##'!F:F)","v":-0.1135},272.79378000000003,"Frame:Renew window/door frame unit with PVCu factory glazed unit, double glazed internally with 28mm hermetically sealed unit including opening lights, thermal breaks, compressible weatherstripping, ironmongery including stainless steel friction hinges, espagnolette locking mechanism with locking handles and child restrictors, glazing beads, trickle. ventilators including screens, remove existing and fix new in prepared opening, using cleats or screw bolts, seal around externally with flexible foam strip and silicone sealant, make good all finishes internally and externally and remove waste and debris. "]
["3416BA","FRAME:RENEW PVCU COMBINATION UNIT - FIXED LIGHTS","CARPENTRY AND JOINERY","Windows","Window and Door Frames- Combination - PVCu","SM",230.62,{"$f":"SUMIF('Contractor##'!C:C,'Planned Maint v6.2 CSV File'!C:C,'Contractor##'!F:F)","v":-0.1135},204.44462999999999,"Frame:Renew screen/door frame/screen unit with PVCu factory glazed combination unit, thermal breaks, compressible weatherstripping, ironmongery etc., fixed lights double glazed with 28mm hermetically sealed units, remove existing and fix new to prepared opening using cleats or screw bolts, seal around externally with flexible foam strip and silicone sealant, make good all finishes internally and externally and remove waste and debris."]
["3416CA","FRAME:RENEW PVCU STOREY HEIGHT FRAME – 1 OPG LIGHT","CARPENTRY AND JOINERY","Windows","Storey Height Frames - PVCu","SM",237.37,{"$f":"SUMIF('Contractor##'!C:C,'Planned Maint v6.2 CSV File'!C:C,'Contractor##'!F:F)","v":-0.1135},210.428505,"Frame:Renew storey height window frame unit with PVCu factory glazed unit, double glazed internally with 28mm hermetically sealed unit including 1 opening light, glazed fixed lights, thermal breaks, compressible weatherstripping, ironmongery including stainless steel friction hinges, espagnolette locking mechanism with locking handles and child restrictors, glazing beads, trickle. ventilators including screens, remove existing and fix new in prepared opening, using cleats or screw bolts, seal around externally with flexible foam strip and silicone sealant, make good all finishes internally and externally and remove waste and debris. "]
["3416CB","FRAME:RENEW PVCU STOREY HEIGHT FRAME – 2 OPG LIGHT","CARPENTRY AND JOINERY","Windows","Storey Height Frames - PVCu","SM",339.06,{"$f":"SUMIF('Contractor##'!C:C,'Planned Maint v6.2 CSV File'!C:C,'Contractor##'!F:F)","v":-0.1135},300.57668999999999,"Frame:Renew storey height window frame unit with PVCu factory glazed unit, double glazed internally with 28mm hermetically sealed unit including 2 opening lights, glazed fixed lights, thermal breaks, compressible weatherstripping, ironmongery including stainless steel friction hinges, espagnolette locking mechanism with locking handles and child restrictors, glazing beads, trickle. ventilators including screens, remove existing and fix new in prepared opening, using cleats or screw bolts, seal around externally with flexible foam strip and silicone sealant, make good all finishes internally and externally and remove waste and debris. "]
["3416CC","FRAME:RENEW PVCU STOREY HEIGHT FRAME – 3 OPG LIGHT","CARPENTRY AND JOINERY","Windows","Storey Height Frames - PVCu","SM",434.06,{"$f":"SUMIF('Contractor##'!C:C,'Planned Maint v6.2 CSV File'!C:C,'Contractor##'!F:F)","v":-0.1135},384.79418999999996,"Frame:Renew storey height window frame unit with PVCu factory glazed unit, double glazed internally with 28mm hermetically sealed unit including 3 opening lights, glazed fixed lights, thermal breaks, compressible weatherstripping, ironmongery including stainless steel friction hinges, espagnolette locking mechanism with locking handles and child restrictors, glazing beads, trickle. ventilators including screens, remove existing and fix new in prepared opening, using cleats or screw bolts, seal around externally with flexible foam strip and silicone sealant, make good all finishes internally and externally and remove waste and debris. "]
["3416CD","FRAME:RENEW PVCU STOREY HEIGHT FRAME – 4 OPG LIGHT","CARPENTRY AND JOINERY","Windows","Storey Height Frames - PVCu","SM",503.43,{"$f":"SUMIF('Contractor##'!C:C,'Planned Maint v6.2 CSV File'!C:C,'Contractor##'!F:F)","v":-0.1135},446.29069499999997,"Frame:Renew storey height window frame unit with PVCu factory glazed unit, double glazed internally with 28mm hermetically sealed unit including 4 opening lights, glazed fixed lights, thermal breaks, compressible weatherstripping, ironmongery including stainless steel friction hinges, espagnolette locking mechanism with locking handles and child restrictors, glazing beads, trickle. ventilators including screens, remove existing and fix new in prepared opening, using cleats or screw bolts, seal around externally with flexible foam strip and silicone sealant, make good all finishes internally and externally and remove waste and debris. "]
["3416DA","FRAME:RENEW PVCU STOREY HT DOOR FRAME –1 OPG LIGHT","CARPENTRY AND JOINERY","Windows","Storey Height Frames - PVCu","SM",287.5,{"$f":"SUMIF('Contractor##'!C:C,'Planned Maint v6.2 CSV File'!C:C,'Contractor##'!F:F)","v":-0.1135},254.86874999999998,"Frame:Renew storey height window/door frame unit with PVCu factory glazed unit, double glazed internally with 28mm hermetically sealed unit including 1 opening light, glazed fixed lights, thermal breaks, compressible weatherstripping, ironmongery including stainless steel friction hinges, espagnolette locking mechanism with locking handles and child restrictors, glazing beads, trickle. ventilators including screens, remove existing and fix new in prepared opening, using cleats or screw bolts, seal around externally with flexible foam strip and silicone sealant, make good all finishes internally and externally and remove waste and debris.(door measured separately) "]
["3416DB","FRAME:RENEW PVCU STOREY HT DOOR FRAME– 2 OPG LIGHT","CARPENTRY AND JOINERY","Windows","Storey Height Frames - PVCu","SM",362.19,{"$f":"SUMIF('Contractor##'!C:C,'Planned Maint v6.2 CSV File'!C:C,'Contractor##'!F:F)","v":-0.1135},321.081435,"Frame:Renew storey height window/door frame unit with PVCu factory glazed unit, double glazed internally with 28mm hermetically sealed unit including 2 opening lights, glazed fixed lights, thermal breaks, compressible weatherstripping, ironmongery including stainless steel friction hinges, espagnolette locking mechanism with locking handles and child restrictors, glazing beads, trickle. ventilators including screens, remove existing and fix new in prepared opening, using cleats or screw bolts, seal around externally with flexible foam strip and silicone sealant, make good all finishes internally and externally and remove waste and debris. .(door measured separately)  "]
["3416EA","FRAME:RENEW PVCU STOREY HT INSUL FRAME–1 OPG LIGHT","CARPENTRY AND JOINERY","Windows","Storey Height Frames - PVCu","SM",264.37,{"$f":"SUMIF('Contractor##'!C:C,'Planned Maint v6.2 CSV File'!C:C,'Contractor##'!F:F)","v":-0.1135},234.36400499999999,"Frame:Renew storey height window frame unit with PVCu factory glazed unit, double glazed internally with 28mm hermetically sealed unit including 1 opening light, glazed fixed lights, insulated PVCu panels to 40% of unit area, thermal breaks, compressible weatherstripping, ironmongery including stainless steel friction hinges, espagnolette locking mechanism with locking handles and child restrictors, glazing beads, trickle. ventilators including screens, remove existing and fix new in prepared opening, using cleats or screw bolts, seal around externally with flexible foam strip and silicone sealant, make good all finishes internally and externally and remove waste and debris. "]
["3416EB","FRAME:RENEW PVCU STOREY HT INSUL FRAME–2 OPG LIGHT","CARPENTRY AND JOINERY","Windows","Storey Height Frames - PVCu","SM",369.06,{"$f":"SUMIF('Contractor##'!C:C,'Planned Maint v6.2 CSV File'!C:C,'Contractor##'!F:F)","v":-0.1135},327.17169000000001,"Frame:Renew storey height window frame unit with PVCu factory glazed unit, double glazed internally with 28mm hermetically sealed unit including 2 opening lights, glazed fixed lights, insulated PVCu panels to 40% of unit area, thermal breaks, compressible weatherstripping, ironmongery including stainless steel friction hinges, espagnolette locking mechanism with locking handles and child restrictors, glazing beads, trickle. ventilators including screens, remove existing and fix new in prepared opening, using cleats or screw bolts, seal around externally with flexible foam strip and silicone sealant, make good all finishes internally and externally and remove waste and debris. "]
["3416FA","FRAME:RENEW PVCU ST HT INSUL DOORFRAME–1 OPG LIGHT","CARPENTRY AND JOINERY","Windows","Storey Height Frames - PVCu","SM",317.5,{"$f":"SUMIF('Contractor##'!C:C,'Planned Maint v6.2 CSV File'!C:C,'Contractor##'!F:F)","v":-0.1135},281.46375,"Frame:Renew storey height window/door frame unit with PVCu factory glazed unit, double glazed internally with 28mm hermetically sealed unit including 1 opening light, glazed fixed lights, insulated PVCu panels to 30% of unit area, thermal breaks, compressible weatherstripping, ironmongery including stainless steel friction hinges, espagnolette locking mechanism with locking handles and child restrictors, glazing beads, trickle. ventilators including screens, remove existing and fix new in prepared opening, using cleats or screw bolts, seal around externally with flexible foam strip and silicone sealant, make good all finishes internally and externally and remove waste and debris.(door measured separately) "]
["3416FB","FRAME:RENEW PVCU ST HT INSUL DOORFRAME–2 OPG LIGHT","CARPENTRY AND JOINERY","Windows","Storey Height Frames - PVCu","SM",392.19,{"$f":"SUMIF('Contractor##'!C:C,'Planned Maint v6.2 CSV File'!C:C,'Contractor##'!F:F)","v":-0.1135},347.67643499999997,"Frame:Renew storey height window/door frame unit with PVCu factory glazed unit, double glazed internally with 28mm hermetically sealed unit including 2 opening lights, glazed fixed lights, insulated PVCu panels to 30% of unit area, thermal breaks, compressible weatherstripping, ironmongery including stainless steel friction hinges, espagnolette locking mechanism with locking handles and child restrictors, glazing beads, trickle. ventilators including screens, remove existing and fix new in prepared opening, using cleats or screw bolts, seal around externally with flexible foam strip and silicone sealant, make good all finishes internally and externally and remove waste and debris. .(door measured separately)  "]
["3416GA","FRAME:RENEW PVCU ST HT 30%INSUL UNIT– FIXED LIGHTS","CARPENTRY AND JOINERY","Windows","Storey Height Frames - PVCu","SM",243.44,{"$f":"SUMIF('Contractor##'!C:C,'Planned Maint v6.2 CSV File'!C:C,'Contractor##'!F:F)","v":-0.1135},215.80955999999998,"Frame:Renew storey height unit with PVCu factory glazed combination unit, thermal breaks, fixed lights 70% double glazed with 28mm hermetically sealed units and 30% insulated PVCu panels remove existing and fix new to prepared opening using cleats or screw bolts, seal around externally with flexible foam strip and silicone sealant, make good all finishes internally and externally and remove waste and debris."]
["3416GB","FRAME:RENEW PVCU ST HT 40%INSUL UNIT– FIXED LIGHTS","CARPENTRY AND JOINERY","Windows","Storey Height Frames - PVCu","SM",258.44,{"$f":"SUMIF('Contractor##'!C:C,'Planned Maint v6.2 CSV File'!C:C,'Contractor##'!F:F)","v":-0.1135},229.10705999999999,"Frame:Renew storey height unit with PVCu factory glazed combination unit, thermal breaks, fixed lights 60% double glazed with 28mm hermetically sealed units and 40% insulated PVCu panels remove existing and fix new to prepared opening using cleats or screw bolts, seal around externally with flexible foam strip and silicone sealant, make good all finishes internally and externally and remove waste and debris."]
["3416GC","FRAME:RENEW PVCU ST HT 50%INSUL UNIT– FIXED LIGHTS","CARPENTRY AND JOINERY","Windows","Storey Height Frames - PVCu","SM",273.44,{"$f":"SUMIF('Contractor##'!C:C,'Planned Maint v6.2 CSV File'!C:C,'Contractor##'!F:F)","v":-0.1135},242.40455999999998,"Frame:Renew storey height unit with PVCu factory glazed combination unit, thermal breaks, fixed lights 50% double glazed with 28mm hermetically sealed units and 50% insulated PVCu panels, remove existing and fix new to prepared opening using cleats or screw bolts, seal around externally with flexible foam strip and silicone sealant, make good all finishes internally and externally and remove waste and debris."]
["3417AA","WATERBAR:RENEW","CARPENTRY AND JOINERY","Door Frames and Linings","Door Frames - Water Bars","NO",12.15,{"$f":"SUMIF('Contractor##'!C:C,'Planned Maint v6.2 CSV File'!C:C,'Contractor##'!F:F)","v":-0.1135},10.770975,"Waterbar:Renew ne 914mm long proprietary waterbar screwed to timber or concrete including plugging and bedded in sealant."]
["3417AC","WATERBAR:REFIX WATERBAR","CARPENTRY AND JOINERY","Door Frames and Linings","Door Frames - Water Bars","NO",6.56,{"$f":"SUMIF('Contractor##'!C:C,'Planned Maint v6.2 CSV File'!C:C,'Contractor##'!F:F)","v":-0.1135},5.8154399999999997,"Waterbar:Lift existing proprietary waterbar, clean and refix, screw to timber and bed in sealant."]
["3418AA","FRAME:RENEW EXTERNAL DOOR STEEL","CARPENTRY AND JOINERY","External Doors and Screen","Doors - Steel","NO",231.44,{"$f":"SUMIF('Contractor##'!C:C,'Planned Maint v6.2 CSV File'!C:C,'Contractor##'!F:F)","v":-0.1135},205.17156,"Frame:Renew external door frame with steel door frame to suit any size single door, remove existing door and set aside, take out existing frame and bed new frame in cement mortar, plugged and screwed to brickwork and pointing with sealant, rehang door, ease and adjust, refix lock, make good to all finishes and decorate to match existing internally and prepare for redecoration externally, and remove waste and debris."]
["3418AB","FRAME:RENEW EXTERNAL DOOR STEEL - PAIR","CARPENTRY AND JOINERY","External Doors and Screen","Doors - Steel","NO",308.91000000000003,{"$f":"SUMIF('Contractor##'!C:C,'Planned Maint v6.2 CSV File'!C:C,'Contractor##'!F:F)","v":-0.1135},273.84871500000003,"Frame:Renew external door frame with steel door frame to suit any size pair of doors, remove existing doors and set aside, take out existing frame and bed new frame in cement mortar, plugged and screwed to brickwork and pointing with sealant, rehang doors, ease and adjust, refix lock, make good to all finishes and decorate to match existing internally and prepare for redecoration externally, and remove waste and debris."]
["3418BA","FRAME:RENEW EXTERNAL PP ALUMINIUM DOOR FRAME","CARPENTRY AND JOINERY","External Doors and Screen","Doors - Poyester Coated Aluminium","NO",329.03,{"$f":"SUMIF('Contractor##'!C:C,'Planned Maint v6.2 CSV File'!C:C,'Contractor##'!F:F)","v":-0.1135},291.68509499999993,"Frame:Renew external steel door frame with polyester coated aluminium door frame, to suit any size single aluminium door, remove existing door and existing frame and bed new frame in mortar, fixed to brickwork and point with sealant,(all to be carried out in conjunction with door renewal) make good to structure and finishes externally, and remove waste and debris."]
["3418CA","FRAME:RENEW EXTERNAL PP ALUMINIUM DOOR SIDELIGHT","CARPENTRY AND JOINERY","External Doors and Screen","Doors - Poyester Coated Aluminium","NO",438.39,{"$f":"SUMIF('Contractor##'!C:C,'Planned Maint v6.2 CSV File'!C:C,'Contractor##'!F:F)","v":-0.1135},388.63273499999997,"Frame:Renew external steel door frame with polyester coated aluminium door frame,with sidelight to suit any size single aluminium door, remove existing door and frame and bed new frame in mortar, fixed to brickwork and point with sealant, (all to be carried out in conjunction with door renewal) make good to structure and finishes externally, and remove waste and debris."]
["3419AA","WEATHERSTRIP:FIX AA TO DOOR AND FRAME","CARPENTRY AND JOINERY","Door Frames and Linings","Door and Window Frames - Draughtproofing Strips and Sections","NO",21.14,{"$f":"SUMIF('Contractor##'!C:C,'Planned Maint v6.2 CSV File'!C:C,'Contractor##'!F:F)","v":-0.1135},18.74061,"Weatherstrip:Supply and fix anodised aluminium proprietary weatherstrip to door/frame."]
["3419AB","WEATHERSTRIP:RENEW REBATED TO DOOR","CARPENTRY AND JOINERY","Door Frames and Linings","Door and Window Frames - Draughtproofing Strips and Sections","NO",24.26,{"$f":"SUMIF('Contractor##'!C:C,'Planned Maint v6.2 CSV File'!C:C,'Contractor##'!F:F)","v":-0.1135},21.506489999999999,"Weatherstrip:Renew proprietary rebated weatherstrip to edge of timber door."]
["3419BA","CILL:RENEW OR SUPPLY AND FIX STORMGUARD CILL","CARPENTRY AND JOINERY","Door Frames and Linings","Door and Window Frames - Draughtproofing Strips and Sections","NO",39.869999999999997,{"$f":"SUMIF('Contractor##'!C:C,'Planned Maint v6.2 CSV File'!C:C,'Contractor##'!F:F)","v":-0.1135},35.344754999999999,"Cill:Renew or supply and fix Stormguard or other equal and approved stormproof cill to existing cill including remove/rehang door, fix.new cill including adapting door and existing cill as necessary and make good."]
["3419CA","DRAUGHTPROOF:RENEW FOAM STRIP","CARPENTRY AND JOINERY","Door Frames and Linings","Door and Window Frames - Draughtproofing Strips and Sections","LM",1.87,{"$f":"SUMIF('Contractor##'!C:C,'Planned Maint v6.2 CSV File'!C:C,'Contractor##'!F:F)","v":-0.1135},1.6577550000000001,"Draughtproof:Renew existing or supply and fix new vinyl sheathed compressible polyurethane foam draught strip with adhesive backing to any door or window at any level."]
["3419CB","DRAUGHTPROOF:RENEW PLASTIC BRUSH TYPE","CARPENTRY AND JOINERY","Door Frames and Linings","Door and Window Frames - Draughtproofing Strips and Sections","LM",5.67,{"$f":"SUMIF('Contractor##'!C:C,'Planned Maint v6.2 CSV File'!C:C,'Contractor##'!F:F)","v":-0.1135},5.0264549999999995,"Draughtproof:Renew existing or supply and fix new brush or pile type draught excluder with rigid PVC carrier, to any door or window at any level including fixing with pins to timber."]
["3419XA","DRAUGHTPROOF:PROVIDE TO DOORS","CARPENTRY AND JOINERY","Door Frames and Linings","Door and Window Frames - Draughtproofing Strips and Sections","LM",5.67,{"$f":"SUMIF('Contractor##'!C:C,'Planned Maint v6.2 CSV File'!C:C,'Contractor##'!F:F)","v":-0.1135},5.0264549999999995,"Draughtproof:Supply and fix \"Sealmaster\" aluminium draught seals to head and both jambs of external doors, screw fixed in accordance with the manufacturer's instructions.."]
["3419XB","DRAUGHTPROOF:PROVIDE TO WINDOWS","CARPENTRY AND JOINERY","Door Frames and Linings","Door and Window Frames - Draughtproofing Strips and Sections","LM",5.67,{"$f":"SUMIF('Contractor##'!C:C,'Planned Maint v6.2 CSV File'!C:C,'Contractor##'!F:F)","v":-0.1135},5.0264549999999995,"Draughtproof:Supply and fix \"Bead Seal\" and \"Cover Seal\" draught seals by ASL Wintun to all edges of opening casements and edges and meeting rails of double hung sash windows.  All in accordance with the manufacturer's instructions."]
["3421AA","FRAME:RENEW INTERNAL","CARPENTRY AND JOINERY","Door Frames and Linings","Door Frames, Linings and Casings - Internal - Timber","NO",58.76,{"$f":"SUMIF('Contractor##'!C:C,'Planned Maint v6.2 CSV File'!C:C,'Contractor##'!F:F)","v":-0.1135},52.090739999999997,"Frame:Renew rebated internal softwood door frame ne 32x144mm to suit any size single door, plugged to brickwork, remove and refix any architraves, beads and the like, make good all works disturbed and prepare for redecoration, and remove debris and waste."]
["3421AB","FRAME:RENEW INTERNAL INCLUDING STOPS","CARPENTRY AND JOINERY","Door Frames and Linings","Door Frames, Linings and Casings - Internal - Timber","NO",69.569999999999993,{"$f":"SUMIF('Contractor##'!C:C,'Planned Maint v6.2 CSV File'!C:C,'Contractor##'!F:F)","v":-0.1135},61.673804999999987,"Frame:Renew internal softwood door frame not exceeding 32x144mm to suit any size single door, plugged to brickwork, complete with 14x27mm softwood door stops, remove and refix architraves, beads and the like, make good all works disturbed and prepare for redecoration, and remove debris and waste."]
["3421AC","FRAME:RENEW INTERNAL WITH STOPS AND ARCHITRAVES","CARPENTRY AND JOINERY","Door Frames and Linings","Door Frames, Linings and Casings - Internal - Timber","NO",83.29,{"$f":"SUMIF('Contractor##'!C:C,'Planned Maint v6.2 CSV File'!C:C,'Contractor##'!F:F)","v":-0.1135},73.836584999999999,"Frame:Renew internal softwood door frame not exceeding 32x144mm to suit any size single door, plugged to brickwork, complete with 14x27mm softwood door stops and ne 25x75mm set of softwood architraves both sides, make good all works disturbed and prepare for redecoration, and remove debris and waste."]
["3421AD","FRAME:RENEW INTERNAL STOPS ARCHITRAVES DOOR REM","CARPENTRY AND JOINERY","Door Frames and Linings","Door Frames, Linings and Casings - Internal - Timber","NO",98.28,{"$f":"SUMIF('Contractor##'!C:C,'Planned Maint v6.2 CSV File'!C:C,'Contractor##'!F:F)","v":-0.1135},87.125219999999999,"Frame:Renew internal softwood door frame not exceeding 32x144mm to suit any size single door, remove existing door and set aside, take out existing frame, stops and architraves and plug frame to brickwork, complete with 14x27mm softwood door stops and ne 25x75mm set of softwood architraves both sides, rehang door, ease and adjust, refix keep including housing out,make good all works disturbed and prepare for redecoration, and remove debris and waste."]
["3421AE","FRAME:RENEW INTERNAL REFIX ARCHITRAVE STOPS","CARPENTRY AND JOINERY","Door Frames and Linings","Door Frames, Linings and Casings - Internal - Timber","NO",72.510000000000005,{"$f":"SUMIF('Contractor##'!C:C,'Planned Maint v6.2 CSV File'!C:C,'Contractor##'!F:F)","v":-0.1135},64.280114999999995,"Frame:Renew internal softwood door frame not exceeding 32x144mm to suit any size single door, remove existing door, stops and architrave and set aside, and plug frame to brickwork, refix stops and architraves, rehang door, ease and adjust, refix keep, including housing out, make good to all works disturbed and prepare for redecoration, and remove debris and waste."]
["3421AF","FRAME:RENEW INTERNAL WITH FANLIGHT","CARPENTRY AND JOINERY","Door Frames and Linings","Door Frames, Linings and Casings - Internal - Timber","NO",103.28,{"$f":"SUMIF('Contractor##'!C:C,'Planned Maint v6.2 CSV File'!C:C,'Contractor##'!F:F)","v":-0.1135},91.557720000000003,"Frame:Renew rebated internal door frame and fanlight over with 32x144mm softwood door frame and fanlight to suit any size single door, plugged to brickwork, fanlight glazed and secured with and including screwed beads, remove and refix architraves, beads and the like, make good to all works disturbed and prepare for redecoration, and remove debris and waste."]
["3421AG","FRAME:RENEW INTERNAL WITH FANLIGHT STOPS","CARPENTRY AND JOINERY","Door Frames and Linings","Door Frames, Linings and Casings - Internal - Timber","NO",115.33,{"$f":"SUMIF('Contractor##'!C:C,'Planned Maint v6.2 CSV File'!C:C,'Contractor##'!F:F)","v":-0.1135},102.24004499999999,"Frame:Renew internal door frame and fanlight over with 32x144mm softwood door frame and fanlight to suit any size single door, plugged to brickwork, fanlight glazed and secured with and including screwed beads, complete with 14x27mm softwood door stops, remove and refix architraves, beads and the like, make good to all works disturbed and prepare for redecoration, and remove debris and waste."]
["3421AH","FRAME:RENEW INTERNAL FANLIGHT ARCHITRAVE STOPS","CARPENTRY AND JOINERY","Door Frames and Linings","Door Frames, Linings and Casings - Internal - Timber","NO",135.61000000000001,{"$f":"SUMIF('Contractor##'!C:C,'Planned Maint v6.2 CSV File'!C:C,'Contractor##'!F:F)","v":-0.1135},120.218265,"Frame:Renew internal door frame and fanlight over with 32x144mm softwood door frame and fanlight to suit any size single door, plugged to brickwork, fanlight glazed and secured with and including screwed beads, complete with 14x27mm softwood door stops and ne 25x75mm softwood architraves both sides, make good to all works disturbed and prepare for redecoration, and remove debris and waste."]
["3423AA","FRAME:RENEW CLOSING EXTERNAL JAMB","CARPENTRY AND JOINERY","External Door Frames","Door Frame Repairs - Timber","NO",41.95,{"$f":"SUMIF('Contractor##'!C:C,'Planned Maint v6.2 CSV File'!C:C,'Contractor##'!F:F)","v":-0.1135},37.188675000000003,"Frame:Renew closing jamb of single external door frame, joint new any size and profile, preservative treated softwood door frame, splayed joint to head, bedded in cement mortar, plugged and screwed to brickwork, including take off and refix stop and architrave, take off and refix lock and keep including housing out, decorate to match existing internally and prepare for redecoration externally, make good all works disturbed including renew sealant and remove waste and debris."]
["3423AB","FRAME:RENEW HANGING EXTERNAL JAMB","CARPENTRY AND JOINERY","External Door Frames","Door Frame Repairs - Timber","NO",48.2,{"$f":"SUMIF('Contractor##'!C:C,'Planned Maint v6.2 CSV File'!C:C,'Contractor##'!F:F)","v":-0.1135},42.729300000000002,"Frame:Renew hanging jamb of single external door frame, remove existing door and set aside, cut out frame, joint new any size and profile, preservative treated softwood door frame to head frame bedded in cement mortar, plugged and screwed to brickwork including take off and refix stop and architraves, cut out housing for butts and rehang door, ease and adjust, decorate to match existing internally and prepare for redecoration externally, make good all works disturbed including renew sealant and remove waste and debris."]
["3423AC","FRAME:SPLICE EXTERNAL REPAIR NE 1.0M","CARPENTRY AND JOINERY","External Door Frames","Door Frame Repairs - Timber","NO",17.739999999999998,{"$f":"SUMIF('Contractor##'!C:C,'Planned Maint v6.2 CSV File'!C:C,'Contractor##'!F:F)","v":-0.1135},15.726509999999998,"Frame:Cut out and splice new piece ne 1.00m long into external door frame, including remove and rehang door, remove and refix keep as necessary, ease and adjust and make good butt recesses in frame, point with sealant, and decorate to match existing internally and prepare for redecoration externally, and remove waste and debris.."]
["3423BA","FRAME:REFIX LOOSE EXTERNAL FRAME","CARPENTRY AND JOINERY","Door Frames and Linings","Door Frame - Repairs - Timber","NO",25.29,{"$f":"SUMIF('Contractor##'!C:C,'Planned Maint v6.2 CSV File'!C:C,'Contractor##'!F:F)","v":-0.1135},22.419584999999998,"Frame:Remove and refix loose external door frame, including remove and refix door and one set of architraves, touch up decorations and renew sealant."]
["3423CA","FRAME:RAKE OUT AND REPOINT EXTERNAL SEALANT","CARPENTRY AND JOINERY","Door Frames and Linings","Door Frame - Repairs - Timber","LM",1.75,{"$f":"SUMIF('Contractor##'!C:C,'Planned Maint v6.2 CSV File'!C:C,'Contractor##'!F:F)","v":-0.1135},1.5513749999999999,"Frame:Rake out and repoint external door frame with sealant."]
["3423DA","FRAME:RENEW HARDWOOD CILL","CARPENTRY AND JOINERY","Door Frames and Linings","Door Frame - Repairs - Timber","NO",62.88,{"$f":"SUMIF('Contractor##'!C:C,'Planned Maint v6.2 CSV File'!C:C,'Contractor##'!F:F)","v":-0.1135},55.743119999999998,"Frame:Renew any size hardwood cill to door frame including remove old cill, remove and rehang door, fix new cill bedded in cement mortar including new water bar, make good all finishes disturbed, decorate internally and prepare for redecoration externally, and remove waste and debris."]
["3423EA","FRAME:REFIX LOOSE INTERNAL FRAME","CARPENTRY AND JOINERY","Door Frames and Linings","Door Frame - Repairs - Timber","NO",15.81,{"$f":"SUMIF('Contractor##'!C:C,'Planned Maint v6.2 CSV File'!C:C,'Contractor##'!F:F)","v":-0.1135},14.015565,"Frame:Remove and refix loose internal door frame, including remove and refix door and two sets of architraves, make good finishes and touch up decorations."]
["3425AB","STOP:RENEW DOOR STOP SET","CARPENTRY AND JOINERY","Door Frames and Linings","Door Stops - Softwood","IT",11.95,{"$f":"SUMIF('Contractor##'!C:C,'Planned Maint v6.2 CSV File'!C:C,'Contractor##'!F:F)","v":-0.1135},10.593674999999999,"Stop:Renew any size up to 25x50mm planted softwood door stop set to door frame and prepare for redecoration, and remove waste and debris."]
["3425BA","STOP:REFIX LOOSE DOOR SET","CARPENTRY AND JOINERY","Door Frames and Linings","Door Stops - Softwood","IT",2.69,{"$f":"SUMIF('Contractor##'!C:C,'Planned Maint v6.2 CSV File'!C:C,'Contractor##'!F:F)","v":-0.1135},2.3846849999999997,"Stop:Refix any loose door stop set to door frame."]
["3425CA","STOP:RENEW 25X50MM FIRE DOOR STOP","CARPENTRY AND JOINERY","Door Frames and Linings","Door Stops - Softwood","IT",16.64,{"$f":"SUMIF('Contractor##'!C:C,'Planned Maint v6.2 CSV File'!C:C,'Contractor##'!F:F)","v":-0.1135},14.75136,"Stop:Renew any door stop with 25x50mm softwood door stop set to fire check door, glued, screwed in accordance with BS459 Part 2 to door frame and prepare for redecoration."]
["3425CB","STOP:FIX 25MM FIRE DOOR STOP","CARPENTRY AND JOINERY","Door Frames and Linings","Door Stops - Softwood","IT",16.64,{"$f":"SUMIF('Contractor##'!C:C,'Planned Maint v6.2 CSV File'!C:C,'Contractor##'!F:F)","v":-0.1135},{"$f":"(1+H1284)*G1284","v":14.75136},"Stop:Supply and fix to existing door frame 25mm softwood door stop set to fire check door to match width of existing rebated frame, glued, screwed in accordance with BS459 Part 2, adjust to accommodate fire check door and prepare for redecoration."]
["3431AB","INTUMESCENT STRIP:RENEW UPTO 1 HOUR","CARPENTRY AND JOINERY","Door Frames and Linings","Door Frames - Intumescent Strips and Smoke Seals","LM",3.38,{"$f":"SUMIF('Contractor##'!C:C,'Planned Maint v6.2 CSV File'!C:C,'Contractor##'!F:F)","v":-0.1135},2.9963699999999998,"Intumescent Strip:Renew or supply and fix new 18x4mm intumescent strip, one hour application, and setting into groove in timber frame or door."]
["3431AC","INTUMESCENT STRIP:RENEW UPTO 1 HOUR SMOKE SEAL","CARPENTRY AND JOINERY","Door Frames and Linings","Door Frames - Intumescent Strips and Smoke Seals","LM",3.44,{"$f":"SUMIF('Contractor##'!C:C,'Planned Maint v6.2 CSV File'!C:C,'Contractor##'!F:F)","v":-0.1135},3.0495599999999996,"Intumescent Strip:Renew or supply and fix new 22x4mm intumescent strip, half hour application, with integral cold smoke seal and setting into groove in timber frame or door."]
["3431AE","INTUMESCENT STRIP:RENEW UPTO 1 HOUR TO GLASS","CARPENTRY AND JOINERY","Door Frames and Linings","Door Frames - Intumescent Strips and Smoke Seals","LM",6.04,{"$f":"SUMIF('Contractor##'!C:C,'Planned Maint v6.2 CSV File'!C:C,'Contractor##'!F:F)","v":-0.1135},5.3544599999999996,"Intumescent Strip:Renew or supply and fix new 12x4mm intumescent strip, half hour application, and fixing to glass behind glazing beads."]
["3431BB","SMOKE SEAL:RENEW TO FRAME 1/2 HOUR","CARPENTRY AND JOINERY","Door Frames and Linings","Door Frames - Intumescent Strips and Smoke Seals","LM",3.44,{"$f":"SUMIF('Contractor##'!C:C,'Planned Maint v6.2 CSV File'!C:C,'Contractor##'!F:F)","v":-0.1135},3.0495599999999996,"Smoke Seal:Renew or supply and fix new cold smoke seal, half hour application, and setting into groove in timber frame or door."]
["3431BC","SMOKE SEAL:RENEW TO FRAME 1 HOUR","CARPENTRY AND JOINERY","Door Frames and Linings","Door Frames - Intumescent Strips and Smoke Seals","LM",3.99,{"$f":"SUMIF('Contractor##'!C:C,'Planned Maint v6.2 CSV File'!C:C,'Contractor##'!F:F)","v":-0.1135},3.5371350000000001,"Smoke Seal:Renew or supply and fix new cold smoke seal, one hour application, and setting into groove in timber frame or door."]
["3431BD","SMOKE SEAL:RENEW TO GLASS 1/2 HOUR","CARPENTRY AND JOINERY","Door Frames and Linings","Door Frames - Intumescent Strips and Smoke Seals","LM",6.04,{"$f":"SUMIF('Contractor##'!C:C,'Planned Maint v6.2 CSV File'!C:C,'Contractor##'!F:F)","v":-0.1135},5.3544599999999996,"Smoke Seal:Renew or supply and fix new cold smoke seal, half hour application, and fixing to glass behind glazing beads."]
["3431BE","SMOKE SEAL:RENEW TO GLASS 1 HOUR","CARPENTRY AND JOINERY","Door Frames and Linings","Door Frames - Intumescent Strips and Smoke Seals","LM",8.3699999999999992,{"$f":"SUMIF('Contractor##'!C:C,'Planned Maint v6.2 CSV File'!C:C,'Contractor##'!F:F)","v":-0.1135},7.4200049999999989,"Smoke Seal:Renew or supply and fix new cold smoke seal, one hour application, and fixing to glass behind glazing beads."]
["3452AA","DOOR:RENEW PAIR L AND B TO GARAGE","CARPENTRY AND JOINERY","Garage Doors and Frames","Door - Garage - Matchboard - Softwood","IT",521.46,{"$f":"SUMIF('Contractor##'!C:C,'Planned Maint v6.2 CSV File'!C:C,'Contractor##'!F:F)","v":-0.1135},462.27429000000001,"Door:Renew garage doors with new pair of 45mm softwood preservative treated ledged, braced and matchboarded doors to suit size of existing opening with 169x20mm ledges and 106 x 20mm braces covered on face with 20mm tongued, grooved and 'V' jointed boarding and hang each leaf on one pair of 450mmm galvanised tee hinges, transfer existing lock and bolts, make good and prepare for redecoration, and remove waste and debris."]
["3452BA","DOOR:OVERHAUL PAIR GARAGE","CARPENTRY AND JOINERY","Garage Doors and Frames","Door - Garage - Matchboard - Softwood","NO",43.74,{"$f":"SUMIF('Contractor##'!C:C,'Planned Maint v6.2 CSV File'!C:C,'Contractor##'!F:F)","v":-0.1135},38.775509999999997,"Door:Overhaul pair of any size timber garage doors, ease and adjust, remove and rehang, splice in timber repairs, remove, refix or renew ironmongery as necessary, make good to frame, touch up decorations, and remove waste and debris.."]
["3453AA","GARAGE FRAME:RENEW COMPLETE","CARPENTRY AND JOINERY","Garage Doors and Frames","Door - Frames - Garage - Timber","IT",80.44,{"$f":"SUMIF('Contractor##'!C:C,'Planned Maint v6.2 CSV File'!C:C,'Contractor##'!F:F)","v":-0.1135},71.310059999999993,"Garage Frame:Renew garage door frame with matching tanalised softwood frame to suit any size or type of door, remove existing door with fittings and set aside, take out existing frame, fix new frame into position including plugging, screwing and bedding as appropriate, point all round with sealant, rehang existing door complete with fittings, ease, adjust and adapt as necessary to leave operational, make good all works disturbed and prepare for redecoration, and remove waste and debris."]
["3453AB","GARAGE FRAME:RENEW HEAD OR JAMB","CARPENTRY AND JOINERY","Garage Doors","Garage Door Frames","NO",28.97,{"$f":"SUMIF('Contractor##'!C:C,'Planned Maint v6.2 CSV File'!C:C,'Contractor##'!F:F)","v":-0.1135},25.681904999999997,"Garage Frame:Renew head or jamb member to any type or size garage door frame with matching tanalised softwood member, remove existing door with fittings and set aside, carefully remove defective section of frame, fix new member into position including plugging, screwing and bedding as appropriate, joint new member to existing retained members, point along new member with sealant, rehang existing door complete with fittings, ease, adjust and adapt as necessary to leave operational, make good all works disturbed and prepare for redecoration, and remove waste and debris."]
["3453AC","GARAGE FRAME:RENEW TO SINGLE DOOR","CARPENTRY AND JOINERY","Garage Doors","Garage Door Frames","IT",115.43,{"$f":"SUMIF('Contractor##'!C:C,'Planned Maint v6.2 CSV File'!C:C,'Contractor##'!F:F)","v":-0.1135},102.328695,"Garage Frame:Renew garage door frame with matching tanalised softwood frame to suit any size or type of single door, remove existing door with fittings and set aside, take out existing frame, fix new frame into position including plugging, screwing and bedding as appropriate, point all round with sealant, rehang existing door complete with fittings, ease, adjust and adapt as necessary to leave operational, make good all works disturbed and prepare for redecoration, and remove waste and debris."]
["3453BA","GARAGE FRAME:RENEW 25X75MM FILLET","CARPENTRY AND JOINERY","Garage Doors and Frames","Door - Frames - Garage - Timber","LM",5.69,{"$f":"SUMIF('Contractor##'!C:C,'Planned Maint v6.2 CSV File'!C:C,'Contractor##'!F:F)","v":-0.1135},5.0441849999999997,"Frame:Renew fillet ne 25 x 75mm to garage door frame including remove existing and prepare for redecoration, and remove waste and debris."]
["3454AA","GARAGE DOOR:RENEW METAL UP AND OVER","CARPENTRY AND JOINERY","Garage Doors and Frames","Doors - Garage - Renewals - Up and Over Metal","IT",474.13,{"$f":"SUMIF('Contractor##'!C:C,'Planned Maint v6.2 CSV File'!C:C,'Contractor##'!F:F)","v":-0.1135},420.31624499999998,"Door:Renew any garage door with pre-primed metal up and over garage door, overall size ne 2438x2055mm complete with all ironmongery and hanging to existing frame, make good to all works disturbed and prepare for redecoration, and remove waste and debris."]
["3456AA","GARAGE DOOR:REMOVE AND REFIX UP AND OVER","CARPENTRY AND JOINERY","Garage Doors and Frames","Doors - Garage - Repairs - Up and Over Metal","IT",45.56,{"$f":"SUMIF('Contractor##'!C:C,'Planned Maint v6.2 CSV File'!C:C,'Contractor##'!F:F)","v":-0.1135},40.388939999999998,"Garage Door:Take down and rehang metal up and over garage door, ease and adjust operating mechanism and leave operational, and prepare for redecoration, and remove waste and debris."]
["3456AB","GARAGE DOOR:REPAIR UP AND OVER METAL","CARPENTRY AND JOINERY","Garage Doors and Frames","Doors - Garage - Repairs - Up and Over Metal","IT",27.81,{"$f":"SUMIF('Contractor##'!C:C,'Planned Maint v6.2 CSV File'!C:C,'Contractor##'!F:F)","v":-0.1135},24.653564999999997,"Garage Door:Repair any metal up and over garage door incl remove fittings and door, straighten/repair dents and holes, rehang door, fittings and ease, and prepare for redecoration, and remove waste and debris."]
["3456BA","GARAGE DOOR:RENEW SPINDLE/ROLLER/CABLE","CARPENTRY AND JOINERY","Garage Doors","Metal Up and Over Door Repairs","NO",35.01,{"$f":"SUMIF('Contractor##'!C:C,'Planned Maint v6.2 CSV File'!C:C,'Contractor##'!F:F)","v":-0.1135},31.036364999999996,"Garage Door:Renew spindle, roller and cable assembly to metal up and over garage door and adjust."]
["3456BB","GARAGE DOOR:RENEW LOCKING BAR TO UP AND OVER","CARPENTRY AND JOINERY","Garage Doors","Metal Up and Over Door Repairs","NO",20.58,{"$f":"SUMIF('Contractor##'!C:C,'Planned Maint v6.2 CSV File'!C:C,'Contractor##'!F:F)","v":-0.1135},18.244169999999997,"Garage Door:Renew locking bar to metal up and over garage door and adjust."]
["3456BC","GARAGE DOOR:RENEW LOCK HANDLE TO UP AND OVER","CARPENTRY AND JOINERY","Garage Doors","Metal Up and Over Door Repairs","NO",27.72,{"$f":"SUMIF('Contractor##'!C:C,'Planned Maint v6.2 CSV File'!C:C,'Contractor##'!F:F)","v":-0.1135},24.573779999999999,"Garage Door:Renew lock handle to metal up and over garage door, adjust and provide two new keys to tenant."]
["3456BD","GARAGE DOOR:RENEW LOCK TO UP AND OVER DOOR","CARPENTRY AND JOINERY","Garage Doors","Metal Up and Over Door Repairs","NO",14.61,{"$f":"SUMIF('Contractor##'!C:C,'Planned Maint v6.2 CSV File'!C:C,'Contractor##'!F:F)","v":-0.1135},12.951764999999998,"Garage Door:Renew lock to metal up and over garage door, including redrill for fixing bolts and alter door to receive new lock and collect and return keys to tenant."]
["3456BE","GARAGE DOOR:RENEW ROLLERS AND CHANNELS","CARPENTRY AND JOINERY","Garage Doors","Metal Up and Over Door Repairs","IT",164.95,{"$f":"SUMIF('Contractor##'!C:C,'Planned Maint v6.2 CSV File'!C:C,'Contractor##'!F:F)","v":-0.1135},146.22817499999999,"Garage Door:Renew set of rollers and guide channels to any metal up and over garage door, adjust and leave operational, make good as necessary and remove waste and debris."]
["3456BF","GARAGE DOOR:SUPPLY COUNTERBALANCE DOOR SPRING","CARPENTRY AND JOINERY","Garage Doors","Metal Up and Over Door Repairs","NO",62.05,{"$f":"SUMIF('Contractor##'!C:C,'Planned Maint v6.2 CSV File'!C:C,'Contractor##'!F:F)","v":-0.1135},55.007324999999994,"Garage Door:Supply and fix new or renew any counterbalance door spring to up and over garage door including removing existing fitting, adjust and leave operational, make good as necessary and remove waste and debris."]
["3456BG","GARAGE DOOR:RENEW KEEP","CARPENTRY AND JOINERY","Garage Doors","Metal Up and Over Door Repairs","NO",17.329999999999998,{"$f":"SUMIF('Contractor##'!C:C,'Planned Maint v6.2 CSV File'!C:C,'Contractor##'!F:F)","v":-0.1135},15.363044999999998,"Garage Door:Renew keep to any type of garage door lock including removing existing fitting and make good operational, make good as necessary and remove waste and debris.."]
["3456BH","GARAGE DOOR:RENEW SUPPORT ARM","CARPENTRY AND JOINERY","Garage Doors","Metal Up and Over Door Repairs","IT",43.56,{"$f":"SUMIF('Contractor##'!C:C,'Planned Maint v6.2 CSV File'!C:C,'Contractor##'!F:F)","v":-0.1135},38.615940000000002,"Garage Door:Renew support arm to any metal up and over garage door, adjust and leave operational, make good operational, make good as necessary and remove waste and debris.."]
["3500AA","LINING:TAKE DOWN AND CLEAR","CARPENTRY AND JOINERY","Internal Joinery","Cladding or Linings - Internal Wall","SM",2.19,{"$f":"SUMIF('Contractor##'!C:C,'Planned Maint v6.2 CSV File'!C:C,'Contractor##'!F:F)","v":-0.1135},1.9414349999999998,"Wall:Take down any type of timber wall linings, clear away and denail studding, and remove waste and debris. "]
["3500BA","PANELLING:RENEW IN HARDBOARD","CARPENTRY AND JOINERY","Internal Joinery","Cladding or Linings - Internal Wall","SM",15.49,{"$f":"SUMIF('Contractor##'!C:C,'Planned Maint v6.2 CSV File'!C:C,'Contractor##'!F:F)","v":-0.1135},13.731885,"Panelling:Remove existing hardboard panelling and renew with 3.2mm faced hardboard panelling fixed to softwood with brass cups and screws, and remove waste and debris."]
["3500BB","PANELLING:RENEW IN MAHOGANY PLYWOOD","CARPENTRY AND JOINERY","Internal Joinery","Cladding or Linings - Internal Wall","SM",13.25,{"$f":"SUMIF('Contractor##'!C:C,'Planned Maint v6.2 CSV File'!C:C,'Contractor##'!F:F)","v":-0.1135},11.746124999999999,"Panelling:Remove existing panelling and renew with 6mm mahogany veneered plywood panelling fixed to softwood with brass cups and screws, and remove waste and debris."]
["3510AA","STAIRCASE:RENEW TREAD AND RISER UNIT","CARPENTRY AND JOINERY","Internal Joinery","Staircases","NO",36.549999999999997,{"$f":"SUMIF('Contractor##'!C:C,'Planned Maint v6.2 CSV File'!C:C,'Contractor##'!F:F)","v":-0.1135},32.401574999999994,"Staircase:Renew rounded softwood tread and plywood riser to staircase tread housed into strings and including all wedges and blocks, glued and screwed, prepare for redecoration, and remove waste and debris."]
["3510AB","STAIRCASE:RENEW WINDER TREAD-300MM","CARPENTRY AND JOINERY","Internal Joinery","Staircases","NO",34.99,{"$f":"SUMIF('Contractor##'!C:C,'Planned Maint v6.2 CSV File'!C:C,'Contractor##'!F:F)","v":-0.1135},31.018635,"Staircase:Renew softwood winder tread to staircase 300mm extreme width, including cutting to size and fix in place from underside of staircase and prepare for redecoration, and remove waste and debris."]
["3510AC","STAIRCASE:RENEW NEWEL POST","CARPENTRY AND JOINERY","Internal Joinery","Staircases","NO",92.61,{"$f":"SUMIF('Contractor##'!C:C,'Planned Maint v6.2 CSV File'!C:C,'Contractor##'!F:F)","v":-0.1135},82.098765,"Staircase:Renew ne 100x100mm softwood newel or half newel post ne 1500mm high, including cut to length, fix to place, and prepare for redecoration, and remove waste and debris.."]
["3510AD","STAIRCASE:RENEW SOFTWOOD BALUSTER","CARPENTRY AND JOINERY","Internal Joinery","Staircases","NO",12.3,{"$f":"SUMIF('Contractor##'!C:C,'Planned Maint v6.2 CSV File'!C:C,'Contractor##'!F:F)","v":-0.1135},10.90395,"Staircase:Renew 25x25mm softwood baluster housed at each end to string and handrail, and prepare for redecoration, and remove waste and debris."]
["3510BA","STAIRCASE:RENEW STANDARD STRAIGHT","CARPENTRY AND JOINERY","Internal Joinery","Staircases","IT",836.46,{"$f":"SUMIF('Contractor##'!C:C,'Planned Maint v6.2 CSV File'!C:C,'Contractor##'!F:F)","v":-0.1135},741.52179000000001,"Staircase:Renew any staircase with standard softwood staircase complete, in straight flight, ne 838mm wide, 2688mm going, 2600mm rise, prop floor and remove existing staircase, install new staircase comprising 25mm softwood treads with rounded nosings, 12mm plywood risers, 32mm softwood strings all housed, glued and screwed together including wedges and blocks and fixed between existing walls and floors. (any newels, balustrades, balusters or handrails measured separately), and remove waste and debris."]
["3510BB","STAIRCASE:RENEW STANDARD DOG LEG QUARTER LANDING","CARPENTRY AND JOINERY","Internal Joinery","Staircases","IT",1279.94,{"$f":"SUMIF('Contractor##'!C:C,'Planned Maint v6.2 CSV File'!C:C,'Contractor##'!F:F)","v":-0.1135},1134.6668099999999,"Staircase:Renew any staircase with standard softwood staircase complete, in dog leg flight, ne 838mm wide, 2600mm rise with quarter space landing, prop floor and remove existing staircase, install new staircase comprising 25mm softwood treads with rounded nosings, 12mm plywood risers, 32mm softwood strings all housed, glue and screwed together including wedges and blocks and fixed between existing walls and floors. (any newels, balustrades, balusters or handrails measured separately), and remove waste and debris."]
["3510BC","STAIRCASE:RENEW STANDARD DOG LEG HALF LANDING","CARPENTRY AND JOINERY","Internal Joinery","Staircases","IT",1417.09,{"$f":"SUMIF('Contractor##'!C:C,'Planned Maint v6.2 CSV File'!C:C,'Contractor##'!F:F)","v":-0.1135},1256.2502849999998,"Staircase:Renew any staircase with standard softwood staircase complete, in dog leg flight, ne 838mm wide, 2600mm rise with half space landing, prop floor and remove existing staircase, install new staircase comprising 25mm softwood treads with rounded nosings, 12mm plywood risers, 32mm softwood strings all housed, glued and screwed together including wedges and blocks and fixed between existing walls and floors. (any newels, balustrades, balusters or handrails measured separately), and remove waste and debris."]
["3510CA","STAIRCASE:OVERHAUL","CARPENTRY AND JOINERY","Internal Joinery","Staircases","IT",62.48,{"$f":"SUMIF('Contractor##'!C:C,'Planned Maint v6.2 CSV File'!C:C,'Contractor##'!F:F)","v":-0.1135},55.388519999999993,"Staircase:Overhaul existing staircase, clean off stairs treads and landings, punch in all nail heads, screw down all loose boards etc., securely fix all existing balustrades, wedge treads and risers and make good all works disturbed."]
["3520AA","HANDRAIL:RENEW 44X69MM NEWEL TYPE","CARPENTRY AND JOINERY","Internal Joinery","Handrails - Timber","LM",22.32,{"$f":"SUMIF('Contractor##'!C:C,'Planned Maint v6.2 CSV File'!C:C,'Contractor##'!F:F)","v":-0.1135},19.78668,"Handrail:Renew 44x69mm half round softwood handrail, including ramps and shaped ends, fixed between staircase newel posts, remove and refix balustrading as necessary and prepare for redecoration, and remove waste and debris."]
["3520AB","HANDRAIL:RENEW 32X119MM NEWEL TYPE","CARPENTRY AND JOINERY","Internal Joinery","Handrails - Timber","LM",28.81,{"$f":"SUMIF('Contractor##'!C:C,'Planned Maint v6.2 CSV File'!C:C,'Contractor##'!F:F)","v":-0.1135},25.540064999999998,"Handrail:Renew 32x119mm rounded softwood handrail including ramps and shaped ends fixed between staircase newel posts, remove and refix balustrading as necessary and prepare for redecoration, and remove waste and debris."]
["3520BA","HANDRAIL:RENEW 44X69MM ON BRACKETS","CARPENTRY AND JOINERY","Internal Joinery","Handrails - Timber","LM",9.52,{"$f":"SUMIF('Contractor##'!C:C,'Planned Maint v6.2 CSV File'!C:C,'Contractor##'!F:F)","v":-0.1135},8.4394799999999996,"Handrail:Renew with 44x69mm half round softwood handrail including ramps and shaped ends, fixed to existing brackets and prepare for redecoration, and remove waste and debris."]
["3520BB","HANDRAIL:RENEW 32X119MM H/RAIL ON BRACKETS","CARPENTRY AND JOINERY","Internal Joinery","Handrails - Timber","LM",11.49,{"$f":"SUMIF('Contractor##'!C:C,'Planned Maint v6.2 CSV File'!C:C,'Contractor##'!F:F)","v":-0.1135},10.185884999999999,"Handrail:Renew with 32x119mm rounded softwood handrail, including ramps and shaped ends fixed to existing brackets and prepare for redecoration, and remove waste and debris."]
["3520CA","HANDRAIL:SUPPLY MOPSTICK INCLUDING BRACKETS","CARPENTRY AND JOINERY","Internal Joinery","Handrails - Timber","LM",19.48,{"$f":"SUMIF('Contractor##'!C:C,'Planned Maint v6.2 CSV File'!C:C,'Contractor##'!F:F)","v":-0.1135},17.269020000000001,"Handrail:Supply and fix 50x50mm softwood mopstick handrail on and including brackets, plugged and screwed to walls and prepare for redecoration, and remove waste and debris."]
["3520DA","HANDRAIL:SUPPLY OR RENEW GALVANISED MS BRACKET","CARPENTRY AND JOINERY","Internal Joinery","Handrails - Timber","NO",12.94,{"$f":"SUMIF('Contractor##'!C:C,'Planned Maint v6.2 CSV File'!C:C,'Contractor##'!F:F)","v":-0.1135},11.471309999999999,"Handrail:Supply and fix or renew galv.mild steel handrail bracket, fix to wall, and including any necessary plugging and make good plasterwork and prepare for redecoration, and remove waste and debris."]
["3521AA","HANDRAIL:SUPPLY PROPRIETARY TO WALL","CARPENTRY AND JOINERY","Internal Joinery","Handrails - Timber","LM",80.650000000000006,{"$f":"SUMIF('Contractor##'!C:C,'Planned Maint v6.2 CSV File'!C:C,'Contractor##'!F:F)","v":-0.1135},71.496224999999995,"Handrail:Supply and fix ne 45mm diameter anodised aluminium or polyester coated proprietary wall mounted handrailing fixed level or to gradient with fixed or adjustable wall brackets including all ends, angles, intersections, etc and make good all finishes redecoration, and remove waste and debris."]
["3521BA","BALUSTRADE:SUPPLY AND FIX PROPRIETARY 1.1M HIGH","CARPENTRY AND JOINERY","Grab Rails, Handrails and Balustrades","Handrails","LM",249.31,{"$f":"SUMIF('Contractor##'!C:C,'Planned Maint v6.2 CSV File'!C:C,'Contractor##'!F:F)","v":-0.1135},221.01331499999998,"Balustrade:Supply and fix ne 45mm diameter anodised aluminium or polyester coated proprietary balustrade ne 1100mm high consisting of two horizontal rails with post supports, top or side fixed to level or gradient including all ends, angles, intersections and make good all finishes redecoration, and remove waste and debris."]
["3521CA","HANDRAIL:SUPPLY AND FIX KEE KLAMP TO WALL","CARPENTRY AND JOINERY","Grab Rails, Handrails and Balustrades","Balustrading","LM",14.9,{"$f":"SUMIF('Contractor##'!C:C,'Planned Maint v6.2 CSV File'!C:C,'Contractor##'!F:F)","v":-0.1135},13.20885,"Handrail:Supply and fix galvanised mild steel tubular kee-klamp wall mounted handrail comprising 48mm diameter rails and brackets fixed level or to gradient to wall including all necessary plugging, good finishes and prepare for redecoration redecoration, and remove waste and debris."]
["3521CB","BALUSTRADES:SUPPLY AND FIX KEE KLAMP","CARPENTRY AND JOINERY","Grab Rails, Handrails and Balustrades","Handrails","LM",35.39,{"$f":"SUMIF('Contractor##'!C:C,'Planned Maint v6.2 CSV File'!C:C,'Contractor##'!F:F)","v":-0.1135},31.373234999999998,"Balustrades:Supply and fix galvanised mild steel tubular kee-klamp balustrade, ne 1100mm high comprising 48mm diameter horizontal rails, 48mm diameter standards at 1m centres, set mortices in mortar and prepare for redecoration redecoration, and remove waste and debris."]
["3610AA","STOOL:RENEW TO CYLINDER 610MM","CARPENTRY AND JOINERY","Internal Joinery","Stool for Hot Water Cylinder","NO",52.19,{"$f":"SUMIF('Contractor##'!C:C,'Planned Maint v6.2 CSV File'!C:C,'Contractor##'!F:F)","v":-0.1135},46.266434999999994,"Stool:Renew or replace wrot softwood stool for hot water cylinder, finished sizes 515x515x610mm high, formed of four (4) 50x50mm legs, eight(8) 69x32mm horizontal runners and 19mm plywood top. Remove and replace cylinder as necessary and test, and remove waste and debris."]
["3611AA","TANK STAND:NEW FOR CWST IN LOFT","CARPENTRY AND JOINERY","Internal Joinery","Tank Stands","NO",48.87,{"$f":"SUMIF('Contractor##'!C:C,'Planned Maint v6.2 CSV File'!C:C,'Contractor##'!F:F)","v":-0.1135},43.323254999999996,"Tank Stand:Construct new tank stand in loft to suit any size or type CWST ne 227 litres comprising 19mm thick plywood base on 2 No. 150x50mm bearers spanning minimum 3 No. ceiling joists and with 100x38mm cross bearers at 300mm maximum centres, and remove waste and debris."]
["3611AB","TANK STAND:NEW REMOVE AND REFIX TANK IN LOFT","CARPENTRY AND JOINERY","Internal Joinery","Tank Stands","NO",107.62,{"$f":"SUMIF('Contractor##'!C:C,'Planned Maint v6.2 CSV File'!C:C,'Contractor##'!F:F)","v":-0.1135},95.40513,"Tank Stand:Construct new or renew tank stand in loft to suit any size or type CWST ne 227 litres comprising 19mm thick plywood base on 2 No. 150x50mm bearers spanning minimum 3 No. ceiling joists and with 100x38mm cross bearers at 300mm maximum centres, including isolating water supply, drain system, disconnect all pipework and set tank aside, remove and clear from site existing stand if applicable, reposition existing tank on new stand, reconnect all pipework and adjust as necessary, reinstate water supply, refill tank and test on completion, and remove waste and debris."]
["3611BA","TANK STAND:RENEW 25MM BOARDS","CARPENTRY AND JOINERY","Internal Joinery","Tank Stands","NO",36.700000000000003,{"$f":"SUMIF('Contractor##'!C:C,'Planned Maint v6.2 CSV File'!C:C,'Contractor##'!F:F)","v":-0.1135},32.534550000000003,"Tank Stand:Renew 25mm square edge boards to tank platform ne.1.50sm in area in roof space, and remove waste and debris. "]
["3620AA","HANGING RAIL:SUPPLY 25MM DIAMETER","CARPENTRY AND JOINERY","Internal Joinery","Hat and Coat Rails","LM",16.2,{"$f":"SUMIF('Contractor##'!C:C,'Planned Maint v6.2 CSV File'!C:C,'Contractor##'!F:F)","v":-0.1135},14.361299999999998,"Hanging Rail:Supply and fix 25mm diameter plastic coated steel tubular hanging rail each end housed into and including 100x38mm softwood bearers or chromium plated sockets, and remove waste and debris.."]
["3620AB","HOOK:SUPPLY AND FIX HAT AND COAT HOOK","CARPENTRY AND JOINERY","Internal Joinery","Hat and Coat Rails","NO",3.48,{"$f":"SUMIF('Contractor##'!C:C,'Planned Maint v6.2 CSV File'!C:C,'Contractor##'!F:F)","v":-0.1135},3.0850199999999997,"Hook:Supply and fix anodised aluminium hat and coat hook."]
["3620BA","HAT AND COAT RAIL:RENEW OR SUPPLY COMPLETE","CARPENTRY AND JOINERY","Internal Joinery","Hat and Coat Rails","LM",17.25,{"$f":"SUMIF('Contractor##'!C:C,'Planned Maint v6.2 CSV File'!C:C,'Contractor##'!F:F)","v":-0.1135},15.292124999999999,"Hat and Coat Rail:Renew or supply and fix new ne 25x100mm wrot softwood hat and coat rail, including remove existing, fix new rail, plugged and screwed to any background, make good and prepare for redecoration, supply and fix anodised aluminium hat and coat hooks at 150mm centres, and remove waste and debris.."]
["3630AA","CURTAIN BATTEN:RENEW OR FIX NEW","CARPENTRY AND JOINERY","Internal Joinery","Curtain Battens and Tracks","LM",13.88,{"$f":"SUMIF('Contractor##'!C:C,'Planned Maint v6.2 CSV File'!C:C,'Contractor##'!F:F)","v":-0.1135},12.30462,"Curtain Batten:Renew or supply and fix new ne 25x75mm wrot softwood curtain batten including remove existing including remove/rehang rails and curtains, fix new batten plugged and screwed to any background, make good and prepare for redecoration, and remove waste and debris.."]
["3630AB","CURTAIN TRACK:RENEW INCLUDING RUNNERS","CARPENTRY AND JOINERY","Internal Joinery","Curtain Battens and Tracks","LM",12.92,{"$f":"SUMIF('Contractor##'!C:C,'Planned Maint v6.2 CSV File'!C:C,'Contractor##'!F:F)","v":-0.1135},11.453579999999999,"Curtain Track:Renew or supply and fix new proprietary plastic curtain track system of any type and fixing to any type of background inclusive of all runners, brackets, end stops and similar fittings, plugging, screwing and making good as necessary, and remove waste and debris."]
["3635AA","CANOPY:RENEW SINGLE FLAT GRP","CARPENTRY AND JOINERY","External Joinery","Canopies","NO",472.66,{"$f":"SUMIF('Contractor##'!C:C,'Planned Maint v6.2 CSV File'!C:C,'Contractor##'!F:F)","v":-0.1135},419.01308999999998,"Canopy:Renew flat roof canopy above external door with proprietary GRP canopy, remove existing canopy and flashings, make good structure and external finishes,new canopy to be hilti bolted to structure and bedded in silicone sealant in accordance with the manufacturers instructions, and remove waste and debris."]
["3635AB","CANOPY:RENEW DOUBLE FLAT GRP","CARPENTRY AND JOINERY","External Joinery","Canopies","NO",878.94,{"$f":"SUMIF('Contractor##'!C:C,'Planned Maint v6.2 CSV File'!C:C,'Contractor##'!F:F)","v":-0.1135},779.18030999999996,"Canopy:Renew flat roof canopy above external doors with proprietary GRP canopy, remove existing canopy and flashings, make good structure and external finishes, new canopy to be hilti bolted to structure and bedded in silicone sealant in accordance with the manufacturers instructions, and remove waste and debris.."]
["3635BA","CANOPY:RENEW SINGLE PITCH GRP","CARPENTRY AND JOINERY","External Joinery","Canopies","NO",608.47,{"$f":"SUMIF('Contractor##'!C:C,'Planned Maint v6.2 CSV File'!C:C,'Contractor##'!F:F)","v":-0.1135},539.40865499999995,"Canopy:Renew pitch roof canopy above external door with proprietary GRP canopy, remove existing canopy and flashings, make good structure and external finishes,new canopy to be hilti bolted to structure and bedded in silicone sealant in accordance with the manufacturers instructions, and remove waste and debris."]
["3635BB","CANOPY:RENEW DOUBLE PITCH GRP","CARPENTRY AND JOINERY","External Joinery","Canopies","NO",1143.03,{"$f":"SUMIF('Contractor##'!C:C,'Planned Maint v6.2 CSV File'!C:C,'Contractor##'!F:F)","v":-0.1135},1013.2960949999999,"Canopy:Renew pitch roof canopy above external doors with proprietary GRP canopy, remove existing canopy and flashings, make good structure and external finishes, new canopy to be hilti bolted to structure and bedded in silicone sealant in accordance with the manufacturers instructions, and remove waste and debris."]
["3636AA","CANOPY:RENEW IN TIMBER","CARPENTRY AND JOINERY","External Joinery","Canopies","SM",141.85,{"$f":"SUMIF('Contractor##'!C:C,'Planned Maint v6.2 CSV File'!C:C,'Contractor##'!F:F)","v":-0.1135},125.75002499999999,"Canopy:Renew canopy to external door, take off and set aside re-usable roof tiles, remove existing timber structure and remove debris off site, supply and fix pretreated softwood supporting brackets, wall plates, rafters, fascia and bargeboards, lay roofing felt and battens relay roof tiles including any additional roof tiles to match existing, redress flashings, make good structure and finishes. (measured surface area of roof coverings) , and remove waste and debris."]
["3710AA","KITCHEN UNIT:RENEW SINGLE BASE 300X500","CARPENTRY AND JOINERY","Kitchen Units and Worktops","Kitchen Units - Client Standard Specification","NO",80.94,{"$f":"SUMIF('Contractor##'!C:C,'Planned Maint v6.2 CSV File'!C:C,'Contractor##'!F:F)","v":-0.1135},71.753309999999999,"Kitchen Unit:Renew any type of pre-finished single 300x500mm base unit including plug and scribe to walls and any necessary grounds and make good all wall and floor finishes disturbed and remove waste and debris. (Unit to be PC Sum of £50.00 supplied and delivered to site ready assembled for installation complete with metal drawer box but excluding worktop and plinth)"]
["3710AB","KITCHEN UNIT:RENEW SINGLE BASE 600X500","CARPENTRY AND JOINERY","Kitchen Units and Worktops","Kitchen Units - Client Standard Specification","NO",91.94,{"$f":"SUMIF('Contractor##'!C:C,'Planned Maint v6.2 CSV File'!C:C,'Contractor##'!F:F)","v":-0.1135},81.504809999999992,"Kitchen Unit:Renew any type of pre-finished single 600x500mm base unit including plug and scribe to walls and any necessary grounds and make good all wall and floor finishes disturbed and remove waste and debris. (Unit to be PC Sum of £60.00 supplied and delivered to site ready assembled for installation complete with metal drawer box but excluding worktop and plinth)"]
["3710AC","KITCHEN UNIT:RENEW SINGLE BASE 300X600","CARPENTRY AND JOINERY","Kitchen Units and Worktops","Kitchen Units - Client Standard Specification","NO",80.94,{"$f":"SUMIF('Contractor##'!C:C,'Planned Maint v6.2 CSV File'!C:C,'Contractor##'!F:F)","v":-0.1135},71.753309999999999,"Kitchen Unit:Renew any type of pre-finished single 300x600mm base unit including plug and scribe to walls and any necessary grounds and make good all wall and floor finishes disturbed and remove waste and debris. (Unit to be PC Sum of £50.00 supplied and delivered to site ready assembled for installation complete with metal drawer box but excluding worktop and plinth)"]
["3710AD","KITCHEN UNIT:RENEW SINGLE BASE 400X600","CARPENTRY AND JOINERY","Kitchen Units and Worktops","Kitchen Units - Client Standard Specification","NO",86.44,{"$f":"SUMIF('Contractor##'!C:C,'Planned Maint v6.2 CSV File'!C:C,'Contractor##'!F:F)","v":-0.1135},76.629059999999996,"Kitchen Unit:Renew any type of pre-finished single 400x600mm base unit including plug and scribe to walls and any necessary grounds and make good all wall and floor finishes disturbed and remove waste and debris. (Unit to be PC Sum of £55.00 supplied and delivered to site ready assembled for installation complete with metal drawer box but excluding worktop and plinth)"]
["3710AE","KITCHEN UNIT:RENEW SINGLE BASE 500X600","CARPENTRY AND JOINERY","Kitchen Units and Worktops","Kitchen Units - Client Standard Specification","NO",97.44,{"$f":"SUMIF('Contractor##'!C:C,'Planned Maint v6.2 CSV File'!C:C,'Contractor##'!F:F)","v":-0.1135},{"$f":"(1+H1348)*G1348","v":86.380559999999988},"Kitchen Unit:Renew any type of pre-finished single 500x600mm base unit including plug and scribe to walls and any necessary grounds and make good all wall and floor finishes disturbed and remove waste and debris. (Unit to be PC Sum of £65.00 supplied and delivered to site ready assembled for installation complete with metal drawer box but excluding worktop and plinth)"]
["3710AF","KITCHEN UNIT:RENEW SINGLE BASE 600X600","CARPENTRY AND JOINERY","Kitchen Units and Worktops","Kitchen Units - Client Standard Specification","NO",97.44,{"$f":"SUMIF('Contractor##'!C:C,'Planned Maint v6.2 CSV File'!C:C,'Contractor##'!F:F)","v":-0.1135},86.380559999999988,"Kitchen Unit:Renew any type of pre-finished single 600x600mm base unit including plug and scribe to walls and any necessary grounds and make good all wall and floor finishes disturbed and remove waste and debris. (Unit to be PC Sum of £65.00 supplied and delivered to site ready assembled for installation complete with metal drawer box but excluding worktop and plinth)"]
["3710BA","KITCHEN UNIT:RENEW DOUBLE BASE 800MM","CARPENTRY AND JOINERY","Kitchen Units and Worktops","Kitchen Units - Client Standard Specification","NO",135.87,{"$f":"SUMIF('Contractor##'!C:C,'Planned Maint v6.2 CSV File'!C:C,'Contractor##'!F:F)","v":-0.1135},120.44875499999999,"Kitchen Unit:Renew any type of pre-finished double 800x600mm base unit including plug and scribe to walls and any necessary grounds and make good all wall and floor finishes disturbed and remove waste and debris. (Unit to be PC Sum of £90.00 supplied and delivered to site ready assembled for installation complete with metal drawer box but excluding worktop and plinth)"]
["3710BB","KITCHEN UNIT:RENEW DOUBLE BASE 1000MM","CARPENTRY AND JOINERY","Kitchen Units and Worktops","Kitchen Units - Client Standard Specification","NO",135.87,{"$f":"SUMIF('Contractor##'!C:C,'Planned Maint v6.2 CSV File'!C:C,'Contractor##'!F:F)","v":-0.1135},120.44875499999999,"Kitchen Unit:Renew any type of pre-finished double 1000x600mm base unit including plug and scribe to walls and any necessary grounds and make good all wall and floor finishes disturbed and remove waste and debris. (Unit to be PC Sum of £90.00 supplied and delivered to site ready assembled for installation complete with metal drawer box but excluding worktop and plinth)"]
["3710BC","KITCHEN UNIT:RENEW DOUBLE BASE 1200MM","CARPENTRY AND JOINERY","Kitchen Units and Worktops","Kitchen Units - Client Standard Specification","NO",157.87,{"$f":"SUMIF('Contractor##'!C:C,'Planned Maint v6.2 CSV File'!C:C,'Contractor##'!F:F)","v":-0.1135},139.95175499999999,"Kitchen Unit:Renew any type of pre-finished double 1200x600mm base unit including plug and scribe to walls and any necessary grounds and make good all wall and floor finishes disturbed and remove waste and debris. (Unit to be PC Sum of £110.00 supplied and delivered to site ready assembled for installation complete with metal drawer box but excluding worktop and plinth)"]
["3710BD","KITCHEN UNIT:RENEW DOUBLE SINK BASE 1000MM","CARPENTRY AND JOINERY","Kitchen Units and Worktops","Kitchen Units - Client Standard Specification","NO",124.87,{"$f":"SUMIF('Contractor##'!C:C,'Planned Maint v6.2 CSV File'!C:C,'Contractor##'!F:F)","v":-0.1135},110.697255,"Kitchen Unit:Renew any type of pre-finished double sink 1000x600mm base unit including plug and scribe to walls and any necessary grounds and make good all wall and floor finishes disturbed and remove waste and debris. (Unit to be PC Sum of £80.00 supplied and delivered to site ready assembled for installation excluding worktop and plinth)"]
["3710BE","KITCHEN UNIT:RENEW DOUBLE SINK BASE 1200MM","CARPENTRY AND JOINERY","Kitchen Units and Worktops","Kitchen Units - Client Standard Specification","NO",168.87,{"$f":"SUMIF('Contractor##'!C:C,'Planned Maint v6.2 CSV File'!C:C,'Contractor##'!F:F)","v":-0.1135},149.70325499999998,"Kitchen Unit:Renew any type of pre-finished double sink 1200x600mm base unit including plug and scribe to walls and any necessary grounds and make good all wall and floor finishes disturbed and remove waste and debris. (Unit to be PC Sum of £120.00 supplied and delivered to site ready assembled for installation excluding worktop and plinth)"]
["3710CA","KITCHEN UNIT:RENEW CORNER BASE 800MM","CARPENTRY AND JOINERY","Kitchen Units and Worktops","Kitchen Units - Client Standard Specification","NO",130.37,{"$f":"SUMIF('Contractor##'!C:C,'Planned Maint v6.2 CSV File'!C:C,'Contractor##'!F:F)","v":-0.1135},115.57300499999999,"Kitchen Unit:Renew any type of pre-finished 800x600mm corner base unit including plug and scribe to walls and any necessary grounds and make good all wall and floor finishes disturbed and remove waste and debris. (Unit to be PC Sum of £85.00 supplied and delivered to site ready assembled for installation complete with metal drawer box but excluding worktop and plinth)"]
["3710CB","KITCHEN UNIT:RENEW CORNER BASE 1000MM","CARPENTRY AND JOINERY","Kitchen Units and Worktops","Kitchen Units - Client Standard Specification","NO",130.37,{"$f":"SUMIF('Contractor##'!C:C,'Planned Maint v6.2 CSV File'!C:C,'Contractor##'!F:F)","v":-0.1135},115.57300499999999,"Kitchen Unit:Renew any type of pre-finished 1000x600mm corner base unit including plug and scribe to walls and any necessary grounds and make good all wall and floor finishes disturbed and remove waste and debris. (Unit to be PC Sum of £85.00 supplied and delivered to site ready assembled for installation complete with metal drawer box but excluding worktop and plinth)"]
["3710CC","KITCHEN UNIT:RENEW CORNER BASE 1200MM","CARPENTRY AND JOINERY","Kitchen Units and Worktops","Kitchen Units - Client Standard Specification","NO",168.87,{"$f":"SUMIF('Contractor##'!C:C,'Planned Maint v6.2 CSV File'!C:C,'Contractor##'!F:F)","v":-0.1135},149.70325499999998,"Kitchen Unit:Renew any type of pre-finished 1200x600mm corner base unit including plug and scribe to walls and any necessary grounds and make good all wall and floor finishes disturbed and remove waste and debris. (Unit to be PC Sum of £120.00 supplied and delivered to site ready assembled for installation complete with metal drawer box but excluding worktop and plinth)"]
["3710DA","KITCHEN UNIT:RENEW LARDER UNIT","CARPENTRY AND JOINERY","Kitchen Units and Worktops","Kitchen Units - Client Standard Specification","NO",135.87,{"$f":"SUMIF('Contractor##'!C:C,'Planned Maint v6.2 CSV File'!C:C,'Contractor##'!F:F)","v":-0.1135},120.44875499999999,"Kitchen Unit:Renew any type of pre-finished tall larder floor unit including plug and scribe to walls and any necessary grounds and make good to all wall and floor finishes disturbed and remove waste and debris. (Unit to be PC Sum of £90.00 supplied and delivered to site ready assembled for installation excluding plinth)"]
["3710EA","KITCHEN UNIT:RENEW APPLIANCE UNIT 1950MM","CARPENTRY AND JOINERY","Kitchen Units and Worktops","Kitchen Units - Client Standard Specification","NO",151.62,{"$f":"SUMIF('Contractor##'!C:C,'Planned Maint v6.2 CSV File'!C:C,'Contractor##'!F:F)","v":-0.1135},134.41112999999999,"Kitchen Unit:Renew any type of pre-finished 600x600x1950mm high appliance housing unit including plug and scribe to walls and any necessary grounds and make good to all wall and floor finishes disturbed and remove waste and debris. (Unit to be PC Sum of £110.00 supplied and delivered to site ready assembled for installation excluding plinth)"]
["3710EB","KITCHEN UNIT:RENEW APPLIANCE UNIT 600MM","CARPENTRY AND JOINERY","Kitchen Units and Worktops","Kitchen Units - Client Standard Specification","NO",151.62,{"$f":"SUMIF('Contractor##'!C:C,'Planned Maint v6.2 CSV File'!C:C,'Contractor##'!F:F)","v":-0.1135},134.41112999999999,"Kitchen Unit:Renew any type of pre-finished 1000x600x600mm high appliance housing unit including plug and scribe to walls and any necessary grounds and make good to all wall and floor finishes disturbed and remove waste and debris. (Unit to be PC Sum of £110.00 supplied and delivered to site ready assembled for installation complete with metal drawer box but excluding worktop and plinth)"]
["3710FA","KITCHEN UNIT:RENEW SINGLE WALL 300X300","CARPENTRY AND JOINERY","Kitchen Units and Worktops","Kitchen Units - Client Standard Specification","NO",55.06,{"$f":"SUMIF('Contractor##'!C:C,'Planned Maint v6.2 CSV File'!C:C,'Contractor##'!F:F)","v":-0.1135},48.810690000000001,"Kitchen Unit:Renew any type of pre-finished single 300x300mm wall unit, 900mm high, including plug and scribe to walls and any necessary grounds and make good to all wall and ceiling finishes disturbed and remove waste and debris. (Unit to be PC Sum of £35.00 supplied and delivered to site ready assembled for installation complete)."]
["3710FB","KITCHEN UNIT:RENEW SINGLE WALL 400X300","CARPENTRY AND JOINERY","Kitchen Units and Worktops","Kitchen Units - Client Standard Specification","NO",60.56,{"$f":"SUMIF('Contractor##'!C:C,'Planned Maint v6.2 CSV File'!C:C,'Contractor##'!F:F)","v":-0.1135},53.686439999999997,"Kitchen Unit:Renew any type of pre-finished single 400x300mm wall unit, 900mm high, including plug and scribe to walls and any necessary grounds and make good to all wall and ceiling finishes disturbed and remove waste and debris. (Unit to be PC Sum of £40.00 supplied and delivered to site ready assembled for installation complete)."]
["3710FC","KITCHEN UNIT:RENEW SINGLE WALL 500X300","CARPENTRY AND JOINERY","Kitchen Units and Worktops","Kitchen Units - Client Standard Specification","NO",66.06,{"$f":"SUMIF('Contractor##'!C:C,'Planned Maint v6.2 CSV File'!C:C,'Contractor##'!F:F)","v":-0.1135},58.562190000000001,"Kitchen Unit:Renew any type of pre-finished single 500x300mm wall unit, 900mm high, including plug and scribe to walls and any necessary grounds and make good to all wall and ceiling finishes disturbed and remove waste and debris. (Unit to be PC Sum of £45.00 supplied and delivered to site ready assembled for installation complete)."]
["3710FD","KITCHEN UNIT:RENEW SINGLE WALL 600X300","CARPENTRY AND JOINERY","Kitchen Units and Worktops","Kitchen Units - Client Standard Specification","NO",71.56,{"$f":"SUMIF('Contractor##'!C:C,'Planned Maint v6.2 CSV File'!C:C,'Contractor##'!F:F)","v":-0.1135},63.437939999999998,"Kitchen Unit:Renew any type of pre-finished single 600x300mm wall unit, 900mm high, including plug and scribe to walls and any necessary grounds and make good to all wall and ceiling finishes disturbed and remove waste and debris. (Unit to be PC Sum of £50.00 supplied and delivered to site ready assembled for installation complete)."]
["3710FE","KITCHEN UNIT:RENEW DOUBLE WALL 1000X300 500 HIGH","CARPENTRY AND JOINERY","Kitchen Units and Worktops","Kitchen Units - Client Standard Specification","NO",88.81,{"$f":"SUMIF('Contractor##'!C:C,'Planned Maint v6.2 CSV File'!C:C,'Contractor##'!F:F)","v":-0.1135},78.730064999999996,"Kitchen Unit:Renew any type of pre-finished double 1000x300mm wall unit, 500mm high including plug scribe to walls and any necessary grounds and make good to all wall and ceiling finishes disturbed and remove waste and debris. (Unit to be PC Sum of £60.00 supplied and delivered to site ready assembled for installation complete)."]
["3710FF","KITCHEN UNIT:RENEW DOUBLE WALL 1200X300 500 HIGH","CARPENTRY AND JOINERY","Kitchen Units and Worktops","Kitchen Units - Client Standard Specification","NO",132.81,{"$f":"SUMIF('Contractor##'!C:C,'Planned Maint v6.2 CSV File'!C:C,'Contractor##'!F:F)","v":-0.1135},117.736065,"Kitchen Unit:Renew any type of pre-finished double 1000x300mm wall unit, 500mm high including plug scribe to walls and any necessary grounds and make good to all wall and ceiling finishes disturbed and remove waste and debris. (Unit to be PC Sum of £100.00 supplied and delivered to site ready assembled for installation complete)."]
["3710FG","KITCHEN UNIT:RENEW DOUBLE WALL 1200X300 900 HIGH","CARPENTRY AND JOINERY","Kitchen Units and Worktops","Kitchen Units - Client Standard Specification","NO",143.81,{"$f":"SUMIF('Contractor##'!C:C,'Planned Maint v6.2 CSV File'!C:C,'Contractor##'!F:F)","v":-0.1135},127.48756499999999,"Kitchen Unit:Renew any type of pre-finished double 1000x300mm wall unit, 900mm high including plug scribe to walls and any necessary grounds and make good to all wall and ceiling finishes disturbed and remove waste and debris. (Unit to be PC Sum of £110.00 supplied and delivered to site ready assembled for installation complete)."]
["3710FH","KITCHEN UNIT:RENEW DOUBLE WALL 1000X300 900 HIGH","CARPENTRY AND JOINERY","Kitchen Units and Worktops","Kitchen Units - Client Standard Specification","NO",94.31,{"$f":"SUMIF('Contractor##'!C:C,'Planned Maint v6.2 CSV File'!C:C,'Contractor##'!F:F)","v":-0.1135},83.605814999999993,"Kitchen Unit:Renew any type of pre-finished double 1000x300mm wall unit, 900mm high including plug scribe to walls and any necessary grounds and make good to all wall and ceiling finishes disturbed and remove waste and debris. (Unit to be PC Sum of £65.00 supplied and delivered to site ready assembled for installation complete)."]
["3710GA","KITCHEN UNIT:RENEW CORNER WALL 500X300","CARPENTRY AND JOINERY","Kitchen Units and Worktops","Kitchen Units - Client Standard Specification","NO",80.94,{"$f":"SUMIF('Contractor##'!C:C,'Planned Maint v6.2 CSV File'!C:C,'Contractor##'!F:F)","v":-0.1135},71.753309999999999,"Kitchen Unit:Renew any type of pre-finished 500x300mm corner wall unit, 500mm high including plug and scribe to walls and any necessary grounds and make good to all wall and ceiling finishes disturbed and remove waste and debris. (Unit to be PC Sum of £50.00 supplied and delivered to site ready assembled for installation complete)."]
["3710GH","KITCHEN UNIT:RENEW CORNER WALL 600X300","CARPENTRY AND JOINERY","Kitchen Units and Worktops","Kitchen Units - Client Standard Specification","NO",113.94,{"$f":"SUMIF('Contractor##'!C:C,'Planned Maint v6.2 CSV File'!C:C,'Contractor##'!F:F)","v":-0.1135},101.00780999999999,"Kitchen Unit:Renew any type of pre-finished 600x300mm corner wall unit, 500mm high including plug and scribe to walls and any necessary grounds and make good to all wall and ceiling finishes disturbed and remove waste and debris. (Unit to be PC Sum of £80.00 supplied and delivered to site ready assembled for installation complete)."]
["3710HA","KITCHEN UNIT:RENEW DRAWER PACK 500X600","CARPENTRY AND JOINERY","Kitchen Units and Worktops","Kitchen Units - Client Standard Specification","NO",138.25,{"$f":"SUMIF('Contractor##'!C:C,'Planned Maint v6.2 CSV File'!C:C,'Contractor##'!F:F)","v":-0.1135},122.55862499999999,"Kitchen Unit:Renew any type of pre-finished 500x600mm drawer pack unit including plug and scribe to walls and any necessary grounds and make good all wall and floor finishes disturbed and remove waste and debris. (Unit to be PC Sum of £95.00 supplied and delivered to site ready assembled for installation complete with metal drawer boxes but excluding worktop and plinth)"]
["3710HB","KITCHEN UNIT:RENEW DRAWER PACK 600X600","CARPENTRY AND JOINERY","Kitchen Units and Worktops","Kitchen Units - Client Standard Specification","NO",121.75,{"$f":"SUMIF('Contractor##'!C:C,'Planned Maint v6.2 CSV File'!C:C,'Contractor##'!F:F)","v":-0.1135},107.93137499999999,"Kitchen Unit:Renew any type of pre-finished 600x600mm drawer pack unit including plug and scribe to walls and any necessary grounds and make good all wall and floor finishes disturbed and remove waste and debris. (Unit to be PC Sum of £80.00 supplied and delivered to site ready assembled for installation complete with metal drawer boxes but excluding worktop and plinth)"]
["3720AA","WORKTOP:RENEW NE 40MM THICK POST FORMED","CARPENTRY AND JOINERY","Kitchen Units and Worktops","Worktops","LM",32.44,{"$f":"SUMIF('Contractor##'!C:C,'Planned Maint v6.2 CSV File'!C:C,'Contractor##'!F:F)","v":-0.1135},28.758059999999997,"Worktop:Renew worktop with high density waterproof moisture resistant chipboard worktop ne 40mm thick to suit unit width with 1.3mm laminated sheet, post formed one edge, reverse compensated, including veneer exposed edges, seal joint between worktop and wall with silicone sealant and make good damaged and renew any missing wall tiles and remove waste and debris. (Worktop to be PC Sum of £40.00 per 3.00 metre length supplied and delivered to site complete with cap ends and joint strips)"]
["3720AB","WORKTOP:RENEW NE 40MM THICK DOUBLE POST FORMED","CARPENTRY AND JOINERY","Kitchen Units and Worktops","Worktops","LM",35.44,{"$f":"SUMIF('Contractor##'!C:C,'Planned Maint v6.2 CSV File'!C:C,'Contractor##'!F:F)","v":-0.1135},31.417559999999995,"Worktop:Renew worktop with high density waterproof moisture resistant chipboard worktop ne 40mm thick to suit unit width with 1.3mm laminated sheet, post formed on both opposing edges, reverse compensated, including veneer exposed edges, seal joint between worktop and wall with silicone sealant and make good damaged and renew any missing wall tiles and remove waste and debris. (Worktop to be PC Sum of £60.00 per 3.00 metre length supplied and delivered to site complete with cap ends and joint strips)"]
["3720AG","WORKTOP:25X25MM EDGE TRIM","CARPENTRY AND JOINERY","Kitchen Units and Worktops","Worktops","LM",4.2,{"$f":"SUMIF('Contractor##'!C:C,'Planned Maint v6.2 CSV File'!C:C,'Contractor##'!F:F)","v":-0.1135},3.7233000000000001,"Worktop:Supply and fix 25x25mm PVC/aluminium edge trim holed and screwed to softwood."]
["3720AH","WORKTOP:PROVIDE COVERBOARD","CARPENTRY AND JOINERY","Kitchen Units and Worktops","Worktops","NO",10.47,{"$f":"SUMIF('Contractor##'!C:C,'Planned Maint v6.2 CSV File'!C:C,'Contractor##'!F:F)","v":-0.1135},9.2816550000000007,"Worktop:Supply and fix proprietary aluminium ‘L’ shaped cover bead rounded at end, screwed to edge of chipboard worktop."]
["3720CA","WORKTOP:REMOVE AND REFIX","CARPENTRY AND JOINERY","Kitchen Units and Worktops","Worktops","LM",7.7,{"$f":"SUMIF('Contractor##'!C:C,'Planned Maint v6.2 CSV File'!C:C,'Contractor##'!F:F)","v":-0.1135},6.8260499999999995,"Worktop:Remove and securely refix any width worktop including seal joint to wall with waterproof sealant and make good damaged and renew any missing wall tiles."]
["3720DB","WORKTOP:RENEW LEG TO WORKTOP","CARPENTRY AND JOINERY","Kitchen Units and Worktops","Worktops","NO",18.28,{"$f":"SUMIF('Contractor##'!C:C,'Planned Maint v6.2 CSV File'!C:C,'Contractor##'!F:F)","v":-0.1135},16.205220000000001,"Worktop:Renew chromium plated metal support leg to worktop with flange plates screwed to floor and worktop."]
["3720DC","WORKTOP:RENEW JOINT STRIP","CARPENTRY AND JOINERY","Kitchen Units and Worktops","Worktops","NO",13.27,{"$f":"SUMIF('Contractor##'!C:C,'Planned Maint v6.2 CSV File'!C:C,'Contractor##'!F:F)","v":-0.1135},11.763855,"Worktop:Renew aluminium joint strip between worktops including remove and refix worktops as necessary and make good."]
["3720EA","CORNICE AND PELMET:PROVIDE AND FIX","CARPENTRY AND JOINERY","Kitchen Units and Worktops","Kitchen Units - Client Standard Specification","LM",13,{"$f":"SUMIF('Contractor##'!C:C,'Planned Maint v6.2 CSV File'!C:C,'Contractor##'!F:F)","v":-0.1135},11.5245,"Cornice and Pelmet:Supply and fix bullnosed cornice and pelmet to match wall units,fixed to wall units with plastic angle brackets. (Cornice/pelmet to be PC Sum of £12.00 per 2.40 metre length supplied and delivered to site for installation complete with end caps and joint strips)"]
["3730AA","KITCHEN UNIT:REMOVE AND REFIX ANY TYPE","CARPENTRY AND JOINERY","Kitchen Units and Worktops","Kitchen Units - Repairs","NO",13.87,{"$f":"SUMIF('Contractor##'!C:C,'Planned Maint v6.2 CSV File'!C:C,'Contractor##'!F:F)","v":-0.1135},12.295754999999998,"Kitchen Unit:Remove and refix any kitchen unit including replug and screw to walls and all making good."]
["3730PA","KITCHEN UNIT:RENEW PLINTH","CARPENTRY AND JOINERY","Kitchen Units and Worktops","Kitchen Units - Repairs","LM",5.43,{"$f":"SUMIF('Contractor##'!C:C,'Planned Maint v6.2 CSV File'!C:C,'Contractor##'!F:F)","v":-0.1135},4.8136949999999992,"Kitchen Unit:Renew plinth to any base unit with melamine faced and edged chipboard replacement plinth including cut and fit to unit. (Plinth to be PC Sum of £8.00 per 3.00 metre length supplied and delivered to site for installation complete with end caps and joint strips)"]
["3730UA","KITCHEN UNIT:RENEW BASE UNIT DOOR","CARPENTRY AND JOINERY","Kitchen Units and Worktops","Kitchen Units - Repairs","NO",56.06,{"$f":"SUMIF('Contractor##'!C:C,'Planned Maint v6.2 CSV File'!C:C,'Contractor##'!F:F)","v":-0.1135},49.697189999999999,"Kitchen Unit:Renew base unit door with melamine faced and edged chipboard door to match existing, including pair of spring loaded concealed hinges, fit and hang, ease and adjust and remove waste and debris."]
["3730UB","KITCHEN UNIT:RENEW WALL UNIT DOOR","CARPENTRY AND JOINERY","Kitchen Units and Worktops","Kitchen Units - Repairs","NO",55.94,{"$f":"SUMIF('Contractor##'!C:C,'Planned Maint v6.2 CSV File'!C:C,'Contractor##'!F:F)","v":-0.1135},49.590809999999998,"Kitchen Unit:Renew any height wall unit door with melamine faced and edged chipboard door to match existing, including pair of spring loaded concealed hinges, fit and hang, ease and adjust and remove waste and debris."]
["3730UC","KITCHEN UNIT:RENEW TALL FLOOR UNIT DOOR","CARPENTRY AND JOINERY","Kitchen Units and Worktops","Kitchen Units - Repairs","NO",66.73,{"$f":"SUMIF('Contractor##'!C:C,'Planned Maint v6.2 CSV File'!C:C,'Contractor##'!F:F)","v":-0.1135},59.156145000000002,"Kitchen Unit:Renew tall floor unit door with melamine faced and edged chipboard door to match existing, including pair of spring loaded concealed hinges, fit and hang, ease and adjust and remove waste and debris."]
["3730UD","KITCHEN UNIT:RENEW FRONT TO DRAWER","CARPENTRY AND JOINERY","Kitchen Units and Worktops","Kitchen Units - Repairs","NO",20.65,{"$f":"SUMIF('Contractor##'!C:C,'Planned Maint v6.2 CSV File'!C:C,'Contractor##'!F:F)","v":-0.1135},18.306224999999998,"Kitchen Unit:Renew drawer front with 19mm laminated sheet veneered plywood including dismantle and reassemble drawer and adjust runners as necessary."]
["3730UE","KITCHEN UNIT:RENEW DRAWER COMPLETE","CARPENTRY AND JOINERY","Kitchen Units and Worktops","Kitchen Units - Repairs","NO",66.48,{"$f":"SUMIF('Contractor##'!C:C,'Planned Maint v6.2 CSV File'!C:C,'Contractor##'!F:F)","v":-0.1135},58.934519999999999,"Kitchen Unit:Renew drawer to kitchen unit with propriety plastic drawer box complete with runners and 19mm laminated veneered plywood drawer front."]
["3740AA","WALL:REMOVE AND REFIX BASE UNIT IN ASSOCIATION","SPECIALIST TREATMENTS","Fungus and Beetle Eradication and DPC Works","Kitchen Units and Cupboard Works due to Fungus/Beetle Eradication or DPC Works","IT",12.97,{"$f":"SUMIF('Contractor##'!C:C,'Planned Maint v6.2 CSV File'!C:C,'Contractor##'!F:F)","v":-0.27500000000000002},9.4032499999999999,"Wall:Remove, set aside, store and later refix any kitchen base unit, including worktop in conjunction with specialist treatment works, supply and fix cover mouldings and apply white silicone sealant to worktop, and remove waste and debris."]
["3740AB","WALL:REMOVE REFIX SINK BASE UNIT IN ASSOCIATION","SPECIALIST TREATMENTS","Fungus and Beetle Eradication and DPC Works","Kitchen Units and Cupboard Works due to Fungus/Beetle Eradication or DPC Works","IT",20.07,{"$f":"SUMIF('Contractor##'!C:C,'Planned Maint v6.2 CSV File'!C:C,'Contractor##'!F:F)","v":-0.27500000000000002},14.550749999999999,"Wall:Remove, set aside, store and later refix any sinktop and base unit in conjunction with specialist treatment works, adjust, extend pipe stubs including any new fittings, earthbond, connect, apply white silicone sealant to worktop, and remove waste and debris."]
["3740AC","WALL:REMOVE AND REFIX WORKTOP IN ASSOCIATION","SPECIALIST TREATMENTS","Fungus and Beetle Eradication and DPC Works","Kitchen Units and Cupboard Works due to Fungus/Beetle Eradication or DPC Works","LM",10.77,{"$f":"SUMIF('Contractor##'!C:C,'Planned Maint v6.2 CSV File'!C:C,'Contractor##'!F:F)","v":-0.27500000000000002},7.8082499999999992,"Wall:Remove, set aside and later refix any independent worktop with leg and or cleat supports including provide any new cleats, drill, plug, fix all supports and apply silicone sealant to worktop all in conjunction with specialist treatment works, and remove waste and debris."]
["3745ZA","KITCHEN:UPGRADE TO STANDARD 1P OR 2P","CARPENTRY AND JOINERY","Kitchen Units and Worktops","Upgrade Kitchen to Benchmark Standard","IT",2125.92,{"$f":"SUMIF('Contractor##'!C:C,'Planned Maint v6.2 CSV File'!C:C,'Contractor##'!F:F)","v":-0.1135},1884.62808,"Kitchen:Upgrade complete kitchen to benchmark standard for dwelling of 1 or 2 person occupation, disconnect and strip out existing kitchen units, supply and waste pipework, electrical wiring to power, lighting, cooker etc, hack off all wall tiling, take up and remove existing floor coverings, install new kitchen units and worktops, sinktop complete with mixer taps, [Units, Sinktop and taps, Worktops etc PC Sum of £525.00 supplied and delivered to site ready assembled for installation complete] new supply and waste pipework, electrical wiring, switches, sockets light fittings and extract fan, make good wall and ceiling plasterwork, lay new flooring, supply and fix wall tiling as specified, redecorate all surfaces."]
["3745ZB","KITCHEN:UPGRADE TO STANDARD 3P OR 4P","CARPENTRY AND JOINERY","Kitchen Units and Worktops","Upgrade Kitchen to Benchmark Standard","IT",2336.7199999999998,{"$f":"SUMIF('Contractor##'!C:C,'Planned Maint v6.2 CSV File'!C:C,'Contractor##'!F:F)","v":-0.1135},2071.5022799999997,"Kitchen:Upgrade complete kitchen to benchmark standard for dwelling of 3 or 4 person occupation, disconnect and strip out existing kitchen units, supply and waste pipework, electrical wiring to power, lighting, cooker etc, hack off all wall tiling, take up and remove existing floor coverings, install new kitchen units and worktops, sinktop complete with mixer taps, [Units, Sinktop and taps, Worktops etc PC Sum of £600.00 supplied and delivered to site ready assembled for installation complete] new supply and waste pipework, electrical wiring, switches, sockets light fittings and extract fan, make good wall and ceiling plasterwork, lay new flooring, supply and fix wall tiling as specified, redecorate all surfaces."]
["3745ZC","KITCHEN:UPGRADE TO STANDARD 5P","CARPENTRY AND JOINERY","Kitchen Units and Worktops","Upgrade Kitchen to Benchmark Standard","IT",2671.54,{"$f":"SUMIF('Contractor##'!C:C,'Planned Maint v6.2 CSV File'!C:C,'Contractor##'!F:F)","v":-0.1135},2368.3202099999999,"Kitchen:Upgrade complete kitchen to benchmark standard for dwelling of 5 person occupation, disconnect and strip out existing kitchen units, supply and waste pipework, electrical wiring to power, lighting, cooker etc, hack off all wall tiling, take up and remove existing floor coverings, install new kitchen units and worktops, sinktop complete with mixer taps, [Units, Sinktop and taps, Worktops etc PC Sum of £650.00 supplied and delivered to site ready assembled for installation complete]new supply and waste pipework, electrical wiring, switches, sockets light fittings and extract fan, make good wall and ceiling plasterwork, lay new flooring, supply and fix wall tiling as specified, redecorate all surfaces."]
["3745ZD","KITCHEN:UPGRADE TO STANDARD 6P","CARPENTRY AND JOINERY","Kitchen Units and Worktops","Upgrade Kitchen to Benchmark Standard","IT",3192.62,{"$f":"SUMIF('Contractor##'!C:C,'Planned Maint v6.2 CSV File'!C:C,'Contractor##'!F:F)","v":-0.1135},2830.2576299999996,"Kitchen:Upgrade complete kitchen to benchmark standard for dwelling of 6 person occupation, disconnect and strip out existing kitchen units, supply and waste pipework, electrical wiring to power, lighting, cooker etc, hack off all wall tiling, take up and remove existing floor coverings, install new kitchen units and worktops, sinktop complete with mixer taps, [Units, Sinktop and taps, Worktops etc PC Sum of £890.00 supplied and delivered to site ready assembled for installation complete]new supply and waste pipework, electrical wiring, switches, sockets light fittings and extract fan, make good wall and ceiling plasterwork, lay new flooring, supply and fix wall tiling as specified, redecorate all surfaces."]
["3745ZE","KITCHEN:UPGRADE TO STANDARD 7P","CARPENTRY AND JOINERY","Kitchen Units and Worktops","Upgrade Kitchen to Benchmark Standard","IT",3305.43,{"$f":"SUMIF('Contractor##'!C:C,'Planned Maint v6.2 CSV File'!C:C,'Contractor##'!F:F)","v":-0.1135},2930.2636949999996,"Kitchen:Upgrade complete kitchen to benchmark standard for dwelling of 7 or more person occupation, disconnect and strip out existing kitchen units, supply and waste pipework, electrical wiring to power, lighting, cooker etc, hack off all wall tiling, take up and remove existing floor coverings, install new kitchen units and worktops, sinktop complete with mixer taps, [Units, Sinktop and taps, Worktops etc PC Sum of £965.00 supplied and delivered to site ready assembled for installation complete]new supply and waste pipework, electrical wiring, switches, sockets light fittings and extract fan, make good wall and ceiling plasterwork, lay new flooring, supply and fix wall tiling as specified, redecorate all surfaces."]
["3810AA","SKIRTING:RENEW SOFTWOOD SKIRTING","CARPENTRY AND JOINERY","Skirtings, Rails and Architraves","Skirting - Softwood","LM",14.7,{"$f":"SUMIF('Contractor##'!C:C,'Planned Maint v6.2 CSV File'!C:C,'Contractor##'!F:F)","v":-0.1135},13.031549999999999,"Skirting:Renew any size softwood plain, moulded or chamfered skirting plugged to brickwork, including all ends and angles and prepare for redecoration, and remove waste and debris."]
["3820AA","RAIL:TAKE OFF EXISTING AND MAKE GOOD","CARPENTRY AND JOINERY","Skirtings, Rails and Architraves","Picture Rail","LM",2.62,{"$f":"SUMIF('Contractor##'!C:C,'Planned Maint v6.2 CSV File'!C:C,'Contractor##'!F:F)","v":-0.1135},2.3226300000000002,"Rail:Take off existing picture rail, clear away and make good plasterwork."]
["3830AA","ARCHITRAVE:RENEW SET TO ONE SIDE OF DOOR","CARPENTRY AND JOINERY","Skirtings, Rails and Architraves","Architraves - Softwood","IT",19.440000000000001,{"$f":"SUMIF('Contractor##'!C:C,'Planned Maint v6.2 CSV File'!C:C,'Contractor##'!F:F)","v":-0.1135},17.233560000000001,"Architrave:Renew any size softwood plain, moulded or chamfered architrave set to one side of door frame including all mitres and scribing and decorate to match existing and remove waste and debris."]
["3830AB","ARCHITRAVE:RENEW LEG OR HEAD ONE SIDE","CARPENTRY AND JOINERY","Skirtings, Rails and Architraves","Architraves - Softwood","IT",7.58,{"$f":"SUMIF('Contractor##'!C:C,'Planned Maint v6.2 CSV File'!C:C,'Contractor##'!F:F)","v":-0.1135},6.7196699999999998,"Architrave:Renew any size softwood plain, moulded or chamfered architrave to leg or head of door frame one side including all mitres and scribing and decorate to match existing and remove waste and debris."]
["3830AD","ARCHITRAVE:REFIX ANY LOOSE","CARPENTRY AND JOINERY","Skirtings, Rails and Architraves","Architraves - Softwood","IT",4.87,{"$f":"SUMIF('Contractor##'!C:C,'Planned Maint v6.2 CSV File'!C:C,'Contractor##'!F:F)","v":-0.1135},4.3172550000000003,"Architrave:Refix including take off as necessary any loose architrave to both sides of door frame including touch up decorations to match existing."]
["3840AA","THRESHOLD:RENEW TO DOOR OPENING","CARPENTRY AND JOINERY","Skirtings, Rails and Architraves","Thresholds to Door Opernings","IT",12.29,{"$f":"SUMIF('Contractor##'!C:C,'Planned Maint v6.2 CSV File'!C:C,'Contractor##'!F:F)","v":-0.1135},10.895084999999998,"Threshold:Renew 19x150mm twice splayed and twice rounded hardwood door threshold ne 1.00m long including notch and fit ends and decorate to match existing and remove waste and debris."]
["3840BA","THRESHOLD:RESECURE LOOSE","CARPENTRY AND JOINERY","Skirtings, Rails and Architraves","Thresholds to Door Opernings","IT",5.93,{"$f":"SUMIF('Contractor##'!C:C,'Planned Maint v6.2 CSV File'!C:C,'Contractor##'!F:F)","v":-0.1135},5.2569449999999991,"Threshold:Resecure loose door threshold."]
["3840CA","THRESHOLD:REMOVE FOR ACCESS","CARPENTRY AND JOINERY","Skirtings, Rails and Architraves","Thresholds to Door Opernings","NO",6.87,{"$f":"SUMIF('Contractor##'!C:C,'Planned Maint v6.2 CSV File'!C:C,'Contractor##'!F:F)","v":-0.1135},6.090255,"Threshold:Remove any type of existing threshold to enable wheelchair access and make good."]
["3840DA","THRESHOLD:FORM RAMP FOR WHEELCHAIR","CARPENTRY AND JOINERY","Skirtings, Rails and Architraves","Thresholds to Door Opernings","IT",16.239999999999998,{"$f":"SUMIF('Contractor##'!C:C,'Planned Maint v6.2 CSV File'!C:C,'Contractor##'!F:F)","v":-0.1135},14.396759999999999,"Threshold:Form ramp for wheelchair access over any type of existing threshold and make good."]
["3850AA","SHELVING:RENEW WROT SOFTWOOD BEARERS","CARPENTRY AND JOINERY","Skirtings, Rails and Architraves","Shelving","LM",3.95,{"$f":"SUMIF('Contractor##'!C:C,'Planned Maint v6.2 CSV File'!C:C,'Contractor##'!F:F)","v":-0.1135},3.5016750000000001,"Shelving:Renew ne 20x69mm wrot softwood bearers including plug to walls and make good and decorate to match existing and remove waste and debris."]
["3850AB","SHELVING:RENEW SLATTED COMPLETE","CARPENTRY AND JOINERY","Skirtings, Rails and Architraves","Shelving","IT",33.01,{"$f":"SUMIF('Contractor##'!C:C,'Planned Maint v6.2 CSV File'!C:C,'Contractor##'!F:F)","v":-0.1135},29.263364999999997,"Shelving:Renew slatted shelving consisting of 20x44mm slats at 75mm centres on and including 25x50mm cross bearers at 500mm centres and remove waste and debris."]
["3850AC","SHELVING:MELAMINE FACED NE 300MM","CARPENTRY AND JOINERY","Skirtings, Rails and Architraves","Shelving","LM",7.29,{"$f":"SUMIF('Contractor##'!C:C,'Planned Maint v6.2 CSV File'!C:C,'Contractor##'!F:F)","v":-0.1135},6.4625849999999998,"Shelving:Supply and fix melamine faced chipboard shelving ne 300mm wide cut to length and fix to bearers or brackets."]
["3850AD","SHELVING:12MM PLYWOOD HARDWOOD EDGED NE 300MM","CARPENTRY AND JOINERY","Skirtings, Rails and Architraves","Shelving","LM",13.48,{"$f":"SUMIF('Contractor##'!C:C,'Planned Maint v6.2 CSV File'!C:C,'Contractor##'!F:F)","v":-0.1135},11.95002,"Shelving:Renew 12mm plywood ne 300mm wide, cut to length with hardwood edging glued and pinned and fix to bearers or brackets and decorate to match existing and remove waste and debris."]
["3860AA","WINDOWBOARD:RENEW SOFTWOOD","CARPENTRY AND JOINERY","Skirtings, Rails and Architraves","Windowboards","LM",26.6,{"$f":"SUMIF('Contractor##'!C:C,'Planned Maint v6.2 CSV File'!C:C,'Contractor##'!F:F)","v":-0.1135},23.5809,"Windowboard:Renew ne 25x300mm softwood windowboard plugged, screwed and pellated to brickwork, make good plasterwork and decorations and decorate to match existing and remove waste and debris."]
["3860AB","WINDOWBOARD:RENEW MDF","CARPENTRY AND JOINERY","Skirtings, Rails and Architraves","Windowboards","LM",25.23,{"$f":"SUMIF('Contractor##'!C:C,'Planned Maint v6.2 CSV File'!C:C,'Contractor##'!F:F)","v":-0.1135},22.366395000000001,"Windowboard:Renew ne 25x300mm MDF windowboard plugged, screwed and pellated to brickwork, make good plasterwork and decorations and decorate to match existing and remove waste and debris."]
["3860AC","WINDOWBOARD:RENEW HARDWOOD","CARPENTRY AND JOINERY","Skirtings, Rails and Architraves","Windowboards","LM",36.14,{"$f":"SUMIF('Contractor##'!C:C,'Planned Maint v6.2 CSV File'!C:C,'Contractor##'!F:F)","v":-0.1135},32.038109999999996,"Windowboard:Renew ne 25x300mm hardwood windowboard plugged, screwed and pellated to brickwork, make good plasterwork and decorations and decorate to match existing and remove waste and debris."]
["3861BA","WINDOWBOARD:RENEW PVCU","CARPENTRY AND JOINERY","Skirtings, Rails and Architraves","Windowboards","LM",27.72,{"$f":"SUMIF('Contractor##'!C:C,'Planned Maint v6.2 CSV File'!C:C,'Contractor##'!F:F)","v":-0.1135},{"$f":"(1+H1412)*G1412","v":24.573779999999999},"Windowboard:Renew existing with PVCu ne 25x300mm windowboard fixed with approved adhesive or other approved concealed fixing method to brickwork, make good plasterwork and decorations."]
["3861BC","FILLET:PROVIDE PVCU COVER","CARPENTRY AND JOINERY","Skirtings, Rails and Architraves","Windowboards","LM",2.23,{"$f":"SUMIF('Contractor##'!C:C,'Planned Maint v6.2 CSV File'!C:C,'Contractor##'!F:F)","v":-0.1135},1.9768949999999998,"Fillet:Provide 19mm PVCu quadrant cover fillet fixed with approved adhesive or other approved concealed fixing method internally around windows or door frames, make good plasterwork and decorations."]
["3861CA","WINDOWBOARD:REFIX LOOSE","CARPENTRY AND JOINERY","Skirtings, Rails and Architraves","Windowboards","NO",5,{"$f":"SUMIF('Contractor##'!C:C,'Planned Maint v6.2 CSV File'!C:C,'Contractor##'!F:F)","v":-0.1135},4.4325000000000001,"Windowboard:Refix any size or type of loose cillboard to window including removing if necessary, make good plasterwork."]
["3870AA","DUCT:RENEW PLYWOOD DUCT CASING NE 300MM","CARPENTRY AND JOINERY","Skirtings, Rails and Architraves","Duct Casings","LM",14.72,{"$f":"SUMIF('Contractor##'!C:C,'Planned Maint v6.2 CSV File'!C:C,'Contractor##'!F:F)","v":-0.1135},13.04928,"Duct:Renew pipe duct casing with 6mm plywood casing upto 300mm wide, screw to framing with brass cups and screws and prepare for redecoration, and remove waste and debris."]
["3870AB","DUCT:RENEW PLYWOOD DUCT CASING OVER 300MM","CARPENTRY AND JOINERY","Skirtings, Rails and Architraves","Duct Casings","SM",36.950000000000003,{"$f":"SUMIF('Contractor##'!C:C,'Planned Maint v6.2 CSV File'!C:C,'Contractor##'!F:F)","v":-0.1135},32.756174999999999,"Duct:Renew pipe duct casing with 6mm plywood casing over 300mm wide, screw to framing with brass cups and screws and prepare for redecoration, and remove waste and debris."]
["3870AC","DUCT:RENEW PLYWOOD SIDED CASING NE 450MM","CARPENTRY AND JOINERY","Skirtings, Rails and Architraves","Duct Casings","LM",31.51,{"$f":"SUMIF('Contractor##'!C:C,'Planned Maint v6.2 CSV File'!C:C,'Contractor##'!F:F)","v":-0.1135},27.933615,"Duct:Renew two or three sided pipe duct casing ne 450mm girth and framing with 6mm plywood casing sides screwed with brass cups and screws to and including 38x50mm framing including plug and screw to walls, form access points as necessary and prepare for redecoration, and remove waste and debris."]
["3870AE","DUCT:RENEW PLASTERBOARD CASING NE 300MM","CARPENTRY AND JOINERY","Skirtings, Rails and Architraves","Duct Casings","LM",18.809999999999999,{"$f":"SUMIF('Contractor##'!C:C,'Planned Maint v6.2 CSV File'!C:C,'Contractor##'!F:F)","v":-0.1135},16.675064999999996,"Duct:Renew pipe duct casing with ne 12.5mm plaster- board casing ne 300mm wide, fixed to framing and with 3mm plaster skim coat including all angles, joints to existing and prepare for redecoration, and remove waste and debris."]
["3870AF","DUCT:RENEW PLASTERBOARD CASING OVER 300MM","CARPENTRY AND JOINERY","Skirtings, Rails and Architraves","Duct Casings","SM",41.37,{"$f":"SUMIF('Contractor##'!C:C,'Planned Maint v6.2 CSV File'!C:C,'Contractor##'!F:F)","v":-0.1135},36.674504999999996,"Duct:Renew pipe duct casing with ne 12.5mm plaster- board casing exc 300mm wide, fixed to framing and with 3mm plaster skim coat, form all angles and joints to existing and prepare for redecoration, and remove waste and debris."]
["3870AG","DUCT:RENEW PLASTERBOARD SIDED NE 450MM","CARPENTRY AND JOINERY","Skirtings, Rails and Architraves","Duct Casings","LM",33.67,{"$f":"SUMIF('Contractor##'!C:C,'Planned Maint v6.2 CSV File'!C:C,'Contractor##'!F:F)","v":-0.1135},29.848455000000001,"Duct:Renew two or three sided pipe duct casing ne 450mm girth and framing with 12.5mm plasterboard fixed to and including 38x50mm framing including plug and screw to walls, form access points as necessary, form all angles and joints to existing and prepare for redecoration, and remove waste and debris."]
["3870CA","DUCT:FORM ACCESS PANEL IN EXISTING","CARPENTRY AND JOINERY","Skirtings, Rails and Architraves","Duct Casings","IT",34.71,{"$f":"SUMIF('Contractor##'!C:C,'Planned Maint v6.2 CSV File'!C:C,'Contractor##'!F:F)","v":-0.1135},30.770415,"Duct:Form access panel in existing duct casing, remove plywood casing as necessary, cut out and form access panel fixed with brass cups and screws including all additional framing and make good decorations to match existing and remove waste and debris."]
["3870XA","DUCT:RENEW PLYWOOD SIDED CASING - 450MM","CARPENTRY AND JOINERY","Skirtings, Rails and Architraves","Duct Casings","LM",31.51,{"$f":"SUMIF('Contractor##'!C:C,'Planned Maint v6.2 CSV File'!C:C,'Contractor##'!F:F)","v":-0.1135},27.933615,"Duct:Renew or form two or three sided pipe duct casing ne 450mm girth and framing with 6mm plywood casing sides screwed with brass cups and screws to and including 38x50mm framing including plug and screw to walls, form access points as necessary and prepare for redecoration, and remove waste and debris."]
["3870XB","DUCT:RENEW PLYWOOD SIDED CASING - 300MM","CARPENTRY AND JOINERY","Skirtings, Rails and Architraves","Duct Casings","LM",21,{"$f":"SUMIF('Contractor##'!C:C,'Planned Maint v6.2 CSV File'!C:C,'Contractor##'!F:F)","v":-0.1135},18.616499999999998,"Duct:Renew or form two or three sided pipe duct casing ne 300mm girth and framing with 6mm plywood casing sides screwed with brass cups and screws to and including 38x50mm framing including plug and screw to walls, form access points as necessary and prepare for redecoration, and remove waste and debris."]
["3901AA","HINGES:RENEW 63MM STORMPROOF","CARPENTRY AND JOINERY","Ironmongery","Butts, Hinges, etc","PR",7.3,{"$f":"SUMIF('Contractor##'!C:C,'Planned Maint v6.2 CSV File'!C:C,'Contractor##'!F:F)","v":-0.1135},6.4714499999999999,"Hinges:Renew pair of 63mm anodised steel stormproof hinges including remove and rehang casement."]
["3901AB","HINGES:RENEW PAIR OF FRICTION PIVOTS","CARPENTRY AND JOINERY","Ironmongery","Butts, Hinges, etc","PR",36.6,{"$f":"SUMIF('Contractor##'!C:C,'Planned Maint v6.2 CSV File'!C:C,'Contractor##'!F:F)","v":-0.1135},32.445900000000002,"Hinges:Renew pair of friction hinges to pivot window including remove and refix casement."]
["3901AC","HINGES:RENEW STEEL BUTT HINGES","CARPENTRY AND JOINERY","Ironmongery","Butts, Hinges, etc","IT",11.53,{"$f":"SUMIF('Contractor##'!C:C,'Planned Maint v6.2 CSV File'!C:C,'Contractor##'!F:F)","v":-0.1135},10.221344999999999,"Hinges:Renew ne 1.5 pairs 100mm mild steel butt hinges, ease and adjust door, make good to recesses in frame."]
["3901AD","HINGES:RENEW BRASS BUTT HINGES","CARPENTRY AND JOINERY","Ironmongery","Butts, Hinges, etc","IT",20.02,{"$f":"SUMIF('Contractor##'!C:C,'Planned Maint v6.2 CSV File'!C:C,'Contractor##'!F:F)","v":-0.1135},17.747729999999997,"Hinges:Renew ne 1.5 pairs 100mm brass butt hinges, ease and adjust door, make good to recesses in frame."]
["3901AE","HINGES:RENEW PAIR TEE HINGES","CARPENTRY AND JOINERY","Ironmongery","Butts, Hinges, etc","PR",12.27,{"$f":"SUMIF('Contractor##'!C:C,'Planned Maint v6.2 CSV File'!C:C,'Contractor##'!F:F)","v":-0.1135},10.877355,"Hinges:Renew pair of 300mm galvanised tee hinges, ease and adjust door, make good to frame."]
["3903AA","FASTENER:RENEW ANY TYPE OF SASH FASTENER","CARPENTRY AND JOINERY","Ironmongery","Sliding Sash Fittings","NO",10.3,{"$f":"SUMIF('Contractor##'!C:C,'Planned Maint v6.2 CSV File'!C:C,'Contractor##'!F:F)","v":-0.1135},9.1309500000000003,"Fastener:Renew or supply and fix new any type of sash fastener including make good and touch up decorations."]
["3903AB","LIFT:RENEW SASH LIFT","CARPENTRY AND JOINERY","Ironmongery","Sliding Sash Fittings","NO",7.05,{"$f":"SUMIF('Contractor##'!C:C,'Planned Maint v6.2 CSV File'!C:C,'Contractor##'!F:F)","v":-0.1135},6.2498249999999995,"Lift:Renew or supply and fix new sash lift."]
["3903AC","BOLT:RENEW SASH BOLT","CARPENTRY AND JOINERY","Ironmongery","Sliding Sash Fittings","NO",15.25,{"$f":"SUMIF('Contractor##'!C:C,'Planned Maint v6.2 CSV File'!C:C,'Contractor##'!F:F)","v":-0.1135},13.519124999999999,"Bolt:Renew or supply and fix new lockable sash bolt to centre rail of sliding sash timber windows including make good and touch up decorations, hand key to Tenant."]
["3903AD","LOCK:RENEW PAIR OF SASH LOCKS","CARPENTRY AND JOINERY","Ironmongery","Sliding Sash Fittings","PR",42.6,{"$f":"SUMIF('Contractor##'!C:C,'Planned Maint v6.2 CSV File'!C:C,'Contractor##'!F:F)","v":-0.1135},37.764899999999997,"Lock:Renew or supply and fix new pair of lockable sash locks to restrict opening of sliding sash timber windows, including make good and touch up decoratations, hand key to Tenant."]
["3903AE","SASH PINS:RENEW PAIR SASH PINS","CARPENTRY AND JOINERY","Ironmongery","Sliding Sash Fittings","PR",27.29,{"$f":"SUMIF('Contractor##'!C:C,'Planned Maint v6.2 CSV File'!C:C,'Contractor##'!F:F)","v":-0.1135},24.192584999999998,"Sash Pins:Renew or supply and fix new pair of dual sash pins to centre rail of sliding sash timber windows, including make good and touch up decorations, hand key to Tenant."]
["3904AA","WINDOW:RELOCATE ANY WINDOW FITTING","CARPENTRY AND JOINERY","Windows","Windows Adaptations and Ironmongery","NO",4.9400000000000004,{"$f":"SUMIF('Contractor##'!C:C,'Planned Maint v6.2 CSV File'!C:C,'Contractor##'!F:F)","v":-0.1135},4.3793100000000003,"Window:Remove and refix in suitable position any window fitting including make good where fitting removed and touch up decorations to match existing, and remove waste and debris."]
["3904AB","WINDOW:REPLACE WITH EXTENDED ARM STAY","CARPENTRY AND JOINERY","Windows","Windows Adaptations and Ironmongery","NO",20.82,{"$f":"SUMIF('Contractor##'!C:C,'Planned Maint v6.2 CSV File'!C:C,'Contractor##'!F:F)","v":-0.1135},18.45693,"Window:Remove any existing stay and supply and fix sliding stay with extended arm to suit special needs requirements including make good and touch up decorations to match existing, and remove waste and debris."]
["3904AC","WINDOW:SUPPLY AND FIX TELEFLEX GEAR","CARPENTRY AND JOINERY","Windows","Windows Adaptations and Ironmongery","NO",220.43,{"$f":"SUMIF('Contractor##'!C:C,'Planned Maint v6.2 CSV File'!C:C,'Contractor##'!F:F)","v":-0.1135},195.41119499999999,"Window:Remove existing window fastener and supply and fix 'Teleflex' or similar approved operating gear to any opening casement and make good including touch up decorations to match existing, and remove waste and debris."]
["3904AD","WINDOW:SUPPLY AND FIX CHAIN DRIVE HANDLE","CARPENTRY AND JOINERY","Windows","Windows Adaptations and Ironmongery","NO",74.48,{"$f":"SUMIF('Contractor##'!C:C,'Planned Maint v6.2 CSV File'!C:C,'Contractor##'!F:F)","v":-0.1135},66.026520000000005,"Window:Remove existing window fastener and supply and fix chain driven window fastener with operating handle including make good and touch up decorations to match existing, and remove waste and debris."]
["3905AA","CLOSER:RENEW LIGHT DUTY OVERHEAD","CARPENTRY AND JOINERY","Ironmongery","Door Closers","NO",39.93,{"$f":"SUMIF('Contractor##'!C:C,'Planned Maint v6.2 CSV File'!C:C,'Contractor##'!F:F)","v":-0.1135},35.397945,"Closer:Renew light duty overhead door closer screwed to door and frame."]
["3905AB","CLOSER:RENEW HEAVY DUTY OVERHEAD","CARPENTRY AND JOINERY","Ironmongery","Door Closers","NO",52.6,{"$f":"SUMIF('Contractor##'!C:C,'Planned Maint v6.2 CSV File'!C:C,'Contractor##'!F:F)","v":-0.1135},46.629899999999999,"Closer:Renew heavy duty overhead door closer screwed to door and frame."]
["3905BA","CLOSER:RENEW OR SUPPLY PERKO TYPE","CARPENTRY AND JOINERY","Ironmongery","Door Closers","NO",9.81,{"$f":"SUMIF('Contractor##'!C:C,'Planned Maint v6.2 CSV File'!C:C,'Contractor##'!F:F)","v":-0.1135},8.6965649999999997,"Closer:Renew or supply and fix Perko type concealed door closer screwed to door and frame, including remove and refix door or door stop as necessary."]
["3905CA","CLOSER:EASE AND ADJUST ANY TYPE","CARPENTRY AND JOINERY","Ironmongery","Door Closers","NO",4.8099999999999996,{"$f":"SUMIF('Contractor##'!C:C,'Planned Maint v6.2 CSV File'!C:C,'Contractor##'!F:F)","v":-0.1135},4.2640649999999996,"Closer:Ease and adjust any type door closer."]
["3906AA","FLOOR SPRING:RENEW SINGLE ACTION","CARPENTRY AND JOINERY","Ironmongery","Floor Springs","NO",176.45,{"$f":"SUMIF('Contractor##'!C:C,'Planned Maint v6.2 CSV File'!C:C,'Contractor##'!F:F)","v":-0.1135},156.42292499999999,"Floor Spring:Renew or supply and install single action hydraulic check for door maximum 2150x850mm complete with top plate, loose box 57mm deep for concrete, top centre and shoe, remove existing floor spring or form recess in floor, fix in position as manufacturer’s instructions, ease and adjust door, make good floor finishes and all other works disturbed and remove waste and debris.complete, remove existing or form recess in floor, fix as manufacturer’s instructions, make good and remove waste and debris."]
["3906AB","FLOOR SPRING:RENEW DOUBLE ACTION","CARPENTRY AND JOINERY","Ironmongery","Floor Springs","NO",244.06,{"$f":"SUMIF('Contractor##'!C:C,'Planned Maint v6.2 CSV File'!C:C,'Contractor##'!F:F)","v":-0.1135},216.35918999999998,"Floor Spring:Renew or install double action hydraulic check for door maximum 2150x850mm complete with top plate, adjustable loose box 59mm deep for concrete, adjustable top centre and shoe, remove existing floor spring or form recess in floor, fix in position as manufacturer’s instructions, ease and adjust door, make good floor finishes and all other works disturbed and remove waste and debris."]
["3906BA","FLOOR SPRING:OVERHAUL","CARPENTRY AND JOINERY","Ironmongery","Floor Springs","NO",16.559999999999999,{"$f":"SUMIF('Contractor##'!C:C,'Planned Maint v6.2 CSV File'!C:C,'Contractor##'!F:F)","v":-0.1135},14.680439999999997,"Floor Spring:Overhaul and maintain floor spring to door, including ease and adjust, oil moving parts."]
["3907AA","SLIDING DOOR GEAR:RENEW","CARPENTRY AND JOINERY","Ironmongery","Sliding Door Gear","NO",49.24,{"$f":"SUMIF('Contractor##'!C:C,'Planned Maint v6.2 CSV File'!C:C,'Contractor##'!F:F)","v":-0.1135},43.651260000000001,"Sliding Door Gear:Remove existing sliding door gear and renew with anodised aluminium or plastic double track sliding door gear to pair of wardrobe doors maximum 1.5m opening, including removing and rehanging doors."]
["3909AA","RIMLOCK:RENEW COMPLETE","CARPENTRY AND JOINERY","Ironmongery","Locks","NO",73.95,{"$f":"SUMIF('Contractor##'!C:C,'Planned Maint v6.2 CSV File'!C:C,'Contractor##'!F:F)","v":-0.1135},65.556674999999998,"Rimlock:Renew rimlock, keep and set of rimlock furniture, including altering door as necessary for new lock and housing out existing frame as necessary and provide two new keys."]
["3909AB","LOCK:RENEW MORTICE COMPLETE","CARPENTRY AND JOINERY","Ironmongery","Locks","NO",30.64,{"$f":"SUMIF('Contractor##'!C:C,'Planned Maint v6.2 CSV File'!C:C,'Contractor##'!F:F)","v":-0.1135},27.16236,"Lock:Renew mortice lock, keep and set of anodised aluminium lever handle furniture including altering door as necessary for new lock and provide two new keys."]
["3909AC","LOCK:RENEW MORTICE DEADLOCK","CARPENTRY AND JOINERY","Ironmongery","Locks","NO",26.09,{"$f":"SUMIF('Contractor##'!C:C,'Planned Maint v6.2 CSV File'!C:C,'Contractor##'!F:F)","v":-0.1135},23.128784999999997,"Lock:Renew mortice deadlock, keep and set of escutcheons including altering door as necessary for new lock and provide two new keys."]
["3909AD","LOCK:RENEW 5L MORTICE COMPLETE","CARPENTRY AND JOINERY","Ironmongery","Locks","NO",23.13,{"$f":"SUMIF('Contractor##'!C:C,'Planned Maint v6.2 CSV File'!C:C,'Contractor##'!F:F)","v":-0.1135},20.504745,"Lock:Renew 5 lever mortice lock, keep and set of anodised aluminium lever handle furniture including altering door as necessary for new lock and provide two new keys."]
["3909AE","LOCK:RENEW 5L MORTICE DEADLOCK","CARPENTRY AND JOINERY","Ironmongery","Locks","NO",63.24,{"$f":"SUMIF('Contractor##'!C:C,'Planned Maint v6.2 CSV File'!C:C,'Contractor##'!F:F)","v":-0.1135},56.062260000000002,"Lock:Renew 5 lever mortice deadlock, keep and set of escutcheons including altering door as necessary for new lock and provide two new keys."]
["3909AF","LOCK:RENEW WITH 5L MORTICE","CARPENTRY AND JOINERY","Ironmongery","Locks","NO",35.630000000000003,{"$f":"SUMIF('Contractor##'!C:C,'Planned Maint v6.2 CSV File'!C:C,'Contractor##'!F:F)","v":-0.1135},31.585995,"Lock:Renew rimlock with 5 lever mortice lock, keep and set of anodised aluminium lever handle furniture, including altering door as necessary for new lock and provide two new keys."]
["3909BA","DOOR:RENEW MULTIPOINT LOCK","CARPENTRY AND JOINERY","Ironmongery","Locks","NO",141.06,{"$f":"SUMIF('Contractor##'!C:C,'Planned Maint v6.2 CSV File'!C:C,'Contractor##'!F:F)","v":-0.1135},125.04969,"Door:Renew any defective or broken multipoint door locking system complete to any type of door, adapt keep if necessary, including remove existing, test and leave in proper working order and provide two new keys."]
["3909CA","LOCK:RENEW EUROLOCK COMPLETE","CARPENTRY AND JOINERY","Ironmongery","Locks","NO",33.479999999999997,{"$f":"SUMIF('Contractor##'!C:C,'Planned Maint v6.2 CSV File'!C:C,'Contractor##'!F:F)","v":-0.1135},29.680019999999995,"Lock:Renew ‘eurolock’ lock, keep and set of anodised aluminium lever handle furniture including altering door as necessary for new lock and provide two new keys."]
["3909FA","LOCK:SUPPLY THUMB-TURN TYPE LOCK","CARPENTRY AND JOINERY","Ironmongery","Locks","NO",40.31,{"$f":"SUMIF('Contractor##'!C:C,'Planned Maint v6.2 CSV File'!C:C,'Contractor##'!F:F)","v":-0.1135},35.734814999999998,"Lock:Supply and fix thumb-turn type lock to fire door."]
["3909GA","LOCK:OVERHAUL ANY LOCK COMPLETE","CARPENTRY AND JOINERY","Ironmongery","Locks","NO",7.84,{"$f":"SUMIF('Contractor##'!C:C,'Planned Maint v6.2 CSV File'!C:C,'Contractor##'!F:F)","v":-0.1135},6.9501599999999994,"Lock:Remove any type of lock and furniture, dismantle, overhaul, repair, oil and assemble and refix to door."]
["3911AA","LATCH:RENEW MORTICE LATCH COMPLETE","CARPENTRY AND JOINERY","Ironmongery","Latches","NO",17.510000000000002,{"$f":"SUMIF('Contractor##'!C:C,'Planned Maint v6.2 CSV File'!C:C,'Contractor##'!F:F)","v":-0.1135},15.522615,"Latch:Renew mortice latch, keep and set of anodised aluminium lever handle furniture including altering door as necessary for new latch."]
["3911BA","LATCH:OVERHAUL LATCH AND FURNITURE","CARPENTRY AND JOINERY","Ironmongery","Latches","NO",6.5,{"$f":"SUMIF('Contractor##'!C:C,'Planned Maint v6.2 CSV File'!C:C,'Contractor##'!F:F)","v":-0.1135},5.7622499999999999,"Latch:Remove mortice latch and furniture, dismantle, overhaul, repair, oil and assemble and refix to door."]
["3913AA","NIGHTLATCH:RENEW COMPLETE","CARPENTRY AND JOINERY","Ironmongery","Cylinder Night Latches","NO",52.17,{"$f":"SUMIF('Contractor##'!C:C,'Planned Maint v6.2 CSV File'!C:C,'Contractor##'!F:F)","v":-0.1135},46.248705000000001,"Nightlatch:Renew cylinder rim night latch, keep and pull handle, including altering door as necessary for new latch and provide two new keys."]
["3913AB","NIGHTLATCH:RENEW CYLINDER BARREL","CARPENTRY AND JOINERY","Ironmongery","Cylinder Night Latches","NO",19.309999999999999,{"$f":"SUMIF('Contractor##'!C:C,'Planned Maint v6.2 CSV File'!C:C,'Contractor##'!F:F)","v":-0.1135},17.118314999999999,"Nightlatch:Renew cylinder barrel to night latch and provide two new keys."]
["3913AC","NIGHTLATCH:RENEW SUITED CYLINDER BARREL","CARPENTRY AND JOINERY","Ironmongery","Cylinder Night Latches","NO",10.050000000000001,{"$f":"SUMIF('Contractor##'!C:C,'Planned Maint v6.2 CSV File'!C:C,'Contractor##'!F:F)","v":-0.1135},8.9093250000000008,"Nightlatch:Renew suited cylinder to nightlatch and provide two keys."]
["3913AD","NIGHTLATCH:OVERHAUL COMPLETE","CARPENTRY AND JOINERY","Ironmongery","Cylinder Night Latches","NO",7.84,{"$f":"SUMIF('Contractor##'!C:C,'Planned Maint v6.2 CSV File'!C:C,'Contractor##'!F:F)","v":-0.1135},6.9501599999999994,"Nightlatch:Remove any type of cylinder nightlatch dismantle, overhaul, repair, oil and assemble and refix to door."]
["3913BA","LOCK:RENEW WITH KEYPAD TYPE – DOMESTIC STANDARD","CARPENTRY AND JOINERY","Ironmongery","Cylinder Night Latches","NO",44.06,{"$f":"SUMIF('Contractor##'!C:C,'Planned Maint v6.2 CSV File'!C:C,'Contractor##'!F:F)","v":-0.1135},39.059190000000001,"Lock:Renew any night latch with domestic standard keypad type lock, keep and pull including altering door as necessary for new lock."]
["3913BB","LOCK:RENEW WITH KEYPAD TYPE – HEAVY DUTY","CARPENTRY AND JOINERY","Ironmongery","Cylinder Night Latches","NO",100.63,{"$f":"SUMIF('Contractor##'!C:C,'Planned Maint v6.2 CSV File'!C:C,'Contractor##'!F:F)","v":-0.1135},89.208494999999985,"Lock:Renew any night latch with heavy duty keypad and key type lock, keep and pull including altering door as necessary for new lock."]
["3915AA","CATCH:RENEW CATCH AND KEEP","CARPENTRY AND JOINERY","Ironmongery","Roller and Ball Catches","NO",8.61,{"$f":"SUMIF('Contractor##'!C:C,'Planned Maint v6.2 CSV File'!C:C,'Contractor##'!F:F)","v":-0.1135},7.6327649999999991,"Catch:Renew catch and keep including altering door as necessary for new catch and housing out frame for keep."]
["3915AB","CUPBOARD:RENEW 50MM BRASS LOCK","CARPENTRY AND JOINERY","Ironmongery","Roller and Ball Catches","NO",14.23,{"$f":"SUMIF('Contractor##'!C:C,'Planned Maint v6.2 CSV File'!C:C,'Contractor##'!F:F)","v":-0.1135},12.614894999999999,"Cupboard:Renew 50mm brass cupboard lock."]
["3917AA","BOLT:RENEW NE 250MM PADBOLT","CARPENTRY AND JOINERY","Ironmongery","Bolts, Security Bolts, Panic Bolts and Padlocks","NO",7.54,{"$f":"SUMIF('Contractor##'!C:C,'Planned Maint v6.2 CSV File'!C:C,'Contractor##'!F:F)","v":-0.1135},6.6842099999999993,"Bolt:Renew ne 250mm galvanised approved padbolt."]
["3917AB","BOLT:RENEW 200MM TOWER BOLT","CARPENTRY AND JOINERY","Ironmongery","Bolts, Security Bolts, Panic Bolts and Padlocks","NO",6.08,{"$f":"SUMIF('Contractor##'!C:C,'Planned Maint v6.2 CSV File'!C:C,'Contractor##'!F:F)","v":-0.1135},5.38992,"Bolt:Renew 200mm tower bolt and keep."]
["3917AC","BOLT:RENEW NE 150MM BARREL BOLT","CARPENTRY AND JOINERY","Ironmongery","Bolts, Security Bolts, Panic Bolts and Padlocks","NO",3.54,{"$f":"SUMIF('Contractor##'!C:C,'Planned Maint v6.2 CSV File'!C:C,'Contractor##'!F:F)","v":-0.1135},3.1382099999999999,"Bolt:Renew ne 150mm barrel bolt and keep."]
["3917AD","BOLT:RENEW INDICATOR BOLT","CARPENTRY AND JOINERY","Ironmongery","Bolts, Security Bolts, Panic Bolts and Padlocks","NO",10.39,{"$f":"SUMIF('Contractor##'!C:C,'Planned Maint v6.2 CSV File'!C:C,'Contractor##'!F:F)","v":-0.1135},9.2107349999999997,"Bolt:Renew 175mm SAA bathroom indicator bolt and keep."]
["3917AE","BOLT:RENEW MORTICE SECURITY BOLT","CARPENTRY AND JOINERY","Ironmongery","Bolts, Security Bolts, Panic Bolts and Padlocks","NO",33.28,{"$f":"SUMIF('Contractor##'!C:C,'Planned Maint v6.2 CSV File'!C:C,'Contractor##'!F:F)","v":-0.1135},29.50272,"Bolt:Renew or supply and fix new mortice security bolt with key operation and keep"]
["3917AF","BOLT:RENEW SINGLE PANIC BOLT","CARPENTRY AND JOINERY","Ironmongery","Bolts, Security Bolts, Panic Bolts and Padlocks","NO",48.81,{"$f":"SUMIF('Contractor##'!C:C,'Planned Maint v6.2 CSV File'!C:C,'Contractor##'!F:F)","v":-0.1135},43.270065000000002,"Bolt:Renew approved SAA panic bolt and keep to single door."]
["3917AG","BOLT:RENEW FIRE SECURITY BOLT","CARPENTRY AND JOINERY","Ironmongery","Bolts, Security Bolts, Panic Bolts and Padlocks","NO",48.33,{"$f":"SUMIF('Contractor##'!C:C,'Planned Maint v6.2 CSV File'!C:C,'Contractor##'!F:F)","v":-0.1135},42.844544999999997,"Bolt:Renew fire security bolt, surface fixed to emergency exit doors comprising metal bolt held extended by clear glass tube retained by padlock including keep, hammer and chain."]
["3917AH","HASP:RENEW WITH PADLOCK","CARPENTRY AND JOINERY","Ironmongery","Bolts, Security Bolts, Panic Bolts and Padlocks","NO",19.14,{"$f":"SUMIF('Contractor##'!C:C,'Planned Maint v6.2 CSV File'!C:C,'Contractor##'!F:F)","v":-0.1135},16.967610000000001,"Hasp:Renew any type of hasp, staple and 50mm galvanised approved padlock, supply two keys and hand keys to Client’s Representative."]
["3917AJ","BOLT:RENEW GLASS TO FIRE SECURITY BOLT","CARPENTRY AND JOINERY","Ironmongery","Bolts, Security Bolts, Panic Bolts and Padlocks","NO",6.38,{"$f":"SUMIF('Contractor##'!C:C,'Planned Maint v6.2 CSV File'!C:C,'Contractor##'!F:F)","v":-0.1135},5.6558699999999993,"Bolt:Renew glass tube to fire security bolt including reset."]
["3917AK","BOLT AND KEEP:REMOVE EASE AND REFIX","CARPENTRY AND JOINERY","Ironmongery","Bolts, Security Bolts, Panic Bolts and Padlocks","NO",3.15,{"$f":"SUMIF('Contractor##'!C:C,'Planned Maint v6.2 CSV File'!C:C,'Contractor##'!F:F)","v":-0.1135},2.7924749999999996,"Bolt and Keep:Remove barrel bolt or bolt keep, oil and ease as necessary and refix bolt and or bolt keep in new position."]
["3917AL","PADLOCK:RENEW OR SUPPLY PADLOCK","CARPENTRY AND JOINERY","Ironmongery","Bolts, Security Bolts, Panic Bolts and Padlocks","NO",8.42,{"$f":"SUMIF('Contractor##'!C:C,'Planned Maint v6.2 CSV File'!C:C,'Contractor##'!F:F)","v":-0.1135},{"$f":"(1+H1476)*G1476","v":7.4643299999999995},"Padlock:Renew or supply and fix 50mm galvanised approved padlock with two keys and hand to Client’s Representative."]
["3919AA","WINDOW FITTINGS:RENEW BRASS CASEMENT CATCH","CARPENTRY AND JOINERY","Ironmongery","Fittings to Timber Windows","NO",11.6,{"$f":"SUMIF('Contractor##'!C:C,'Planned Maint v6.2 CSV File'!C:C,'Contractor##'!F:F)","v":-0.1135},10.283399999999999,"Window Fittings:Renew brass casement catch and keep to timber window."]
["3919AB","WINDOW FITTINGS:RENEW BRASS STAY AND FASTENER","CARPENTRY AND JOINERY","Ironmongery","Fittings to Timber Windows","NO",11.81,{"$f":"SUMIF('Contractor##'!C:C,'Planned Maint v6.2 CSV File'!C:C,'Contractor##'!F:F)","v":-0.1135},10.469564999999999,"Window Fittings:Renew any brass casement stay and two pin fastener and fix to timber window."]
["3919BA","WINDOW FITTINGS:RENEW AA CASEMENT CATCH","CARPENTRY AND JOINERY","Ironmongery","Fittings to Timber Windows","NO",15.4,{"$f":"SUMIF('Contractor##'!C:C,'Planned Maint v6.2 CSV File'!C:C,'Contractor##'!F:F)","v":-0.1135},13.652099999999999,"Window Fittings:Renew anodised aluminium standard or offset casement catch and keep to timber window."]
["3919BB","WINDOW FITTINGS:RENEW AA STAY AND FASTENER","CARPENTRY AND JOINERY","Ironmongery","Fittings to Timber Windows","NO",8.73,{"$f":"SUMIF('Contractor##'!C:C,'Planned Maint v6.2 CSV File'!C:C,'Contractor##'!F:F)","v":-0.1135},7.7391449999999997,"Window Fittings:Renew any anodised aluminium casement stay and two pin fastener and fix to timber window."]
["3919CA","WINDOW FITTINGS: RENEW ZINC ALLOY CASEMENT CATCH","CARPENTRY AND JOINERY","Ironmongery","Fittings to Timber Windows","NO",7.78,{"$f":"SUMIF('Contractor##'!C:C,'Planned Maint v6.2 CSV File'!C:C,'Contractor##'!F:F)","v":-0.1135},6.8969699999999996,"Window Fittings:Renew epoxy coated zinc alloy standard or offset casement catch and keep to timber window."]
["3919CB","WINDOW FITTINGS:RENEW ZINC ALLOY STAY AND FASTENER","CARPENTRY AND JOINERY","Ironmongery","Fittings to Timber Windows","NO",11.24,{"$f":"SUMIF('Contractor##'!C:C,'Planned Maint v6.2 CSV File'!C:C,'Contractor##'!F:F)","v":-0.1135},9.9642599999999995,"Window Fittings:Renew any epoxy coated zinc alloy casement stay and two pin fastener and fix to timber window"]
["3919DA","WINDOW FITTINGS:RENEW GALVANISED SAFETY FASTENER","CARPENTRY AND JOINERY","Ironmongery","Fittings to Timber Windows","NO",16.93,{"$f":"SUMIF('Contractor##'!C:C,'Planned Maint v6.2 CSV File'!C:C,'Contractor##'!F:F)","v":-0.1135},15.008444999999998,"Window Fittings:Renew galvanised safety window fastener and fix to timber window."]
["3919EA","WINDOW FITTINGS:RENEW WINDOW FASTENER","CARPENTRY AND JOINERY","Ironmongery","Fittings to Timber Windows","NO",15.57,{"$f":"SUMIF('Contractor##'!C:C,'Planned Maint v6.2 CSV File'!C:C,'Contractor##'!F:F)","v":-0.1135},13.802804999999999,"Window Fittings:Renew pivot window fastener and receiver to timber window."]
["3919FA","WINDOW FITTINGS:RENEW RESTRICTOR STAY","CARPENTRY AND JOINERY","Ironmongery","Fittings to Timber Windows","NO",21.13,{"$f":"SUMIF('Contractor##'!C:C,'Planned Maint v6.2 CSV File'!C:C,'Contractor##'!F:F)","v":-0.1135},18.731744999999997,"Window Fittings:Renew window restrictor stay to timber window."]
["3919GA","WINDOW FITTINGS:RENEW MORTICE SECURITY BOLT","CARPENTRY AND JOINERY","Ironmongery","Fittings to Timber Windows","NO",30.21,{"$f":"SUMIF('Contractor##'!C:C,'Planned Maint v6.2 CSV File'!C:C,'Contractor##'!F:F)","v":-0.1135},26.781164999999998,"Window Fittings:Renew/supply and fix new mortice security bolt with key operation and keep and fix to timber window."]
["3919HA","WINDOW FITTINGS:RENEW WITH LOCKABLE TYPE STAY ","CARPENTRY AND JOINERY","Ironmongery","Fittings to Timber Windows","NO",20.34,{"$f":"SUMIF('Contractor##'!C:C,'Planned Maint v6.2 CSV File'!C:C,'Contractor##'!F:F)","v":-0.1135},18.031409999999997,"Window Fitting:Renew any type/supply and fix new anodised aluminium lockable casement stay and two threaded pin fasteners with key operation, fix to casement or fanlight of timber window, and provide two new keys."]
["3919IA","WINDOW FITTINGS:RENEW LOCKABLE RESTRICTOR STAY","CARPENTRY AND JOINERY","Ironmongery","Fittings to Timber Windows","NO",23.3,{"$f":"SUMIF('Contractor##'!C:C,'Planned Maint v6.2 CSV File'!C:C,'Contractor##'!F:F)","v":-0.1135},20.655449999999998,"Stay:Renew any type/supply and fix new anodised aluminium lockable restrictor security stay with key operation, fix to casement or fanlight of timber window, and provide two new keys."]
["3919JA","WINDOW FITTINGS:RENEW LOCKABLE CASEMENT CATCH","CARPENTRY AND JOINERY","Ironmongery","Fittings to Timber Windows","NO",21.03,{"$f":"SUMIF('Contractor##'!C:C,'Planned Maint v6.2 CSV File'!C:C,'Contractor##'!F:F)","v":-0.1135},18.643094999999999,"Catch:Renew any type/supply and fix new anodised aluminium lockable standard or offset casement catch and keep with key operation, fix to casement of timber window, and provide two new keys."]
["3919KA","WINDOW FITTINGS:REFIX EASE ADJUST ANY TYPE","CARPENTRY AND JOINERY","Ironmongery","Fittings to Timber Windows","NO",2.56,{"$f":"SUMIF('Contractor##'!C:C,'Planned Maint v6.2 CSV File'!C:C,'Contractor##'!F:F)","v":-0.1135},2.2694399999999999,"Window Fitting:Refix, ease and adjust any loose window fitting to timber window."]
["3921AA","WINDOW FITTINGS:RENEW HINGES EAST ADJUST STEEL","CARPENTRY AND JOINERY","Ironmongery","Fittings to Steel Windows","NO",21.51,{"$f":"SUMIF('Contractor##'!C:C,'Planned Maint v6.2 CSV File'!C:C,'Contractor##'!F:F)","v":-0.1135},19.068615000000001,"Window Fittings:Renew hinges to casement sash or fanlight to window frame and ease and adjust (casement and fanlight in place)."]
["3921AB","WINDOW FITTINGS:RENEW FASTENER STAY TO STEEL SASH","CARPENTRY AND JOINERY","Ironmongery","Fittings to Steel Windows","NO",12.61,{"$f":"SUMIF('Contractor##'!C:C,'Planned Maint v6.2 CSV File'!C:C,'Contractor##'!F:F)","v":-0.1135},11.178764999999999,"Window Fittings:Renew casement fastener or fanlight stay to steel window."]
["3921AC","WINDOW FITTINGS:RENEW LOCK TO STEEL SASH","CARPENTRY AND JOINERY","Ironmongery","Fittings to Steel Windows","NO",19.170000000000002,{"$f":"SUMIF('Contractor##'!C:C,'Planned Maint v6.2 CSV File'!C:C,'Contractor##'!F:F)","v":-0.1135},16.994205000000001,"Window Fittings:Renew/supply and fix new lock with key operation to casement or fanlight to steel window, hand key to Tenant."]
["3921AD","WINDOW FITTINGS:RENEW LOCKABLE STAY TO STEEL SASH","CARPENTRY AND JOINERY","Ironmongery","Fittings to Steel Windows","NO",22.31,{"$f":"SUMIF('Contractor##'!C:C,'Planned Maint v6.2 CSV File'!C:C,'Contractor##'!F:F)","v":-0.1135},19.777814999999997,"Stay:Renew/supply and fix new lockable type restrictor stay with key operation to casement or fanlight to steel window, hand key to Tenant."]
["3921AE","WINDOW FITTING:REPAIR, EASE, ADJUST TO STEEL SASH","CARPENTRY AND JOINERY","Ironmongery","Fittings to Steel Windows","NO",6.87,{"$f":"SUMIF('Contractor##'!C:C,'Planned Maint v6.2 CSV File'!C:C,'Contractor##'!F:F)","v":-0.1135},6.090255,"Window Fitting:Repair stay, fastener or catch to steel window and check, ease and adjust."]
["3923AA","WINDOW FITTINGS:RENEW FRICTION STAY TO ALUM SASH","CARPENTRY AND JOINERY","Ironmongery","Fittings to Aluminium Windows","NO",14.88,{"$f":"SUMIF('Contractor##'!C:C,'Planned Maint v6.2 CSV File'!C:C,'Contractor##'!F:F)","v":-0.1135},13.19112,"Window Fittings:Renew friction stay to aluminium casement sash or fanlight to window frame and ease and adjust. (casement and fanlight in place)."]
["3923AB","WINDOW FITTINGS:RENEW FASTENER STAY TO ALUM SASH","CARPENTRY AND JOINERY","Ironmongery","Fittings to Aluminium Windows","NO",10.42,{"$f":"SUMIF('Contractor##'!C:C,'Planned Maint v6.2 CSV File'!C:C,'Contractor##'!F:F)","v":-0.1135},9.23733,"Window Fitting:Renew casement fastener or fanlight stay or casement stay or stay/pin to aluminium window."]
["3923AC","WINDOW FITTINGS:REPAIR, EASE, ADJUST TO ALUM SASH","CARPENTRY AND JOINERY","Ironmongery","Fittings to Aluminium Windows","NO",6.87,{"$f":"SUMIF('Contractor##'!C:C,'Planned Maint v6.2 CSV File'!C:C,'Contractor##'!F:F)","v":-0.1135},6.090255,"Window Fitting:Repair stay, fastener, catch or stay pin to ease operation of aluminium window and check, ease and adjust."]
["3925AB","DOOR FURNITURE:RENEW SET OF KNOBS TO RIMLOCK","CARPENTRY AND JOINERY","Ironmongery","Fittings to Aluminium Windows","NO",12.68,{"$f":"SUMIF('Contractor##'!C:C,'Planned Maint v6.2 CSV File'!C:C,'Contractor##'!F:F)","v":-0.1135},11.240819999999999,"Door Furniture:Renew set of rimlock knob furniture."]
["3925BA","DOOR FURNITURE:RENEW OR INSTALL VIEWER","CARPENTRY AND JOINERY","Ironmongery","Door Furniture Including Viewer, Security Chain","NO",9.14,{"$f":"SUMIF('Contractor##'!C:C,'Planned Maint v6.2 CSV File'!C:C,'Contractor##'!F:F)","v":-0.1135},8.1026100000000003,"Door Furniture:Renew or supply and fix new security door viewer including drilling/adapting hole through door as necessary and make good."]
["3925CA","DOOR FURNITURE:RENEW OR INSTALL CHAIN","CARPENTRY AND JOINERY","Ironmongery","Door Furniture Including Viewer, Security Chain","NO",7.76,{"$f":"SUMIF('Contractor##'!C:C,'Planned Maint v6.2 CSV File'!C:C,'Contractor##'!F:F)","v":-0.1135},6.8792399999999994,"Door Furniture:Renew or supply and fix new door security chain and make good."]
["3925DA","DOOR FURNITURE:SUPPLY AND FIX KICKING PLATE","CARPENTRY AND JOINERY","Ironmongery","Door Furniture Including Viewer, Security Chain","NO",50.34,{"$f":"SUMIF('Contractor##'!C:C,'Planned Maint v6.2 CSV File'!C:C,'Contractor##'!F:F)","v":-0.1135},44.62641,"Door Furniture:Supply and fix 16 gauge SAA kicking plate ne 900x300mm, screw fixed to any door."]
["3925EA","DOOR FURNITURE:RENEW PULL HANDLES","CARPENTRY AND JOINERY","Ironmongery","Door Furniture Including Viewer, Security Chain","NO",7.42,{"$f":"SUMIF('Contractor##'!C:C,'Planned Maint v6.2 CSV File'!C:C,'Contractor##'!F:F)","v":-0.1135},6.5778299999999996,"Door Furniture:Renew pull handle, SAA, 150mm."]
["3925FA","DOOR FURNITURE:RENEW PUSH PLATES","CARPENTRY AND JOINERY","Ironmongery","Door Furniture Including Viewer, Security Chain","NO",14.57,{"$f":"SUMIF('Contractor##'!C:C,'Planned Maint v6.2 CSV File'!C:C,'Contractor##'!F:F)","v":-0.1135},12.916304999999999,"Door Furniture:Renew push or finger plate, SAA, 225x50mm."]
["3925GA","DOOR FURNITURE:RENEW BATHROOM ESCUTCHEON SET","CARPENTRY AND JOINERY","Ironmongery","Door Furniture Including Viewer, Security Chain","NO",15.4,{"$f":"SUMIF('Contractor##'!C:C,'Planned Maint v6.2 CSV File'!C:C,'Contractor##'!F:F)","v":-0.1135},13.652099999999999,"Door Furniture:Renew with set of escutcheons to to match existing complete with turn button, indicator and emergency release."]
["3925SA","DOOR FURNITURE:INSTALL ‘SECURITY’ PACK - LOCK","CARPENTRY AND JOINERY","Ironmongery","Door Furniture Including Viewer, Security Chain","IT",74.650000000000006,{"$f":"SUMIF('Contractor##'!C:C,'Planned Maint v6.2 CSV File'!C:C,'Contractor##'!F:F)","v":-0.1135},66.177225000000007,"Door Furniture:Supply and install security pack to front door of dwelling comprising security sash mortice lock with set of lever furniture, 180 degree door viewer and lockable door chain and keys."]
["3925SB","DOOR FURNITURE:INSTALL ‘SECURITY’ PACK - DEADLOCK","CARPENTRY AND JOINERY","Ironmongery","Door Furniture Including Viewer, Security Chain","IT",78.63,{"$f":"SUMIF('Contractor##'!C:C,'Planned Maint v6.2 CSV File'!C:C,'Contractor##'!F:F)","v":-0.1135},69.705494999999999,"Door Furniture:Supply and install security pack to front door of dwelling comprising mortice deadlock and set of escutcheons, 180 degree door viewer and lockable door chain and keys."]
["3926AA","DOOR:SUPPLY AND FIX KICKING PLATE","CARPENTRY AND JOINERY","Doors","Door Adaptations and Ironmongery","NO",47.34,{"$f":"SUMIF('Contractor##'!C:C,'Planned Maint v6.2 CSV File'!C:C,'Contractor##'!F:F)","v":-0.1135},41.966909999999999,"Door:Supply and fix 16 gauge SAA kicking plate ne 900x300mm, screw fixed to any door."]
["3926AB","DOOR:REPLACE KNOBSET WITH LEVER","CARPENTRY AND JOINERY","Doors","Door Adaptations and Ironmongery","IT",10.64,{"$f":"SUMIF('Contractor##'!C:C,'Planned Maint v6.2 CSV File'!C:C,'Contractor##'!F:F)","v":-0.1135},9.4323599999999992,"Door:Remove any type of knobset furniture to door and replace with set of lever furniture (per door)."]
["3927AA","LETTERPLATE:RENEW COMPLETE WITH KNOCKER","CARPENTRY AND JOINERY","Ironmongery","Letterplates","NO",38.06,{"$f":"SUMIF('Contractor##'!C:C,'Planned Maint v6.2 CSV File'!C:C,'Contractor##'!F:F)","v":-0.1135},33.740189999999998,"Letterplate:Renew letterplate and knocker including plugging and redrilling holes and altering opening where necessary and provide and fix new brush type draught excluder."]
["3927AB","LETTERPLATE:RENEW FIREPROOF TYPE","CARPENTRY AND JOINERY","Ironmongery","Letterplates","NO",40.96,{"$f":"SUMIF('Contractor##'!C:C,'Planned Maint v6.2 CSV File'!C:C,'Contractor##'!F:F)","v":-0.1135},36.311039999999998,"Letterplate:Renew fireproof letterplate and knocker to suit appropriate fire resisting door including plugging and redrilling holes and adapting opening where necessry."]
["3927BA","LETTERPLATE:RENEW OR SUPPLY HIGH SECURITY COWL","CARPENTRY AND JOINERY","Ironmongery","Letterplates","NO",26.06,{"$f":"SUMIF('Contractor##'!C:C,'Planned Maint v6.2 CSV File'!C:C,'Contractor##'!F:F)","v":-0.1135},23.102189999999997,"Letterplate:Renew or supply and fix new high security internal letter cowl screwed to internal face of door."]
["3929AA","DOOR NUMERAL:RENEW NE 3 NO","CARPENTRY AND JOINERY","Ironmongery","Door Numerals","IT",6.59,{"$f":"SUMIF('Contractor##'!C:C,'Planned Maint v6.2 CSV File'!C:C,'Contractor##'!F:F)","v":-0.1135},5.8420349999999992,"Door Numeral:Renew or replace ne 3 No. letters or numerals."]
["3931AA","DOOR STOP:PROVIDE RUBBER STOP","CARPENTRY AND JOINERY","Ironmongery","Door Stop","NO",2.04,{"$f":"SUMIF('Contractor##'!C:C,'Planned Maint v6.2 CSV File'!C:C,'Contractor##'!F:F)","v":-0.1135},1.80846,"Door Stop:Supply and fix 25mm diameter rubber door stop to softwood or masonry."]
["3935HA","FIRE SIGN:SUPPLY TO DOOR","CARPENTRY AND JOINERY","Ironmongery","Fire Sign","NO",10.69,{"$f":"SUMIF('Contractor##'!C:C,'Planned Maint v6.2 CSV File'!C:C,'Contractor##'!F:F)","v":-0.1135},9.4766849999999998,"Fire Sign:Supply and fix FIRE DOOR - KEEP SHUT sign at eye level on face of door"]
["3951AA","CEILING HATCH:FORM OPENING COMPLETE","CARPENTRY AND JOINERY","Miscellaneous Works","Ceiling Access Hatch","IT",115.23,{"$f":"SUMIF('Contractor##'!C:C,'Planned Maint v6.2 CSV File'!C:C,'Contractor##'!F:F)","v":-0.1135},102.15139499999999,"Ceiling Hatch:Cut opening through ceiling for access hatch, trim opening with ne 75x150mm pressure impregnated sawn softwood trimmers, 25x38mm softwood stops fixed to trimmers/joists, 19x69mm softwood architraves and 900x600x18mm blockboard trap, fully insulated, fix draught strips to perimeter of hatch, ironmongery, make good to plasterwork and decorate to match existing, and remove waste and debris."]
["3951AB","CEILING HATCH:RENEW BLOCKBOARD ACCESS HATCH","CARPENTRY AND JOINERY","Miscellaneous Works","Ceiling Access Hatch","IT",54.53,{"$f":"SUMIF('Contractor##'!C:C,'Planned Maint v6.2 CSV File'!C:C,'Contractor##'!F:F)","v":-0.1135},48.340845000000002,"Ceiling Hatch:Renew with 18mm blockboard access hatch, fully insulated including fit new draught strips, all ironmongery and decorate to match existing, and remove waste and debris."]
["3951AC","CEILING HATCH:FIX NEW PROPRIETARY HATCH","CARPENTRY AND JOINERY","Miscellaneous Works","Ceiling Access Hatch","IT",157.84,{"$f":"SUMIF('Contractor##'!C:C,'Planned Maint v6.2 CSV File'!C:C,'Contractor##'!F:F)","v":-0.1135},139.92516000000001,"Ceiling Hatch:Cut opening through ceiling, trim opening as necessary and supply and fix proprietary purpose make ceiling access hatch complete, make good all finishes and decorations, and remove waste and debris.. "]
["3951AD","CEILING HATCH:RENEW PROPRIETARY HATCH","CARPENTRY AND JOINERY","Miscellaneous Works","Ceiling Access Hatch","IT",115.54,{"$f":"SUMIF('Contractor##'!C:C,'Planned Maint v6.2 CSV File'!C:C,'Contractor##'!F:F)","v":-0.1135},102.42621,"Ceiling Hatch:Renew existing proprietary ceiling hatch, remove existing,supply and fix proprietary purpose made ceiling access hatch complete, make good all finishes and decorations, and remove waste and debris.."]
["3951FA","CEILING HATCH:UPGRADE FIRE RESISTANCE","CARPENTRY AND JOINERY","Miscellaneous Works","Ceiling Access Hatch","IT",48.75,{"$f":"SUMIF('Contractor##'!C:C,'Planned Maint v6.2 CSV File'!C:C,'Contractor##'!F:F)","v":-0.1135},43.216874999999995,"Ceiling Hatch:Upgrade fire resistance of ceiling hatch, supply, cut and fit 12.5mm plasterboard screwed to roof space side of hatch."]
["3960CA","KEYSAFE:PROVIDE ","CARPENTRY AND JOINERY","Miscellaneous Works","Key Safe","NO",31.25,{"$f":"SUMIF('Contractor##'!C:C,'Planned Maint v6.2 CSV File'!C:C,'Contractor##'!F:F)","v":-0.1135},27.703125,"Keysafe:Supply and install permanent proprietary keysafe to Client’s property, fixed to walls and make good all finishes."]
["3960XA","BOILER CUPBOARD:CONSTRUCT","CARPENTRY AND JOINERY","Miscellaneous Works","Boiler Cupboard","IT",250,{"$f":"SUMIF('Contractor##'!C:C,'Planned Maint v6.2 CSV File'!C:C,'Contractor##'!F:F)","v":-0.1135},221.625,"Boiler Cupboard:Construct cupboard in accordance with the minimum clearances for installation and servicing as set out in the boiler manufacturer installation instructions and guidance in BS 6798,  comprising 50 x 75mm softwood framing plugged and screwed to walls, 32 x 100mm softwood door lining with 14 x 27mm stops, architraves and skirting to match existing,  hang 686 x 1981mm ply flush door on one pair 100mm butt hinges complete with ironmongery., line with 12.5mm taper edged plasterboard scrim jointed, filled and sealed, make good to all disturbed surfaces and decorate to match existing"]
["4111AB","WALL:RENEW APPLY 3MM SKIM COAT PLASTER","PLASTERWORK AND OTHER FINISHES","Plasterwork, Rendering and Screeds","Plasterwork - Walls","SM",8.1199999999999992,{"$f":"SUMIF('Contractor##'!C:C,'Planned Maint v6.2 CSV File'!C:C,'Contractor##'!F:F)","v":-0.27500000000000002},5.8869999999999996,"Wall:Renew defective or apply new skim coat of plaster including hack off existing and renew including all preparation and joints to existing surfaces and remove waste and debris."]
["4111AC","WALL:12MM FLOAT AND SET","PLASTERWORK AND OTHER FINISHES","Plasterwork, Rendering and Screeds","Plasterwork - Walls","SM",13.96,{"$f":"SUMIF('Contractor##'!C:C,'Planned Maint v6.2 CSV File'!C:C,'Contractor##'!F:F)","v":-0.27500000000000002},10.121,"Wall:Float and set to walls 12mm thick, including all preparation, labours, and joints to existing surfaces and remove waste and debris."]
["4111AD","WALL:FLOAT SET DUB OUT","PLASTERWORK AND OTHER FINISHES","Plasterwork, Rendering and Screeds","Plasterwork - Walls","SM",23.79,{"$f":"SUMIF('Contractor##'!C:C,'Planned Maint v6.2 CSV File'!C:C,'Contractor##'!F:F)","v":-0.27500000000000002},17.24775,"Wall:Float and set to walls including additional coat or dub out as necessary with cement and sand including all preparation, labours, and joints to existing surfaces and remove waste and debris."]
["4111AF","WALL:HACK REPLASTER DUB OUT","PLASTERWORK AND OTHER FINISHES","Plasterwork, Rendering and Screeds","Plasterwork - Walls","SM",34.43,{"$f":"SUMIF('Contractor##'!C:C,'Planned Maint v6.2 CSV File'!C:C,'Contractor##'!F:F)","v":-0.27500000000000002},24.961749999999999,"Wall:Hack off plaster, rake out and prepare background, float and set to walls including additional coat or dub out as necessary with cement and sand including all preparation, labours, and joints to existing surfaces and remove waste and debris."]
["4111AJ","WALL:BOND AND SET WALLS","PLASTERWORK AND OTHER FINISHES","Plasterwork, Rendering and Screeds","Plasterwork - Walls","SM",14.86,{"$f":"SUMIF('Contractor##'!C:C,'Planned Maint v6.2 CSV File'!C:C,'Contractor##'!F:F)","v":-0.27500000000000002},10.773499999999999,"Wall:Bond and set to walls 12mm thick, including additional coat or dub out as necessary with cement and sand including all preparation, labours, and joints to existing surfaces and remove waste and debris."]
["4112AA","WALL:HACK OFF REPLASTER 1.0M BAND","SPECIALIST TREATMENTS","Fungus and Beetle Eradication and DPC Works","Damp Proof Treatment Plasterwork","SM",39.83,{"$f":"SUMIF('Contractor##'!C:C,'Planned Maint v6.2 CSV File'!C:C,'Contractor##'!F:F)","v":-0.27500000000000002},28.876749999999998,"Wall:Hack off all plaster to minimum height of 1.00m above new floor level, after treatment works return and replaster ne 25mm thick with fair joint to existing plaster, all as specified and remove waste and debris."]
["4112AB","WALL:HACK OFF RENDER AND SKIM 1.0M BAND","SPECIALIST TREATMENTS","Fungus and Beetle Eradication and DPC Works","Damp Proof Treatment Plasterwork","SM",45.74,{"$f":"SUMIF('Contractor##'!C:C,'Planned Maint v6.2 CSV File'!C:C,'Contractor##'!F:F)","v":-0.27500000000000002},33.161500000000004,"Wall:Hack off all plaster to minimum height of 1.00m above new floor level, after damp treatment works return, apply 2 coat waterproof render and skim ne 25mm thick with fair joint to existing plaster as specified and  remove waste and debris."]
["4112AC","WALL:DUB OUT 25MM PRIOR REPLASTER","SPECIALIST TREATMENTS","Fungus and Beetle Eradication and DPC Works","Damp Proof Treatment Plasterwork","SM",16.39,{"$f":"SUMIF('Contractor##'!C:C,'Planned Maint v6.2 CSV File'!C:C,'Contractor##'!F:F)","v":-0.27500000000000002},11.88275,"Wall:Apply dubbing out coat ne 25mm thick prior to replastering wall, all as specified."]
["4112AD","WALL:HACK OFF AND APPLY RENDER","SPECIALIST TREATMENTS","Fungus and Beetle Eradication and DPC Works","Damp Proof Treatment Plasterwork","SM",29.81,{"$f":"SUMIF('Contractor##'!C:C,'Planned Maint v6.2 CSV File'!C:C,'Contractor##'!F:F)","v":-0.27500000000000002},21.61225,"Wall:Hack off any type plaster or rendered finish and apply two coat waterproof cement render, finished to receive direct fixed dry lining (dry lining not included) and remove waste and debris."]
["4112AE","WALL:HACK OFF AND APPLY NEW SKIM COAT","SPECIALIST TREATMENTS","Fungus and Beetle Eradication and DPC Works","Damp Proof Treatment Plasterwork","SM",8.1199999999999992,{"$f":"SUMIF('Contractor##'!C:C,'Planned Maint v6.2 CSV File'!C:C,'Contractor##'!F:F)","v":-0.27500000000000002},5.8869999999999996,"Wall:Hack off degraded plaster finish coat and apply new plaster skim coat including fair joint to any existing plaster finish and remove waste and debris."]
["4113AC","WALL:FIX NE 12.5MM PLASTERBOARD SCRIM JOINTS","PLASTERWORK AND OTHER FINISHES","Plasterwork, Rendering and Screeds","Plasterboard - Walls","SM",8.81,{"$f":"SUMIF('Contractor##'!C:C,'Planned Maint v6.2 CSV File'!C:C,'Contractor##'!F:F)","v":-0.27500000000000002},6.3872499999999999,"Wall:Supply, cut and fix ne 12.5mm plasterboard to walls and scrim joints, including additional support battens, noggins etc to studding and all labours and remove waste and debris."]
["4113AD","WALL:FIX NE 12.5MM PLASTERBOARD 3MM SKIM COAT","PLASTERWORK AND OTHER FINISHES","Plasterwork, Rendering and Screeds","Plasterboard - Walls","SM",16.37,{"$f":"SUMIF('Contractor##'!C:C,'Planned Maint v6.2 CSV File'!C:C,'Contractor##'!F:F)","v":-0.27500000000000002},11.86825,"Wall:Supply, cut and fix ne 12.5mm plasterboard to walls, scrim joints and 3mm skim plaster to walls, including additional support battens, noggins etc, to studding, including all labours and remove waste and debris."]
["4113AF","WALL:RENEW NE 12.5MM PLASTERBOARD 3MM SKIM","PLASTERWORK AND OTHER FINISHES","Plasterwork, Rendering and Screeds","Plasterboard - Walls","SM",21.68,{"$f":"SUMIF('Contractor##'!C:C,'Planned Maint v6.2 CSV File'!C:C,'Contractor##'!F:F)","v":-0.27500000000000002},15.718,"Wall:Take down plasterboard or lath and plaster to wall, denail studs etc. and prepare, supply, cut and fix ne 12.5mm plasterboard to wall including scrim joints and 3mm skim plaster, additional support battens, noggins etc. to studs including all labours and remove waste and debris."]
["4113AG","WALL:RENEW DOUBLE PLASTERBOARD 3MM SKIM COAT","PLASTERWORK AND OTHER FINISHES","Plasterwork, Rendering and Screeds","Plasterboard - Walls","SM",27.9,{"$f":"SUMIF('Contractor##'!C:C,'Planned Maint v6.2 CSV File'!C:C,'Contractor##'!F:F)","v":-0.27500000000000002},20.227499999999999,"Wall:Take down plasterboard or lath and plaster to wall, denail studs etc. and prepare, supply, cut and fix double layer 9.5mm plasterboard to wall includingscrim joints and 3mm skim plaster, additional support battens, noggins etc. to studs including all labours and remove waste and debris."]
["4131AA","CEILING:RENEW APPLY SKIM COAT","PLASTERWORK AND OTHER FINISHES","Plasterwork, Rendering and Screeds","Plasterwork - Ceilings","SM",9.69,{"$f":"SUMIF('Contractor##'!C:C,'Planned Maint v6.2 CSV File'!C:C,'Contractor##'!F:F)","v":-0.27500000000000002},7.0252499999999998,"Ceiling:Hack off existing and renew defective or apply new skim coat of plaster including all joints to existing surfaces and all labours and remove waste and debris."]
["4131AC","CEILING:BOND AND FINISH","PLASTERWORK AND OTHER FINISHES","Plasterwork, Rendering and Screeds","Plasterwork - Ceilings","SM",18.52,{"$f":"SUMIF('Contractor##'!C:C,'Planned Maint v6.2 CSV File'!C:C,'Contractor##'!F:F)","v":-0.27500000000000002},13.427,"Ceiling:Bond and finish coat to concrete ceiling apply bonding agent, including all labours and remove waste and debris."]
["4131AD","CEILING:BONDING AGENT","PLASTERWORK AND OTHER FINISHES","Plasterwork, Rendering and Screeds","Plasterwork - Ceilings","SM",4.5999999999999996,{"$f":"SUMIF('Contractor##'!C:C,'Planned Maint v6.2 CSV File'!C:C,'Contractor##'!F:F)","v":-0.27500000000000002},3.3349999999999995,"Ceiling:Apply bonding agent to ceiling."]
["4131AE","CEILING:HACK RENEW PLASTER","PLASTERWORK AND OTHER FINISHES","Plasterwork, Rendering and Screeds","Plasterwork - Ceilings","SM",21.34,{"$f":"SUMIF('Contractor##'!C:C,'Planned Maint v6.2 CSV File'!C:C,'Contractor##'!F:F)","v":-0.27500000000000002},{"$f":"(1+H1540)*G1540","v":15.471499999999999},"Ceiling:Hack off defective plaster to ceiling, prepare and replaster ceiling including bonding agent and all joints to existing surfaces and all labours and remove waste and debris."]
["4131BA","CEILING:APPLY 5MM SKIM TO ARTEX","PLASTERWORK AND OTHER FINISHES","Plasterwork, Rendering and Screeds","Plasterwork - Ceilings","SM",14.13,{"$f":"SUMIF('Contractor##'!C:C,'Planned Maint v6.2 CSV File'!C:C,'Contractor##'!F:F)","v":-0.27500000000000002},10.244250000000001,"Ceiling:Prepare and apply 5mm skim coat of plaster to existing artex ceiling, apply bonding agent, including all joints to existing surfaces and all labours and remove waste and debris. "]
["4133AB","CEILING:FIX NE 12.5MM PLASTERBOARD 3MM SKIM COAT","PLASTERWORK AND OTHER FINISHES","Plasterwork, Rendering and Screeds","Plasterboard  - Ceilings","SM",17.3,{"$f":"SUMIF('Contractor##'!C:C,'Planned Maint v6.2 CSV File'!C:C,'Contractor##'!F:F)","v":-0.27500000000000002},12.5425,"Ceiling:Supply, cut and fix ne 12.5mm plasterboard, scrim joints and 3mm skim plaster to ceiling, including additional support battens, noggins to joists, including all labours and remove waste and debris."]
["4133AC","CEILING:FIX DOUBLE NE 12.5MM PLASTERBOARD 3MM SKIM","PLASTERWORK AND OTHER FINISHES","Plasterwork, Rendering and Screeds","Plasterboard  - Ceilings","SM",26.71,{"$f":"SUMIF('Contractor##'!C:C,'Planned Maint v6.2 CSV File'!C:C,'Contractor##'!F:F)","v":-0.27500000000000002},19.364750000000001,"Ceiling:Supply, cut and fix double layer of ne 12.5mm plasterboard to ceiling with scrim joints and 3mm skim plaster including additional support battens, noggins etc. to joists, including all labours and remove waste and debris."]
["4133AD","CEILING:RENEW NE 12.5MM PLASTERBOARD 3MM SKIM COAT","PLASTERWORK AND OTHER FINISHES","Plasterwork, Rendering and Screeds","Plasterboard  - Ceilings","SM",25.2,{"$f":"SUMIF('Contractor##'!C:C,'Planned Maint v6.2 CSV File'!C:C,'Contractor##'!F:F)","v":-0.27500000000000002},18.27,"Ceiling:Take down plasterboard or lath and plaster ceiling, denail joists and prepare, supply, cut and fix ne 12.5mm plasterboard to ceiling including scrim joints and 3mm skim plaster, additional support battens, noggins etc. to joists including all labours and remove waste and debris."]
["4133AE","CEILING:RENEW NE 12.5MM PLASTERBOARD SKIM IN PATCH","PLASTERWORK AND OTHER FINISHES","Plasterwork, Rendering and Screeds","Plasterboard  - Ceilings","IT",25.99,{"$f":"SUMIF('Contractor##'!C:C,'Planned Maint v6.2 CSV File'!C:C,'Contractor##'!F:F)","v":-0.27500000000000002},18.842749999999999,"Ceiling:Take down plasterboard or lath and plaster ceiling, denail joists and prepare, supply, cut and fix ne 12.5mm plasterboard to ceiling in patch including scrim joints and 3mm skim plaster, additional support battens, noggins etc. to joists including all labours and remove waste and debris."]
["4133AF","CEILING:RENEW DOUBLE PLASTERBOARD 3MM SKIM COAT","PLASTERWORK AND OTHER FINISHES","Plasterwork, Rendering and Screeds","Plasterboard  - Ceilings","SM",31.4,{"$f":"SUMIF('Contractor##'!C:C,'Planned Maint v6.2 CSV File'!C:C,'Contractor##'!F:F)","v":-0.27500000000000002},22.764999999999997,"Ceiling:Take down plasterboard or lath and plaster ceiling, denail joists and prepare, supply, cut and fix double layer ne 12.5mm plasterboard to ceiling with scrim joints and 3mm skim plaster, additional support battens, noggins etc. to joists including all labours and remove waste and debris."]
["4133FA","CEILING:FIX 12.5MM PLASTERBOARD IN FLOOR VOID","PLASTERWORK AND OTHER FINISHES","Plasterwork, Rendering and Screeds","Plasterboard  - Ceilings","SM",14.6,{"$f":"SUMIF('Contractor##'!C:C,'Planned Maint v6.2 CSV File'!C:C,'Contractor##'!F:F)","v":-0.27500000000000002},10.584999999999999,"Ceiling:Take up existing floor boarding and set aside, cut and fix 12.5mm plasterboard to floor joists, including additional noggins etc, relay floor boarding, adjust skirtings etc.,make good."]
["4134AB","CEILING:FIX 12.5MM VR PLASTERBOARD 3MM SKIM COAT","PLASTERWORK AND OTHER FINISHES","Plasterwork, Rendering and Screeds","Plasterboard  - Ceilings","SM",19.82,{"$f":"SUMIF('Contractor##'!C:C,'Planned Maint v6.2 CSV File'!C:C,'Contractor##'!F:F)","v":-0.27500000000000002},14.3695,"Ceiling:Supply, cut and fix ne 12.5mm vapour resistant foil backed plasterboard, scrim joints and 3mm skim plaster to ceiling, including additional support battens, noggins to joists, including all  labours and remove waste and debris"]
["4134AC","CEILING:FIX DOUBLE VR PLASTERBOARD 3MM SKIM COAT","PLASTERWORK AND OTHER FINISHES","Plasterwork, Rendering and Screeds","Plasterboard  - Ceilings","SM",33.29,{"$f":"SUMIF('Contractor##'!C:C,'Planned Maint v6.2 CSV File'!C:C,'Contractor##'!F:F)","v":-0.27500000000000002},24.135249999999999,"Ceiling:Supply, cut and fix double layer of ne 12.5mm vapour resistant foil backed plasterboard to ceiling with scrim joints and 3mm skim plaster including additional support battens, noggins etc. to joists, including all labours and remove waste and debris"]
["4134AE","CEILING:RENEW 12.5MM VR PLASTERBOARD 3MM SKIM COAT","PLASTERWORK AND OTHER FINISHES","Plasterwork, Rendering and Screeds","Plasterboard  - Ceilings","SM",28.25,{"$f":"SUMIF('Contractor##'!C:C,'Planned Maint v6.2 CSV File'!C:C,'Contractor##'!F:F)","v":-0.27500000000000002},20.481249999999999,"Ceiling:Take down plasterboard or lath and plaster ceiling, denail joists and prepare, supply, cut and fix ne 12.5mm vapour resistant foil backed plasterboard to ceiling including scrim joints and 3mm skim plaster, additional support battens, noggins etc. to joists including all labours and remove waste and debris"]
["4134AF","CEILING:RENEW DOUBLE VR PLASTERBOARD 3MM SKIM COAT","PLASTERWORK AND OTHER FINISHES","Plasterboard  - Ceilings","Plasterboard  - Ceilings","SM",37.97,{"$f":"SUMIF('Contractor##'!C:C,'Planned Maint v6.2 CSV File'!C:C,'Contractor##'!F:F)","v":-0.27500000000000002},27.52825,"Ceiling:Take down plasterboard or lath and plaster ceiling, denail joists and prepare, supply, cut and fix double layer ne 12.5mm vapour resistant foil backed plasterboard to ceiling with scrim joints and 3mm skim plaster, additional support battens, noggins etc. to joists including all labours and remove waste and debris"]
["4134AG","CEILING:OVERLAY NE 12.5MM VR PLASTERBOARD 3MM SKIM","PLASTERWORK AND OTHER FINISHES","Plasterboard  - Ceilings","Plasterboard  - Ceilings","SM",22.59,{"$f":"SUMIF('Contractor##'!C:C,'Planned Maint v6.2 CSV File'!C:C,'Contractor##'!F:F)","v":-0.27500000000000002},16.377749999999999,"Ceiling:Prepare existing ceiling and overlay with ne 12.5mm vapour resistant foil backed plasterboard nailed to joists including all necessary packings, battens, noggins etc.to ensure line and level, scrim joints, 3mm skim plaster, including all labours and remove waste and debris."]
["4150AA","WALL:REMOVE ARTEX FINISHES","SPECIALIST TREATMENTS","Artex Removal","Removal of Artex Finishes","SM",5.31,{"$f":"SUMIF('Contractor##'!C:C,'Planned Maint v6.2 CSV File'!C:C,'Contractor##'!F:F)","v":-0.27500000000000002},3.8497499999999998,"Wall:Remove artex textured coating from walls, including all making good and and remove waste and debris."]
["4210AA","WALL:HACK OFF RENDER","PLASTERWORK AND OTHER FINISHES","Plasterwork, Rendering and Screeds","Sand and Cement Render","SM",12.5,{"$f":"SUMIF('Contractor##'!C:C,'Planned Maint v6.2 CSV File'!C:C,'Contractor##'!F:F)","v":-0.27500000000000002},9.0625,"Wall:Hack off any thickness of render from walls, rake out and prepare brickwork or blockwork to receive rendering and remove waste and debris."]
["4210AB","WALL:APPLY RENDER DUB OUT","PLASTERWORK AND OTHER FINISHES","Plasterwork, Rendering and Screeds","Sand and Cement Render","SM",20.440000000000001,{"$f":"SUMIF('Contractor##'!C:C,'Planned Maint v6.2 CSV File'!C:C,'Contractor##'!F:F)","v":-0.27500000000000002},14.819000000000001,"Wall:Apply 12mm cement and sand render (1:3) with waterproofing agent to external walls trowelled smooth, dub out as necessary with cement and sand, including all labours and remove waste and debris."]
["4210AC","WALL:APPLY WET DASH RENDER DUB OUT","PLASTERWORK AND OTHER FINISHES","Plasterwork, Rendering and Screeds","Sand and Cement Render","SM",25.05,{"$f":"SUMIF('Contractor##'!C:C,'Planned Maint v6.2 CSV File'!C:C,'Contractor##'!F:F)","v":-0.27500000000000002},18.161249999999999,"Wall:Apply 12mm cement and sand render (1:3) with waterproofing agent and wet dash finish to external walls, dub out as necessary with cement and sand, including all labours and remove waste and debris."]
["4210AD","WALL:APPLY DRY DASH RENDER DUB OUT","PLASTERWORK AND OTHER FINISHES","Plasterwork, Rendering and Screeds","Sand and Cement Render","SM",28.8,{"$f":"SUMIF('Contractor##'!C:C,'Planned Maint v6.2 CSV File'!C:C,'Contractor##'!F:F)","v":-0.27500000000000002},20.88,"Wall:Apply 12mm cement and sand render (1:3) with waterproofing agent and dry dash finish to external walls, dub out as necessary with cement and sand, including all labours and remove waste and debris."]
["4210AE","WALL:APPLY DECORATIVE RENDER DUB","PLASTERWORK AND OTHER FINISHES","Plasterwork, Rendering and Screeds","Sand and Cement Render","SM",31.33,{"$f":"SUMIF('Contractor##'!C:C,'Planned Maint v6.2 CSV File'!C:C,'Contractor##'!F:F)","v":-0.27500000000000002},22.71425,"Wall:Apply 12mm cement and sand render (1:3) with waterproofing agent to external walls including ‘Decorative’ finish, dub out as necessary with cement and sand and all labours and remove waste and debris."]
["4210AF","WALL:APPLY SANDTEX FINISHED ROUGH RENDER DUB","PLASTERWORK AND OTHER FINISHES","Rendering","Sand and Cement Render","SM",33.5,{"$f":"SUMIF('Contractor##'!C:C,'Planned Maint v6.2 CSV File'!C:C,'Contractor##'!F:F)","v":-0.27500000000000002},24.287499999999998,"Wall:Apply 12mm cement and sand render (1:3) with waterproofing agent to external walls including ‘Rough Sandtex’ finish, dub out as necessary with cement and sand and all labours and remove waste and debris."]
["4210BA","WALL:SPECIALIST RENDER FLOAT","PLASTERWORK AND OTHER FINISHES","Plasterwork, Rendering and Screeds","Sand and Cement Render","SM",29.5,{"$f":"SUMIF('Contractor##'!C:C,'Planned Maint v6.2 CSV File'!C:C,'Contractor##'!F:F)","v":-0.27500000000000002},21.387499999999999,"Wall:Apply two coats of Eglington or similar equal and approved polymer based coloured render, with float finish, fix stainless steel reinforcement, and all base, corner, stop and drip beads all to be applied strictly in accordance with the manufacturers instructions, including all labours and remove waste and debris."]
["4210BB","WALL:SPECIALIST RENDER DASH","PLASTERWORK AND OTHER FINISHES","Plasterwork, Rendering and Screeds","Sand and Cement Render","SM",29.5,{"$f":"SUMIF('Contractor##'!C:C,'Planned Maint v6.2 CSV File'!C:C,'Contractor##'!F:F)","v":-0.27500000000000002},21.387499999999999,"Wall:Apply two coats of Eglington or similar equal and approved polymer based coloured render, with dash finish, fix stainless steel reinforcement, and all base, corner, stop and drip beads all to be applied strictly in accordance with the manufacturers instructions, including all labours and remove waste and debris."]
["4210CA","WALL:INSULATED RENDER PLAIN","PLASTERWORK AND OTHER FINISHES","Plasterwork, Rendering and Screeds","Sand and Cement Render","SM",43.5,{"$f":"SUMIF('Contractor##'!C:C,'Planned Maint v6.2 CSV File'!C:C,'Contractor##'!F:F)","v":-0.27500000000000002},31.537499999999998,"Wall:Apply external insulation and render coating system, with plain finish, to be installed strictly in accordance with the manufacturers instructions, including all labours and remove waste and debris."]
["4210CB","WALL:INSULATED RENDER TYROL","PLASTERWORK AND OTHER FINISHES","Plasterwork, Rendering and Screeds","Sand and Cement Render","SM",43.5,{"$f":"SUMIF('Contractor##'!C:C,'Planned Maint v6.2 CSV File'!C:C,'Contractor##'!F:F)","v":-0.27500000000000002},31.537499999999998,"Wall:Apply external insulation and render coating system, with tyrolean finish, to be installed strictly in accordance with the manufacturers instructions, including all labours and remove waste and debris."]
["4230ZA","RENDER REPAIRS:REPAIR CRACK","PLASTERWORK AND OTHER FINISHES","Rendering","Render Repairs","LM",6.87,{"$f":"SUMIF('Contractor##'!C:C,'Planned Maint v6.2 CSV File'!C:C,'Contractor##'!F:F)","v":-0.27500000000000002},4.9807499999999996,"Render Repairs:Repair crack in any external render including carefully hack out and make good with cement and sand including applying finish to match existing, and remove waste and debris."]
["4230ZB","RENDER REPAIRS:REPAIR CRACK AROUND FRAME","PLASTERWORK AND OTHER FINISHES","Rendering","Render Repairs","LM",9.3699999999999992,{"$f":"SUMIF('Contractor##'!C:C,'Planned Maint v6.2 CSV File'!C:C,'Contractor##'!F:F)","v":-0.27500000000000002},6.7932499999999996,"Render Repairs:Repair cracks to render and applied finishes around door or window frame including hack out loose render and make good including make good sealant joint to frame."]
["4230ZC","RENDER REPAIRS:RENEW REVEAL TO FRAME ","PLASTERWORK AND OTHER FINISHES","Rendering","Render Repairs","LM",11.12,{"$f":"SUMIF('Contractor##'!C:C,'Planned Maint v6.2 CSV File'!C:C,'Contractor##'!F:F)","v":-0.27500000000000002},8.0619999999999994,"Render Repairs:Renew rendered door or window frame reveal complete including hack off external finish, remake arris and rerender including any dubbing out and waterproofing agent and make good applied finishes and remove waste and debris."]
["4230ZD","RENDER REPAIRS:RENEW BELLCAST FEATURE","PLASTERWORK AND OTHER FINISHES","Rendering","Render Repairs","LM",10.92,{"$f":"SUMIF('Contractor##'!C:C,'Planned Maint v6.2 CSV File'!C:C,'Contractor##'!F:F)","v":-0.27500000000000002},7.9169999999999998,"Render Repairs:Renew bellcast to any render over openings or above dampcourse, hack off, fix bellcast bead and form bellcast externally and and remove waste and debris."]
["4250AA","CEILING:APPLY ARTEX TYPE FINISH","PLASTERWORK AND OTHER FINISHES","Plasterwork, Rendering and Screeds","Coatings to Ceilings","SM",8.07,{"$f":"SUMIF('Contractor##'!C:C,'Planned Maint v6.2 CSV File'!C:C,'Contractor##'!F:F)","v":-0.27500000000000002},5.8507499999999997,"Ceiling:Prepare and apply Artex type textured coating with stipple or comb finish to ceiling including caulk joints in plasterboard and or cracks in plaster finish."]
["4250BA","CEILING:REMOVE ARTEX FINISH","SPECIALIST TREATMENTS","Artex Removal","Removal of Artex Finishes","SM",6.87,{"$f":"SUMIF('Contractor##'!C:C,'Planned Maint v6.2 CSV File'!C:C,'Contractor##'!F:F)","v":-0.27500000000000002},4.9807499999999996,"Ceiling:Remove artex textured coating from ceiling, including all making good and and remove waste and debris."]
["4250CA","TEST:SAMPLE OF ARTEX ","SPECIALIST TREATMENTS","Artex Removal","Removal of Artex Finishes","IT",97.5,{"$f":"SUMIF('Contractor##'!C:C,'Planned Maint v6.2 CSV File'!C:C,'Contractor##'!F:F)","v":-0.27500000000000002},70.6875,"Test:Collect sample of artex texture coating removed from ceiling or walls, arrange and test asbestos content, provide Client’s Representative with written report."]
["4270AB","WALL:DRY LINE NE 12.5MM PLASTERBOARD PADS AND DABS","PLASTERWORK AND OTHER FINISHES","Plasterwork, Rendering and Screeds","Dry Lining","SM",24.46,{"$f":"SUMIF('Contractor##'!C:C,'Planned Maint v6.2 CSV File'!C:C,'Contractor##'!F:F)","v":-0.27500000000000002},17.733499999999999,"Wall:Strip existing wall, thoroughly clean down mould and fungi from any affected areas, remove any coving and line wall with ne 12.5mm plasterboard fixed to plaster pads and dabs in accordance with manufacturers directions including all filling and jointing, disconnect, remove and refix on re-aligned boxes with extended fixing screws any socket outlets, switch plates and the like, remove and later refix all skirtings, dado rails and the like and make good on completion and remove waste and debris."]
["4270AC","CEILING:DRY LINE 12.5MM THERMALBOARD","PLASTERWORK AND OTHER FINISHES","Plasterwork, Rendering and Screeds","Dry Lining","SM",47.73,{"$f":"SUMIF('Contractor##'!C:C,'Planned Maint v6.2 CSV File'!C:C,'Contractor##'!F:F)","v":-0.27500000000000002},34.604249999999993,"Ceiling:Strip existing ceiling, thoroughly clean down mould and fungi from affected areas, remove any coving, supply and fix 50x25mm treated softwood battens at 600mm centres including any necessary packing, plugging and screwing, line ceilings with 12.5mm plasterboard faced thermal board screwed to battens including filling and jointing, disconnect and remove ceiling roses and refix on re-aligned boxes and fit extended fixing fixing screws and remove waste and debris."]
["4270AD","CEILING:DRY LINE 25MM THERMALBOARD","PLASTERWORK AND OTHER FINISHES","Plasterwork, Rendering and Screeds","Dry Lining","SM",63.72,{"$f":"SUMIF('Contractor##'!C:C,'Planned Maint v6.2 CSV File'!C:C,'Contractor##'!F:F)","v":-0.27500000000000002},46.196999999999996,"Ceiling:Strip existing ceiling, thoroughly clean down mould and fungi from affected areas, remove any coving, supply and fix 50x25mm treated softwood battens at 600mm centres including any necessary packing, plugging and screwing, line ceilings with 25mm plasterboard faced thermal board screwed to battens including filling and jointing, disconnect and remove ceiling roses and refix on re-aligned boxes and fit extended fixing screws and remove waste and debris."]
["4270AE","WALL:DRY LINE 25MM THERMALBOARD","PLASTERWORK AND OTHER FINISHES","Plasterwork, Rendering and Screeds","Dry Lining","SM",46.16,{"$f":"SUMIF('Contractor##'!C:C,'Planned Maint v6.2 CSV File'!C:C,'Contractor##'!F:F)","v":-0.27500000000000002},33.465999999999994,"Wall:Strip existing walls, thoroughly clean down mould and fungi from affected areas, remove and later refix all skirtings, dado rails and the like, line walls with 25mm nominal plasterboard faced thermal board solidly adhered to background in accordance with manufacturers directions including filling and jointing, disconnect and remove socket outlets and or switches and refix on re-aligned boxes and fit extended fixing screws and remove waste and debris."]
["4270AF","WALL:DRY LINE 45MM THERMALBOARD","PLASTERWORK AND OTHER FINISHES","Plasterwork, Rendering and Screeds","Dry Lining","SM",59.63,{"$f":"SUMIF('Contractor##'!C:C,'Planned Maint v6.2 CSV File'!C:C,'Contractor##'!F:F)","v":-0.27500000000000002},43.231749999999998,"Wall:Strip existing walls, thoroughly clean down mould and fungi from affected areas, remove and later refix all skirtings, dado rails and the like, line walls with 45mm nominal plasterboard faced thermal board solidly adhered to background in accordance with manufacturers directions including filling and jointing, disconnect and remove socket outlets and or switches and refix on re-aligned boxes and fit extended fixing screws and remove waste and debris."]
["4270BB","WALL:RENEW 12.5MM DRY LINING","PLASTERWORK AND OTHER FINISHES","Plasterwork, Rendering and Screeds","Dry Lining","SM",26.35,{"$f":"SUMIF('Contractor##'!C:C,'Planned Maint v6.2 CSV File'!C:C,'Contractor##'!F:F)","v":-0.27500000000000002},19.103750000000002,"Wall:Renew existing dry lining, remove existing, dispose to tip, and line wall with 12.5mm plasterboard fixed to plaster pads and dabs in accordance with manufacturers directions including all filling and jointing, disconnect, remove and refix on re-aligned boxes with extended fixing screws any socket outlets/switch plates and the like, remove and later refix all skirtings, dado rails and the like and make good on completion, and remove waste and debris."]
["4270BC","CEILING:RENEW DRY LINE 12.5MM","PLASTERWORK AND OTHER FINISHES","Plasterwork, Rendering and Screeds","Dry Lining","SM",49.62,{"$f":"SUMIF('Contractor##'!C:C,'Planned Maint v6.2 CSV File'!C:C,'Contractor##'!F:F)","v":-0.27500000000000002},35.974499999999999,"Ceiling:Renew existing dry lining, remove existing, dispose to tip,supply and fix 50x25mm treated softwood battens at 600mm centres including any necessary packing, plugging and screwing, line ceilings with 12.5mm plasterboard faced thermal board screwed to battens including filling and jointing, disconnect and remove ceiling roses and refix on re-aligned boxes and fit extended fixing fixing screws, and remove waste and debris."]
["4270BD","CEILING:RENEW DRY LINE 25MM","PLASTERWORK AND OTHER FINISHES","Plasterwork, Rendering and Screeds","Dry Lining","SM",66.099999999999994,{"$f":"SUMIF('Contractor##'!C:C,'Planned Maint v6.2 CSV File'!C:C,'Contractor##'!F:F)","v":-0.27500000000000002},47.922499999999992,"Ceiling:Renew existing dry lining, remove existing, dispose to tip, supply and fix 50x25mm treated softwood battens at 600mm centres including any necessary packing, plugging and screwing, line ceilings with 25mm plasterboard faced thermal board screwed to battens including filling and jointing, disconnect and remove ceiling roses and refix on re-aligned boxes and fit extended fixing screws, and remove waste and debris."]
["4270BE","WALL:RENEW DRY LINE 25MM","PLASTERWORK AND OTHER FINISHES","Plasterwork, Rendering and Screeds","Dry Lining","SM",48.53,{"$f":"SUMIF('Contractor##'!C:C,'Planned Maint v6.2 CSV File'!C:C,'Contractor##'!F:F)","v":-0.27500000000000002},35.184249999999999,"Wall:Renew existing dry lining, remove existing dispose to tip, remove/refix all skirtings, dado rails etc, line walls with 25mm nominal plasterboard faced thermal board solidly adhered to background in accordance with manufacturers directions including filling and jointing, disconnect and remove socket outlets and/or switches and refix on re-aligned boxes and fit extended fixing screws, and remove waste and debris."]
["4270BF","WALL:RENEW DRY LINE 45MM","PLASTERWORK AND OTHER FINISHES","Plasterwork, Rendering and Screeds","Dry Lining","SM",62.66,{"$f":"SUMIF('Contractor##'!C:C,'Planned Maint v6.2 CSV File'!C:C,'Contractor##'!F:F)","v":-0.27500000000000002},45.4285,"Wall:Renew existing dry lining, remove existing dispose to tip, remove/refix all skirtings, dado rails etc, line walls with 45mm nominal plasterboard faced thermal board solidly adhered to background in accordance with manufacturers directions including filling and jointing, disconnect and remove socket outlets and/or switches and refix on re-aligned boxes and fit extended fixing screws, and remove waste and debris."]
["4290AA","COVING:FIX PLASTER COVING","PLASTERWORK AND OTHER FINISHES","Plasterwork, Rendering and Screeds","Plaster Coving","LM",6.26,{"$f":"SUMIF('Contractor##'!C:C,'Planned Maint v6.2 CSV File'!C:C,'Contractor##'!F:F)","v":-0.27500000000000002},4.5385,"Coving:Supply and fix new Gyproc plaster coving ne 150mm girth."]
["4310AA","WALL TILES:HACK OFF AND MAKE GOOD","WALL AND FLOOR TILE AND SHEET FINISHES","Wall and Floor Finishes","Wall Tiling","SM",8.1199999999999992,{"$f":"SUMIF('Contractor##'!C:C,'Planned Maint v6.2 CSV File'!C:C,'Contractor##'!F:F)","v":-0.15759999999999999},6.8402879999999993,"Wall Tiles:Hack off glazed wall tiling, make good bed and remove waste and debris."]
["4310AB","WALL TILES:RENEW OR FIX NEW GLAZED TILES","WALL AND FLOOR TILE AND SHEET FINISHES","Wall and Floor Finishes","Wall Tiling","SM",39.57,{"$f":"SUMIF('Contractor##'!C:C,'Planned Maint v6.2 CSV File'!C:C,'Contractor##'!F:F)","v":-0.15759999999999999},33.333767999999999,"Wall Tiles:Clean off walls and prepare to receive new tiles, supply and fix new ne 152x152x6mm glazed ceramic wall tiles to splashback and cills, including fixing with adhesive, grouting, and any necessary cutting including hack off glazed wall tiling, make good bed and remove waste and debris."]
["4310AD","WALL TILES:RENEW TO CILL","WALL AND FLOOR TILE AND SHEET FINISHES","Wall and Floor Finishes","Wall Tiling","LM",14.83,{"$f":"SUMIF('Contractor##'!C:C,'Planned Maint v6.2 CSV File'!C:C,'Contractor##'!F:F)","v":-0.15759999999999999},12.492792000000001,"Wall Tiles:Hack off tiles to cill, clear away, supply and lay new ne 152x152x6mm glazed tiles to cill, ne 150mm wide, bed in mortar or adhesive including make good to bed, grout and all necessary cutting and forming straight edge and remove waste and debris."]
["4310AE","WALL TILES:NEW REVEALS NE 150MM WIDE","WALL AND FLOOR TILE AND SHEET FINISHES","Wall and Floor Finishes","Wall Tiling","LM",10.17,{"$f":"SUMIF('Contractor##'!C:C,'Planned Maint v6.2 CSV File'!C:C,'Contractor##'!F:F)","v":-0.15759999999999999},8.5672080000000008,"Wall Tiles:Clean off wall and prepare to receive new tiles, supply and fix new ne 152x152x6mm glazed ceramic wall tiles to reveals ne 150mm wide, including fixing with adhesive, grouting and any cutting and remove waste and debris."]
["4310CA","WALL TILES:RAKE OUT AND REGROUT","WALL AND FLOOR TILE AND SHEET FINISHES","Wall and Floor Finishes","Wall Tiling","SM",8.52,{"$f":"SUMIF('Contractor##'!C:C,'Planned Maint v6.2 CSV File'!C:C,'Contractor##'!F:F)","v":-0.15759999999999999},7.1772479999999996,"Wall Tiles:Rake out and regrout wall tiling and remove waste and debris."]
["4310DA","WALL TILES:NEW GLAZED TILES TO KITCHEN","WALL AND FLOOR TILE AND SHEET FINISHES","Wall and Floor Finishes","Wall Tiling","SM",42.38,{"$f":"SUMIF('Contractor##'!C:C,'Planned Maint v6.2 CSV File'!C:C,'Contractor##'!F:F)","v":-0.15759999999999999},35.700912000000002,"Wall Tiles:Clean off walls and prepare to receive new tiles, supply and fix new ne 152x152x6mm glazed coloured ceramic wall tiles to kitchen worktop, splashback cooker space and cills, including fixing with adhesive, grouting, and any necessary cutting, sealing around worktop and sink top with silicone sealant and remove waste and debris."]
["4310EA","WALL TILES:NEW GLAZED TILES TO BATHROOM","WALL AND FLOOR TILE AND SHEET FINISHES","Wall and Floor Finishes","Wall Tiling","SM",42.38,{"$f":"SUMIF('Contractor##'!C:C,'Planned Maint v6.2 CSV File'!C:C,'Contractor##'!F:F)","v":-0.15759999999999999},35.700912000000002,"Wall Tiles:Clean off walls and prepare to receive new tiles, supply and fix new ne 152x152x6mm glazed coloured ceramic wall tiles to bathroom, splash-back and cills, including fixing with adhesive, grouting, and any necessary cutting, sealing around sanitary fittings with silicone sealant and remove waste and debris."]
["4312AA","ASPHALT:RENEW FLOORING","SPECIALIST TREATMENTS","Mastic Asphalt Tanking etc","Mastic Asphalt Flooring","SM",51.87,{"$f":"SUMIF('Contractor##'!C:C,'Planned Maint v6.2 CSV File'!C:C,'Contractor##'!F:F)","v":-0.27500000000000002},37.60575,"Asphalt:Renew asphalt to floors, hack up existing asphalt, prepare base and lay asphalt paving to BS 6925 with limestone aggregate, smooth floated finish, in two coats, including all labours, skirtings, make good up to existing, and remove waste and debris."]
["4313AA","SCREED:HACK UP SCREED","PLASTERWORK AND OTHER FINISHES","Plasterwork, Rendering and Screeds","Floor Screeds","SM",15.69,{"$f":"SUMIF('Contractor##'!C:C,'Planned Maint v6.2 CSV File'!C:C,'Contractor##'!F:F)","v":-0.27500000000000002},11.375249999999999,"Screed:Hack up any thickness of floor screed and remove waste and debris."]
["4313BA","SCREED:LAY 40MM THICK SCREED","PLASTERWORK AND OTHER FINISHES","Plasterwork, Rendering and Screeds","Floor Screeds","SM",20.93,{"$f":"SUMIF('Contractor##'!C:C,'Planned Maint v6.2 CSV File'!C:C,'Contractor##'!F:F)","v":-0.27500000000000002},15.174249999999999,"Screed:Lay cement and sand floor screed ne 40mm thick, trowel smooth for floor finish, clean off, grout sub-base with cement slurry, apply liquid damp proof membrane and remove waste and debris."]
["4313BB","SCREED:LAY 50MM THICK SCREED","PLASTERWORK AND OTHER FINISHES","Plasterwork, Rendering and Screeds","Floor Screeds","SM",23.84,{"$f":"SUMIF('Contractor##'!C:C,'Planned Maint v6.2 CSV File'!C:C,'Contractor##'!F:F)","v":-0.27500000000000002},17.283999999999999,"Screed:Lay cement and sand floor screed ne 50mm thick, trowel smooth for floor finish, clean off, grout sub-base with cement slurry, apply liquid damp proof membrane and remove waste and debris."]
["4313BC","SCREED:LAY 60MM THICK SCREED","PLASTERWORK AND OTHER FINISHES","Plasterwork, Rendering and Screeds","Floor Screeds","SM",26.75,{"$f":"SUMIF('Contractor##'!C:C,'Planned Maint v6.2 CSV File'!C:C,'Contractor##'!F:F)","v":-0.27500000000000002},19.393750000000001,"Screed:Lay cement and sand floor screed ne 60mm thick, trowel smooth for floor finish, clean off, grout sub-base with cement slurry, apply liquid damp proof membrane and remove waste and debris."]
["4313CA","SCREED:OVERLAY WITH CONCRETE NE 65MM","PLASTERWORK AND OTHER FINISHES","Plasterwork, Rendering and Screeds","Floor Screeds","SM",17.63,{"$f":"SUMIF('Contractor##'!C:C,'Planned Maint v6.2 CSV File'!C:C,'Contractor##'!F:F)","v":-0.27500000000000002},12.781749999999999,"Screed:Overlay any sub-base with fine concrete (1:2:4), ne 65mm thick including clean off sub- base, tamp level to receive floor screed and remove waste and debris."]
["4313DB","SCREED:LATEX SELF LEVEL","PLASTERWORK AND OTHER FINISHES","Plasterwork, Rendering and Screeds","Floor Screeds","SM",13.05,{"$f":"SUMIF('Contractor##'!C:C,'Planned Maint v6.2 CSV File'!C:C,'Contractor##'!F:F)","v":-0.27500000000000002},9.4612499999999997,"Screed:Lay latex self levelling screed."]
["4314AA","GRANO:REPAIRS TO STAIRCASE","PLASTERWORK AND OTHER FINISHES","Plasterwork, Rendering and Screeds","Floor Screeds","SM",133.16,{"$f":"SUMIF('Contractor##'!C:C,'Planned Maint v6.2 CSV File'!C:C,'Contractor##'!F:F)","v":-0.27500000000000002},96.540999999999997,"Grano:Repair granolithic finish to staircase treads and risers, remove all contaminants by mechanical preparation and prime with one brush coat of Sikadur 31, manufactured by Sika or other equal and approved, fill in void with Sikadur 41 epoxy resin repair mortar applied in layers, and remove waste and debris."]
["4314BA","GRANO:RENEW PAVING","PLASTERWORK AND OTHER FINISHES","Granolithic Finishes","Paving","SM",48.82,{"$f":"SUMIF('Contractor##'!C:C,'Planned Maint v6.2 CSV File'!C:C,'Contractor##'!F:F)","v":-0.27500000000000002},35.394500000000001,"Grano:Renew granolithic paving to floors, ne 50mm thick, hack up existing paving, prepare base and lay granolithic paving, cement and granite chippings (2:5) with steel, trowelled finish, in one coat including all labours, make good up to existing, and remove waste and debris."]
["4314CA","GRANO:RENEW STAIR FINISH","PLASTERWORK AND OTHER FINISHES","Granolithic Finishes","Stair Finishes","SM",68.599999999999994,{"$f":"SUMIF('Contractor##'!C:C,'Planned Maint v6.2 CSV File'!C:C,'Contractor##'!F:F)","v":-0.27500000000000002},49.734999999999992,"Grano:Renew granolithic finish to treads, risers, strings of staircase, to match existing thickness, hack up existing finish, prepare base and lay granolithic finish, cement and granite chippings (2:5) with steel, trowelled finish, in one coat including all labours, make good up to existing, and remove waste and debris."]
["4314ZA","WALL TILES:HACK OFF EXTERNAL AND MAKE GOOD","WALL AND FLOOR TILE AND SHEET FINISHES","Wall and Floor Finishes","External Wall Tiling","SM",8.1199999999999992,{"$f":"SUMIF('Contractor##'!C:C,'Planned Maint v6.2 CSV File'!C:C,'Contractor##'!F:F)","v":-0.15759999999999999},6.8402879999999993,"Wall Tiles:Hack off external glazed wall tiling in patch, make good bed and remove waste and debris."]
["4314ZB","WALL TILES:RENEW EXTERNAL QUALITY GLAZED TILE","WALL AND FLOOR TILE AND SHEET FINISHES","Wall and Floor Finishes","External Wall Tiling","NO",5.25,{"$f":"SUMIF('Contractor##'!C:C,'Planned Maint v6.2 CSV File'!C:C,'Contractor##'!F:F)","v":-0.15759999999999999},4.4226000000000001,"Wall Tiles:Clean off walls and prepare to receive new tile, supply and fix new ne 152x152x6mm external quality glazed ceramic wall tile in patch to walls and cills including fixing with mortar or approved adhesive, grouting and any necessary cutting including hack off glazed wall tiling in patch as necessary, make good bed and remove waste and debris. (per tile)."]
["4314ZC","WALL TILES:RENEW EXTERNAL QUALITY GLAZED TILES","WALL AND FLOOR TILE AND SHEET FINISHES","Wall and Floor Finishes","External Wall Tiling","SM",86.62,{"$f":"SUMIF('Contractor##'!C:C,'Planned Maint v6.2 CSV File'!C:C,'Contractor##'!F:F)","v":-0.15759999999999999},72.968688,"Wall Tiles:Clean off walls and prepare to receive new tiles, supply and fix new ne 152x152x6mm external quality glazed ceramic wall tiles to walls and cills, including fixing with mortar or approved adhesive, grouting, and any necessary cutting including hack off glazed wall tiling, make good bed and remove waste and debris."]
["4314ZD","WALL TILES:RENEW TO EXTERNAL CILL","WALL AND FLOOR TILE AND SHEET FINISHES","Wall and Floor Finishes","External Wall Tiling","LM",15.31,{"$f":"SUMIF('Contractor##'!C:C,'Planned Maint v6.2 CSV File'!C:C,'Contractor##'!F:F)","v":-0.15759999999999999},12.897144000000001,"Wall Tiles:Hack off tiles to cill, clear away, supply and lay new ne 152x152x6mm external quality glazed tiles to cill, ne 150mm wide, bed in mortar or approved adhesive including make good to bed, grout and all necessary cutting and forming straight edge and remove waste and debris."]
["4314ZE","MOSAIC:RENEW EXTERNAL QUALITY GLAZED TILING","WALL AND FLOOR TILE AND SHEET FINISHES","Wall and Floor Finishes","External Wall Tiling","SM",83.12,{"$f":"SUMIF('Contractor##'!C:C,'Planned Maint v6.2 CSV File'!C:C,'Contractor##'!F:F)","v":-0.15759999999999999},70.020288000000008,"Mosaic:Clean off walls and prepare to receive new mosaic tiling, supply and fix new ne 6mm external quality glazed ceramic mosaic wall tiling to walls and cills, including fixing with mortar or approved adhesive, grouting, and any necessary cutting including hack off glazed wall tiling, make good bed and remove waste and debris."]
["4315AA","FLOOR TILES:RENEW QUARRY TILES","WALL AND FLOOR TILE AND SHEET FINISHES","Wall and Floor Finishes","Floor Tiles - Quarry Tiles","SM",73.89,{"$f":"SUMIF('Contractor##'!C:C,'Planned Maint v6.2 CSV File'!C:C,'Contractor##'!F:F)","v":-0.15759999999999999},{"$f":"(1+H1604)*G1604","v":62.244936000000003},"Floor Tiles:Hack off quarry tiles, clear away, supply and lay new ne 152x152x17mm quarry tiles, on and including cement and sand bed, grout in tiles, and all necessary cutting and remove waste and debris."]
["4315BA","FLOOR TILES:NEW QUARRY TILES","WALL AND FLOOR TILE AND SHEET FINISHES","Wall and Floor Finishes","Floor Tiles - Quarry Tiles","SM",57.64,{"$f":"SUMIF('Contractor##'!C:C,'Planned Maint v6.2 CSV File'!C:C,'Contractor##'!F:F)","v":-0.15759999999999999},48.555936000000003,"Floor Tiles:Supply and lay new ne 152x152x17mm quarry floor tiles on and including cement and sand bed, grout in tiles and all necessary cutting and remove waste and debris."]
["4315CA","FLOOR TILES:REBED QUARRY TILES","WALL AND FLOOR TILE AND SHEET FINISHES","Wall and Floor Finishes","Floor Tiles - Quarry Tiles","SM",51.28,{"$f":"SUMIF('Contractor##'!C:C,'Planned Maint v6.2 CSV File'!C:C,'Contractor##'!F:F)","v":-0.15759999999999999},43.198272000000003,"Floor Tiles:Take up loose quarry floor tile and set aside, clean off floor and tiles, refix tiles and grout in and remove waste and debris."]
["4317AA","TILE SKIRTING:RENEW QUARRY TILES","WALL AND FLOOR TILE AND SHEET FINISHES","Wall and Floor Finishes","Skirtings - Quarry Tiles","LM",15.85,{"$f":"SUMIF('Contractor##'!C:C,'Planned Maint v6.2 CSV File'!C:C,'Contractor##'!F:F)","v":-0.15759999999999999},13.352040000000001,"Tile Skirting:Hack off quarry tile skirting, clear away, supply and lay new ne 152mm quarry tile skirting with rounded top and cove at bottom, on cement and sand backing, grout in tiles, and all necessary cutting, angles and ends and remove waste and debris."]
["4317BA","TILE SKIRTING:LAY NEW QUARRY TILES","WALL AND FLOOR TILE AND SHEET FINISHES","Wall and Floor Finishes","Skirtings - Quarry Tiles","LM",12.73,{"$f":"SUMIF('Contractor##'!C:C,'Planned Maint v6.2 CSV File'!C:C,'Contractor##'!F:F)","v":-0.15759999999999999},10.723752000000001,"Tile Skirting:Supply and lay new ne 152mm quarry tile skirting with rounded top edge and cove at bottom, on cement and sand backing, grout in tiles and all necessary cutting, angles and ends and remove waste and debris."]
["4317CA","TILE SKIRTING:REBED QUARRY TILES","WALL AND FLOOR TILE AND SHEET FINISHES","Wall and Floor Finishes","Skirtings - Quarry Tiles","LM",15.88,{"$f":"SUMIF('Contractor##'!C:C,'Planned Maint v6.2 CSV File'!C:C,'Contractor##'!F:F)","v":-0.15759999999999999},13.377312000000002,"Tile Skirting:Take off loose quarry tile skirting and set aside, clean tile and prepare backing, rebed tile in cement and sand and grout in tile and remove waste and debris.."]
["4319AA","FLOOR TILES:RENEW CERAMIC TILES","WALL AND FLOOR TILE AND SHEET FINISHES","Wall and Floor Finishes","Floor Tiles - Ceramic Tiles","SM",57.22,{"$f":"SUMIF('Contractor##'!C:C,'Planned Maint v6.2 CSV File'!C:C,'Contractor##'!F:F)","v":-0.15759999999999999},48.202128000000002,"Floor Tiles:Hack off ceramic tiles, clear away, supply and lay new ne 300x300x12mm ceramic floor tiles on and including cement and sand bed, grout in tiles and all necessary cutting and remove waste and debris."]
["4319BA","FLOOR TILES:NEW CERAMIC TILES","WALL AND FLOOR TILE AND SHEET FINISHES","Wall and Floor Finishes","Floor Tiles - Ceramic Tiles","SM",40.03,{"$f":"SUMIF('Contractor##'!C:C,'Planned Maint v6.2 CSV File'!C:C,'Contractor##'!F:F)","v":-0.15759999999999999},33.721271999999999,"Floor Tiles:Supply and lay new ne 300x300x12mm ceramic floor tiles on and including cement and sand bed, grout in tiles and all necessary cutting and remove waste and debris.."]
["4319CA","FLOOR TILES:REBED CERAMIC TILES","WALL AND FLOOR TILE AND SHEET FINISHES","Wall and Floor Finishes","Floor Tiles - Ceramic Tiles","SM",43.66,{"$f":"SUMIF('Contractor##'!C:C,'Planned Maint v6.2 CSV File'!C:C,'Contractor##'!F:F)","v":-0.15759999999999999},36.779184000000001,"Floor Tiles:Take up loose ceramic floor tiles and set aside, clean off floor and tiles, refix tiles and grout in and remove waste and debris."]
["4320AA","FLOOR TILES:RENEW NON-SLIP CERAMIC TILES IN PATCH","WALL AND FLOOR TILE AND SHEET FINISHES","Wall and Floor Finishes","Floor Tiles - Non Slip Ceramic Tiles","IT",80.31,{"$f":"SUMIF('Contractor##'!C:C,'Planned Maint v6.2 CSV File'!C:C,'Contractor##'!F:F)","v":-0.15759999999999999},67.653144000000012,"Floor Tile:Hack off ceramic tiles, clear away, supply and lay new ne 300x300x12mm Non-slip ceramic floor tiles in patch on and including cement and sand bed, grout in tiles and all necessary cutting and remove waste and debris."]
["4320AB","FLOOR TILES:RENEW NON-SLIP CERAMIC TILES","WALL AND FLOOR TILE AND SHEET FINISHES","Wall and Floor Finishes","Floor Tiles - Non Slip Ceramic Tiles","SM",64.38,{"$f":"SUMIF('Contractor##'!C:C,'Planned Maint v6.2 CSV File'!C:C,'Contractor##'!F:F)","v":-0.15759999999999999},54.233711999999997,"Floor Tiles:Hack off ceramic tiles, clear away, supply and lay new ne 300x300x12mm Non-slip ceramic floor tiles on and including cement and sand bed, grout in tiles and all necessary cutting and remove waste and debris."]
["4320AC","FLOOR TILES:NEW NON-SLIP CERAMIC TILES IN PATCH","WALL AND FLOOR TILE AND SHEET FINISHES","Wall and Floor Finishes","Floor Tiles - Non Slip Ceramic Tiles","IT",56.88,{"$f":"SUMIF('Contractor##'!C:C,'Planned Maint v6.2 CSV File'!C:C,'Contractor##'!F:F)","v":-0.15759999999999999},47.915712000000006,"Floor Tiles:Supply and lay new ne 300x300x12mm Non-slip ceramic floor tiles in patch on and including cement and sand bed, grout in tiles and all necessary cutting and remove waste and debris."]
["4320AD","FLOOR TILES:NEW NON-SLIP CERAMIC TILES","WALL AND FLOOR TILE AND SHEET FINISHES","Wall and Floor Finishes","Floor Tiles - Non Slip Ceramic Tiles","SM",47.19,{"$f":"SUMIF('Contractor##'!C:C,'Planned Maint v6.2 CSV File'!C:C,'Contractor##'!F:F)","v":-0.15759999999999999},39.752856000000001,"Floor Tiles:Supply and lay new ne 300x300x12mm Non-slip ceramic floor tiles on and including cement and sand bed, grout in tiles and all necessary cutting and remove waste and debris."]
["4321AA","TILE SKIRTING:RENEW CERAMIC TILES","WALL AND FLOOR TILE AND SHEET FINISHES","Wall and Floor Finishes","Skirtings - Ceramic","LM",12.59,{"$f":"SUMIF('Contractor##'!C:C,'Planned Maint v6.2 CSV File'!C:C,'Contractor##'!F:F)","v":-0.15759999999999999},10.605816000000001,"Tile Skirting:Hack off ceramic tile skirting, clear away, supply and lay new ne 152mm ceramic tile skirting with rounded top edge on cement and sand backing, grout in tiles and all necessary cutting, angles and ends and remove waste and debris."]
["4321BA","TILE SKIRTING:LAY NEW CERAMIC TILES","WALL AND FLOOR TILE AND SHEET FINISHES","Wall and Floor Finishes","Skirtings - Ceramic","LM",10.09,{"$f":"SUMIF('Contractor##'!C:C,'Planned Maint v6.2 CSV File'!C:C,'Contractor##'!F:F)","v":-0.15759999999999999},8.4998160000000009,"Tile Skirting:Supply and lay new ne 152mm ceramic tile skirting with rounded top edge on cement and sand backing, grout in tiles and all necessary cutting angles and ends and remove waste and debris."]
["4321CA","TILE SKIRTING:REBED CERAMIC TILES","WALL AND FLOOR TILE AND SHEET FINISHES","Wall and Floor Finishes","Skirtings - Ceramic","LM",13.2,{"$f":"SUMIF('Contractor##'!C:C,'Planned Maint v6.2 CSV File'!C:C,'Contractor##'!F:F)","v":-0.15759999999999999},11.119680000000001,"Tile Skirting:Take off loose ceramic tile skirting and set aside, clean tiles and prepare backing, rebed tiles in cement and sand and grout in tiles."]
["4323AA","FLOOR TILES:HACK UP VINYL TILES","WALL AND FLOOR TILE AND SHEET FINISHES","Wall and Floor Finishes","Floor Tiles - Vinyl","SM",5.24,{"$f":"SUMIF('Contractor##'!C:C,'Planned Maint v6.2 CSV File'!C:C,'Contractor##'!F:F)","v":-0.15759999999999999},4.4141760000000003,"Floor Tiles:Hack off vinyl floor tiles, including make good bed under and remove waste and debris."]
["4323BA","FLOOR TILES:RENEW VINYL TILES","WALL AND FLOOR TILE AND SHEET FINISHES","Wall and Floor Finishes","Floor Tiles - Vinyl","SM",21.11,{"$f":"SUMIF('Contractor##'!C:C,'Planned Maint v6.2 CSV File'!C:C,'Contractor##'!F:F)","v":-0.15759999999999999},17.783064,"Floor Tiles:Hack off vinyl floor tiles, supply and lay new ne 300x300x2.00mm vinyl tiles with adhesive in patch including all necessary cutting of tiles and clean off and remove waste and debris."]
["4323BB","FLOOR TILES:RENEW VINYL TILES AND SUB-BASE","WALL AND FLOOR TILE AND SHEET FINISHES","Wall and Floor Finishes","Floor Tiles - Vinyl","SM",33.130000000000003,{"$f":"SUMIF('Contractor##'!C:C,'Planned Maint v6.2 CSV File'!C:C,'Contractor##'!F:F)","v":-0.15759999999999999},27.908712000000005,"Floor Tiles:Hack off vinyl floor tiles, supply and lay new ne 300x300x2.00mm vinyl floor tiles with adhesive to and including supply and lay approved sheet sub base including all cutting, labours and clean off and remove waste and debris."]
["4323CA","FLOOR TILES:LAY NEW VINYL TILES","WALL AND FLOOR TILE AND SHEET FINISHES","Wall and Floor Finishes","Floor Tiles - Vinyl","SM",17.989999999999998,{"$f":"SUMIF('Contractor##'!C:C,'Planned Maint v6.2 CSV File'!C:C,'Contractor##'!F:F)","v":-0.15759999999999999},15.154776,"Floor Tiles:Supply and lay new ne 300x300x2.00mm vinyl floor tiles with adhesive including all necessary cutting of tiles and clean off and remove waste and debris."]
["4323CB","FLOOR TILES:LAY NEW VINYL TILES AND SUB-BASE","WALL AND FLOOR TILE AND SHEET FINISHES","Wall and Floor Finishes","Floor Tiles - Vinyl","SM",30.01,{"$f":"SUMIF('Contractor##'!C:C,'Planned Maint v6.2 CSV File'!C:C,'Contractor##'!F:F)","v":-0.15759999999999999},25.280424000000004,"Floor Tiles:Supply and lay new ne 300x300x2.00mm vinyl floor tiles with adhesive to and including approved sheet sub base including all cutting, labours and clean off and remove waste and debris."]
["4323DA","FLOOR TILES:REFIX VINYL TILES","WALL AND FLOOR TILE AND SHEET FINISHES","Wall and Floor Finishes","Floor Tiles - Vinyl","SM",15.14,{"$f":"SUMIF('Contractor##'!C:C,'Planned Maint v6.2 CSV File'!C:C,'Contractor##'!F:F)","v":-0.15759999999999999},12.753936000000001,"Floor Tiles:Take up existing loose vinyl floor tiles, set aside, clean off tiles and bed and refix tiles with adhesive and clean off and remove waste and debris."]
["4325AA","SHEET FLOORING:RENEW VINYL ","WALL AND FLOOR TILE AND SHEET FINISHES","Wall and Floor Finishes","Sheet Flooring","SM",27.96,{"$f":"SUMIF('Contractor##'!C:C,'Planned Maint v6.2 CSV File'!C:C,'Contractor##'!F:F)","v":-0.15759999999999999},23.553504,"Flooring:Take up any covering, clear away, supply and lay minimum 2.0mm felt backed vinyl sheet flooring with adhesive to cement and sand screed, or hardboard including all necessary cutting, all labours and clean off, and remove waste and debris."]
["4325AB","SHEET FLOORING:RENEW VINYL AND SUB-BASE","WALL AND FLOOR TILE AND SHEET FINISHES","Wall and Floor Finishes","Sheet Flooring","SM",38.409999999999997,{"$f":"SUMIF('Contractor##'!C:C,'Planned Maint v6.2 CSV File'!C:C,'Contractor##'!F:F)","v":-0.15759999999999999},32.356583999999998,"Sheet Flooring:Take up any covering, clear away, supply and lay minimum 2.0mm felt backed vinyl sheet flooring with adhesive to and including supply and lay approved sheet sub base, all necessary cutting, all labours, and clean off, and remove waste and debris."]
["4325BA","SHEET FLOORING:LAY NEW VINYL","WALL AND FLOOR TILE AND SHEET FINISHES","Wall and Floor Finishes","Sheet Flooring","SM",24.83,{"$f":"SUMIF('Contractor##'!C:C,'Planned Maint v6.2 CSV File'!C:C,'Contractor##'!F:F)","v":-0.15759999999999999},20.916792000000001,"Sheet Flooring:Supply and lay minimum 2.0mm felt backed vinyl sheet flooring with adhesive to cement and sand screed or hardboard including all necessary cutting, all labours and clean off, and remove waste and debris."]
["4325BB","SHEET FLOORING:LAY NEW VINYL AND SUB-BASE","WALL AND FLOOR TILE AND SHEET FINISHES","Wall and Floor Finishes","Sheet Flooring","SM",35.29,{"$f":"SUMIF('Contractor##'!C:C,'Planned Maint v6.2 CSV File'!C:C,'Contractor##'!F:F)","v":-0.15759999999999999},29.728296,"Sheet Flooring:Supply and lay minimum 2.0mm felt backed vinyl sheet flooring with adhesive to and including supply and lay approved sheet sub base including all necessary cutting, all labours and clean off, and remove waste and debris."]
["4325CA","SHEET FLOORING:REFIX FLOORING","WALL AND FLOOR TILE AND SHEET FINISHES","Wall and Floor Finishes","Sheet Flooring","SM",8.0500000000000007,{"$f":"SUMIF('Contractor##'!C:C,'Planned Maint v6.2 CSV File'!C:C,'Contractor##'!F:F)","v":-0.15759999999999999},6.7813200000000009,"Sheet Flooring:Take up any type of existing loose sheet flooring, clean off flooring and bed under and refix flooring with adhesive and clean off, and remove waste and debris."]
["4326AA","SHEET FLOORING:RENEW POLYSAFE","WALL AND FLOOR TILE AND SHEET FINISHES","Wall and Floor Finishes","Polysafe' Flooring","SM",33.61,{"$f":"SUMIF('Contractor##'!C:C,'Planned Maint v6.2 CSV File'!C:C,'Contractor##'!F:F)","v":-0.15759999999999999},28.313064000000001,"Flooring:Take up any covering, clear away, supply and lay 'Polysafe' or other equal and approved proprietary safety flooring with adhesive to cement and sand screed or hardboard or plywood including all necessary cutting, all labours, upstands and clean off, and remove waste and debris."]
["4326AB","SHEET FLOORING:RENEW POLYSAFE AND SUB-BASE","WALL AND FLOOR TILE AND SHEET FINISHES","Wall and Floor Finishes","Polysafe' Flooring","SM",44.07,{"$f":"SUMIF('Contractor##'!C:C,'Planned Maint v6.2 CSV File'!C:C,'Contractor##'!F:F)","v":-0.15759999999999999},37.124568000000004,"Flooring:Take up any covering, clear away, supply and lay 'Polysafe' or other equal and approved proprietary safety flooring with adhesive to and including supply and lay approved sheet sub base, including all necessary cutting, all labours, upstands and clean off, and remove waste and debris."]
["4326AC","SHEET FLOORING:REFIX POLYSAFE","WALL AND FLOOR TILE AND SHEET FINISHES","Wall and Floor Finishes","Sheet Flooring - Polysafe","SM",7.27,{"$f":"SUMIF('Contractor##'!C:C,'Planned Maint v6.2 CSV File'!C:C,'Contractor##'!F:F)","v":-0.15759999999999999},6.1242479999999997,"Sheet Flooring:Take up any type of existing loose ‘Polysafe’ or other proprietary non-slip sheet flooring, clean off flooring and bed under and refix flooring with adhesive including all necessary cutting, all labours, upstands and clean off, and remove waste and debris."]
["4326BA","SHEET FLOORING:LAY NEW POLYSAFE","WALL AND FLOOR TILE AND SHEET FINISHES","Wall and Floor Finishes","Polysafe' Flooring","SM",30.49,{"$f":"SUMIF('Contractor##'!C:C,'Planned Maint v6.2 CSV File'!C:C,'Contractor##'!F:F)","v":-0.15759999999999999},25.684775999999999,"Sheet Flooring:Supply and lay 'Polysafe' or other equal and approved proprietary safety flooring with adhesive to cement and sand screed or hardboard plywood including all necessary cutting, all labours, upstands and clean off, and remove waste and debris."]
["4326BB","SHEET FLOORING:LAY NEW POLYSAFE AND SUB-BASE","WALL AND FLOOR TILE AND SHEET FINISHES","Wall and Floor Finishes","Polysafe' Flooring","SM",40.94,{"$f":"SUMIF('Contractor##'!C:C,'Planned Maint v6.2 CSV File'!C:C,'Contractor##'!F:F)","v":-0.15759999999999999},34.487856000000001,"Sheet Flooring:Supply and lay 'Polysafe' or other equal and approved proprietary safety flooring with adhesive to and including supply and lay approved sheet sub base, including all necessary cutting, all labours, upstands and clean off, and remove waste and debris."]
["4326CA","SHEET FLOORING:RENEW POLYSAFE TO STAIRCASE","WALL AND FLOOR TILE AND SHEET FINISHES","Wall and Floor Finishes","Sheet Flooring - Polysafe","SM",43.28,{"$f":"SUMIF('Contractor##'!C:C,'Planned Maint v6.2 CSV File'!C:C,'Contractor##'!F:F)","v":-0.15759999999999999},36.459072000000006,"Flooring:Take up any covering, clear away, supply and lay 'Polysafe' or other equal and approved proprietary safety flooring with adhesive to cement and sand screed or concrete treads, risers and landings of staircase including all necessary cutting, all labours, upstands and clean off, and remove waste and debris."]
["4326CB","SHEET FLOORING:RENEW NON-SLIP AND SUB-BASE","WALL AND FLOOR TILE AND SHEET FINISHES","Wall and Floor Finishes","Polysafe' Flooring","SM",38.840000000000003,{"$f":"SUMIF('Contractor##'!C:C,'Planned Maint v6.2 CSV File'!C:C,'Contractor##'!F:F)","v":-0.15759999999999999},32.718816000000004,"Sheet Flooring:Take up any covering, clear away, supply and lay any type of approved non-slip vinyl sheet safety flooring with adhesive to and including supply and lay approved sheet sub base, including all necessary cutting, all labours, upstands and clean off, clear silicone sealant jointing at all perimeters, and remove waste and debris.."]
["4326CC","SHEET FLOORING:LAY NEW POLYSAFE TO STAIRCASE","WALL AND FLOOR TILE AND SHEET FINISHES","Wall and Floor Finishes","Sheet Flooring - Polysafe","SM",38.590000000000003,{"$f":"SUMIF('Contractor##'!C:C,'Planned Maint v6.2 CSV File'!C:C,'Contractor##'!F:F)","v":-0.15759999999999999},32.508216000000004,"Sheet Flooring:Supply and lay 'Polysafe' or other equal and approved proprietary safety flooring with adhesive to cement and sand screed or concrete treads, risers and landings of staircase including all necessary cutting, all labours, upstands and clean off, and remove waste and debris."]
["4326CE","SHEET FLOORING:LAY NEW NON-SLIP AND SUB-BASE","WALL AND FLOOR TILE AND SHEET FINISHES","Wall and Floor Finishes","Sheet Flooring - Non Slip","SM",38.840000000000003,{"$f":"SUMIF('Contractor##'!C:C,'Planned Maint v6.2 CSV File'!C:C,'Contractor##'!F:F)","v":-0.15759999999999999},32.718816000000004,"Sheet Flooring:Supply and lay any type of approved non-slip vinyl sheet safety flooring with adhesive to and including supply and lay approved sheet sub base including all necessary cutting, all labours, upstands and clean off, clear silicone sealant jointing at all perimeters, and remove waste and debris."]
["4326CF","SHEET FLOORING:LAY NEW NON-SLIP","WALL AND FLOOR TILE AND SHEET FINISHES","Wall and Floor Finishes","Sheet Flooring - Non Slip","SM",33.9,{"$f":"SUMIF('Contractor##'!C:C,'Planned Maint v6.2 CSV File'!C:C,'Contractor##'!F:F)","v":-0.15759999999999999},28.557359999999999,"Sheet Flooring:Supply and lay any type of approved non-slip vinyl sheet safety flooring with adhesive to cement and sand screed including all necessary cutting, all labours, upstands and clean off, and remove waste and debris."]
["4326CG","SHEET FLOORING:LAY NEW NON-SLIP TO STAIRCASE","WALL AND FLOOR TILE AND SHEET FINISHES","Wall and Floor Finishes","Sheet Flooring - Non Slip","SM",38.590000000000003,{"$f":"SUMIF('Contractor##'!C:C,'Planned Maint v6.2 CSV File'!C:C,'Contractor##'!F:F)","v":-0.15759999999999999},32.508216000000004,"Sheet Flooring:Supply and lay any type of approved non-slip vinyl sheet safety flooring with adhesive to cement and sand screed or concrete treads, risers and landings of staircase including all necessary cutting, all labours, upstands and clean off, and remove waste and debris."]
["4326DA","WET ROOM:RENEW NON-SLIP SHEET FLOORING +SUB-BASE","WALL AND FLOOR TILE AND SHEET FINISHES","Wall and Floor Finishes","Sheet Flooring - Non Slip to Wet Rooms","SM",53.19,{"$f":"SUMIF('Contractor##'!C:C,'Planned Maint v6.2 CSV File'!C:C,'Contractor##'!F:F)","v":-0.15759999999999999},44.807256000000002,"Wet Room:Take up any covering, clear away, supply and lay any type of approved non-slip vinyl sheet safety flooring with adhesive to and including supply and lay approved sheet sub base, including all necessary  skirtings and formers, cutting, and cutting and sealing to outfalls,all labours, upstands and clean off, clear silicone sealant jointing at all perimeters, and remove waste and debris."]
["4326DB","WET ROOM:LAY NEW NON-SLIP SHEET FLOORING +SUB-BASE","WALL AND FLOOR TILE AND SHEET FINISHES","Wall and Floor Finishes","Sheet Flooring - Non Slip to Wet Rooms","SM",47,{"$f":"SUMIF('Contractor##'!C:C,'Planned Maint v6.2 CSV File'!C:C,'Contractor##'!F:F)","v":-0.15759999999999999},39.592800000000004,"Wet Room:Supply and lay any type of approved non-slip vinyl sheet safety flooring with adhesive to and including supply and lay approved sheet sub base including all necessary skirtings and formers, cutting, and cutting and sealing to outfalls, all labours, upstands and clean off, clear silicone sealant jointing at all perimeters, and remove waste and debris."]
["4327AA","SKIRTING:RENEW VINYL ETC ","WALL AND FLOOR TILE AND SHEET FINISHES","Wall and Floor Finishes","Skirtings - Plastic, Vinyl, Lino or Rubber","LM",8.59,{"$f":"SUMIF('Contractor##'!C:C,'Planned Maint v6.2 CSV File'!C:C,'Contractor##'!F:F)","v":-0.15759999999999999},7.2362160000000006,"Skirting:Renew or fix new plastic, vinyl, lino or rubber skirting including remove existing as necessary, fix new with adhesive including all cutting and labours, and remove waste and debris."]
["4327BA","SKIRTING:REFIX VINYL ETC","WALL AND FLOOR TILE AND SHEET FINISHES","Wall and Floor Finishes","Skirtings - Plastic, Vinyl, Lino or Rubber","LM",6.52,{"$f":"SUMIF('Contractor##'!C:C,'Planned Maint v6.2 CSV File'!C:C,'Contractor##'!F:F)","v":-0.15759999999999999},5.4924479999999996,"Skirting:Refix loose plastic, vinyl, lino or rubber skirting including remove existing as necessary, refix with adhesive including all labours, and remove waste and debris."]
["4328AA","CARPET:RENEW TO COMMUNAL AREAS","WALL AND FLOOR TILE AND SHEET FINISHES","Wall and Floor Finishes","Contract Grade Carpeting","SM",13.97,{"$f":"SUMIF('Contractor##'!C:C,'Planned Maint v6.2 CSV File'!C:C,'Contractor##'!F:F)","v":-0.15759999999999999},11.768328,"Carpet:Renew tight woven heavy contract grade carpet to communal areas, take up existing and dispose to tip, prepare sub-base, secure all edges with gripper or proprietary adhesive tape, cut and fit around pipes, into alcoves, door openings and the like including all necessary door strips etc., and remove waste and debris"]
["4328AB","CARPET:RENEW TO COMMUNAL AREAS UNDERLAY","WALL AND FLOOR TILE AND SHEET FINISHES","Wall and Floor Finishes","Contract Grade Carpeting","SM",17.54,{"$f":"SUMIF('Contractor##'!C:C,'Planned Maint v6.2 CSV File'!C:C,'Contractor##'!F:F)","v":-0.15759999999999999},14.775696,"Carpet:Renew tight woven heavy contract grade carpet to communal areas, take up existing and dispose to tip, prepare sub-base, lay underlay secure all edges with gripper or proprietary adhesive tape, cut and fit around pipes, into alcoves, door openings and the like including all necessary door strips etc., and remove waste and debris"]
["4328AC","CARPET:RENEW TO DOMESTIC AREAS","WALL AND FLOOR TILE AND SHEET FINISHES","Wall and Floor Finishes","Contract Grade Carpeting","SM",16.28,{"$f":"SUMIF('Contractor##'!C:C,'Planned Maint v6.2 CSV File'!C:C,'Contractor##'!F:F)","v":-0.15759999999999999},13.714272000000001,"Carpet:Renew tight woven medium contract grade carpet to domestic areas, take up existing and dispose to tip, prepare sub-base, lay underlay secure all edges with gripper or proprietary adhesive tape, cut and fit around pipes, into alcoves, door openings and the like including all necessary door strips etc., and remove waste and debris."]
["4328BA","CARPET:RENEW INDIVIDUAL CARPET TILES","WALL AND FLOOR TILE AND SHEET FINISHES","Wall and Floor Finishes","Carpet Tiling","NO",4.8499999999999996,{"$f":"SUMIF('Contractor##'!C:C,'Planned Maint v6.2 CSV File'!C:C,'Contractor##'!F:F)","v":-0.15759999999999999},4.0856399999999997,"Carpet:Renew individual tight woven heavy contract grade carpet tile take up existing and dispose to tip, prepare sub-base,and lay carpet tile, including cut and fit around pipes, into alcoves, door openings and the like including all necessary door strips etc., and remove waste and debris."]
["4328BB","CARPET:RENEW PATCH OF CARPET TILES NE 2SM","WALL AND FLOOR TILE AND SHEET FINISHES","Wall and Floor Finishes","Carpet Tiling","IT",55.19,{"$f":"SUMIF('Contractor##'!C:C,'Planned Maint v6.2 CSV File'!C:C,'Contractor##'!F:F)","v":-0.15759999999999999},46.492055999999998,"Carpet:Renew patch of tight woven heavy contract grade carpet tiles, not exceeding 2.00 sm, take up existing and dispose to tip, prepare sub-base, and lay carpet tiles, including cut and fit around pipes, into alcoves, door openings and the like including all necessary door strips etc., and remove waste and debris."]
["4328BC","CARPET:RENEW CARPET TILES","WALL AND FLOOR TILE AND SHEET FINISHES","Wall and Floor Finishes","Carpet Tiling","SM",38.130000000000003,{"$f":"SUMIF('Contractor##'!C:C,'Planned Maint v6.2 CSV File'!C:C,'Contractor##'!F:F)","v":-0.15759999999999999},32.120712000000005,"Carpet:Renew or supply and fit new tight woven heavy contract grade carpet tile flooring, take up existing and dispose to tip, prepare sub-base, and lay carpet tiles, including cut and fit around pipes, into alcoves, door openings and the like including all necessary door strips etc., and remove waste and debris."]
["4328BD","CARPET:RELAY INDIVIDUAL CARPET TILES","WALL AND FLOOR TILE AND SHEET FINISHES","Wall and Floor Finishes","Carpet Tiling","NO",4.38,{"$f":"SUMIF('Contractor##'!C:C,'Planned Maint v6.2 CSV File'!C:C,'Contractor##'!F:F)","v":-0.15759999999999999},3.6897120000000001,"Carpet:Relay individual tight woven heavy contract grade carpet tile take up existing and dispose to tip, prepare sub-base and relay carpet tile, including cut and fit around pipes, into alcoves, door openings and the like including all necessary door strips etc., and remove waste and debris."]
["4328BE","CARPET:RELAY PATCH OF CARPET TILES NE 2SM","WALL AND FLOOR TILE AND SHEET FINISHES","Wall and Floor Finishes","Carpet Tiling","IT",17.190000000000001,{"$f":"SUMIF('Contractor##'!C:C,'Planned Maint v6.2 CSV File'!C:C,'Contractor##'!F:F)","v":-0.15759999999999999},14.480856000000001,"Carpet:Relay patch of tight woven heavy contract grade carpet tiles, not exceeding 2.00 sm, take up existing and dispose to tip, prepare sub-base and relay carpet tiles, including cut and fit around pipes, into alcoves, door openings and the like including all necessary door strips etc., and remove waste and debris."]
["4328CA","CARPET:RELAY CARPET TILES","WALL AND FLOOR TILE AND SHEET FINISHES","Wall and Floor Finishes","Carpet Tiling","SM",8.1300000000000008,{"$f":"SUMIF('Contractor##'!C:C,'Planned Maint v6.2 CSV File'!C:C,'Contractor##'!F:F)","v":-0.15759999999999999},6.8487120000000008,"Carpet:Relay tight woven heavy contract grade carpet tile flooring, take up existing and set aside, prepare sub-base,and relay carpet tiles, including cut and fit around pipes, into alcoves, door openings and the like including all necessary door strips etc., and remove waste and debris."]
["4328DA","CARPET:RENEW METAL DOOR STRIP – PROPRIETARY ","WALL AND FLOOR TILE AND SHEET FINISHES","Wall and Floor Finishes","Door Strips","LM",9.1300000000000008,{"$f":"SUMIF('Contractor##'!C:C,'Planned Maint v6.2 CSV File'!C:C,'Contractor##'!F:F)","v":-0.15759999999999999},7.6911120000000013,"Carpet:Renew or supply and fix new proprietary metal door strip to carpet across door openings and the like, including plugging."]
["4328DB","CARPET:REFIX METAL DOOR STRIP – PROPRIETARY ","WALL AND FLOOR TILE AND SHEET FINISHES","Wall and Floor Finishes","Door Strips","LM",3.13,{"$f":"SUMIF('Contractor##'!C:C,'Planned Maint v6.2 CSV File'!C:C,'Contractor##'!F:F)","v":-0.15759999999999999},2.6367120000000002,"Carpet:Remove and refix metal door strip to carpet across door openings and the like, including plugging."]
["4328EA","FLOOR PLATE:RENEW POLISHED 350X350MM ALUMINIUM ","WALL AND FLOOR TILE AND SHEET FINISHES","Wall and Floor Finishes","Floor Plates","NO",11.25,{"$f":"SUMIF('Contractor##'!C:C,'Planned Maint v6.2 CSV File'!C:C,'Contractor##'!F:F)","v":-0.15759999999999999},9.4770000000000003,"Floor Plate:Renew or supply and fix new 350x350mm polished aluminium floor plate to conceal redundant electrical outlet, including plugging."]
["4328EB","FLOOR PLATE:REFIX 350X350MM ALUMINIUM ","WALL AND FLOOR TILE AND SHEET FINISHES","Wall and Floor Finishes","Floor Plates","NO",7.25,{"$f":"SUMIF('Contractor##'!C:C,'Planned Maint v6.2 CSV File'!C:C,'Contractor##'!F:F)","v":-0.15759999999999999},6.1074000000000002,"Floor Plate:Remove and refix 350x350mm polished aluminium floor plate to conceal redundant electrical outlet, including plugging."]
["4329AA","NOSING:RENEW NOSING TO STEP","WALL AND FLOOR TILE AND SHEET FINISHES","Wall and Floor Finishes","Nosings","NO",36.81,{"$f":"SUMIF('Contractor##'!C:C,'Planned Maint v6.2 CSV File'!C:C,'Contractor##'!F:F)","v":-0.15759999999999999},31.008744000000004,"Nosing:Renew any size or type of proprietary alloy nosing to step including drilling and plugging as necessary, and remove waste and debris."]
["4329BA","NOSING:SUPPLY AND FIX NOSING TO STEP","WALL AND FLOOR TILE AND SHEET FINISHES","Wall and Floor Finishes","Nosings","NO",33.68,{"$f":"SUMIF('Contractor##'!C:C,'Planned Maint v6.2 CSV File'!C:C,'Contractor##'!F:F)","v":-0.15759999999999999},28.372032000000001,"Nosing:Supply and fix any size or type of proprietary alloy nosing to step including all necessary drilling and plugging, and remove waste and debris."]
["4329CA","NOSING:REFIX TO STEP","WALL AND FLOOR TILE AND SHEET FINISHES","Wall and Floor Finishes","Nosings","NO",9.6199999999999992,{"$f":"SUMIF('Contractor##'!C:C,'Planned Maint v6.2 CSV File'!C:C,'Contractor##'!F:F)","v":-0.15759999999999999},8.1038879999999995,"Nosing:Take off and refix any size or type of nosing to step including drilling and plugging as necessary."]
["4332ZA","SUSPENDED CEILINGS:RENEW TILE 600X600MM","WALL AND FLOOR TILE AND SHEET FINISHES","Ceiling Finishes","Suspended Ceilings - Tile and Grid System","NO",29.81,{"$f":"SUMIF('Contractor##'!C:C,'Planned Maint v6.2 CSV File'!C:C,'Contractor##'!F:F)","v":-0.15759999999999999},25.111944000000001,"Suspended Ceilings:Renew individual suspended ceiling tile ne 600x600mm, bevelled, grooved, plain, patterened,perforated etc to match the existing, and lay in position to metal suspension system."]
["4332ZB","SUSPENDED CEILINGS:RENEW TILE 1200X600MM","WALL AND FLOOR TILE AND SHEET FINISHES","Ceiling Finishes","Suspended Ceilings - Tile and Grid System","NO",26.25,{"$f":"SUMIF('Contractor##'!C:C,'Planned Maint v6.2 CSV File'!C:C,'Contractor##'!F:F)","v":-0.15759999999999999},22.113,"Suspended Ceilings:Renew individual suspended ceiling tile ne 1200x600mm, bevelled, grooved, plain, patterened,perforated etc to match the existing, and lay in position to metal suspension system."]
["4332ZC","SUSPENDED CEILINGS:RENEW 600SQ TILE PATCH NE 2SM","WALL AND FLOOR TILE AND SHEET FINISHES","Ceiling Finishes","Suspended Ceilings - Tile and Grid System","IT",57.19,{"$f":"SUMIF('Contractor##'!C:C,'Planned Maint v6.2 CSV File'!C:C,'Contractor##'!F:F)","v":-0.15759999999999999},48.176856000000001,"Suspended Ceilings:Renew patch of ne 600x600mm suspended ceiling tiles, not exceeding 2.00sm , bevelled, grooved, plain, patterened,perforated etc to match the existing, and lay in position to metal suspension system."]
["4332ZD","SUSP CEILINGS:RENEW 600X1200 TILE PATCH NE 2SM","WALL AND FLOOR TILE AND SHEET FINISHES","Ceiling Finishes","Suspended Ceilings - Tile and Grid System","IT",52.06,{"$f":"SUMIF('Contractor##'!C:C,'Planned Maint v6.2 CSV File'!C:C,'Contractor##'!F:F)","v":-0.15759999999999999},43.855344000000002,"Suspended Ceilings:Renew patch of 1200x600mm suspended ceiling tiles not exceeding 2.00sm, bevelled, grooved, plain, patterened,perforated etc to match the existing, and lay in position to metal suspension system."]
["4332ZE","SUSPENDED CEILINGS:RENEW 600SQ TILE PATCH OVER 2SM","WALL AND FLOOR TILE AND SHEET FINISHES","Ceiling Finishes","Suspended Ceilings - Tile and Grid System","SM",30.44,{"$f":"SUMIF('Contractor##'!C:C,'Planned Maint v6.2 CSV File'!C:C,'Contractor##'!F:F)","v":-0.15759999999999999},25.642656000000002,"Suspended Ceilings:Renew patch of ne 600x600mm suspended ceiling tiles over 2.00sm , bevelled, grooved, plain, patterened,perforated etc to match the existing, and lay in position to metal suspension system."]
["4332ZF","SUSP CEILINGS:RENEW 600X1200 TILE PATCH OVER 2SM","WALL AND FLOOR TILE AND SHEET FINISHES","Ceiling Finishes","Suspended Ceilings - Tile and Grid System","SM",26.88,{"$f":"SUMIF('Contractor##'!C:C,'Planned Maint v6.2 CSV File'!C:C,'Contractor##'!F:F)","v":-0.15759999999999999},22.643712000000001,"Suspended Ceilings:Renew patch of 1200x600mm suspended ceiling tiles over 2.00sm, bevelled, grooved, plain, patterened,perforated etc to match the existing, and lay in position to metal suspension system."]
["4332ZG","SUSPENDED CEILING:REPAIR TO GRID","WALL AND FLOOR TILE AND SHEET FINISHES","Ceiling Finishes","Suspended Ceilings - Tile and Grid System","SM",11.38,{"$f":"SUMIF('Contractor##'!C:C,'Planned Maint v6.2 CSV File'!C:C,'Contractor##'!F:F)","v":-0.15759999999999999},{"$f":"(1+H1668)*G1668","v":9.5865120000000008},"Suspended Ceiling:Undertake any necessary repairs to any type of suspended ceiling grid framework and suspension system including straightening out and realigning grid members, refixing hangers, renewing rod or wire hangers as necessary (measured overall area of suspended ceiling subject to repair)."]
["4340AA","CEILING:INSTALL SOUNDPROOF SYSTEM","PLASTERWORK AND OTHER FINISHES","Soundproof Systems","Ceilings","SM",52.92,{"$f":"SUMIF('Contractor##'!C:C,'Planned Maint v6.2 CSV File'!C:C,'Contractor##'!F:F)","v":-0.27500000000000002},38.366999999999997,"Ceiling:Install Gyproc Gyplyner or other equal and approved soundproof ceiling system, comprising metal ceiling grid, two layers of taper edge fireline board, tape joints and apply one lcoat gyproc Drywall primer and prepare for artex finish, 100mm gyplas 1000 glass fibre wool mat between existing floor joists, fix Gyproc 100mm coving at junction between walls and ceilings, and remove waste and debris."]
["4340BA","FLOOR:INSTALL SOUNDPROOF SYSTEM","PLASTERWORK AND OTHER FINISHES","Soundproof Systems","Floors","SM",33.29,{"$f":"SUMIF('Contractor##'!C:C,'Planned Maint v6.2 CSV File'!C:C,'Contractor##'!F:F)","v":-0.27500000000000002},24.135249999999999,"Floor:Install whilst floor boards removed Gyproc SI or other equal and approved soundproof floor system comprising single layer of 12.5mm Glasroc GRG laid between floor joists on and including 12.5mm Glasroc GRG strips 100mm wide screwfixed to sides of joists, 100mm Gypglas 1000 glass wool mat laid between joists, floor joists overlaid with 19mm Gyproc Plank supported on SI floor channels fixed to top of joists and remove waste and debris. (Renewal/reinstatement of floor boarding, skirtings etc measured elsewhere)"]
["4350AA","GUTTER:CLEAN OUT PRIOR TO DECORATION","PAINTING AND DECORATING","Preparation - External and Internal","Works Prior to Painting","LM",1.56,{"$f":"SUMIF('Contractor##'!C:C,'Planned Maint v6.2 CSV File'!C:C,'Contractor##'!F:F)","v":-0.15},1.3260000000000001,"Gutter:Clean out eaves gutter prior to redecoration including flush out and test, and remove waste and debris."]
["4351AA","SURFACE:STRIP BACK SURFACES OVER 300MM","PAINTING AND DECORATING","Preparation - External and Internal","Preparation - General Surfaces","SM",6.94,{"$f":"SUMIF('Contractor##'!C:C,'Planned Maint v6.2 CSV File'!C:C,'Contractor##'!F:F)","v":-0.15},5.899,"Surface:Apply paint remover, strip off paint to surfaces in accordance with manufacturers directions or using cyclone stripper, or burn off, or scrape off, wire brush, prepare and bring forward general surfaces over 300mm girth for redecoration, and remove waste and debris."]
["4351AB","SURFACE:STRIP BACK SURFACES NE 300MM","PAINTING AND DECORATING","Preparation - External and Internal","Preparation - General Surfaces","LM",2.39,{"$f":"SUMIF('Contractor##'!C:C,'Planned Maint v6.2 CSV File'!C:C,'Contractor##'!F:F)","v":-0.15},2.0314999999999999,"Surface:Apply paint remover, strip off paint to surfaces in accordance with manufacturers directions or using cyclone stripper, or burn off, or scrape off, wire brush, prepare and bring forward general surfaces ne 300mm girth for redecoration, and remove waste and debris."]
["4351EA","SURFACE:STRIP BACK WINDOWS","PAINTING AND DECORATING","Preparation - External and Internal","Preparation - General Surfaces","SM",14.41,{"$f":"SUMIF('Contractor##'!C:C,'Planned Maint v6.2 CSV File'!C:C,'Contractor##'!F:F)","v":-0.15},12.2485,"Surfaces:Apply paint remover, strip off paint to general surfaces of windows in accordance with manufacturers directions or using cyclone stripper, or burn off, or scrape off, wire brush, prepare and bring forward general surfaces for redecoration, including all beads, edges, rebates, opening edges and the like, and remove waste and debris."]
["4351ED","SURFACE:STRIP GLAZED DOOR","PAINTING AND DECORATING","Preparation - External and Internal","Preparation - General Surfaces","NO",19.78,{"$f":"SUMIF('Contractor##'!C:C,'Planned Maint v6.2 CSV File'!C:C,'Contractor##'!F:F)","v":-0.15},16.812999999999999,"Surface:Apply paint remover, strip off paint to surfaces in accordance with manufacturers directions or using cyclone stripper, or burn off, or scrape off, wire brush, prepare and bring forward general surfaces over 300mm girth for redecoration, including all beads, edges, rebates, opening edges and the like, and remove waste and debris."]
["4351FA","SEALER:APPLY ONE COAT TO WALLS AND CEILINGS","PAINTING AND DECORATING","Preparation - External and Internal","Preparation - General Surfaces","SM",3.65,{"$f":"SUMIF('Contractor##'!C:C,'Planned Maint v6.2 CSV File'!C:C,'Contractor##'!F:F)","v":-0.15},3.1025,"Sealer:Prepare and apply one coat of sealer/ stabilizer to walls or ceilings in accordance with manufacturers directions."]
["4352AA","WINDOWS:WASHDOWN AND CLEAN PVCU EXTERNAL","PAINTING AND DECORATING","Preparation - External and Internal","Washdown PVCu Products","SM",3.19,{"$f":"SUMIF('Contractor##'!C:C,'Planned Maint v6.2 CSV File'!C:C,'Contractor##'!F:F)","v":-0.15},2.7115,"Windows:Wash down External PVCu surfaces with soap and water or detergent solution and apply non solvent based cleaner to remove dirt, grease etc, rinse off and leather off to produce a clean dry surface free from water marks or smearing."]
["4352AB","DOORS:WASHDOWN AND CLEAN PVCU EXTERNAL","PAINTING AND DECORATING","Preparation - External and Internal","Washdown PVCu Products","IT",5.75,{"$f":"SUMIF('Contractor##'!C:C,'Planned Maint v6.2 CSV File'!C:C,'Contractor##'!F:F)","v":-0.15},4.8875000000000002,"Doors:Wash down External PVCu surfaces with soap and water or detergent solution and apply non solvent based cleaner to remove dirt, grease etc, rinse off and leather off to produce a clean dry surface free from water marks or smearing."]
["4352AC","CLADDING:WASHDOWN CLEAN PVCU","PAINTING AND DECORATING","Preparation - External and Internal","Washdown PVCu Products","SM",3.19,{"$f":"SUMIF('Contractor##'!C:C,'Planned Maint v6.2 CSV File'!C:C,'Contractor##'!F:F)","v":-0.15},2.7115,"Cladding:Wash down PVCu surfaces with soap and water or detergent solution and apply non solvent based cleaner to remove dirt, grease etc, rinse off and leather off to produce a clean dry surface free from water marks or smearing."]
["4352AD","FASCIAS:WASHDOWN AND CLEAN PVCU","PAINTING AND DECORATING","Preparation - External and Internal","Washdown PVCu Products","LM",1.59,{"$f":"SUMIF('Contractor##'!C:C,'Planned Maint v6.2 CSV File'!C:C,'Contractor##'!F:F)","v":-0.15},1.3514999999999999,"Fascias:Wash down PVCu surfaces of fascias, bargeboards, soffits etc. with soap and water or detergent solution and apply non solvent based cleaner to remove dirt, grease etc, rinse off and leather off to produce a clean dry surface free from water marks or smearing."]
["4352AE","GUTTERS:WASHDOWN AND CLEAN PVCU","PAINTING AND DECORATING","Preparation - External and Internal","Washdown PVCu Products","LM",2.2200000000000002,{"$f":"SUMIF('Contractor##'!C:C,'Planned Maint v6.2 CSV File'!C:C,'Contractor##'!F:F)","v":-0.15},1.887,"Gutters:Wash down PVCu outside surfaces of gutters etc. with soap and water or detergent solution and apply non solvent based cleaner to remove dirt, grease etc, rinse off and leather off to produce a clean dry surface free from water marks or smearing."]
["4352AF","DOWNPIPES:WASHDOWN AND CLEAN PVCU","PAINTING AND DECORATING","Preparation - External and Internal","Washdown PVCu Products","LM",0.96,{"$f":"SUMIF('Contractor##'!C:C,'Planned Maint v6.2 CSV File'!C:C,'Contractor##'!F:F)","v":-0.15},0.81599999999999995,"Downpipes:Wash down PVCu surfaces of downpipes etc. with soap and water or detergent solution and apply non solvent based cleaner to remove dirt, grease etc, rinse off and leather off to produce a clean dry surface free from water marks or smearing."]
["4352BA","CANOPY:WASHDOWN AND CLEAN GLASS","PAINTING AND DECORATING","Preparation - External and Internal","Washdown Glass/Perspex","SM",3.7,{"$f":"SUMIF('Contractor##'!C:C,'Planned Maint v6.2 CSV File'!C:C,'Contractor##'!F:F)","v":-0.15},3.145,"Canopy:Wash down both faces of glass or perspex and supporting framework to canopy with soap and water or detergent solution and apply non solvent based cleaner to remove dirt, algae, grease etc., rinse off and leather off to produce a clean dry surface free from water marks or smearing."]
["4352BB","BALCONY:WASHDOWN AND CLEAN GLASS","PAINTING AND DECORATING","Preparation - External and Internal","Washdown Glass/Perspex","SM",3.4,{"$f":"SUMIF('Contractor##'!C:C,'Planned Maint v6.2 CSV File'!C:C,'Contractor##'!F:F)","v":-0.15},2.8899999999999997,"Balcony:Wash down both faces of glass or perspex and supporting framework to juliet balcony with soap and water or detergent solution and apply non solvent based cleaner to remove dirt, algae, grease etc., rinse off and leather off to produce a clean dry surface free from water marks or smearing."]
["4352BC","ROOFING:WASHDOWN AND CLEAN PERSPEX ","PAINTING AND DECORATING","Preparation - External and Internal","Washdown Glass/Perspex","SM",3.9,{"$f":"SUMIF('Contractor##'!C:C,'Planned Maint v6.2 CSV File'!C:C,'Contractor##'!F:F)","v":-0.15},3.3149999999999999,"Roofing:Wash down both faces of perspex roof sheeting to cycle store or similar with soap and water or detergent solution and apply non solvent based cleaner to remove dirt, algae, grease etc., rinse off and leather off to produce a clean dry surface free from water marks or smearing."]
["4352CA","WINDOWS:WASHDOWN AND CLEAN POWDER COATED","PAINTING AND DECORATING","Preparation - External and Internal","Washdown Powder Coated Metalwork","SM",3.06,{"$f":"SUMIF('Contractor##'!C:C,'Planned Maint v6.2 CSV File'!C:C,'Contractor##'!F:F)","v":-0.15},2.601,"Windows:Wash down powder coated surfaces with soap and water or detergent solution and apply non solvent based cleaner to remove dirt, grease etc, rinse off and leather off to produce a clean dry surface free from water marks or smearing."]
["4352CB","DOORS:WASHDOWN AND CLEAN POWDER COATED","PAINTING AND DECORATING","Preparation - External and Internal","Washdown Powder Coated Metalwork","IT",6.37,{"$f":"SUMIF('Contractor##'!C:C,'Planned Maint v6.2 CSV File'!C:C,'Contractor##'!F:F)","v":-0.15},5.4145000000000003,"Doors:Wash down powder coated surfaces with soap and water or detergent solution and apply non solvent based cleaner to remove dirt, grease etc, rinse off and leather off to produce a clean dry surface free from water marks or smearing."]
["4352CC","CLADDING:WASHDOWN CLEAN POWDER COATED","PAINTING AND DECORATING","Preparation - External and Internal","Washdown Powder Coated Metalwork","SM",2.87,{"$f":"SUMIF('Contractor##'!C:C,'Planned Maint v6.2 CSV File'!C:C,'Contractor##'!F:F)","v":-0.15},2.4395000000000002,"Cladding:Wash down powder coated surfaces with soap and water or detergent solution and apply non solvent based cleaner to remove dirt, grease etc, rinse off and leather off to produce a clean dry surface free from water marks or smearing."]
["4352CD","FASCIAS:WASHDOWN AND CLEAN POWDER COATED","PAINTING AND DECORATING","Preparation - External and Internal","Washdown Powder Coated Metalwork","LM",1.69,{"$f":"SUMIF('Contractor##'!C:C,'Planned Maint v6.2 CSV File'!C:C,'Contractor##'!F:F)","v":-0.15},1.4364999999999999,"Fascias:Wash down powder coated surfaces of fascias, bargeboards, soffits etc. with soap and water or detergent solution and apply non solvent based cleaner to remove dirt, grease etc, rinse off and leather off to produce a clean dry surface free from water marks or smearing."]
["4352CE","GUTTERS:WASHDOWN AND CLEAN POWDER COATED","PAINTING AND DECORATING","Preparation - External and Internal","Washdown Powder Coated Metalwork","LM",1.94,{"$f":"SUMIF('Contractor##'!C:C,'Planned Maint v6.2 CSV File'!C:C,'Contractor##'!F:F)","v":-0.15},1.649,"Gutters:Wash down powder coated outside surfaces of gutters etc. with soap and water or detergent solution and apply non solvent based cleaner to remove dirt, grease etc, rinse off and leather off to produce a clean dry surface free from water marks or smearing."]
["4352CF","DOWNPIPES:WASHDOWN AND CLEAN POWDER COATED","PAINTING AND DECORATING","Preparation - External and Internal","Washdown Powder Coated Metalwork","LM",1,{"$f":"SUMIF('Contractor##'!C:C,'Planned Maint v6.2 CSV File'!C:C,'Contractor##'!F:F)","v":-0.15},0.85,"Downpipes:Wash down powder coated surfaces of down- pipes etc. with soap and water or detergent solution and apply non solvent based cleaner to remove dirt, grease etc, rinse off and leather off to produce a clean dry surface free from water marks or smearing."]
["4352CG","BALCONY:WASHDOWN AND CLEAN POWDER COATED","PAINTING AND DECORATING","Preparation - External and Internal","Washdown Powder Coated Metalwork","SM",2.2000000000000002,{"$f":"SUMIF('Contractor##'!C:C,'Planned Maint v6.2 CSV File'!C:C,'Contractor##'!F:F)","v":-0.15},1.87,"Balcony:Wash down powder coated surfaces of balcony railings etc. with soap and water or detergent solution and apply non solvent based cleaner to remove dirt, grease etc, rinse off and leather off to produce a clean dry surface free from water marks or smearing. (measured both sides)."]
["4352CH","CANOPY:WASHDOWN AND CLEAN POWDER COATED","PAINTING AND DECORATING","Preparation - External and Internal","Washdown Powder Coated Metalwork","SM",2.9,{"$f":"SUMIF('Contractor##'!C:C,'Planned Maint v6.2 CSV File'!C:C,'Contractor##'!F:F)","v":-0.15},2.4649999999999999,"Canopy:Wash down powder coated surfaces of canopy framework etc. with soap and water or detergent solution and apply non solvent based cleaner to remove dirt, grease etc, rinse off and leather off to produce a clean dry surface free from water marks or smearing."]
["4352CJ","SURFACES:WASHDOWN AND CLEAN POWDER COATED","PAINTING AND DECORATING","Preparation - External and Internal","Washdown Powder Coated Metalwork","SM",3.5,{"$f":"SUMIF('Contractor##'!C:C,'Planned Maint v6.2 CSV File'!C:C,'Contractor##'!F:F)","v":-0.15},2.9750000000000001,"Surfaces:Wash down powder coated surfaces of miscellaneous general surfaces etc. with soap and water or detergent solution and apply non solvent based cleaner to remove dirt, grease etc, rinse off and leather off to produce a clean dry surface free from water marks or smearing. "]
["4353AA","WALLS:BRUSH AND WASH DOWN","PAINTING AND DECORATING","Preparation - External and Internal","Preparation - External Walls","SM",1.69,{"$f":"SUMIF('Contractor##'!C:C,'Planned Maint v6.2 CSV File'!C:C,'Contractor##'!F:F)","v":-0.15},1.4364999999999999,"Walls:Brush or scrape and wire brush and wash down painted surfaces of walls to remove grime or soot or to remove flaking paint from walls."]
["4353BA","WALLS:BRUSH, WASH, FUNGICIDE","PAINTING AND DECORATING","Preparation - External and Internal","Preparation - External Walls","SM",5.99,{"$f":"SUMIF('Contractor##'!C:C,'Planned Maint v6.2 CSV File'!C:C,'Contractor##'!F:F)","v":-0.15},5.0914999999999999,"Walls:Brush or scrape and wire brush and wash down painted surfaces of walls to remove mould, grime or soot and apply two coats of Biocheck 'SP' fungicide."]
["4354AA","WALLS:POWER WASH","PAINTING AND DECORATING","Preparation - External and Internal","Power Wash - General Surfaces","SM",1.56,{"$f":"SUMIF('Contractor##'!C:C,'Planned Maint v6.2 CSV File'!C:C,'Contractor##'!F:F)","v":-0.15},1.3260000000000001,"Walls:Brush down to remove mould, moss growth algae and lichen and power wash all surfaces of render or brickwork at a minimum pressure of 1500 psi, but not to exceed 2000 psi."]
["4354AB","CILLS:POWER WASH","PAINTING AND DECORATING","Preparation - External and Internal","Power Wash - General Surfaces","LM",3.74,{"$f":"SUMIF('Contractor##'!C:C,'Planned Maint v6.2 CSV File'!C:C,'Contractor##'!F:F)","v":-0.15},3.1790000000000003,"Cills:Brush down to remove mould, moss growth algae and lichen and power wash all surfaces of cills at a minimum pressure of 1500 psi, but not to exceed 2000 psi, brush apply one coat of 'lichenite' solution and one coat of 'haloseal'."]
["4354AC","WALLS:DETERGENT POWER WASH","PAINTING AND DECORATING","Preparation - External and Internal","Power Wash - General Surfaces","SM",1.74,{"$f":"SUMIF('Contractor##'!C:C,'Planned Maint v6.2 CSV File'!C:C,'Contractor##'!F:F)","v":-0.15},1.4789999999999999,"Walls:Brush down to remove loose mould, moss growth, algae and lichen, power wash with hot water, apply detergent, rinse down with clean water to remove all traces of detergent and allow to dry."]
["4354AD","ROOFS:POWER WASH ASPHALT","PAINTING AND DECORATING","Preparation - External and Internal","Power Wash - General Surfaces","SM",5.56,{"$f":"SUMIF('Contractor##'!C:C,'Planned Maint v6.2 CSV File'!C:C,'Contractor##'!F:F)","v":-0.15},4.726,"Roofs:Brush down to remove mould, moss growth algae and lichen and power wash all surfaces of asphalt roofing at a minimum pressure of 1500 psi, but not to exceed 2000 psi, brush apply one coat of 'lichenite' solution and one coat of 'haloseal'."]
["4354AE","WALLS:1:2 DETERGENT JET WASH","PAINTING AND DECORATING","Preparation - External and Internal","Power Wash - General Surfaces","SM",2.4300000000000002,{"$f":"SUMIF('Contractor##'!C:C,'Planned Maint v6.2 CSV File'!C:C,'Contractor##'!F:F)","v":-0.15},2.0655000000000001,"Walls:Brush down heavily stained areas of brickwork, jet wash with hot water, apply 1:2 heavy duty detergent solution, scrub where required to remove staining, apply a thorough pressure hot water rinse to remove all traces of detergent/debris and allow to dry."]
["4354AF","WALLS:1:6 HD DETERGENT JET WASH","PAINTING AND DECORATING","Preparation - External and Internal","Power Wash - General Surfaces","SM",1.85,{"$f":"SUMIF('Contractor##'!C:C,'Planned Maint v6.2 CSV File'!C:C,'Contractor##'!F:F)","v":-0.15},1.5725,"Walls:Brush down to remove loose mould, moss growth, algae and lichen etc, jet wash with hot water, apply 1:6 heavy duty detergent solution. Scrub where required to remove mould, algae etc, apply a thorough pressure hot water rinse to remove all traces of detergent/debris and allow to dry."]
["4354AG","CLADDING:1:2 DETERGENT JET WASH","PAINTING AND DECORATING","Preparation - External and Internal","Power Wash - General Surfaces","SM",4.0599999999999996,{"$f":"SUMIF('Contractor##'!C:C,'Planned Maint v6.2 CSV File'!C:C,'Contractor##'!F:F)","v":-0.15},3.4509999999999996,"Walls:Brush down heavily stained areas of powder coated steel or aluminium cladding, jet wash with hot water, apply 1:2 heavy duty detergent solution, scrub where required to remove staining, apply a thorough pressure hot water rinse to remove all traces of detergent/debris and allow to dry."]
["4354BA","ROOFS:POWER WASH TILING","PAINTING AND DECORATING","Preparation - External and Internal","Power Wash - General Surfaces","SM",6.19,{"$f":"SUMIF('Contractor##'!C:C,'Planned Maint v6.2 CSV File'!C:C,'Contractor##'!F:F)","v":-0.15},5.2614999999999998,"Roofs:Brush down to remove mould, moss growth algae and lichen and power wash all surfaces of roof tiling at a minimum pressure of 1500 psi, but not to exceed 2000 psi, brush apply one coat of 'lichenite' solution and one coat of 'haloseal'."]
["4355AA","SURFACES:REMOVE GRAFFITI-RINSE/DRY","PAINTING AND DECORATING","External Decoration","Graffiti Removal – External Surfaces","SM",9.1999999999999993,{"$f":"SUMIF('Contractor##'!C:C,'Planned Maint v6.2 CSV File'!C:C,'Contractor##'!F:F)","v":-0.15},7.8199999999999994,"Surfaces:Clean existing graffiti covered surfaces with proprietary graffiti remover/paint stripper, apply a thorough high pressure hot water rinse to remove all traces of remover/stripper, paint, debis etc, and allow to dry."]
["4355AB","GRAFFITI:CLEAN-CHEMICALS","PAINTING AND DECORATING","External Decoration","Graffiti Removal – External Surfaces","SM",22,{"$f":"SUMIF('Contractor##'!C:C,'Planned Maint v6.2 CSV File'!C:C,'Contractor##'!F:F)","v":-0.15},18.7,"Graffiti:Clean down wall or paving to remove graffiti using chemicals"]
["4355AC","GRAFFITI:CLEAN-GRIT BLAST","PAINTING AND DECORATING","External Decoration","Graffiti Removal – External Surfaces","SM",17,{"$f":"SUMIF('Contractor##'!C:C,'Planned Maint v6.2 CSV File'!C:C,'Contractor##'!F:F)","v":-0.15},14.45,"Graffiti:Clean down wall or paving to remove graffiti using grit blasting"]
["4355BA","SURFACES:APPLY ANTI-GRAFFITI PAINT ","PAINTING AND DECORATING","External Decoration","Anti Graffiti Paint","SM",7.59,{"$f":"SUMIF('Contractor##'!C:C,'Planned Maint v6.2 CSV File'!C:C,'Contractor##'!F:F)","v":-0.15},6.4514999999999993,"Surfaces:Apply anti-graffiti paint strictly in accordance with the manufacturers instructions to vulnerable external surfaces of brickwork, concrete and timber as directed."]
["4356AA","WALLS:APPLY 2 COATS MASONRY PAINT - RENDER","PAINTING AND DECORATING","External Decoration","Masonry [Smooth or Textured] Paint - External Walls","SM",10.36,{"$f":"SUMIF('Contractor##'!C:C,'Planned Maint v6.2 CSV File'!C:C,'Contractor##'!F:F)","v":-0.15},8.8059999999999992,"Walls:Prepare and apply two coats smooth or textured masonry paint to external rendered surfaces of walls."]
["4356AB","WALLS:APPLY 2 COATS MASONRY PAINT - BRICK","PAINTING AND DECORATING","External Decoration","Masonry [Smooth or Textured] Paint - External Walls","SM",8.8000000000000007,{"$f":"SUMIF('Contractor##'!C:C,'Planned Maint v6.2 CSV File'!C:C,'Contractor##'!F:F)","v":-0.15},7.48,"Walls:Prepare and apply two coats smooth or textured masonry paint to brickwork or concrete surfaces of walls."]
["4356AC","WALLS:WASH - 2 COATS MASONRY - RENDER","PAINTING AND DECORATING","External Decoration","Masonry [Smooth or Textured] Paint - External Walls","SM",9.5500000000000007,{"$f":"SUMIF('Contractor##'!C:C,'Planned Maint v6.2 CSV File'!C:C,'Contractor##'!F:F)","v":-0.15},8.1174999999999997,"Walls:Wash down, fill in cracks and holes, sand down and apply two coats of smooth or textured masonry paint to rendered or concrete walls."]
["4356AD","WALLS:WASH - 2 COATS MASONRY - BRICK","PAINTING AND DECORATING","External Decoration","Masonry [Smooth or Textured] Paint - External Walls","SM",10.17,{"$f":"SUMIF('Contractor##'!C:C,'Planned Maint v6.2 CSV File'!C:C,'Contractor##'!F:F)","v":-0.15},8.644499999999999,"Walls:Wash down, fill in cracks and holes, sand down and apply two coats of smooth or textured masonry paint to brickwork surfaces of walls."]
["4356BA","WALLS:APPLY SEALER - 2 COATS MASONRY - RENDER","PAINTING AND DECORATING","External Decoration","Masonry [Smooth or Textured] Paint - External Walls","SM",9.32,{"$f":"SUMIF('Contractor##'!C:C,'Planned Maint v6.2 CSV File'!C:C,'Contractor##'!F:F)","v":-0.15},7.9219999999999997,"Walls:Prepare and apply one coat of stabilising solution and two coats smooth or textured masonry paint to external rendered surfaces of walls."]
["4356BB","WALLS:APPLY SEALER - 2 COATS MASONRY - BRICK","PAINTING AND DECORATING","External Decoration","Masonry [Smooth or Textured] Paint - External Walls","SM",9.9499999999999993,{"$f":"SUMIF('Contractor##'!C:C,'Planned Maint v6.2 CSV File'!C:C,'Contractor##'!F:F)","v":-0.15},8.4574999999999996,"Walls:Prepare and apply one coat of stabilising solution and two coats smooth or textured masonry paint to brickwork or concrete surfaces of walls."]
["4356BC","WALLS:WASH APPLY SEALER - 2 COATS MASONRY - RENDER","PAINTING AND DECORATING","External Decoration","Masonry [Smooth or Textured] Paint - External Walls","SM",11.01,{"$f":"SUMIF('Contractor##'!C:C,'Planned Maint v6.2 CSV File'!C:C,'Contractor##'!F:F)","v":-0.15},9.3584999999999994,"Walls:Wash down, fill in cracks and holes, sand down and apply one coat of stabilising solution and two coats of smooth or textured  masonry paint to rendered or concrete walls."]
["4356BD","WALLS:WASH APPLY SEALER - 2 COATS MASONRY - BRICK","PAINTING AND DECORATING","External Decoration","Masonry [Smooth or Textured] Paint - External Walls","SM",11.63,{"$f":"SUMIF('Contractor##'!C:C,'Planned Maint v6.2 CSV File'!C:C,'Contractor##'!F:F)","v":-0.15},9.8855000000000004,"Walls:Wash down, fill in cracks and holes, sand down and apply one coat of stabilising solution and two coats of smooth or textured masonry paint to brickwork surfaces of walls."]
["4356CA","SOFFIT:WASH APPLY 2 COATS MASONRY PAINT","PAINTING AND DECORATING","External Decoration","Masonry [Smooth or Textured] Paint - External Walls","SM",8.58,{"$f":"SUMIF('Contractor##'!C:C,'Planned Maint v6.2 CSV File'!C:C,'Contractor##'!F:F)","v":-0.15},7.2930000000000001,"Soffit:Wash down, fill in cracks and holes, sand smooth and apply two coats of smooth or textured masonry paint to rendered or concrete canopies or soffits."]
["4356CB","SOFFITS:WASH APPLY SEALER 2 COATS MASONRY PAINT","PAINTING AND DECORATING","External Decoration","Masonry [Smooth or Textured] Paint - External Walls","SM",9.82,{"$f":"SUMIF('Contractor##'!C:C,'Planned Maint v6.2 CSV File'!C:C,'Contractor##'!F:F)","v":-0.15},8.3469999999999995,"Soffit:Wash down, fill in cracks and holes, sand smooth and apply one coat of sealer and two coats of smooth or textured masonry paint to rendered or concrete soffits."]
["4357AA","SURFACES:APPLY ANTI CARBONATION","PAINTING AND DECORATING","External Decoration","Anti-Carbonation ","SM",5.51,{"$f":"SUMIF('Contractor##'!C:C,'Planned Maint v6.2 CSV File'!C:C,'Contractor##'!F:F)","v":-0.15},4.6834999999999996,"Surfaces:Prepare, stabilise and apply two coats of anti-carbonation paint to previously painted concrete and rendered surfaces."]
["4357BA","SURFACES:ANTI CARB/ELASTOMERIC COATING","PAINTING AND DECORATING","External Decoration","Anti-Carbonation ","LM",3.49,{"$f":"SUMIF('Contractor##'!C:C,'Planned Maint v6.2 CSV File'!C:C,'Contractor##'!F:F)","v":-0.15},2.9664999999999999,"Surfaces:Prepare, stabilise and apply two coats of anti-carbonation paint and elastomeric coating to previously painted concrete and rendered surfaces ne 300mm wide."]
["4358AA","WALLS:APPLY 2 COATS EXTERNAL MASONRY W/PROOFER","PAINTING AND DECORATING","External Decoration","Masonry [Smooth or Textured] Paint - External Walls","SM",6.7,{"$f":"SUMIF('Contractor##'!C:C,'Planned Maint v6.2 CSV File'!C:C,'Contractor##'!F:F)","v":-0.15},5.6950000000000003,"Walls:Brush down and prepare for and apply two coats of external masonry waterproofer to general surfaces of walls."]
["4358AB","WALLS:SEALER - 2 COATS EXTERNAL MASONRY W/PROOFER","PAINTING AND DECORATING","External Decoration","Masonry [Smooth or Textured] Paint - External Walls","SM",10.029999999999999,{"$f":"SUMIF('Contractor##'!C:C,'Planned Maint v6.2 CSV File'!C:C,'Contractor##'!F:F)","v":-0.15},8.5254999999999992,"Walls:Brush down and prepare for and apply one coat of sealer and two coats of external masonry waterproofer to general surfaces of walls."]
["4359AA","WALLS:ANTI-GRAFFITI FLAME RETARDENT COATINGS","PAINTING AND DECORATING","External Decoration","Anti-Graffitt Flame Retardent","SM",23.1,{"$f":"SUMIF('Contractor##'!C:C,'Planned Maint v6.2 CSV File'!C:C,'Contractor##'!F:F)","v":-0.15},19.635000000000002,"Surfaces:Prepare surfaces in accordance with the manufacturer’s recommendations and apply anti- graffiti flame retardant coating as manufactured by Hubdean Ltd or other equal and approved, to a thickness ne 6mm, texturing to stipple finish on ceilings and woodbark on walls and apply two coats of Agproshield Armour finishes."]
["4360BA","WALLS:WASH APPLY 2 COATS SMOOTH MASONRY PAINT","PAINTING AND DECORATING","External Decoration","Masonry [Smooth or Textured] Paint - External Walls","SM",7.02,{"$f":"SUMIF('Contractor##'!C:C,'Planned Maint v6.2 CSV File'!C:C,'Contractor##'!F:F)","v":-0.15},5.9669999999999996,"Walls:Wash down, fill in cracks and holes, sand smooth and apply two coats of smooth finish masonry paint to rendered or concrete surfaces of walls."]
["4360BB","WALLS:WASH SEALER 2 COATS SMOOTH MASONRY PAINT","PAINTING AND DECORATING","External Decoration","Masonry [Smooth or Textured] Paint - External Walls","SM",8.17,{"$f":"SUMIF('Contractor##'!C:C,'Planned Maint v6.2 CSV File'!C:C,'Contractor##'!F:F)","v":-0.15},6.9444999999999997,"Walls:Wash down, fill in cracks and holes, sand smooth and apply one coat of sealer, two coats of smooth finish masonry paint to rendered or concrete surfaces of walls. "]
["4361AA","WALLS:APPLY GLOSS PAINT","PAINTING AND DECORATING","External Decoration","Gloss Paint to Walls","SM",12.46,{"$f":"SUMIF('Contractor##'!C:C,'Planned Maint v6.2 CSV File'!C:C,'Contractor##'!F:F)","v":-0.15},10.591000000000001,"Walls:Prepare and apply one undercoat and one coat of gloss paint to external rendered surfaces of walls."]
["4361AB","WALLS:WASH APPLY GLOSS PAINT","PAINTING AND DECORATING","External Decoration","Gloss Paint to Walls","SM",15.71,{"$f":"SUMIF('Contractor##'!C:C,'Planned Maint v6.2 CSV File'!C:C,'Contractor##'!F:F)","v":-0.15},13.3535,"Walls:Wash down, fill in cracks and holes, sand down and apply one undercoat and one coat of gloss paint to rendered or concrete walls."]
["4362AA","DOOR:PREPARE PAINT GARAGE DOOR - 3 NEW","PAINTING AND DECORATING","External Decoration","Gloss Paint to Metalwork","IT",74.86,{"$f":"SUMIF('Contractor##'!C:C,'Planned Maint v6.2 CSV File'!C:C,'Contractor##'!F:F)","v":-0.15},63.631,"Door:Rub down prepare, apply coat of primer, one undercoat, two coats of gloss paint on external surfaces of up and over metal garage door (one side and edges)."]
["4362BA","DOOR:PREPARE PAINT FRAME NE 300MM - 3 NEW","PAINTING AND DECORATING","External Decoration","Gloss Paint to Metalwork","LM",5.33,{"$f":"SUMIF('Contractor##'!C:C,'Planned Maint v6.2 CSV File'!C:C,'Contractor##'!F:F)","v":-0.15},4.5305,"Door:Rub down, prepare, apply coat of primer, one undercoat, two coats of gloss paint on external surfaces of metal frames ne 300mm girth."]
["4362BB","DOOR:PREPARE PAINT METAL DOOR - 3 NEW","PAINTING AND DECORATING","External Decoration","Gloss Paint to Metalwork","IT",45.54,{"$f":"SUMIF('Contractor##'!C:C,'Planned Maint v6.2 CSV File'!C:C,'Contractor##'!F:F)","v":-0.15},38.708999999999996,"Door:Rub down, prepare for and apply one coat of primer, one undercoat and two coats of gloss paint on any size single metal door (both sides and edges)."]
["4362BC","DOOR:PREPARE PAINT METAL GLAZED DOOR - 3 NEW","PAINTING AND DECORATING","External Decoration","Gloss Paint to Metalwork","IT",53.68,{"$f":"SUMIF('Contractor##'!C:C,'Planned Maint v6.2 CSV File'!C:C,'Contractor##'!F:F)","v":-0.15},45.628,"Door:Rub down, prepare for and apply one coat of primer, one undercoat and two coats of gloss paint on any size single glazed metal door (both sides and edges)."]
["4362CB","WINDOW:PREPARE PRIME PAINT 3 GLOSS METAL ","PAINTING AND DECORATING","External Decoration","Gloss Paint to Metalwork","SM",22.38,{"$f":"SUMIF('Contractor##'!C:C,'Planned Maint v6.2 CSV File'!C:C,'Contractor##'!F:F)","v":-0.15},{"$f":"(1+H1732)*G1732","v":19.023},"Window:Rub down, prepare for and apply a coat of primer, one undercoat, and two coats of gloss paint on surface of metal window (one side and edges)."]
["4362DA","GATES:PREPARE PRIME PAINT GATE AND POSTS","PAINTING AND DECORATING","External Decoration","Gloss Paint to Metalwork","IT",21.61,{"$f":"SUMIF('Contractor##'!C:C,'Planned Maint v6.2 CSV File'!C:C,'Contractor##'!F:F)","v":-0.15},18.368499999999997,"Gates:Wire brush, prepare for, and apply one coat primer, one undercoat, two coats of gloss paint to both sides of any size type single metal gate including all edges and all surfaces of posts."]
["4362EA","BALUSTRADING:PREPARE PRIME PAINT SURFACES","PAINTING AND DECORATING","External Decoration","Gloss Paint to Metalwork","SM",20.51,{"$f":"SUMIF('Contractor##'!C:C,'Planned Maint v6.2 CSV File'!C:C,'Contractor##'!F:F)","v":-0.15},17.433500000000002,"Balustrading:Wire brush, prepare for and apply one coat of primer, one undercoat, two coats of gloss paint on ornamental metal balustrading, railings or gates (measured both sides)."]
["4362FA","STAIRCASE:PREPARE PAINT METAL STAIRS - 3 NEW","PAINTING AND DECORATING","External Decoration","Gloss Paint to Metalwork","SM",20.329999999999998,{"$f":"SUMIF('Contractor##'!C:C,'Planned Maint v6.2 CSV File'!C:C,'Contractor##'!F:F)","v":-0.15},17.280499999999996,"Staircase:Wire brush, prepare for and apply one coat of primer, one undercoat, two coats of gloss paint on metal staircase, strings, handrail balustrading. (measured both sides)."]
["4362GA","GUTTER:PREPARE PRIME PAINT EAVES GUTTER","PAINTING AND DECORATING","External Decoration","Gloss Paint to Metalwork","LM",2.57,{"$f":"SUMIF('Contractor##'!C:C,'Planned Maint v6.2 CSV File'!C:C,'Contractor##'!F:F)","v":-0.15},2.1844999999999999,"Gutter:Wire brush, prepare and apply coat of primer, one undercoat and two coats of gloss paint to outside of eaves gutter including brackets."]
["4362HA","PIPEWORK:PREPARE PRIME PAINT NE 300MM","PAINTING AND DECORATING","External Decoration","Gloss Paint to Metalwork","LM",2.21,{"$f":"SUMIF('Contractor##'!C:C,'Planned Maint v6.2 CSV File'!C:C,'Contractor##'!F:F)","v":-0.15},1.8784999999999998,"Pipework:Wire brush, prime prepare for and apply coat of primer, one undercoat, and two coats of gloss paint to external pipework ne 300mm girth including brackets."]
["4362XA","PIPEWORK:PREPARE PRIME PAINT SMALL HEATING","PAINTING AND DECORATING","External Decoration","Gloss Paint to Metalwork","LM",1.7,{"$f":"SUMIF('Contractor##'!C:C,'Planned Maint v6.2 CSV File'!C:C,'Contractor##'!F:F)","v":-0.15},1.4449999999999998,"Pipework:Prepare for and apply coat of primer, one undercoat, and two coats of gloss paint to copper pipework ne 25mm diameter including clips."]
["4363AA","DOOR:PREPARE PAINT METAL GARAGE DOOR - 3 EXT","PAINTING AND DECORATING","External Decoration","Gloss Paint to Metalwork","IT",58.62,{"$f":"SUMIF('Contractor##'!C:C,'Planned Maint v6.2 CSV File'!C:C,'Contractor##'!F:F)","v":-0.15},49.826999999999998,"Door:Rub down, prepare for and apply one undercoat, two coats of gloss paint on external existing painted surfaces of up and over metal garage door (one side and edges)."]
["4363BA","DOOR:PREPARE PAINT METAL FRAME NE 300MM - 3 EXT","PAINTING AND DECORATING","External Decoration","Gloss Paint to Metalwork","LM",4.47,{"$f":"SUMIF('Contractor##'!C:C,'Planned Maint v6.2 CSV File'!C:C,'Contractor##'!F:F)","v":-0.15},3.7994999999999997,"Door:Rub down, prepare for and apply one undercoat, two coats of gloss paint on external existing painted surfaces of metal frames ne 300mm girth."]
["4363BB","DOOR:PREPARE PAINT METAL DOOR - 3 EXT","PAINTING AND DECORATING","External Decoration","Gloss Paint to Metalwork","IT",36.26,{"$f":"SUMIF('Contractor##'!C:C,'Planned Maint v6.2 CSV File'!C:C,'Contractor##'!F:F)","v":-0.15},30.820999999999998,"Door:Rub down, prepare for and apply one undercoat and two coats of gloss paint on existing painted surfaces of any size single metal door. (both sides and edges)."]
["4363BC","DOOR:PREPARE PAINT METAL GLAZED DOOR - 3 EXT","PAINTING AND DECORATING","External Decoration","Gloss Paint to Metalwork","IT",42.76,{"$f":"SUMIF('Contractor##'!C:C,'Planned Maint v6.2 CSV File'!C:C,'Contractor##'!F:F)","v":-0.15},36.345999999999997,"Door:Rub down, prepare for and apply one undercoat and two coats of gloss paint on existing painted surfaces of any size single glazed metal door (both sides and edges)."]
["4363CA","WINDOW:PREPARE 2 GLOSS METAL ","PAINTING AND DECORATING","External Decoration","Gloss Paint to Metalwork","SM",13.7,{"$f":"SUMIF('Contractor##'!C:C,'Planned Maint v6.2 CSV File'!C:C,'Contractor##'!F:F)","v":-0.15},11.645,"Window:Rub down, prepare for and apply one undercoat and two coats of gloss paint on existing painted external surface of metal window. (one side and edges)."]
["4363DA","GATES:PREPARE PAINT 2 GLOSS GATE AND POSTS","PAINTING AND DECORATING","External Decoration","Gloss Paint to Metalwork","IT",16.98,{"$f":"SUMIF('Contractor##'!C:C,'Planned Maint v6.2 CSV File'!C:C,'Contractor##'!F:F)","v":-0.15},14.433,"Gates:Wire brush, prepare for and apply one undercoat and two coats of gloss paint to both sides of existing painted surface of any size/type single metal gate including all edges and all surfaces of posts."]
["4363EA","BALUSTRADING:PREPARE PAINT 2 GLOSS SURFACES","PAINTING AND DECORATING","External Decoration","Gloss Paint to Metalwork","SM",16.079999999999998,{"$f":"SUMIF('Contractor##'!C:C,'Planned Maint v6.2 CSV File'!C:C,'Contractor##'!F:F)","v":-0.15},13.667999999999997,"Balustrading:Wire brush, prepare for and apply one undercoat and two coats of gloss paint on existing painted surfaces ornamental metal balustrading, railings or gates (measured both sides)."]
["4363FA","STAIRCASE:PREPARE PAINT 2 GLOSS METAL STAIRS","PAINTING AND DECORATING","External Decoration","Gloss Paint to Metalwork","SM",15.86,{"$f":"SUMIF('Contractor##'!C:C,'Planned Maint v6.2 CSV File'!C:C,'Contractor##'!F:F)","v":-0.15},13.481,"Staircase:Wire brush, prepare for and apply one undercoat and two coats of gloss paint on existing painted surfaces of metal staircase, strings, handrail balustrading (measured both sides)."]
["4363GA","GUTTER:PREPARE PAINT 2 GLOSS EAVES GUTTER","PAINTING AND DECORATING","External Decoration","Gloss Paint to Metalwork","LM",2.08,{"$f":"SUMIF('Contractor##'!C:C,'Planned Maint v6.2 CSV File'!C:C,'Contractor##'!F:F)","v":-0.15},1.768,"Gutter:Wire brush, prepare and apply one undercoat and two coats of gloss paint to existing painted surfaces of outside of eaves gutter including brackets."]
["4363HA","PIPEWORK:PREPARE PAINT 2 GLOSS NE 300MM ","PAINTING AND DECORATING","External Decoration","Gloss Paint to Metalwork","LM",1.73,{"$f":"SUMIF('Contractor##'!C:C,'Planned Maint v6.2 CSV File'!C:C,'Contractor##'!F:F)","v":-0.15},1.4704999999999999,"Pipework:Wire brush, prepare for and apply one undercoat and two coats of gloss paint to existing painted surfaces of external pipework ne 300mm girth including brackets."]
["4364AA","DOOR:PREPARE PAINT METAL GARAGE DOOR - 2 EXT","PAINTING AND DECORATING","External Decoration","Gloss Paint to Metalwork","IT",42.41,{"$f":"SUMIF('Contractor##'!C:C,'Planned Maint v6.2 CSV File'!C:C,'Contractor##'!F:F)","v":-0.15},36.048499999999997,"Door:Rub down, prepare for and apply one undercoat, one coat of gloss paint on existing painted external surfaces of up and over metal garage door (one side and edges)."]
["4364AB","DOOR:PREPARE PAINT FRAME NE 300MM - 2 EXT","PAINTING AND DECORATING","External Decoration","Gloss Paint to Metalwork","LM",3.19,{"$f":"SUMIF('Contractor##'!C:C,'Planned Maint v6.2 CSV File'!C:C,'Contractor##'!F:F)","v":-0.15},2.7115,"Door:Rub down, prepare for and apply one undercoat, one coat of gloss paint on existing painted external surfaces of metal frames ne 300mm girth."]
["4364AC","DOOR:PREPARE PAINT METAL DOOR - 2 EXT","PAINTING AND DECORATING","External Decoration","Gloss Paint to Metalwork","IT",26.99,{"$f":"SUMIF('Contractor##'!C:C,'Planned Maint v6.2 CSV File'!C:C,'Contractor##'!F:F)","v":-0.15},22.941499999999998,"Door:Rub down, prepare for and apply one undercoat, one coat of gloss paint on existing painted external surfaces of any size single metal door (both sides and edges)."]
["4364AD","DOOR:PREPARE PAINT METAL GLAZED DOOR - 2 EXT","PAINTING AND DECORATING","External Decoration","Gloss Paint to Metalwork","IT",31.84,{"$f":"SUMIF('Contractor##'!C:C,'Planned Maint v6.2 CSV File'!C:C,'Contractor##'!F:F)","v":-0.15},27.064,"Door:Rub down, prepare for and apply one undercoat, one coat of gloss paint on existing painted external surfaces of any size single glazed metal door (both sides and edges)."]
["4364BB","WINDOW:PREPARE 1 GLOSS METAL","PAINTING AND DECORATING","External Decoration","Gloss Paint to Metalwork","SM",12.43,{"$f":"SUMIF('Contractor##'!C:C,'Planned Maint v6.2 CSV File'!C:C,'Contractor##'!F:F)","v":-0.15},10.5655,"Window:Rub down, prepare for and apply one undercoat, one coat of gloss paint on existing painted external surface of metal window. (one side and edges)."]
["4364CA","GATES:PREPARE PAINT 1 GLOSS GATE AND POSTS","PAINTING AND DECORATING","External Decoration","Gloss Paint to Metalwork","IT",12.36,{"$f":"SUMIF('Contractor##'!C:C,'Planned Maint v6.2 CSV File'!C:C,'Contractor##'!F:F)","v":-0.15},10.505999999999998,"Gates:Wire brush, prepare for and apply one undercoat, one coat of gloss paint to both sides of existing painted any size/type single metal gate including all edges and all surfaces of posts."]
["4364DA","BALUSTRADING:PREPARE PAINT 1 GLOSS SURFACES","PAINTING AND DECORATING","External Decoration","Gloss Paint to Metalwork","SM",11.66,{"$f":"SUMIF('Contractor##'!C:C,'Planned Maint v6.2 CSV File'!C:C,'Contractor##'!F:F)","v":-0.15},9.9109999999999996,"Balustrading:Wire brush, prepare for and apply one undercoat, one coat of gloss paint on existing painted surfaces of ornamental metal balustrading, railings or gates (measured both sides)."]
["4364EA","STAIRCASE:PREPARE PAINT 1 GLOSS METAL STAIRS","PAINTING AND DECORATING","External Decoration","Gloss Paint to Metalwork","SM",11.41,{"$f":"SUMIF('Contractor##'!C:C,'Planned Maint v6.2 CSV File'!C:C,'Contractor##'!F:F)","v":-0.15},9.6984999999999992,"Staircase:Wire brush, prepare for and apply one undercoat, and one coat of gloss paint on existing painted surfaces of metal staircase, strings, handrail balustrading (measured both sides)."]
["4364FA","GUTTER:PREPARE PAINT 1 GLOSS EAVES GUTTER","PAINTING AND DECORATING","External Decoration","Gloss Paint to Metalwork","LM",1.59,{"$f":"SUMIF('Contractor##'!C:C,'Planned Maint v6.2 CSV File'!C:C,'Contractor##'!F:F)","v":-0.15},1.3514999999999999,"Gutter:Wire brush, prepare for and apply one undercoat and one coat of gloss paint to existing painted surfaces outside of eaves gutter including brackets."]
["4364GA","PIPEWORK:PREPARE PAINT 1 GLOSS NE 300MM","PAINTING AND DECORATING","External Decoration","Gloss Paint to Metalwork","LM",1.21,{"$f":"SUMIF('Contractor##'!C:C,'Planned Maint v6.2 CSV File'!C:C,'Contractor##'!F:F)","v":-0.15},1.0285,"Pipework:Wire brush, prepare for and apply one undercoat and one coat of gloss paint to existing painted surfaces of external pipework ne 300mm girth including brackets."]
["4364XX","GUTTER:PREPARE 2 COATS METALSHIELD EAVES GUTTER","PAINTING AND DECORATING","External Decoration","Metalshield Paint - External Metalwork","LM",4.0599999999999996,{"$f":"SUMIF('Contractor##'!C:C,'Planned Maint v6.2 CSV File'!C:C,'Contractor##'!F:F)","v":-0.15},3.4509999999999996,"Gutter:Wire brush, prepare, spot prime and apply two coats of metalshield paint to existing painted surfaces outside of eaves gutter including brackets."]
["4364ZA","GARAGE DOOR:PREPARE 2 COATS METALSHIELD ","PAINTING AND DECORATING","External Decoration","Metalshield Paint - External Metalwork","IT",57.91,{"$f":"SUMIF('Contractor##'!C:C,'Planned Maint v6.2 CSV File'!C:C,'Contractor##'!F:F)","v":-0.15},49.223499999999994,"Garage Door:Rub down, prepare, spot prime and apply two coats of metalshield paint on existing painted external surfaces of up and over metal garage door (one side and edges)."]
["4364ZB","DOOR FRAME:PREPARE 2 COATS METALSHIELD NE 300MM ","PAINTING AND DECORATING","External Decoration","Metalshield Paint - External Metalwork","LM",5.71,{"$f":"SUMIF('Contractor##'!C:C,'Planned Maint v6.2 CSV File'!C:C,'Contractor##'!F:F)","v":-0.15},4.8534999999999995,"Door Frame:Rub down, prepare, spot prime and apply two coats of metalshield paint on existing painted external surfaces of metal frames ne 300mm girth."]
["4364ZC","DOOR:PREPARE 2 COATS METALSHIELD METAL  ","PAINTING AND DECORATING","External Decoration","Metalshield Paint - External Metalwork","IT",37.07,{"$f":"SUMIF('Contractor##'!C:C,'Planned Maint v6.2 CSV File'!C:C,'Contractor##'!F:F)","v":-0.15},31.509499999999999,"Door:Rub down, prepare, spot prime and apply two coats of metalshield paint on existing painted external surfaces of any size single metal door (both sides and edges)."]
["4364ZD","DOOR:PREPARE 2 COATS METALSHIELD METAL GLAZED  ","PAINTING AND DECORATING","External Decoration","Metalshield Paint - External Metalwork","IT",30.07,{"$f":"SUMIF('Contractor##'!C:C,'Planned Maint v6.2 CSV File'!C:C,'Contractor##'!F:F)","v":-0.15},25.5595,"Door:Rub down, prepare, spot prime and apply two coats of metalshield paint on existing painted external surfaces of any size single glazed metal door (both sides and edges)."]
["4364ZE","WINDOW:PREPARE 2 COATS METALSHIELD METAL","PAINTING AND DECORATING","External Decoration","Metalshield Paint - External Metalwork","IT",18.91,{"$f":"SUMIF('Contractor##'!C:C,'Planned Maint v6.2 CSV File'!C:C,'Contractor##'!F:F)","v":-0.15},16.073499999999999,"Window:Rub down, prepare, spot prime and apply two coats of metalshield paint on existing painted external surface of metal window ne 1.5sm overall (one side and edges)."]
["4364ZF","GATES:PREPARE 2 COATS METALSHIELD GATE AND POSTS","PAINTING AND DECORATING","External Decoration","Metalshield Paint - External Metalwork","IT",36.340000000000003,{"$f":"SUMIF('Contractor##'!C:C,'Planned Maint v6.2 CSV File'!C:C,'Contractor##'!F:F)","v":-0.15},30.889000000000003,"Gates:Wire brush, prepare, spot prime and apply two coats of metalshield paint to both sides of existing painted any size/type single metal gate including all edges and all surfaces of posts."]
["4364ZG","RAILINGS-ORNAMENTAL:2 COATS METALSHIELD SURFACES","PAINTING AND DECORATING","External Decoration","Metalshield Paint - External Metalwork","SM",29.74,{"$f":"SUMIF('Contractor##'!C:C,'Planned Maint v6.2 CSV File'!C:C,'Contractor##'!F:F)","v":-0.15},25.278999999999996,"Balustrading:Wire brush, prepare, spot prime and apply two coats of metalshield paint on existing painted surfaces of ornamental metal balustrading, railings or gates (measured both sides)."]
["4364ZH","STAIRCASE:PREPARE 2 COATS METALSHIELD METAL STAIRS","PAINTING AND DECORATING","External Decoration","Metalshield Paint - External Metalwork","SM",32.85,{"$f":"SUMIF('Contractor##'!C:C,'Planned Maint v6.2 CSV File'!C:C,'Contractor##'!F:F)","v":-0.15},27.922499999999999,"Staircase:Wire brush, prepare, spot prime and apply two coats of metalshield paint on existing painted surfaces of metal staircase, strings, handrail balustrading (measured both sides)."]
["4364ZJ","PIPEWORK:PREPARE 2 COATS METALSHIELD NE 300MM","PAINTING AND DECORATING","External Decoration","Metalshield Paint - External Metalwork","LM",3.52,{"$f":"SUMIF('Contractor##'!C:C,'Planned Maint v6.2 CSV File'!C:C,'Contractor##'!F:F)","v":-0.15},2.992,"Pipework:Wire brush, prepare, spot prime and apply two coats of metalshield paint to existing painted surfaces of external pipework ne 300mm girth including brackets."]
["4364ZL","RAILINGS – PLAIN OPEN:2 COATS METALSHIELD SURFACES","PAINTING AND DECORATING","External Decoration","Metalshield Paint - External Metalwork","SM",22.86,{"$f":"SUMIF('Contractor##'!C:C,'Planned Maint v6.2 CSV File'!C:C,'Contractor##'!F:F)","v":-0.15},19.430999999999997,"Railings, Fencing and Gates – Plain Open:Wire brush, prepare for and apply one coat of primer, two coats of metalshield paint on plain open metal balustrading, railings or gates (measured both sides)."]
["4364ZM","RAILINGS – CLOSE TYPE:2 COATS METALSHIELD SURFACES","PAINTING AND DECORATING","External Decoration","Metalshield Paint - External Metalwork","SM",21.3,{"$f":"SUMIF('Contractor##'!C:C,'Planned Maint v6.2 CSV File'!C:C,'Contractor##'!F:F)","v":-0.15},18.105,"Railings, Fencing and Gates – Close Type:Wire brush, prepare for and apply one coat of primer, two coats of metalshield paint on close type metal balustrading, railings or gates (measured both sides)."]
["4365AA","SURFACES:APPLY 2 COATS BITUMEN","PAINTING AND DECORATING","External Decoration","Bitumen Paint ","SM",13.06,{"$f":"SUMIF('Contractor##'!C:C,'Planned Maint v6.2 CSV File'!C:C,'Contractor##'!F:F)","v":-0.15},11.101000000000001,"Surfaces:Brush down, prepare for and apply two coats of black bitumen paint to external surfaces of metalwork."]
["4365BA","GUTTER:APPLY 2 COATS BITUMEN","PAINTING AND DECORATING","External Decoration","Bitumen Paint ","LM",2.33,{"$f":"SUMIF('Contractor##'!C:C,'Planned Maint v6.2 CSV File'!C:C,'Contractor##'!F:F)","v":-0.15},1.9804999999999999,"Gutter:Brush down, prepare for and apply two coats of black bitumen paint on surfaces of eaves gutter including brackets."]
["4365CA","PIPES:APPLY 2 COATS BITUMEN","PAINTING AND DECORATING","External Decoration","Bitumen Paint ","LM",2.36,{"$f":"SUMIF('Contractor##'!C:C,'Planned Maint v6.2 CSV File'!C:C,'Contractor##'!F:F)","v":-0.15},2.0059999999999998,"Pipes:Brush down, prepare for and apply two coats of black bitumen paint on external pipework ne 300mm girth including brackets."]
["4366AA","WALLS:BRUSH APPLY REPELLANT RENDER","PAINTING AND DECORATING","External Decoration","Silicone Based Water Repellants","SM",4.3099999999999996,{"$f":"SUMIF('Contractor##'!C:C,'Planned Maint v6.2 CSV File'!C:C,'Contractor##'!F:F)","v":-0.15},3.6634999999999995,"Walls:Brush, wash down and apply one coat of silicone based water repellant to rendered surfaces of walls."]
["4366AB","WALLS:BRUSH APPLY REPELLANT BRICK","PAINTING AND DECORATING","External Decoration","Silicone Based Water Repellants","SM",6.44,{"$f":"SUMIF('Contractor##'!C:C,'Planned Maint v6.2 CSV File'!C:C,'Contractor##'!F:F)","v":-0.15},5.4740000000000002,"Walls:Brush, wash down and apply one coat of silicone based water repellant to surfaces of brick or stone walls."]
["4366XX","GUTTER:PREPARE PRIME METALSHIELD EAVES GUTTER","PAINTING AND DECORATING","External Decoration","Metalshield Paint - External Metalwork","LM",3.21,{"$f":"SUMIF('Contractor##'!C:C,'Planned Maint v6.2 CSV File'!C:C,'Contractor##'!F:F)","v":-0.15},2.7284999999999999,"Gutter:Wire brush, prepare and apply coat of primer, two coats of metalshield paint to outside of eaves gutter including brackets."]
["4366ZA","GARAGE DOOR:PREPARE PRIME METALSHIELD ","PAINTING AND DECORATING","External Decoration","Metalshield Paint - External Metalwork","IT",71.33,{"$f":"SUMIF('Contractor##'!C:C,'Planned Maint v6.2 CSV File'!C:C,'Contractor##'!F:F)","v":-0.15},60.630499999999998,"Garage Door:Rub down prepare, apply coat of primer, two coats of metalshield paint on external surfaces of up and over metal garage door (one side and edges)."]
["4366ZB","DOOR FRAME:PREPARE PRIME METALSHIELD NE 300MM","PAINTING AND DECORATING","External Decoration","Metalshield Paint - External Metalwork","LM",5.67,{"$f":"SUMIF('Contractor##'!C:C,'Planned Maint v6.2 CSV File'!C:C,'Contractor##'!F:F)","v":-0.15},4.8194999999999997,"Door Frame:Rub down, prepare, apply coat of primer, two coats of metalshield paint on external surfaces of metal frames ne 300mm girth."]
["4366ZC","DOOR:PREPARE PRIME METALSHIELD METAL ","PAINTING AND DECORATING","External Decoration","Metalshield Paint - External Metalwork","IT",49.09,{"$f":"SUMIF('Contractor##'!C:C,'Planned Maint v6.2 CSV File'!C:C,'Contractor##'!F:F)","v":-0.15},41.726500000000001,"Door:Rub down, prepare for and apply one coat of primer, two coats of metalshield paint on any size single metal door (both sides and edges)."]
["4366ZD","DOOR:PREPARE PRIME METALSHIELD METAL GLAZED ","PAINTING AND DECORATING","External Decoration","Metalshield Paint - External Metalwork","IT",56.28,{"$f":"SUMIF('Contractor##'!C:C,'Planned Maint v6.2 CSV File'!C:C,'Contractor##'!F:F)","v":-0.15},47.838000000000001,"Garage Door:Rub down, prepare for and apply one coat of primer, two coats of metalshield paint on any size single glazed metal door (both sides and edges)."]
["4366ZE","WINDOW:PREPARE METALSHIELD METAL","PAINTING AND DECORATING","External Decoration","Metalshield Paint - External Metalwork","SM",20.079999999999998,{"$f":"SUMIF('Contractor##'!C:C,'Planned Maint v6.2 CSV File'!C:C,'Contractor##'!F:F)","v":-0.15},17.067999999999998,"Window:Rub down, prepare for and apply a coat of primer, two coats of metalshield paint on surface of metal window (one side and edges)."]
["4366ZF","GATES:PREPARE PRIME METALSHIELD GATE AND POSTS","PAINTING AND DECORATING","External Decoration","Metalshield Paint - External Metalwork","IT",25.92,{"$f":"SUMIF('Contractor##'!C:C,'Planned Maint v6.2 CSV File'!C:C,'Contractor##'!F:F)","v":-0.15},22.032,"Gates:Wire brush, prepare for, and apply one coat primer, two coats of metalshield paint to both sides of any size type single metal gate including all edges and all surfaces of posts."]
["4366ZG","RAILINGS-ORNAMENTAL:PRIME METALSHIELD SURFACES","PAINTING AND DECORATING","External Decoration","Metalshield Paint - External Metalwork","SM",25.15,{"$f":"SUMIF('Contractor##'!C:C,'Planned Maint v6.2 CSV File'!C:C,'Contractor##'!F:F)","v":-0.15},21.377499999999998,"Balustrading:Wire brush, prepare for and apply one coat of primer, two coats of metalshield paint on ornamental metal balustrading, railings or gates (measured both sides)."]
["4366ZH","STAIRCASE:PREPARE PRIME METALSHIELD METAL STAIRS","PAINTING AND DECORATING","External Decoration","Metalshield Paint - External Metalwork","SM",26,{"$f":"SUMIF('Contractor##'!C:C,'Planned Maint v6.2 CSV File'!C:C,'Contractor##'!F:F)","v":-0.15},22.099999999999998,"Staircase:Wire brush, prepare for and apply one coat of primer, two coats of metalshield paint on metal staircase, strings, handrail balustrading (measured both sides)."]
["4366ZJ","PIPEWORK:PREPARE PRIME METALSHIELD NE 300MM","PAINTING AND DECORATING","External Decoration","Metalshield Paint - External Metalwork","LM",2.5,{"$f":"SUMIF('Contractor##'!C:C,'Planned Maint v6.2 CSV File'!C:C,'Contractor##'!F:F)","v":-0.15},2.125,"Pipework:Wire brush, prepare for and apply coat of primer, two coats of metalshield paint to external pipework ne 300mm girth including brackets."]
["4366ZK","RAILINGS etc-HAIRPIN:PRIME METALSHIELD SURFACES","PAINTING AND DECORATING","External Decoration","Metalshield Paint - External Metalwork","SM",17.66,{"$f":"SUMIF('Contractor##'!C:C,'Planned Maint v6.2 CSV File'!C:C,'Contractor##'!F:F)","v":-0.15},15.010999999999999,"Railings, Fencing and Gates – Hairpin:Wire brush, prepare for and apply one coat of primer, two coats of metalshield paint on hairpin metal balustrading, railings or gates (measured both sides)."]
["4366ZL","RAILINGS–PLAIN OPEN:PRIME METALSHIELD SURFACES","PAINTING AND DECORATING","External Decoration","Metalshield Paint - External Metalwork","SM",16.72,{"$f":"SUMIF('Contractor##'!C:C,'Planned Maint v6.2 CSV File'!C:C,'Contractor##'!F:F)","v":-0.15},14.211999999999998,"Railings, Fencing and Gates – Plain Open:Wire brush, prepare for and apply one coat of primer, two coats of metalshield paint on plain open metal balustrading, railings or gates (measured both sides)."]
["4366ZM","RAILINGS–CLOSE TYPE:PRIME METALSHIELD SURFACES","PAINTING AND DECORATING","External Decoration","Metalshield Paint - External Metalwork","SM",15.16,{"$f":"SUMIF('Contractor##'!C:C,'Planned Maint v6.2 CSV File'!C:C,'Contractor##'!F:F)","v":-0.15},12.885999999999999,"Railings, Fencing and Gates – Close Type:Wire brush, prepare for and apply one coat of primer, two coats of metalshield paint on close type metal balustrading, railings or gates (measured both sides)."]
["4367AA","SURFACES:SPRAY PAINT SMOOTH SURFACE","PAINTING AND DECORATING","External Decoration","Spray Paint","SM",8.6,{"$f":"SUMIF('Contractor##'!C:C,'Planned Maint v6.2 CSV File'!C:C,'Contractor##'!F:F)","v":-0.15},7.31,"Surfaces:Wash down, rub down, prepare for and spray one coat primer, one base coat and one coat of multicolour finish on smooth surfaces of render, plaster or concrete walls."]
["4367AB","SURFACES:SPRAY PAINT TEXTURED SURFACE","PAINTING AND DECORATING","External Decoration","Spray Paint","SM",9.7899999999999991,{"$f":"SUMIF('Contractor##'!C:C,'Planned Maint v6.2 CSV File'!C:C,'Contractor##'!F:F)","v":-0.15},8.3214999999999986,"Surfaces:Wash down, rub down, prepare for and spray one coat primer, one base coat and one coat of multicolour finish on surfaces of textured render or brickwork."]
["4367AC","SURFACES:SPRAY PAINT GLAZE SMOOTH SURFACE","PAINTING AND DECORATING","External Decoration","Spray Paint","SM",8.23,{"$f":"SUMIF('Contractor##'!C:C,'Planned Maint v6.2 CSV File'!C:C,'Contractor##'!F:F)","v":-0.15},6.9954999999999998,"Surfaces:Wash down, rub down, prepare for and spray one coat primer, one base coat, one coat glaze on smooth surfaces of render, plaster or concrete walls."]
["4367AD","SURFACES:SPRAY PAINT GLAZE TEXTURED SURFACE","PAINTING AND DECORATING","External Decoration","Spray Paint","SM",9.15,{"$f":"SUMIF('Contractor##'!C:C,'Planned Maint v6.2 CSV File'!C:C,'Contractor##'!F:F)","v":-0.15},7.7774999999999999,"Surfaces:Wash down, rub down, prepare for and spray one coat primer, one base coat, one coat of multicolour finish, one coat glaze on surfaces of textured render or brickwork."]
["4367ZN","SURFACES:PREPARE 2 COATS METALSHIELD","PAINTING AND DECORATING","External Decoration","Metalshield Paint - External Metalwork","SM",10.72,{"$f":"SUMIF('Contractor##'!C:C,'Planned Maint v6.2 CSV File'!C:C,'Contractor##'!F:F)","v":-0.15},9.1120000000000001,"Surfaces:Rub down, prepare, spot prime and apply two coats of metalshield paint on existing painted external surfaces of metalwork."]
["4367ZP","SURFACES:PREPARE 2 COATS METALSHIELD PROFILED","PAINTING AND DECORATING","External Decoration","Metalshield Paint - External Metalwork","SM",11,{"$f":"SUMIF('Contractor##'!C:C,'Planned Maint v6.2 CSV File'!C:C,'Contractor##'!F:F)","v":-0.15},9.35,"Surfaces:Rub down, prepare, spot prime and apply two coats of metalshield paint on existing painted external surfaces of profiled metalwork."]
["4380AA","SURFACES:PRIME PAINT GENERAL SURFACES TIMBER ","PAINTING AND DECORATING","External Decoration","Gloss Paint to Woodwork","SM",18.53,{"$f":"SUMIF('Contractor##'!C:C,'Planned Maint v6.2 CSV File'!C:C,'Contractor##'!F:F)","v":-0.15},15.750500000000001,"Surfaces:Rub down, prepare and apply one coat of primer, one undercoat and two coats of gloss paint on general surfaces of woodwork."]
["4380AB","FASCIAS,SOFFITS ETC:PRIME PAINT TIMBER NE 300MM","PAINTING AND DECORATING","External Decoration","Gloss Paint to Woodwork","LM",5.28,{"$f":"SUMIF('Contractor##'!C:C,'Planned Maint v6.2 CSV File'!C:C,'Contractor##'!F:F)","v":-0.15},{"$f":"(1+H1796)*G1796","v":4.4880000000000004},"Fascias, soffits, Bargeboards and the like:Rub down, prepare for, and apply one coat primer, one undercoat, two coats of gloss paint on surfaces of facias, soffits, bargeboards and the like ne 300mm girth."]
["4380BA","WINDOW:PREPARE PRIME PAINT TIMBER ","PAINTING AND DECORATING","External Decoration","Gloss Paint to Woodwork","SM",25.87,{"$f":"SUMIF('Contractor##'!C:C,'Planned Maint v6.2 CSV File'!C:C,'Contractor##'!F:F)","v":-0.15},21.9895,"Window:Rub down, prepare and apply one coat of primer, one undercoat and two coats of gloss paint on surfaces of wooden windowsl (one side and edges)."]
["4380CA","FRAME:PREPARE PRIME PAINT TIMBER NE 300MM","PAINTING AND DECORATING","External Decoration","Gloss Paint to Woodwork","LM",6.28,{"$f":"SUMIF('Contractor##'!C:C,'Planned Maint v6.2 CSV File'!C:C,'Contractor##'!F:F)","v":-0.15},5.3380000000000001,"Frame:Rub down, prepare and apply one coat of primer, one undercoat and two coats of gloss paint on timber frame ne 300mm girth."]
["4380DA","DOOR:PAINT 2 GLOSS TIMBER GLAZED DOOR (O/S) - NEW","PAINTING AND DECORATING","External Decoration","Gloss Paint to Woodwork","IT",20.71,{"$f":"SUMIF('Contractor##'!C:C,'Planned Maint v6.2 CSV File'!C:C,'Contractor##'!F:F)","v":-0.15},17.6035,"Door:Rub down, prepare for and apply one coat of primer, one undercoat and two coats of gloss paint to all surfaces of any size or type of single glazed timber door. (one sides and edges)."]
["4380DB","DOOR:PAINT 2 GLOSS TIMBER GLAZED DOOR (B/S) - NEW","PAINTING AND DECORATING","External Decoration","Gloss Paint to Woodwork","IT",39.28,{"$f":"SUMIF('Contractor##'!C:C,'Planned Maint v6.2 CSV File'!C:C,'Contractor##'!F:F)","v":-0.15},33.387999999999998,"Door:Rub down, prepare for and apply one coat of primer, one undercoat and two coats of gloss paint to all surfaces of any size or type of single glazed timber door (both sides and edges)."]
["4380DC","DOOR:PAINT 2 GLOSS TIMBER DOOR (O/S) - NEW","PAINTING AND DECORATING","External Decoration","Gloss Paint to Woodwork","IT",25.58,{"$f":"SUMIF('Contractor##'!C:C,'Planned Maint v6.2 CSV File'!C:C,'Contractor##'!F:F)","v":-0.15},21.742999999999999,"Door:Rub down, prepare for and apply one coat of primer, one undercoat and two coats of gloss paint to all surfaces of any type or size of single timber door (one sides and edges)."]
["4380DD","DOOR:PAINT 2 GLOSS TIMBER DOOR (B/S) - NEW","PAINTING AND DECORATING","External Decoration","Gloss Paint to Woodwork","IT",45.53,{"$f":"SUMIF('Contractor##'!C:C,'Planned Maint v6.2 CSV File'!C:C,'Contractor##'!F:F)","v":-0.15},38.700499999999998,"Door:Rub down, prepare for and apply one coat of primer, one undercoat and two coats of gloss paint to all surfaces of any type or size of single timber door. (both sides and edges)."]
["4380EA","FENCING:PAINT TIMBER FENCE NE 300MM - 3 NEW","PAINTING AND DECORATING","External Decoration","Gloss Paint to Woodwork","LM",7.51,{"$f":"SUMIF('Contractor##'!C:C,'Planned Maint v6.2 CSV File'!C:C,'Contractor##'!F:F)","v":-0.15},6.3834999999999997,"Fencing:Rub down, prepare for, and apply one coat primer, one undercoat, two coats of gloss paint on surfaces of fencing and posts ne 300mm girth."]
["4380EB","FENCING ISOLATED:PREPARE PRIME PAINT NE 300MM","PAINTING AND DECORATING","External Decoration","Gloss Paint to Woodwork","LM",6.53,{"$f":"SUMIF('Contractor##'!C:C,'Planned Maint v6.2 CSV File'!C:C,'Contractor##'!F:F)","v":-0.15},5.5505000000000004,"Fencing:Rub down, prepare for, and apply one coat primer, one undercoat, two coats of gloss paint on isolated surfaces of fencing and posts ne 300mm girth."]
["4380EC","FENCING OPEN TYPE:PREPARE PRIME PAINT TIMBER  ","PAINTING AND DECORATING","External Decoration","Gloss Paint to Woodwork","SM",16.09,{"$f":"SUMIF('Contractor##'!C:C,'Planned Maint v6.2 CSV File'!C:C,'Contractor##'!F:F)","v":-0.15},13.676499999999999,"Fencing:Rub down, prepare for, and apply one coat primer, one undercoat, two coats of gloss paint on isolated surfaces of open type fencing and posts [measured overall face one side]."]
["4380ED","FENCING CLOSE TYPE:PREPARE PRIME PAINT TIMBER","PAINTING AND DECORATING","External Decoration","Gloss Paint to Woodwork","SM",14.84,{"$f":"SUMIF('Contractor##'!C:C,'Planned Maint v6.2 CSV File'!C:C,'Contractor##'!F:F)","v":-0.15},12.613999999999999,"Fencing:Rub down, prepare for, and apply one coat primer, one undercoat, two coats of gloss paint on isolated surfaces of close type fencing and posts [measured overall face one side]."]
["4380FA","GATES:PREPARE PAINT 2 GLOSS GATES AND POSTS","PAINTING AND DECORATING","External Decoration","Gloss Paint to Woodwork","SM",16.559999999999999,{"$f":"SUMIF('Contractor##'!C:C,'Planned Maint v6.2 CSV File'!C:C,'Contractor##'!F:F)","v":-0.15},14.075999999999999,"Gates:Rub down, prepare for, and apply one coat primer, one undercoat, two coats of gloss paint on surfaces of gates and posts (measured both sides)."]
["4381AA","SURFACES:PREPARE 2 GLOSS GENERAL SURFACES TIMBER ","PAINTING AND DECORATING","External Decoration","Gloss Paint to Woodwork","SM",13.79,{"$f":"SUMIF('Contractor##'!C:C,'Planned Maint v6.2 CSV File'!C:C,'Contractor##'!F:F)","v":-0.15},11.721499999999999,"Surfaces:Rub down, prepare for and apply one undercoat and two coats of gloss paint on existing painted general surfaces of woodwork."]
["4381AB","FASCIAS, SOFFITS ETC:PAINT 2 GLOSS TIMBER NE 300MM","PAINTING AND DECORATING","External Decoration","Gloss Paint to Woodwork","LM",5.09,{"$f":"SUMIF('Contractor##'!C:C,'Planned Maint v6.2 CSV File'!C:C,'Contractor##'!F:F)","v":-0.15},4.3264999999999993,"Fascias, soffits, Bargeboards and the like:Rub down, prepare for, and apply one undercoat, two coats of gloss paint on existing painted surfaces of facias, soffits, bargeboards and the like ne 300mm girth."]
["4381BB","WINDOW:PREPARE PAINT 2 GLOSS TIMBER","PAINTING AND DECORATING","External Decoration","Gloss Paint to Woodwork","SM",24.54,{"$f":"SUMIF('Contractor##'!C:C,'Planned Maint v6.2 CSV File'!C:C,'Contractor##'!F:F)","v":-0.15},20.858999999999998,"Window:Rub down, prepare and apply one undercoat and two coats of gloss paint on existing painted surfaces of wooden windows. (one side and edges)."]
["4381CA","FRAME:PREPARE 2 GLOSS TIMBER NE 300MM","PAINTING AND DECORATING","External Decoration","Gloss Paint to Woodwork","LM",5.84,{"$f":"SUMIF('Contractor##'!C:C,'Planned Maint v6.2 CSV File'!C:C,'Contractor##'!F:F)","v":-0.15},4.9639999999999995,"Frame:Rub down, prepare and apply one undercoat and two coats of gloss paint on existing painted timber frame ne 300mm girth."]
["4381DA","DOOR:PAINT 2 GLOSS TIMBER GLAZED DOOR (O/S)","PAINTING AND DECORATING","External Decoration","Gloss Paint to Woodwork","IT",14.5,{"$f":"SUMIF('Contractor##'!C:C,'Planned Maint v6.2 CSV File'!C:C,'Contractor##'!F:F)","v":-0.15},12.324999999999999,"Door:Rub down, prepare for and apply one undercoat and two coats of gloss paint to all existing painted surfaces of any size or type of single glazed timber door (one sides and edges)."]
["4381DB","DOOR:PAINT 2 GLOSS TIMBER GLAZED DOOR (B/S)","PAINTING AND DECORATING","External Decoration","Gloss Paint to Woodwork","IT",29.01,{"$f":"SUMIF('Contractor##'!C:C,'Planned Maint v6.2 CSV File'!C:C,'Contractor##'!F:F)","v":-0.15},24.6585,"Door:Rub down, prepare for and apply one undercoat and two coats of gloss paint to all existing painted surfaces of any size or type of single glazed timber door (both sides and edges)."]
["4381DC","DOOR:PAINT 2 GLOSS TIMBER DOOR (O/S)","PAINTING AND DECORATING","External Decoration","Gloss Paint to Woodwork","IT",18.95,{"$f":"SUMIF('Contractor##'!C:C,'Planned Maint v6.2 CSV File'!C:C,'Contractor##'!F:F)","v":-0.15},16.107499999999998,"Door:Rub down, prepare for and apply one undercoat and two coats of gloss paint to all existing painted surfaces of any size or type of single timber door (one sides and edges)."]
["4381DD","DOOR:PAINT 2 GLOSS TIMBER DOOR (B/S)","PAINTING AND DECORATING","External Decoration","Gloss Paint to Woodwork","IT",37.82,{"$f":"SUMIF('Contractor##'!C:C,'Planned Maint v6.2 CSV File'!C:C,'Contractor##'!F:F)","v":-0.15},32.146999999999998,"Door:Rub down, prepare for and apply one undercoat and two coats of gloss paint to all existing painted surfaces of any size or type of single timber door (both sides and edges)."]
["4381EA","FENCING:PAINT TIMBER FENCE NE 300MM - 3 EXT","PAINTING AND DECORATING","External Decoration","Gloss Paint to Woodwork","LM",5.84,{"$f":"SUMIF('Contractor##'!C:C,'Planned Maint v6.2 CSV File'!C:C,'Contractor##'!F:F)","v":-0.15},4.9639999999999995,"Fencing:Rub down, prepare for, and apply one undercoat, two coats of gloss paint on existing painted surfaces of ranch fencing and posts ne 300mm girth."]
["4381EB","FENCING OPEN TYPE:PAINT 2 GLOSS TIMBER","PAINTING AND DECORATING","External Decoration","Gloss Paint to Woodwork","SM",11.88,{"$f":"SUMIF('Contractor##'!C:C,'Planned Maint v6.2 CSV File'!C:C,'Contractor##'!F:F)","v":-0.15},10.098000000000001,"Fencing:Rub down, prepare for, and apply one undercoat, two coats of gloss paint on isolated surfaces of open type fencing and posts [measured overall face one side]."]
["4381EC","FENCING CLOSE TYPE:PAINT 2 GLOSS TIMBER","PAINTING AND DECORATING","External Decoration","Gloss Paint to Woodwork","SM",10.94,{"$f":"SUMIF('Contractor##'!C:C,'Planned Maint v6.2 CSV File'!C:C,'Contractor##'!F:F)","v":-0.15},9.2989999999999995,"Fencing:Rub down, prepare for, and apply one undercoat, two coats of gloss paint on isolated surfaces of close type fencing and posts [measured overall face one side]."]
["4381FA","GATES:PREPARE 2 GLOSS TIMBER GATES POSTS","PAINTING AND DECORATING","External Decoration","Gloss Paint to Woodwork","SM",12.41,{"$f":"SUMIF('Contractor##'!C:C,'Planned Maint v6.2 CSV File'!C:C,'Contractor##'!F:F)","v":-0.15},10.548500000000001,"Gates:Rub down, prepare for, and apply one undercoat, two coats of gloss paint on existing painted surfaces of gates and posts (measured both sides)."]
["4381HA","SURFACES:PREPARE 1 GLOSS GENERAL SURFACES TIMBER ","PAINTING AND DECORATING","External Decoration","Gloss Paint to Woodwork","SM",9.09,{"$f":"SUMIF('Contractor##'!C:C,'Planned Maint v6.2 CSV File'!C:C,'Contractor##'!F:F)","v":-0.15},7.7264999999999997,"Surfaces:Rub down, prepare for and apply one undercoat and one coat of gloss paint on existing painted general surfaces of woodwork."]
["4381HB","FASCIAS, SOFFITS ETC:PAINT 1 GLOSS TIMBER NE 300MM","PAINTING AND DECORATING","External Decoration","Gloss Paint to Woodwork","LM",3.74,{"$f":"SUMIF('Contractor##'!C:C,'Planned Maint v6.2 CSV File'!C:C,'Contractor##'!F:F)","v":-0.15},3.1790000000000003,"Fascias, soffits, Bargeboards and the like:Rub down, prepare for, and apply one undercoat, two coats of gloss paint on existing painted surfaces of facias, soffits, bargeboards and the like ne 300mm girth."]
["4381HC","SURFACES:PREPARE 1 GLOSS NE 300MM TIMBER","PAINTING AND DECORATING","External Decoration","Gloss Paint to Woodwork","LM",3.18,{"$f":"SUMIF('Contractor##'!C:C,'Planned Maint v6.2 CSV File'!C:C,'Contractor##'!F:F)","v":-0.15},2.7029999999999998,"Surfaces:Rub down, prepare, spot prime and apply one undercoat and one coat of gloss paint on existing painted general surfaces of woodwork ne 300mm girth."]
["4381JB","WINDOW:PREPARE 1 GLOSS TIMBER","PAINTING AND DECORATING","External Decoration","Gloss Paint to Woodwork","SM",16.86,{"$f":"SUMIF('Contractor##'!C:C,'Planned Maint v6.2 CSV File'!C:C,'Contractor##'!F:F)","v":-0.15},14.331,"Window:Rub down, prepare and apply one undercoat and one coat of gloss paint on existing painted surfaces of wooden windows (one side and edges)."]
["4381KA","FRAME:PREPARE 1 GLOSS TIMBER NE 300MM","PAINTING AND DECORATING","External Decoration","Gloss Paint to Woodwork","LM",3.81,{"$f":"SUMIF('Contractor##'!C:C,'Planned Maint v6.2 CSV File'!C:C,'Contractor##'!F:F)","v":-0.15},3.2385000000000002,"Frame:Rub down, prepare and apply one undercoat and one coat of gloss paint on existing painted timber frame ne 300mm girth."]
["4381LA","DOOR:PAINT 1 GLOSS TIMBER GLAZED DOOR (O/S)","PAINTING AND DECORATING","External Decoration","Gloss Paint to Woodwork","IT",9.67,{"$f":"SUMIF('Contractor##'!C:C,'Planned Maint v6.2 CSV File'!C:C,'Contractor##'!F:F)","v":-0.15},8.2195,"Door:Rub down, prepare for and apply one undercoat and one coat of gloss paint to all existing painted surfaces of any size or type of single glazed timber door (one sides and edges)."]
["4381LB","DOOR:PAINT 1 GLOSS TIMBER GLAZED DOOR (B/S)","PAINTING AND DECORATING","External Decoration","Gloss Paint to Woodwork","IT",19.34,{"$f":"SUMIF('Contractor##'!C:C,'Planned Maint v6.2 CSV File'!C:C,'Contractor##'!F:F)","v":-0.15},16.439,"Door:Rub down, prepare for and apply one undercoat and one coat of gloss paint to all existing painted surfaces of any size or type of single glazed timber door (both sides and edges)."]
["4381LC","DOOR:PAINT 1 GLOSS TIMBER DOOR (O/S)","PAINTING AND DECORATING","External Decoration","Gloss Paint to Woodwork","IT",12.72,{"$f":"SUMIF('Contractor##'!C:C,'Planned Maint v6.2 CSV File'!C:C,'Contractor##'!F:F)","v":-0.15},10.811999999999999,"Door:Rub down, prepare for and apply one undercoat and one coat of gloss paint to all existing painted surfaces of any size or type of single timber door (one sides and edges)."]
["4381LD","DOOR:PAINT 1 GLOSS TIMBER DOOR (B/S)","PAINTING AND DECORATING","External Decoration","Gloss Paint to Woodwork","IT",25.11,{"$f":"SUMIF('Contractor##'!C:C,'Planned Maint v6.2 CSV File'!C:C,'Contractor##'!F:F)","v":-0.15},21.343499999999999,"Door:Rub down, prepare for and apply one undercoat and one coat of gloss paint to all existing painted surfaces of any size or type of single timber door (both sides and edges)."]
["4381MA","FENCING:PAINT TIMBER FENCE NE 300MM - 2 EXT","PAINTING AND DECORATING","External Decoration","Gloss Paint to Woodwork","LM",3.81,{"$f":"SUMIF('Contractor##'!C:C,'Planned Maint v6.2 CSV File'!C:C,'Contractor##'!F:F)","v":-0.15},3.2385000000000002,"Fencing:Rub down, prepare for, and apply one undercoat, one coat of gloss paint on existing painted surfaces of ranch fencing and posts ne 300mm girth."]
["4381MB","FENCING OPEN TYPE:PREPARE 1 GLOSS TIMBER FENCE","PAINTING AND DECORATING","External Decoration","Gloss Paint to Woodwork","SM",8.02,{"$f":"SUMIF('Contractor##'!C:C,'Planned Maint v6.2 CSV File'!C:C,'Contractor##'!F:F)","v":-0.15},6.8169999999999993,"Fencing:Rub down, prepare for, and apply one undercoat, one coat of gloss paint on isolated surfaces of open type fencing and posts [measured overall face one side]."]
["4381MC","FENCING CLOSE TYPE:PREPARE  1 GLOSS TIMBER FENCE","PAINTING AND DECORATING","External Decoration","Gloss Paint to Woodwork","SM",7.4,{"$f":"SUMIF('Contractor##'!C:C,'Planned Maint v6.2 CSV File'!C:C,'Contractor##'!F:F)","v":-0.15},6.29,"Fencing:Rub down, prepare for, and apply one undercoat, one coat of gloss paint on isolated surfaces of close type fencing and posts [measured overall face one side]."]
["4381NA","GATES:PREPARE 1 GLOSS TIMBER GATES POSTS","PAINTING AND DECORATING","External Decoration","Gloss Paint to Woodwork","SM",8.17,{"$f":"SUMIF('Contractor##'!C:C,'Planned Maint v6.2 CSV File'!C:C,'Contractor##'!F:F)","v":-0.15},6.9444999999999997,"Gates:Rub down, prepare for, and apply one undercoat, one coat of gloss paint on existing painted surfaces of gates and posts (measured both sides)."]
["4382AA","SURFACES:APPLY 3 COATS DECORATIVE STAIN - NEW","PAINTING AND DECORATING","External Decoration","Decorative Stain to Woodwork","SM",11.7,{"$f":"SUMIF('Contractor##'!C:C,'Planned Maint v6.2 CSV File'!C:C,'Contractor##'!F:F)","v":-0.15},9.9449999999999985,"Surfaces:Rub down, prepare for, and apply three coats of decorative wood stain on external general surfaces of woodwork."]
["4382BB","WINDOW:TOUCH UP PRIMER 2 COATS DECORATIVE STAIN","PAINTING AND DECORATING","External Decoration","Decorative Stain to Woodwork","SM",22.35,{"$f":"SUMIF('Contractor##'!C:C,'Planned Maint v6.2 CSV File'!C:C,'Contractor##'!F:F)","v":-0.15},18.997500000000002,"Window:Rub down, prepare for, and apply touch up primer and apply two coats of decorative wood stain on surfaces of timber window (one side and edges)."]
["4382CA","FRAME:PREP PRIME 2 COATS DECORATIVE FRAME NE 300MM","PAINTING AND DECORATING","External Decoration","Decorative Stain to Woodwork","LM",5.04,{"$f":"SUMIF('Contractor##'!C:C,'Planned Maint v6.2 CSV File'!C:C,'Contractor##'!F:F)","v":-0.15},4.2839999999999998,"Frame:Rub down, prepare for, and apply touch up primer and two coats of decorative wood stain to external surfaces timber sub-frame, ne 300mm girth."]
["4382DA","DOOR:3 COATS STAIN TO DOOR (O/S) - NEW","PAINTING AND DECORATING","External Decoration","Decorative Stain to Woodwork","IT",18.97,{"$f":"SUMIF('Contractor##'!C:C,'Planned Maint v6.2 CSV File'!C:C,'Contractor##'!F:F)","v":-0.15},16.124499999999998,"Door:Rub down, prepare for, and apply three coats decorative wood stain on external surfaces of any size/type of single door (one side and edges)."]
["4382DB","DOOR:3 COATS STAIN TO DOOR (B/S) - NEW","PAINTING AND DECORATING","External Decoration","Decorative Stain to Woodwork","IT",33.520000000000003,{"$f":"SUMIF('Contractor##'!C:C,'Planned Maint v6.2 CSV File'!C:C,'Contractor##'!F:F)","v":-0.15},28.492000000000001,"Door:Rub down, prepare for, and apply three coats decorative wood stain on external surfaces of any size/type of single door(both sides and edges)"]
["4382DC","DOOR:3 COATS STAIN GLAZED DOOR (O/S) – NEW","PAINTING AND DECORATING","External Decoration","Decorative Stain to Woodwork","IT",13.91,{"$f":"SUMIF('Contractor##'!C:C,'Planned Maint v6.2 CSV File'!C:C,'Contractor##'!F:F)","v":-0.15},11.823499999999999,"Door:Rub down, prepare, apply touch up primer and apply three coats of decorative wood stain on any size/type single glazed timber door (one side and edges)."]
["4382DD","DOOR:3 COATS STAIN GLAZED DOOR (B/S) – NEW","PAINTING AND DECORATING","External Decoration","Decorative Stain to Woodwork","IT",24.69,{"$f":"SUMIF('Contractor##'!C:C,'Planned Maint v6.2 CSV File'!C:C,'Contractor##'!F:F)","v":-0.15},20.986499999999999,"Door:Rub down, prepare, apply touch up primer and three coats of decorative wood stain on any size/ type single glazed timber door (both sides and edges)."]
["4382EA","FENCING:PREPARE 3 DECORATIVE COATS STAIN NE 300MM","PAINTING AND DECORATING","External Decoration","Decorative Stain to Woodwork","LM",5.67,{"$f":"SUMIF('Contractor##'!C:C,'Planned Maint v6.2 CSV File'!C:C,'Contractor##'!F:F)","v":-0.15},4.8194999999999997,"Fencing:Rub down, prepare, apply touch up primer and three coats of decorative wood stain on surfaces of ranch fencing and posts ne 300mm girth."]
["4382FA","GATES:PREPARE 2 COATS DECORATIVE STAIN GATES POSTS","PAINTING AND DECORATING","External Decoration","Decorative Stain to Woodwork","IT",9.6,{"$f":"SUMIF('Contractor##'!C:C,'Planned Maint v6.2 CSV File'!C:C,'Contractor##'!F:F)","v":-0.15},8.16,"Gates:Rub down, prepare and apply two coats of decorative wood stain to both sides of any size/ type single timber gate including all edges and on general surfaces of posts."]
["4383AA","SURFACES:APPLY 3 COATS DECORATIVE STAIN - EXISTING","PAINTING AND DECORATING","External Decoration","Decorative Stain to Woodwork","SM",12.63,{"$f":"SUMIF('Contractor##'!C:C,'Planned Maint v6.2 CSV File'!C:C,'Contractor##'!F:F)","v":-0.15},10.7355,"Surfaces:Rub down, prepare for, and apply three coats of decorative wood stain on existing decorated external general surfaces of woodwork."]
["4383AB","SURFACES:PREPARE 2 COATS DECORATIVE STAIN","PAINTING AND DECORATING","External Decoration","Decorative Stain to Woodwork","SM",11.7,{"$f":"SUMIF('Contractor##'!C:C,'Planned Maint v6.2 CSV File'!C:C,'Contractor##'!F:F)","v":-0.15},9.9449999999999985,"Surfaces:Rub down, prepare for, and apply two coats of decorative wood stain on existing decorated external general surfaces of woodwork."]
["4383BB","WINDOW:2 COATS STAIN - EXISTING TIMBER","PAINTING AND DECORATING","External Decoration","Decorative Stain to Woodwork","SM",25.36,{"$f":"SUMIF('Contractor##'!C:C,'Planned Maint v6.2 CSV File'!C:C,'Contractor##'!F:F)","v":-0.15},21.555999999999997,"Window:Rub down, prepare for, and apply two coats of decorative wood stain on existing decorated surfaces of timber window (one side and edges)."]
["4383CA","FRAME:PREPARE 2 COATS DECORATIVE FRAME NE 300MM","PAINTING AND DECORATING","External Decoration","Decorative Stain to Woodwork","LM",5.36,{"$f":"SUMIF('Contractor##'!C:C,'Planned Maint v6.2 CSV File'!C:C,'Contractor##'!F:F)","v":-0.15},4.556,"Frame:Rub down, prepare for, and apply two coats of decorative wood stain to existing decorated external surfaces timber sub-frame, ne 300mm girth."]
["4383DA","DOOR:3 COATS DECORATIVE STAIN TO DOOR (OS)","PAINTING AND DECORATING","External Decoration","Decorative Stain to Woodwork","IT",20.53,{"$f":"SUMIF('Contractor##'!C:C,'Planned Maint v6.2 CSV File'!C:C,'Contractor##'!F:F)","v":-0.15},17.450500000000002,"Door:Rub down, prepare for, and apply three coats decorative wood stain on existing decorated external surfaces of any size/type of single door (one side and edges)."]
["4383DB","DOOR:3 COATS DECORATIVE STAIN TO DOOR (BS)","PAINTING AND DECORATING","External Decoration","Decorative Stain to Woodwork","IT",35.4,{"$f":"SUMIF('Contractor##'!C:C,'Planned Maint v6.2 CSV File'!C:C,'Contractor##'!F:F)","v":-0.15},30.089999999999996,"Door:Rub down, prepare for, and apply three coats decorative wood stain on existing decorated external surfaces of any size/type of single door (both sides and edges)."]
["4383DC","DOOR:3 COATS DECORATIVE STAIN TO GLAZED (OS)","PAINTING AND DECORATING","External Decoration","Decorative Stain to Woodwork","IT",15.47,{"$f":"SUMIF('Contractor##'!C:C,'Planned Maint v6.2 CSV File'!C:C,'Contractor##'!F:F)","v":-0.15},13.1495,"Door:Rub down, prepare, apply three coats of decorative wood stain on any existing decorated size/type single glazed timber door (one side and edges)."]
["4383DD","DOOR:3 COATS DECORATIVE STAIN TO GLAZED (BS)","PAINTING AND DECORATING","External Decoration","Decorative Stain to Woodwork","IT",30.94,{"$f":"SUMIF('Contractor##'!C:C,'Planned Maint v6.2 CSV File'!C:C,'Contractor##'!F:F)","v":-0.15},26.298999999999999,"Door:Rub down, prepare, and apply three coats of decorative wood stain on any size/type single glazed timber door (both sides and edges)."]
["4383ES","FENCING:3 DECORATIVE COATS STAIN NE 300MM","PAINTING AND DECORATING","External Decoration","Decorative Stain to Woodwork","LM",5.98,{"$f":"SUMIF('Contractor##'!C:C,'Planned Maint v6.2 CSV File'!C:C,'Contractor##'!F:F)","v":-0.15},5.0830000000000002,"Fencing:Rub down, prepare, and apply three coats of decorative wood stain on surfaces of ranch fencing and posts ne 300mm girth."]
["4383FA","GATES:2 COATS DECORATIVE STAIN GATES POSTS","PAINTING AND DECORATING","External Decoration","Decorative Stain to Woodwork","IT",15.53,{"$f":"SUMIF('Contractor##'!C:C,'Planned Maint v6.2 CSV File'!C:C,'Contractor##'!F:F)","v":-0.15},13.2005,"Gates:Rub down, prepare and apply two coats of decorative wood stain to both sides of any size/ type single timber gate including all edges and on general surfaces of posts."]
["4384AA","WALLS:PREPARE 2 COATS BITUMIN DAMP PROOF","PAINTING AND DECORATING","External Decoration","BitumenDamp Proofing","SM",9.1199999999999992,{"$f":"SUMIF('Contractor##'!C:C,'Planned Maint v6.2 CSV File'!C:C,'Contractor##'!F:F)","v":-0.15},7.7519999999999989,"Walls:Brush down and prepare for and apply two coats of bituminous emulsion damp-proofing solution general surfaces of walls."]
["4386AA","PIPEWORK:PREPARE 2 COATS ANTI CLIMB TO PIPES","PAINTING AND DECORATING","External Decoration","Anti Climb Paint","LM",8.0399999999999991,{"$f":"SUMIF('Contractor##'!C:C,'Planned Maint v6.2 CSV File'!C:C,'Contractor##'!F:F)","v":-0.15},6.8339999999999987,"Pipework:Wire brush, prepare for and apply one coat zinc phosphate primer and one coat of non- drying anti-vandal paint to external pipework, ne 300mm girth including brackets."]
["4386XX","WALLS:PREPARE APPLY 2 COATS ANTI CLIMB","PAINTING AND DECORATING","External Decoration","Anti Climb Paint","SM",12.76,{"$f":"SUMIF('Contractor##'!C:C,'Planned Maint v6.2 CSV File'!C:C,'Contractor##'!F:F)","v":-0.15},10.846,"Walls:brush down surfaces of brickwork, concrete or timber, apply one coat of primer and one coat of non-drying anti-vandal paint strictly in accordance with the manufacturers instructions."]
["4387AA","SURFACES:3 COATS POLYURETHANE WOODWORK","PAINTING AND DECORATING","External Decoration","Polyurethane to Woodwork","SM",11.52,{"$f":"SUMIF('Contractor##'!C:C,'Planned Maint v6.2 CSV File'!C:C,'Contractor##'!F:F)","v":-0.15},9.7919999999999998,"Surfaces:Rub down, prepare for and apply three coats of polyurethane lacquer on general surfaces of woodwork."]
["4387BB","WINDOW:PREPARE 3 COATS POLYURETHANE NEW TIMBER","PAINTING AND DECORATING","External Decoration","Polyurethane to Woodwork","SM",31.72,{"$f":"SUMIF('Contractor##'!C:C,'Planned Maint v6.2 CSV File'!C:C,'Contractor##'!F:F)","v":-0.15},26.962,"Window:Rub down, prepare and apply three coats of polyurethane lacquer on surfaces of wooden windows (one side and edges)."]
["4387CA","FRAME:POLYURETHANE TIMBER FRAME NE 300MM - NEW","PAINTING AND DECORATING","External Decoration","Polyurethane to Woodwork","LM",6.86,{"$f":"SUMIF('Contractor##'!C:C,'Planned Maint v6.2 CSV File'!C:C,'Contractor##'!F:F)","v":-0.15},5.8310000000000004,"Frame:Rub down, prepare and apply three coats of polyurethane lacquer on timber frame ne 300mm girth."]
["4387DA","DOOR:3 COATS POLYURETHANE GLAZED DOOR (O/S)","PAINTING AND DECORATING","External Decoration","Polyurethane to Woodwork","IT",13.7,{"$f":"SUMIF('Contractor##'!C:C,'Planned Maint v6.2 CSV File'!C:C,'Contractor##'!F:F)","v":-0.15},11.645,"Door:Rub down, prepare for and apply three coats of polyurethane lacquer to all surfaces of any size or type of single glazed timber door (one side and edges)."]
["4387DB","DOOR:3 COATS POLYURETHANE GLAZED DOOR (B/S)","PAINTING AND DECORATING","External Decoration","Polyurethane to Woodwork","IT",24.28,{"$f":"SUMIF('Contractor##'!C:C,'Planned Maint v6.2 CSV File'!C:C,'Contractor##'!F:F)","v":-0.15},20.638000000000002,"Door:Rub down, prepare for and apply three coats of polyurethane lacquer to all surfaces of any size or type of single glazed timber door (both sides and edges)."]
["4387DC","DOOR:3 COATS POLYURETHANE TIMBER DOOR (O/S)","PAINTING AND DECORATING","External Decoration","Polyurethane to Woodwork","IT",18.690000000000001,{"$f":"SUMIF('Contractor##'!C:C,'Planned Maint v6.2 CSV File'!C:C,'Contractor##'!F:F)","v":-0.15},{"$f":"(1+H1860)*G1860","v":15.8865},"Door:Rub down, prepare for and apply three coats of polyurethane lacquer to all surfaces of any size or type of single timber door (one side and edges)."]
["4387DD","DOOR:3 COATS POLYURETHANE TIMBER DOOR (B/S)","PAINTING AND DECORATING","External Decoration","Polyurethane to Woodwork","IT",33.01,{"$f":"SUMIF('Contractor##'!C:C,'Planned Maint v6.2 CSV File'!C:C,'Contractor##'!F:F)","v":-0.15},28.058499999999999,"Door:Rub down, prepare for and apply three coats of polyurethane lacquer to all surfaces of any size or type of single timber door (both sides and edges)."]
["4388AA","SURFACES:2 COATS POLYURETHANE WOODWORK","PAINTING AND DECORATING","External Decoration","Polyurethane to Woodwork","SM",8.7200000000000006,{"$f":"SUMIF('Contractor##'!C:C,'Planned Maint v6.2 CSV File'!C:C,'Contractor##'!F:F)","v":-0.15},7.4119999999999999,"Surfaces:Wash down, rub down, prepare for and apply two coats of polyurethane lacquer on existing lacquered general surfaces of woodwork."]
["4388BB","WINDOW:PREPARE 2 COATS POLYURETHANE EXISTING ","PAINTING AND DECORATING","External Decoration","Polyurethane to Woodwork","SM",21.84,{"$f":"SUMIF('Contractor##'!C:C,'Planned Maint v6.2 CSV File'!C:C,'Contractor##'!F:F)","v":-0.15},18.564,"Window:Wash down, rub down, prepare for and apply two coats of polyurethane lacquer on existing lacquered surfaces of wooden windows (one side and edges)."]
["4388CA","FRAME:POLYURETHANE TIMBER FRAME NE 300MM - EXT","PAINTING AND DECORATING","External Decoration","Polyurethane to Woodwork","LM",6.62,{"$f":"SUMIF('Contractor##'!C:C,'Planned Maint v6.2 CSV File'!C:C,'Contractor##'!F:F)","v":-0.15},5.6269999999999998,"Frame:Wash down, rub down, prepare for and apply two coats of polyurethane lacquer on existing lacquered surfaces on timber frame ne 300mm girth."]
["4388DA","DOOR:2 COATS POLYURETHANE GLAZED DOOR (O/S)","PAINTING AND DECORATING","External Decoration","Polyurethane to Woodwork","IT",11.8,{"$f":"SUMIF('Contractor##'!C:C,'Planned Maint v6.2 CSV File'!C:C,'Contractor##'!F:F)","v":-0.15},10.030000000000001,"Door:Wash down, rub down, prepare for and apply two coats of polyurethane lacquer to all existing lacquered surfaces of any size or type of single glazed timber door (one side and edges)."]
["4388DB","DOOR:2 COATS POLYURETHANE GLAZED DOOR (B/S)","PAINTING AND DECORATING","External Decoration","Polyurethane to Woodwork","IT",23,{"$f":"SUMIF('Contractor##'!C:C,'Planned Maint v6.2 CSV File'!C:C,'Contractor##'!F:F)","v":-0.15},19.55,"Door:Wash down, rub down, prepare for and apply two coats of polyurethane lacquer to all existing lacquered surfaces of any size or type of single glazed timber door. (both sides and edges)."]
["4388DC","DOOR:2 COATS POLYURETHANE TIMBER DOOR (O/S)","PAINTING AND DECORATING","External Decoration","Polyurethane to Woodwork","IT",17.829999999999998,{"$f":"SUMIF('Contractor##'!C:C,'Planned Maint v6.2 CSV File'!C:C,'Contractor##'!F:F)","v":-0.15},15.155499999999998,"Door:Wash down, rub down, prepare for and apply two coats of polyurethane lacquer to all existing lacquered surfaces of any size or type of single timber door. (one side and edges)."]
["4388DD","DOOR:2 COATS POLYURETHANE TIMBER DOOR (B/S)","PAINTING AND DECORATING","External Decoration","Polyurethane to Woodwork","IT",31.48,{"$f":"SUMIF('Contractor##'!C:C,'Planned Maint v6.2 CSV File'!C:C,'Contractor##'!F:F)","v":-0.15},26.757999999999999,"Door:Wash down, rub down, prepare for and apply two coats of polyurethane lacquer to all existing lacquered surfaces of any size or type of single timber door (both sides and edges)."]
["4390AA","SURFACES:APPLY 2 COATS CREOSOTE","PAINTING AND DECORATING","External Decoration","Creosote to Woodwork","SM",4.8499999999999996,{"$f":"SUMIF('Contractor##'!C:C,'Planned Maint v6.2 CSV File'!C:C,'Contractor##'!F:F)","v":-0.15},4.1224999999999996,"Surfaces:Rub down, prepare for and apply two coats of creosote BS 144; on external general surfaces of woodwork."]
["4390BA","FENCING:APPLY 2 COATS CREOSOTE","PAINTING AND DECORATING","External Decoration","Creosote to Woodwork","SM",5.19,{"$f":"SUMIF('Contractor##'!C:C,'Planned Maint v6.2 CSV File'!C:C,'Contractor##'!F:F)","v":-0.15},4.4115000000000002,"Fencing:Rub down, prepare for and apply two coats of creosote BS 144; on surfaces of fencing and posts."]
["4390CA","GATES:APPLY 2 COATS CREOSOTE","PAINTING AND DECORATING","External Decoration","Creosote to Woodwork","SM",6.13,{"$f":"SUMIF('Contractor##'!C:C,'Planned Maint v6.2 CSV File'!C:C,'Contractor##'!F:F)","v":-0.15},5.2104999999999997,"Gates:Rub down, prepare for and apply two coats of creosote BS 144; on surfaces of gates and posts (measured both sides)."]
["4391AA","SURFACES:APPLY 2 COATS PRESERVATIVE","PAINTING AND DECORATING","External Decoration","Preservative to Woodwork","SM",5.97,{"$f":"SUMIF('Contractor##'!C:C,'Planned Maint v6.2 CSV File'!C:C,'Contractor##'!F:F)","v":-0.15},5.0744999999999996,"Surfaces:Rub down, prepare for and apply two coats of wood preservative exterior grade on external general surfaces of woodwork."]
["4391BA","FENCING:APPLY 2 COATS PRESERVATIVE","PAINTING AND DECORATING","External Decoration","Preservative to Woodwork","SM",6.54,{"$f":"SUMIF('Contractor##'!C:C,'Planned Maint v6.2 CSV File'!C:C,'Contractor##'!F:F)","v":-0.15},5.5590000000000002,"Fencing:Rub down, prepare for and apply two coats of wood preservative exterior grade on surfaces of fencing and posts."]
["4391CA","GATES:APPLY 2 COATS PRESERVATIVE","PAINTING AND DECORATING","External Decoration","Preservative to Woodwork","SM",7.48,{"$f":"SUMIF('Contractor##'!C:C,'Planned Maint v6.2 CSV File'!C:C,'Contractor##'!F:F)","v":-0.15},6.3580000000000005,"Gates:Rub down, prepare for and apply two coats of wood preservative exterior grade on surfaces of gates and posts (measured both sides)."]
["4391DA","SHEDS:APPLY 2 COATS PRESERVATIVE","PAINTING AND DECORATING","External Decoration","Preservative to Woodwork","SM",6.2,{"$f":"SUMIF('Contractor##'!C:C,'Planned Maint v6.2 CSV File'!C:C,'Contractor##'!F:F)","v":-0.15},5.27,"Sheds:Rub down, prepare for and apply two coats of wood preservative exterior grade on surfaces of shed walls, doors, door frame and window surrounds and beading. "]
["4392AA","SURFACES:APPLY 1 COAT CUPRINOL TRADE","PAINTING AND DECORATING","External Decoration","Cuprinol Trade to Woodwork","SM",2.79,{"$f":"SUMIF('Contractor##'!C:C,'Planned Maint v6.2 CSV File'!C:C,'Contractor##'!F:F)","v":-0.15},2.3715000000000002,"Surfaces:Rub down, prepare for and apply one coat of cuprinol trade cladding and fence opaque finish on external general surfaces of timber cladding etc."]
["4392BA","FENCING OPEN TYPE:APPLY 1 COAT CUPRINOL TRADE","PAINTING AND DECORATING","External Decoration","Cuprinol Trade to Woodwork","SM",2.5099999999999998,{"$f":"SUMIF('Contractor##'!C:C,'Planned Maint v6.2 CSV File'!C:C,'Contractor##'!F:F)","v":-0.15},2.1334999999999997,"Fencing:Rub down, prepare for and apply one coat of cuprinol trade cladding and fence opaque finish on surfaces of timber open type fencing and posts. [measured overall one side]"]
["4392BB","FENCING CLOSE TYPE:APPLY 1 COAT CUPRINOL TRADE","PAINTING AND DECORATING","External Decoration","Cuprinol Trade to Woodwork","SM",2.54,{"$f":"SUMIF('Contractor##'!C:C,'Planned Maint v6.2 CSV File'!C:C,'Contractor##'!F:F)","v":-0.15},2.1589999999999998,"Fencing:Rub down, prepare for and apply one coat of cuprinol trade cladding and fence opaque finish on surfaces of timber close type fencing and posts. [measured overall one side]"]
["4392CA","SURFACES:APPLY 2 COAT CUPRINOL TRADE","PAINTING AND DECORATING","External Decoration","Cuprinol Trade to Woodwork","SM",3.99,{"$f":"SUMIF('Contractor##'!C:C,'Planned Maint v6.2 CSV File'!C:C,'Contractor##'!F:F)","v":-0.15},3.3915000000000002,"Surfaces:Rub down, prepare for and apply two coats of cuprinol trade cladding and fence opaque finish on external general surfaces of timber cladding etc."]
["4392DA","FENCING OPEN TYPE:APPLY 2 COAT CUPRINOL TRADE","PAINTING AND DECORATING","External Decoration","Cuprinol Trade to Woodwork","SM",3.73,{"$f":"SUMIF('Contractor##'!C:C,'Planned Maint v6.2 CSV File'!C:C,'Contractor##'!F:F)","v":-0.15},3.1705000000000001,"Fencing:Rub down, prepare for and apply two coats of cuprinol trade cladding and fence opaque finish on surfaces of timber open type fencing and posts. [measured overall one side]"]
["4392DB","FENCING CLOSE TYPE:APPLY 2 COAT CUPRINOL TRADE","PAINTING AND DECORATING","External Decoration","Cuprinol Trade to Woodwork","SM",3.79,{"$f":"SUMIF('Contractor##'!C:C,'Planned Maint v6.2 CSV File'!C:C,'Contractor##'!F:F)","v":-0.15},3.2214999999999998,"Fencing:Rub down, prepare for and apply two coats of cuprinol trade cladding and fence opaque finish on surfaces of timber close type fencing and posts. [measured overall one side]"]
["4392XX","GATES:APPLY 1 COAT CUPRINOL TRADE","PAINTING AND DECORATING","External Decoration","Cuprinol Trade to Woodwork","SM",2.82,{"$f":"SUMIF('Contractor##'!C:C,'Planned Maint v6.2 CSV File'!C:C,'Contractor##'!F:F)","v":-0.15},2.3969999999999998,"Gates:Rub down, prepare for and apply one coat of cuprinol trade cladding and fence opaque finish on surfaces of timber gates and posts (measured both sides)."]
["4392XZ","GATES:APPLY 2 COAT CUPRINOL TRADE","PAINTING AND DECORATING","External Decoration","Cuprinol Trade to Woodwork","SM",4.3,{"$f":"SUMIF('Contractor##'!C:C,'Planned Maint v6.2 CSV File'!C:C,'Contractor##'!F:F)","v":-0.15},3.6549999999999998,"Gates:Rub down, prepare for and apply two coats of cuprinol trade cladding and fence opaque finish on surfaces of timber gates and posts (measured both sides)."]
["4393AA","CILLS:APPLY TILE PAINT","PAINTING AND DECORATING","External Decoration","Tile Paint","LM",2,{"$f":"SUMIF('Contractor##'!C:C,'Planned Maint v6.2 CSV File'!C:C,'Contractor##'!F:F)","v":-0.15},1.7,"Cills:Brush down to remove mould, moss growth, etc. and apply two coats of red tile paint on existing surfaces of tiled cills."]
["4393BA","STEPS:APPLY TILE PAINT","PAINTING AND DECORATING","External Decoration","Tile Paint","LM",3.76,{"$f":"SUMIF('Contractor##'!C:C,'Planned Maint v6.2 CSV File'!C:C,'Contractor##'!F:F)","v":-0.15},3.1959999999999997,"Steps:Brush down to remove mould, moss growth, etc. and apply two coats of red tile paint on existing surfaces of tiled treads and risers to steps."]
["4396AA","NUMERAL:PAINT 50MM HIGH","PAINTING AND DECORATING","External Decoration","Numerals","NO",3,{"$f":"SUMIF('Contractor##'!C:C,'Planned Maint v6.2 CSV File'!C:C,'Contractor##'!F:F)","v":-0.15},2.5499999999999998,"Numeral:Prepare and paint numeral 50mm high on painted or varnished surfaces"]
["4396AB","NUMERAL:PAINT 100MM HIGH","PAINTING AND DECORATING","External Decoration","Numerals","NO",4.4400000000000004,{"$f":"SUMIF('Contractor##'!C:C,'Planned Maint v6.2 CSV File'!C:C,'Contractor##'!F:F)","v":-0.15},3.774,"Numeral:Prepare and paint numeral 100mm high on painted or varnished surfaces"]
["4396AC","NUMERAL:PAINT 150MM HIGH","PAINTING AND DECORATING","External Decoration","Numerals","NO",5.87,{"$f":"SUMIF('Contractor##'!C:C,'Planned Maint v6.2 CSV File'!C:C,'Contractor##'!F:F)","v":-0.15},4.9894999999999996,"Numeral:Prepare and paint numeral 150mm high on painted or varnished surfaces"]
["4396AD","NUMERAL:PAINT 200MM HIGH","PAINTING AND DECORATING","External Decoration","Numerals","NO",7.31,{"$f":"SUMIF('Contractor##'!C:C,'Planned Maint v6.2 CSV File'!C:C,'Contractor##'!F:F)","v":-0.15},6.2134999999999998,"Numeral:Prepare and paint numeral 200mm high on painted or varnished surfaces"]
["4396AE","NUMERAL:PAINT 300MM HIGH","PAINTING AND DECORATING","External Decoration","Numerals","NO",10.81,{"$f":"SUMIF('Contractor##'!C:C,'Planned Maint v6.2 CSV File'!C:C,'Contractor##'!F:F)","v":-0.15},9.1884999999999994,"Numeral:Prepare and paint numeral 300mm high on painted or varnished surfaces"]
["4410AA","WASH:WASH SURFACES TO ANY ROOM","PAINTING AND DECORATING","Internal Decoration","Internal Decoration","IT",15.31,{"$f":"SUMIF('Contractor##'!C:C,'Planned Maint v6.2 CSV File'!C:C,'Contractor##'!F:F)","v":-0.15},13.013500000000001,"Wash:Wash down ceiling, walls, woodwork and metalwork to any size room."]
["4410BA","WASH:SURFACES OF HALL LANDING STAIR","PAINTING AND DECORATING","Internal Decoration","Internal Decoration","IT",29.06,{"$f":"SUMIF('Contractor##'!C:C,'Planned Maint v6.2 CSV File'!C:C,'Contractor##'!F:F)","v":-0.15},24.700999999999997,"Wash:Wash down ceiling, walls, woodwork and metalwork to any size hall, landing and staircase area (classified as a single area)."]
["4411AA","WINDOWS:WASHDOWN AND CLEAN PVCU INTERNAL","PAINTING AND DECORATING","Internal Decoration","Washdown PVCu Products","SM",2.7,{"$f":"SUMIF('Contractor##'!C:C,'Planned Maint v6.2 CSV File'!C:C,'Contractor##'!F:F)","v":-0.15},2.2949999999999999,"Windows:Wash down Internal PVCu surfaces with soap and water or detergent solution and apply non solvent based cleaner to remove dirt, grease etc, rinse off and leather off to produce a clean dry surface free from water marks or smearing."]
["4411AB","DOORS:WASHDOWN AND CLEAN PVCU INTERNAL","PAINTING AND DECORATING","Internal Decoration","Washdown PVCu Products","IT",5.4,{"$f":"SUMIF('Contractor##'!C:C,'Planned Maint v6.2 CSV File'!C:C,'Contractor##'!F:F)","v":-0.15},4.59,"Doors:Wash down Internal PVCu surfaces with soap and water or detergent solution and apply non solvent based cleaner to remove dirt, grease etc, rinse off and leather off to produce a clean dry surface free from water marks or smearing."]
["4412AA","DOORS:WASHDOWN AND CLEAN FLUSH","PAINTING AND DECORATING","Internal Decoration","Washdown Self Finished Products","IT",5.0999999999999996,{"$f":"SUMIF('Contractor##'!C:C,'Planned Maint v6.2 CSV File'!C:C,'Contractor##'!F:F)","v":-0.15},4.335,"Doors:Wash down self finish flush door with soap and water or detergent solution and apply non solvent cleaner to remove dirt, grease etc, rinse off and leather off to produce a clean dry surface free from water marks or smearing. "]
["4412AB","DOORS:WASHDOWN AND CLEAN GLAZED","PAINTING AND DECORATING","Internal Decoration","Washdown Self Finished Products","IT",5.7,{"$f":"SUMIF('Contractor##'!C:C,'Planned Maint v6.2 CSV File'!C:C,'Contractor##'!F:F)","v":-0.15},4.8449999999999998,"Doors:Wash down self finish glazed flush door with soap and water or detergent solution and apply non solvent cleaner to remove dirt, grease etc, rinse off and leather off to produce a clean dry surface free from water marks or smearing, clean glass with proprietary glass cleaner."]
["4415AA","TILES:STRIP POLYSTYRENE TILES","PAINTING AND DECORATING","Internal Decoration","Strip Polystyrene Ceiling Tiles","SM",12.87,{"$f":"SUMIF('Contractor##'!C:C,'Planned Maint v6.2 CSV File'!C:C,'Contractor##'!F:F)","v":-0.15},10.939499999999999,"Tiles:Strip polystyrene ceiling tiles and make good surfaces of ceiling and walls."]
["4420AA","WALLS AND CEILINGS:APPLY MIST 2 COATS EMULSION","PAINTING AND DECORATING","Internal Decoration","Patch Repairs","SM",8.23,{"$f":"SUMIF('Contractor##'!C:C,'Planned Maint v6.2 CSV File'!C:C,'Contractor##'!F:F)","v":-0.15},6.9954999999999998,"Walls and Ceilings:Prepare and apply one mist coat and two full coats of emulsion paint to walls or ceilings in patch repairs to match existing including all joints to adjacent surfaces and finishes."]
["4420BA","WALLS AND CEILINGS:APPLY 2 COATS EGGSHELL GLOSS","PAINTING AND DECORATING","Internal Decoration","Patch Repairs","SM",6.75,{"$f":"SUMIF('Contractor##'!C:C,'Planned Maint v6.2 CSV File'!C:C,'Contractor##'!F:F)","v":-0.15},5.7374999999999998,"Walls and Ceilings:Prepare and apply two coats of eggshell or undercoat and gloss paint to walls or ceilings in patch repairs to match existing including all joints to adjacent surfaces and finishes."]
["4420CA","WALLS AND CEILINGS:HANG LINING WOODCHIP IN REPAIRS","PAINTING AND DECORATING","Internal Decoration","Patch Repairs","SM",11.15,{"$f":"SUMIF('Contractor##'!C:C,'Planned Maint v6.2 CSV File'!C:C,'Contractor##'!F:F)","v":-0.15},9.4775000000000009,"Walls and Ceilings:Prepare, size and hang lining, woodchip or anaglypta paper, ne one roll, to walls or ceilings in patch repairs to match existing and prepare and apply two coats of emulsion paint to papered surfaces including all joints to adjacent finishes and surfaces."]
["4420DA","WALLS:HANG WALLPAPER IN REPAIRS","PAINTING AND DECORATING","Internal Decoration","Patch Repairs","SM",7.42,{"$f":"SUMIF('Contractor##'!C:C,'Planned Maint v6.2 CSV File'!C:C,'Contractor##'!F:F)","v":-0.15},6.3069999999999995,"Walls:Prepare, size and hang approved wallpaper, ne one roll, to walls in patch repairs to match existing including all joints to adjacent finishes and surfaces."]
["4421AA","WALLS: MIST AND 2 COATS EMULSION","PAINTING AND DECORATING","Internal Decoration","Decoration to Walls and Ceilings","SM",5.26,{"$f":"SUMIF('Contractor##'!C:C,'Planned Maint v6.2 CSV File'!C:C,'Contractor##'!F:F)","v":-0.15},4.4710000000000001,"Walls:Wash down, prepare and apply one mist coat and two full coats of emulsion paint to previously painted walls."]
["4421AB","WALLS: MIST AND 2 COATS EMULSION STAIR WALLS","PAINTING AND DECORATING","Internal Decoration","Decoration to Walls and Ceilings","SM",6.2,{"$f":"SUMIF('Contractor##'!C:C,'Planned Maint v6.2 CSV File'!C:C,'Contractor##'!F:F)","v":-0.15},5.27,"Walls:Wash down, prepare and apply one mist coat and two full coats of emulsion paint to previously painted staircase walls."]
["4421AC","CEILING: MIST AND 2 COATS EMULSION STAIR CEILINGS","PAINTING AND DECORATING","Internal Decoration","Decoration to Walls and Ceilings","SM",6.2,{"$f":"SUMIF('Contractor##'!C:C,'Planned Maint v6.2 CSV File'!C:C,'Contractor##'!F:F)","v":-0.15},5.27,"Ceilings:Wash down, prepare and apply one mist coat and two full coats of emulsion paint to previously painted staircase ceilings"]
["4421AD","CEILINGS:MIST AND 2 COATS EMULSION CEILINGS","PAINTING AND DECORATING","Internal Decoration","Decoration to Walls and Ceilings","SM",5.26,{"$f":"SUMIF('Contractor##'!C:C,'Planned Maint v6.2 CSV File'!C:C,'Contractor##'!F:F)","v":-0.15},4.4710000000000001,"Ceilings:Wash down, prepare and apply one mist coat and two full coats of emulsion paint to previously painted ceilings."]
["4421BA","WALLS: EMULSION AND ANAGLYPTA ","PAINTING AND DECORATING","Internal Decoration","Decoration to Walls and Ceilings","SM",10.07,{"$f":"SUMIF('Contractor##'!C:C,'Planned Maint v6.2 CSV File'!C:C,'Contractor##'!F:F)","v":-0.15},8.5594999999999999,"Walls:Wash down halls, hang anaglypta paper, size, apply adhesive, butt joints, and apply one mist coat and two coats of emulsion paint to previously painted walls."]
["4421BB","WALLS:EMULSION AND ANAGLYPTA STAIR WALLS","PAINTING AND DECORATING","Internal Decoration","Decoration to Walls and Ceilings","SM",12.57,{"$f":"SUMIF('Contractor##'!C:C,'Planned Maint v6.2 CSV File'!C:C,'Contractor##'!F:F)","v":-0.15},10.6845,"Walls:Wash down walls, hang anaglypta paper, size, apply adhesive, butt joints, and apply one mist coat and two coats of emulsion paint to previously painted staircase walls."]
["4421CA","WALLS:EMULSION AND ANAGLYPTA STRIP WALLS","PAINTING AND DECORATING","Internal Decoration","Decoration to Walls and Ceilings","SM",12.26,{"$f":"SUMIF('Contractor##'!C:C,'Planned Maint v6.2 CSV File'!C:C,'Contractor##'!F:F)","v":-0.15},10.420999999999999,"Walls:Strippping existing paper, wash down walls, hang anaglypta paper, size apply adhesive, butt joints, and apply one mist coat and two coats of emulsion paint to walls."]
["4421CB","WALLS:EMULSION AND ANAGLYPTAL: STRIP STAIR WALLS","PAINTING AND DECORATING","Internal Decoration","Decoration to Walls and Ceilings","SM",14.76,{"$f":"SUMIF('Contractor##'!C:C,'Planned Maint v6.2 CSV File'!C:C,'Contractor##'!F:F)","v":-0.15},12.545999999999999,"Walls:Stripping existing paper, wash down walls, hang anaglypta paper, size, apply adhesive, butt joints, and apply one mist coat and two coats of emulsion paint to staircase walls."]
["4421DA","WALLS:EGGSHELL:APPLY 3 COATS","PAINTING AND DECORATING","Internal Decoration","Decoration to Walls and Ceilings","SM",10.86,{"$f":"SUMIF('Contractor##'!C:C,'Planned Maint v6.2 CSV File'!C:C,'Contractor##'!F:F)","v":-0.15},9.2309999999999999,"Walls:Wash down, prepare and apply two undercoats and one coat eggshell (matt/silk) finish on previously painted walls."]
["4421DB","WALLS:EGGSHELL:APPLY 3 COATS STAIR WALLS","PAINTING AND DECORATING","Internal Decoration","Decoration to Walls and Ceilings","SM",11.8,{"$f":"SUMIF('Contractor##'!C:C,'Planned Maint v6.2 CSV File'!C:C,'Contractor##'!F:F)","v":-0.15},10.030000000000001,"Walls:Wash down prepare, and apply two undercoats and one coat eggshell (matt/silk) finish on previously painted staircase walls."]
["4421EA","WALLS:TEXTURED FINISH","PAINTING AND DECORATING","Internal Decoration","Decoration to Walls and Ceilings","SM",25.16,{"$f":"SUMIF('Contractor##'!C:C,'Planned Maint v6.2 CSV File'!C:C,'Contractor##'!F:F)","v":-0.15},21.385999999999999,"Walls:Wash down, prepare and apply glass fibre cloth with adhesive, apply textured Hessian paper overlay, apply one undercoat and one coat of gloss paint to previously painted walls"]
["4421EB","WALLS:TEXTURED FINISH STAIR WALLS","PAINTING AND DECORATING","Internal Decoration","Decoration to Walls and Ceilings","SM",26.1,{"$f":"SUMIF('Contractor##'!C:C,'Planned Maint v6.2 CSV File'!C:C,'Contractor##'!F:F)","v":-0.15},22.185000000000002,"Walls:Wash down, prepare and apply glass fibre cloth with adhesive, apply textured Hessian paper overlay, apply one undercoat and one coat of gloss paint to previously painted staircase walls"]
["4421FA","WALLS:GLOSSY:APPLY 2 COATS WALLS","PAINTING AND DECORATING","Internal Decoration","Decoration to Walls and Ceilings","SM",6.27,{"$f":"SUMIF('Contractor##'!C:C,'Planned Maint v6.2 CSV File'!C:C,'Contractor##'!F:F)","v":-0.15},5.3294999999999995,"Gloss:Wash down, prepare and apply one undercoat and one coat of gloss paint on previouisly painted walls"]
["4421FB","WALLS:GLOSS: APPLY 2 COATS STAIR WALLS","PAINTING AND DECORATING","Internal Decoration","Decoration to Walls and Ceilings","SM",7.2,{"$f":"SUMIF('Contractor##'!C:C,'Planned Maint v6.2 CSV File'!C:C,'Contractor##'!F:F)","v":-0.15},6.12,"Gloss:Wash down, prepare and apply one undercoat and one coat of gloss paint finish on previously painted staircase walls"]
["4421GA","WALLS:LATEX:WALLS","PAINTING AND DECORATING","Internal Decoration","Decoration to Walls and Ceilings","SM",14.92,{"$f":"SUMIF('Contractor##'!C:C,'Planned Maint v6.2 CSV File'!C:C,'Contractor##'!F:F)","v":-0.15},12.682,"Latex:Wash down, prepare and apply latex scrubbable paint on previously painted walls."]
["4421GB","WALLS:LATEX:STAIR WALLS","PAINTING AND DECORATING","Internal Decoration","Decoration to Walls and Ceilings","SM",15.86,{"$f":"SUMIF('Contractor##'!C:C,'Planned Maint v6.2 CSV File'!C:C,'Contractor##'!F:F)","v":-0.15},13.481,"Latex:Wash down, prepare and apply latex scrubbable paint on previously painted staircase walls"]
["4421HA","WALLS:SURFACES:SPRAY PAINT SMOOTH WALLS","PAINTING AND DECORATING","Internal Decoration","Decoration to Walls and Ceilings","SM",12.69,{"$f":"SUMIF('Contractor##'!C:C,'Planned Maint v6.2 CSV File'!C:C,'Contractor##'!F:F)","v":-0.15},10.786499999999998,"Walls:Wash down, rub down, prepare for and spray one coat primer, one coat base coat and one coat multicolour finish, on smooth surfaces of render, plaster or concrete walls."]
["4421JA","WALLS:SURFACES:SPRAY PAINT TEXTURED WALLS","PAINTING AND DECORATING","Internal Decoration","Decoration to Walls and Ceilings","SM",13.46,{"$f":"SUMIF('Contractor##'!C:C,'Planned Maint v6.2 CSV File'!C:C,'Contractor##'!F:F)","v":-0.15},11.441000000000001,"Walls:Wash down, rub down, prepare for and spray one coat primer, one coat base coat and one coat multicolour finish, on textured surfaces of render, blockwork  or brickwork walls."]
["4421JB","WALLS:SURFACES:SPRAY PAINT, GLAZE, SMOOTH WALLS","PAINTING AND DECORATING","Internal Decoration","Decoration to Walls and Ceilings","SM",16.100000000000001,{"$f":"SUMIF('Contractor##'!C:C,'Planned Maint v6.2 CSV File'!C:C,'Contractor##'!F:F)","v":-0.15},13.685,"Walls:wash down, rub down, prepare for and spray one coat primer, one coat base coat and one coat multicolour finish, one coat glaze on smooth surfaces of render, plaster or concrete walls."]
["4421JC","WALLS:SPRAY PAINT, GLAZE, TEXTURED WALLS","PAINTING AND DECORATING","Internal Decoration","Decoration to Walls and Ceilings","SM",17.329999999999998,{"$f":"SUMIF('Contractor##'!C:C,'Planned Maint v6.2 CSV File'!C:C,'Contractor##'!F:F)","v":-0.15},14.730499999999997,"Walls:Wash down, rub down, prepare for and spray one coat primer, one coat base coat and one coat multicolour finish, one coat glaze on textured surfaces on render, blockwork or brickwork walls."]
["4421JD","WALLS:SPRAY PAINT SMOOTH WALLS – STAIRS","PAINTING AND DECORATING","Internal Decoration","Decoration to Walls and Ceilings","SM",13.63,{"$f":"SUMIF('Contractor##'!C:C,'Planned Maint v6.2 CSV File'!C:C,'Contractor##'!F:F)","v":-0.15},11.5855,"Walls:Wash down, rub down, prepare for and spray one coat primer, one coat base coat and one coat multicolour finish, on smooth surfaces of render, plaster or concrete staircase walls"]
["4421JE","WALLS:SPRAY PAINT TEXTURED WALLS – STAIRS","PAINTING AND DECORATING","Internal Decoration","Decoration to Walls and Ceilings","SM",14.4,{"$f":"SUMIF('Contractor##'!C:C,'Planned Maint v6.2 CSV File'!C:C,'Contractor##'!F:F)","v":-0.15},12.24,"Walls:Wash down, rub down, prepare for and spray one coat primer, one coat base coat and one coat multicolour finish, on textured surfaces of render, blockwork or brickwork staircase walls."]
["4421JF","WALLS:SPRAY PAINT, GLAZE, SMOOTH WALLS – STAIRS","PAINTING AND DECORATING","Internal Decoration","Decoration to Walls and Ceilings","SM",17.04,{"$f":"SUMIF('Contractor##'!C:C,'Planned Maint v6.2 CSV File'!C:C,'Contractor##'!F:F)","v":-0.15},{"$f":"(1+H1924)*G1924","v":14.483999999999998},"Walls:Wash down, rub down, prepare for and spray one coat primer, one coat base coat and one coat multicolour finish, one coat glaze on smooth surfaces of render, plaster or concrete staircase walls."]
["4421JG","WALLS:SPRAY PAINT, GLAZE, TEXTURED WALLS – STAIRS","PAINTING AND DECORATING","Internal Decoration","Decoration to Walls and Ceilings","SM",18.260000000000002,{"$f":"SUMIF('Contractor##'!C:C,'Planned Maint v6.2 CSV File'!C:C,'Contractor##'!F:F)","v":-0.15},15.521000000000001,"Walls:Wash down, rub down, prepare for and spray one coat primer, one coat base coat and one coat multicolour finish, one coat glaze on textured surfaces of render, blockwork or brickwork staircase walls."]
["4421KA","WALLS:WALLPAPER – PREVIOUS PAPER","PAINTING AND DECORATING","Internal Decoration","Decoration to Walls and Ceilings","SM",11.3,{"$f":"SUMIF('Contractor##'!C:C,'Planned Maint v6.2 CSV File'!C:C,'Contractor##'!F:F)","v":-0.15},9.6050000000000004,"Walls:Stripping existing paper, wash down walls, size, prepare and hang new wallpaper PC £10.00 per roll to walls, butt joints."]
["4421KB","WALLS:WALLPAPER – NEW","PAINTING AND DECORATING","Internal Decoration","Decoration to Walls and Ceilings","SM",9,{"$f":"SUMIF('Contractor##'!C:C,'Planned Maint v6.2 CSV File'!C:C,'Contractor##'!F:F)","v":-0.15},7.6499999999999995,"Walls:Wash down walls, size, prepare and hang new wallpaper PC £10.00 per roll."]
["4425AA","SURFACES:APPLY BACTDET AND HALOPHEN","SPECIALIST TREATMENTS","Mould Eradication","Mould Treatment","SM",9.73,{"$f":"SUMIF('Contractor##'!C:C,'Planned Maint v6.2 CSV File'!C:C,'Contractor##'!F:F)","v":-0.27500000000000002},7.0542499999999997,"Surfaces:Prepare, wash down with RLT Bactdet solution, fill in small holes, cracks etc and apply one coat RLT Halophen solution to walls or ceilings in accordance with manufacturers directions, and apply two coats of Biocheck matt or silk emulsion to walls and ceilings."]
["4425AB","SURFACES:ADD MGC ADDITIVE","SPECIALIST TREATMENTS","Mould Eradication","Mould Treatment","NO",5.12,{"$f":"SUMIF('Contractor##'!C:C,'Planned Maint v6.2 CSV File'!C:C,'Contractor##'!F:F)","v":-0.27500000000000002},3.7119999999999997,"Surfaces:Add sachet of MGC additive to paint or paste or wall tiling grout as specified (per sachet)."]
["4425BA","SURFACES:REDECORATE TREATMENT","SPECIALIST TREATMENTS","Mould Eradication","Mould Treatment","SM",10.53,{"$f":"SUMIF('Contractor##'!C:C,'Planned Maint v6.2 CSV File'!C:C,'Contractor##'!F:F)","v":-0.27500000000000002},7.6342499999999989,"Surfaces:Prepare, wash down with RLT Bactdet solution, fill in small holes, cracks etc, and apply one liberal coat of IDP by brush to any badly stained areas and apply RLT Halophen to walls or ceilings as specified and in accordance with manufacturers directions."]
["4425BB","SURFACES:APPLY 2 COATS BIOCHECK","SPECIALIST TREATMENTS","Mould Eradication","Mould Treatment","SM",6.02,{"$f":"SUMIF('Contractor##'!C:C,'Planned Maint v6.2 CSV File'!C:C,'Contractor##'!F:F)","v":-0.27500000000000002},4.3644999999999996,"Surfaces:Prepare and apply two coats of Biocheck matt or silk emulsion to walls or ceilings as specified and in accordance with manufacturers directions."]
["4425BC","SURFACES:SEAL WITH HALOBOND","SPECIALIST TREATMENTS","Mould Eradication","Mould Treatment","SM",3.79,{"$f":"SUMIF('Contractor##'!C:C,'Planned Maint v6.2 CSV File'!C:C,'Contractor##'!F:F)","v":-0.27500000000000002},2.7477499999999999,"Surfaces:Prepare, rub down and wash down surfaces and apply one coat of halobond diluted 1:4 to walls and ceilings as specified and in accordance with manufacturers directions."]
["4425BD","SURFACES:APPLY BACTDET TO EXISTING SURFACES","SPECIALIST TREATMENTS","Mould Eradication","Mould Treatment","SM",5.16,{"$f":"SUMIF('Contractor##'!C:C,'Planned Maint v6.2 CSV File'!C:C,'Contractor##'!F:F)","v":-0.27500000000000002},3.7410000000000001,"Surfaces:Prepare, wash down existing surfaces of mould affected paper or plaster with RLT Bactdet solution, to walls or ceilings in accordance with manufacturers directions."]
["4425BE","SURFACES:APPLY BACTDET TO STRIPPED SURFACES","SPECIALIST TREATMENTS","Mould Eradication","Mould Treatment","SM",3.52,{"$f":"SUMIF('Contractor##'!C:C,'Planned Maint v6.2 CSV File'!C:C,'Contractor##'!F:F)","v":-0.27500000000000002},2.552,"Surfaces:Prepare, wash down stripped surfaces of plaster with RLT Bactdet solution, to walls or ceilings in accordance with manufacturers directions. "]
["4425CA","SURFACES:APPLY HALOPHEN","SPECIALIST TREATMENTS","Mould Eradication","Mould Treatment","SM",3.78,{"$f":"SUMIF('Contractor##'!C:C,'Planned Maint v6.2 CSV File'!C:C,'Contractor##'!F:F)","v":-0.27500000000000002},2.7404999999999999,"Surfaces:Prepare, and apply one coat RLT Halophen solution to walls or ceilings in accordance with manufacturers directions."]
["4425DA","WALLS:APPLY SEMPATAP","SPECIALIST TREATMENTS","Mould Eradication","Mould Treatment","SM",30.08,{"$f":"SUMIF('Contractor##'!C:C,'Planned Maint v6.2 CSV File'!C:C,'Contractor##'!F:F)","v":-0.27500000000000002},21.808,"Surfaces:Wash down surfaces of walls and fill in small holes, cracks etc, apply one coat of Sempatap primer to any loose paint or plaster, prepare and apply Sempatap to wall with Sempatap adhesive, cut around all sockets, switch plates, pipes, brackets and the like, fill open joints with Sempatap sealant, fix Sempatap external tape to external angles all in accordance with the manufacturer’s directions and leave ready for redecoration as specified and remove waste and debris."]
["4425EA","FLOORS:APPLY SEMPAFLOOR","SPECIALIST TREATMENTS","Mould Eradication","Mould Treatment","SM",26.95,{"$f":"SUMIF('Contractor##'!C:C,'Planned Maint v6.2 CSV File'!C:C,'Contractor##'!F:F)","v":-0.27500000000000002},19.53875,"Floors:Wash down all floors, make good surfaces as necessary, fix Sempafloor to floor with Sempafloor adhesive, cut around pipes and the like, fill open joints with Sempatap sealant, all in accordance with the manufacturer’s directions and leave ready for new floor covering and remove waste and debris."]
["4426AA","DOOR:PREPARE, PAINT FRAME NE 300MM","PAINTING AND DECORATING","Internal Decoration","Oil Paint- Existing Internal Metalwork ","LM",2.61,{"$f":"SUMIF('Contractor##'!C:C,'Planned Maint v6.2 CSV File'!C:C,'Contractor##'!F:F)","v":-0.15},2.2184999999999997,"Door:Rub down,prepare for and apply one undercoat,one coat of gloss paint on existing painted internal surfaces of metal frames not exceeding 300mm girth."]
["4426AB","DOOR:PREPARE, PAINT METAL DOOR","PAINTING AND DECORATING","Internal Decoration","Oil Paint- Existing Internal Metalwork ","SM",8.15,{"$f":"SUMIF('Contractor##'!C:C,'Planned Maint v6.2 CSV File'!C:C,'Contractor##'!F:F)","v":-0.15},6.9275000000000002,"Door:Rub down,prepare for and apply one undercoat,one coat of gloss paint on existing painted internal surfaces of any size single metal door. (both sides and edges)"]
["4426AC","DOOR:PREPARE, PAINT METAL GLAZED DOOR","PAINTING AND DECORATING","Internal Decoration","Oil Paint- Existing Internal Metalwork ","SM",11.12,{"$f":"SUMIF('Contractor##'!C:C,'Planned Maint v6.2 CSV File'!C:C,'Contractor##'!F:F)","v":-0.15},9.452,"Door:Rub down,prepare for and apply one undercoat,one coat of gloss paint on existing painted internal surfaces of any size single glazed metal door. (both sides and edges)"]
["4426AE","WINDOW:PREPARE, PAINT METAL","PAINTING AND DECORATING","Internal Decoration","Oil Paint- Existing Internal Metalwork ","SM",11.07,{"$f":"SUMIF('Contractor##'!C:C,'Planned Maint v6.2 CSV File'!C:C,'Contractor##'!F:F)","v":-0.15},9.4094999999999995,"Window:Rub down,prepare for and apply one undercoat,one coat of gloss paint on existing painted internal surfaces of  metal window (one side and edges)"]
["4426AG","BALUSTRADING:PREPARE, PAINT SURFACES","PAINTING AND DECORATING","Internal Decoration","Oil Paint- Existing Internal Metalwork ","SM",8.3800000000000008,{"$f":"SUMIF('Contractor##'!C:C,'Planned Maint v6.2 CSV File'!C:C,'Contractor##'!F:F)","v":-0.15},7.1230000000000002,"Balustrading:Wire brush, prepare and apply one undercoat, one coat of gloss paint on existing painted surfaces of ornamental metal balustrading, railings or gates. (measured both sides)"]
["4426AH","STAIRCASE:PREPARE, PAINT METAL STAIRS","PAINTING AND DECORATING","Internal Decoration","Oil Paint- Existing Internal Metalwork ","SM",9.2100000000000009,{"$f":"SUMIF('Contractor##'!C:C,'Planned Maint v6.2 CSV File'!C:C,'Contractor##'!F:F)","v":-0.15},7.8285000000000009,"Staircase:Wire brush, prepare and apply one undercoat, one coat of gloss paint on existing painted surfaces of metal staircase, strings and balustrading. (measured both sides)"]
["4426AJ","RADIATOR:PREPARE, PAINT RADIATOR AND BRACKETS","PAINTING AND DECORATING","Internal Decoration","Oil Paint- Existing Internal Metalwork ","SM",11.28,{"$f":"SUMIF('Contractor##'!C:C,'Planned Maint v6.2 CSV File'!C:C,'Contractor##'!F:F)","v":-0.15},9.5879999999999992,"Radiator:Wire brush, prepare and apply one undercoat, one coat of gloss paint on existing painted surfaces of cast iron sectional or steel panel radiator including brackets. (measured surface to be decorated)"]
["4426AK","PIPEWORK:PREPARE, PAINT NE300MM INC BRACKETS","PAINTING AND DECORATING","Internal Decoration","Oil Paint- Existing Internal Metalwork ","LM",3.86,{"$f":"SUMIF('Contractor##'!C:C,'Planned Maint v6.2 CSV File'!C:C,'Contractor##'!F:F)","v":-0.15},3.2809999999999997,"Pipework:Wire brush, prepare and apply one undercoat, one coat of gloss paint on existing painted surfaces of internal metal pipework ne 300mm girth."]
["4426AL","SURFACES:PREPARE, PAINT METALWORK","PAINTING AND DECORATING","Internal Decoration","Oil Paint- Existing Internal Metalwork ","SM",10.57,{"$f":"SUMIF('Contractor##'!C:C,'Planned Maint v6.2 CSV File'!C:C,'Contractor##'!F:F)","v":-0.15},8.9845000000000006,"Surfaces:Rub down, prepare, spot prime and apply one undercoat and one coat of gloss paint on existing surfaces of metalwork."]
["4426AM","SURFACES:PREPARE, PAINT METALWORK NE 300MM","PAINTING AND DECORATING","Internal Decoration","Oil Paint- Existing Internal Metalwork ","LM",3.7,{"$f":"SUMIF('Contractor##'!C:C,'Planned Maint v6.2 CSV File'!C:C,'Contractor##'!F:F)","v":-0.15},3.145,"Surfaces:Rub down, prepare, spot prime and apply one undercoat and one coat of gloss paint on existing surfaces of metalwork ne 300mm girth."]
["4430AA","SURFACES:PREPARE, PAINT GENERAL SURFACES WOODWORK","PAINTING AND DECORATING","Internal Decoration","Oil Paint- Existing Internal Metalwork ","SM",8.15,{"$f":"SUMIF('Contractor##'!C:C,'Planned Maint v6.2 CSV File'!C:C,'Contractor##'!F:F)","v":-0.15},6.9275000000000002,"Surfaces:Rub down, prepare for and apply one undercoat and one coat of gloss paint on existing painted general surfaces of woodwork."]
["4430AB","SURFACES:PREPARE, PAINT WOODWORK NE 300MM","PAINTING AND DECORATING","Internal Decoration","Oil Paint- Existing Internal Metalwork ","LM",2.85,{"$f":"SUMIF('Contractor##'!C:C,'Planned Maint v6.2 CSV File'!C:C,'Contractor##'!F:F)","v":-0.15},2.4224999999999999,"Surfaces:Rub down, prepare, spot prime and apply one undercoat and one coat of gloss paint on existing painted general surfaces of woodwork ne 300mm."]
["4430AC","WINDOW:PREPARE, PAINT WOODEN ","PAINTING AND DECORATING","Internal Decoration","Oil Paint- Existing Internal Metalwork ","SM",10.83,{"$f":"SUMIF('Contractor##'!C:C,'Planned Maint v6.2 CSV File'!C:C,'Contractor##'!F:F)","v":-0.15},9.2055000000000007,"Window:Rub down, prepare for and apply one undercoat and one coat of gloss paint on existing painted surfaces of wooden windows.(one side and edges)"]
["4430AD","GLAZED SCREENS:PREPARE, PAINT TIMBER","PAINTING AND DECORATING","Internal Decoration","Oil Paint- Existing Internal Metalwork ","SM",10.83,{"$f":"SUMIF('Contractor##'!C:C,'Planned Maint v6.2 CSV File'!C:C,'Contractor##'!F:F)","v":-0.15},9.2055000000000007,"Glazed Screens:Rub down, prepare, spot prime and apply one undercoat and one coat of gloss paint on existing painted timber framed glazed screen."]
["4430AE","FRAME:PREPARE, PAINT TIMBER FRAME NE 300MM","PAINTING AND DECORATING","Internal Decoration","Oil Paint- Existing Internal Metalwork ","LM",2.61,{"$f":"SUMIF('Contractor##'!C:C,'Planned Maint v6.2 CSV File'!C:C,'Contractor##'!F:F)","v":-0.15},2.2184999999999997,"Frame:Rub down, prepare for and apply one undercoat and one coat of gloss paint on existing painted timber frame not exceeding 300mm girth."]
["4430AF","DOOR:PREPARE, PAINT GLAZED DOOR.(O/S)","PAINTING AND DECORATING","Internal Decoration","Oil Paint- Existing Internal Metalwork ","SM",11.82,{"$f":"SUMIF('Contractor##'!C:C,'Planned Maint v6.2 CSV File'!C:C,'Contractor##'!F:F)","v":-0.15},10.047000000000001,"Door:Rub down, prepare for and apply one undercoat and one coat of gloss paint to all existing painted surfaces of any size or type of single glazed timber door. (one side and edge)"]
["4430AG","DOOR:PREPARE, PAINT GLAZED DOOR.(B/S)","PAINTING AND DECORATING","Internal Decoration","Oil Paint- Existing Internal Metalwork ","SM",22.37,{"$f":"SUMIF('Contractor##'!C:C,'Planned Maint v6.2 CSV File'!C:C,'Contractor##'!F:F)","v":-0.15},19.014500000000002,"Door:Rub down, prepare for and apply one undercoat and one coat of gloss paint to all existing painted surfaces of any size or type of single glazed timber door. (both sides and edges)"]
["4430AH","DOOR:PREPARE, PAINT TIMBER DOOR.(O/S)","PAINTING AND DECORATING","Internal Decoration","Oil Paint- Existing Internal Metalwork ","SM",8.15,{"$f":"SUMIF('Contractor##'!C:C,'Planned Maint v6.2 CSV File'!C:C,'Contractor##'!F:F)","v":-0.15},6.9275000000000002,"Door:Rub down, prepare for and apply one undercoat and one coat of gloss paint to all existing painted surfaces of any size or type of single timber door. (one side and edge)"]
["4430AJ","DOOR:PREPARE, PAINT TIMBER DOOR.(B/S)","PAINTING AND DECORATING","Internal Decoration","Oil Paint- Existing Internal Metalwork ","SM",15.03,{"$f":"SUMIF('Contractor##'!C:C,'Planned Maint v6.2 CSV File'!C:C,'Contractor##'!F:F)","v":-0.15},12.775499999999999,"Door:Rub down, prepare for and apply one undercoat and one coat of gloss paint to all existing painted surfaces of any size or type of single timber door. (both sides and edges)"]
["4432AA","SURFACES:APPLY 2 COATS DECORATIVE WOOD STAIN","PAINTING AND DECORATING","Internal Decoration","Decorative Wood Protection – Existing Internal Woodwork","SM",15.27,{"$f":"SUMIF('Contractor##'!C:C,'Planned Maint v6.2 CSV File'!C:C,'Contractor##'!F:F)","v":-0.15},12.9795,"Surfaces:Rub down, prepare for and apply two coats of decorative wood stain on existing decorated internal general surfaces of woodwork."]
["4432AC","WINDOW:APPLY 2 COATS STAIN","PAINTING AND DECORATING","Internal Decoration","Decorative Wood Protection – Existing Internal Woodwork","SM",17.739999999999998,{"$f":"SUMIF('Contractor##'!C:C,'Planned Maint v6.2 CSV File'!C:C,'Contractor##'!F:F)","v":-0.15},15.078999999999999,"Window:Rub down, prepare for and apply two coats of decorative wood stain on existing decorated surfaces of timber window. (one side and edges)"]
["4432AE","FRAME:APPLY 2 COATS STAIN NE 300MM","PAINTING AND DECORATING","Internal Decoration","Decorative Wood Protection – Existing Internal Woodwork","LM",4.78,{"$f":"SUMIF('Contractor##'!C:C,'Planned Maint v6.2 CSV File'!C:C,'Contractor##'!F:F)","v":-0.15},4.0629999999999997,"Frame:Rub down, prepare for and apply two coats of decorative wood stain on existing decorated internal surfaces of timber frame or sub-frame not exceeding 300mm girth."]
["4432AF","DOOR:APPLY 2 COATS STAIN TO DOOR.(O/S)","PAINTING AND DECORATING","Internal Decoration","Decorative Wood Protection – Existing Internal Woodwork","SM",15.27,{"$f":"SUMIF('Contractor##'!C:C,'Planned Maint v6.2 CSV File'!C:C,'Contractor##'!F:F)","v":-0.15},12.9795,"Door:Rub down, prepare for and apply two coats of decorative wood stain on existing decorated internal surface of any size or type of single timber door. (one side and edge)"]
["4432AG","DOOR:APPLY 2 COATS STAIN TO DOOR.(B/S)","PAINTING AND DECORATING","Internal Decoration","Decorative Wood Protection – Existing Internal Woodwork","SM",29.05,{"$f":"SUMIF('Contractor##'!C:C,'Planned Maint v6.2 CSV File'!C:C,'Contractor##'!F:F)","v":-0.15},24.692499999999999,"Door:Rub down, prepare for and apply two coats of decorative wood stain on existing decorated internal surface of any size or type of single timber door. (both sides and edges)"]
["4432AH","DOOR:APPLY 2 COATS STAIN TO GLAZED DOOR.(O/S)","PAINTING AND DECORATING","Internal Decoration","Decorative Wood Protection – Existing Internal Woodwork","SM",13.68,{"$f":"SUMIF('Contractor##'!C:C,'Planned Maint v6.2 CSV File'!C:C,'Contractor##'!F:F)","v":-0.15},11.628,"Door:Rub down, prepare for and apply two coats of decorative wood stain on existing decorated internal surface of any size or type of single glazed timber door. (one side and edge)"]
["4432AJ","DOOR:APPLY 2 COATS STAIN TO GLAZED DOOR.(B/S)","PAINTING AND DECORATING","Internal Decoration","Decorative Wood Protection – Existing Internal Woodwork","SM",25.69,{"$f":"SUMIF('Contractor##'!C:C,'Planned Maint v6.2 CSV File'!C:C,'Contractor##'!F:F)","v":-0.15},21.836500000000001,"Door:Rub down, prepare for and apply two coats of decorative wood stain on existing decorated internal surface of any size or type of single glazed timber door. (both sides and edges)"]
["4435AA","SURFACES:APPLY 2 COATS POLY WOODWORK SURFACES","PAINTING AND DECORATING","Internal Decoration","Polyurethane Lacquer- Existing Internal Woodwork","SM",9.99,{"$f":"SUMIF('Contractor##'!C:C,'Planned Maint v6.2 CSV File'!C:C,'Contractor##'!F:F)","v":-0.15},8.4915000000000003,"Surfaces:Wash down, rub down, prepare for and apply two coats of polyurethane lacquer on existing lacquered  general surfaces of woodwork."]
["4435AB","SURFACES:APPLY 2 CT POLY WOODWORK SURFACES NE300MM","PAINTING AND DECORATING","Internal Decoration","Polyurethane Lacquer- Existing Internal Woodwork","LM",3.5,{"$f":"SUMIF('Contractor##'!C:C,'Planned Maint v6.2 CSV File'!C:C,'Contractor##'!F:F)","v":-0.15},2.9750000000000001,"Surfaces:Wash down, rub down, prepare for and apply two coats of polyurethane lacquer on existing lacquered  general surfaces of woodwork."]
["4435AC","WINDOW:APPLY 2 COATS POLY TO TIMBER","PAINTING AND DECORATING","Internal Decoration","Polyurethane Lacquer- Existing Internal Woodwork","SM",12.75,{"$f":"SUMIF('Contractor##'!C:C,'Planned Maint v6.2 CSV File'!C:C,'Contractor##'!F:F)","v":-0.15},10.8375,"Window:Wash down, rub down, prepare for and apply two coats of polyurethane lacquer on existing lacquered surfaces of timber window. (one side and edges)"]
["4435AE","FRAME:APPLY 2 COATS POLY TO TIMBER FRAME NE 300MM","PAINTING AND DECORATING","Internal Decoration","Polyurethane Lacquer- Existing Internal Woodwork","LM",3.4,{"$f":"SUMIF('Contractor##'!C:C,'Planned Maint v6.2 CSV File'!C:C,'Contractor##'!F:F)","v":-0.15},2.8899999999999997,"Frame:Wash down, rub down, prepare for and apply two coats of polyurethane lacquer on existing lacquered surfaces of timber frame or sub-frame not exceeding 300mm girth."]
["4435AF","DOOR:APPLY 2 COATS POLY TO DOOR.(O/S)","PAINTING AND DECORATING","Internal Decoration","Polyurethane Lacquer- Existing Internal Woodwork","SM",9.99,{"$f":"SUMIF('Contractor##'!C:C,'Planned Maint v6.2 CSV File'!C:C,'Contractor##'!F:F)","v":-0.15},8.4915000000000003,"Door:Wash down, rub down, prepare for and apply two coats of polyurethane lacquer to all existing lacquered surfaces of any size or type of single timber door. (one side and edge)"]
["4435AG","DOOR:APPLY 2 COATS POLY TO DOOR.(B/S)","PAINTING AND DECORATING","Internal Decoration","Polyurethane Lacquer- Existing Internal Woodwork","SM",18.670000000000002,{"$f":"SUMIF('Contractor##'!C:C,'Planned Maint v6.2 CSV File'!C:C,'Contractor##'!F:F)","v":-0.15},15.8695,"Door:Wash down, rub down, prepare for and apply two coats of polyurethane lacquer to all existing lacquered surfaces of any size or type of single timber door. (both sides and edges)"]
["4435AH","DOOR:APPLY 2 COATS POLY TO GLAZED DOOR.(O/S)","PAINTING AND DECORATING","Internal Decoration","Polyurethane Lacquer- Existing Internal Woodwork","SM",13.56,{"$f":"SUMIF('Contractor##'!C:C,'Planned Maint v6.2 CSV File'!C:C,'Contractor##'!F:F)","v":-0.15},11.526,"Door:Wash down, rub down, prepare for and apply two coats of polyurethane lacquer to all existing lacquered surfaces of any size or type of single glazed timber door. (one side and edge)"]
["4435AJ","DOOR:APPLY 2 COATS POLY TO GLAZED DOOR.(B/S)","PAINTING AND DECORATING","Internal Decoration","Polyurethane Lacquer- Existing Internal Woodwork","SM",25.82,{"$f":"SUMIF('Contractor##'!C:C,'Planned Maint v6.2 CSV File'!C:C,'Contractor##'!F:F)","v":-0.15},21.946999999999999,"Door:Wash down, rub down, prepare for and apply two coats of polyurethane lacquer to all existing lacquered surfaces of any size or type of single glazed timber door. (both sides and edges)"]
["4440AA","WOODWORK:VARNISH GENERAL SURFACES","PAINTING AND DECORATING","Internal Decoration","Varnish, Polish to Existing Internal Woodwork","SM",12.25,{"$f":"SUMIF('Contractor##'!C:C,'Planned Maint v6.2 CSV File'!C:C,'Contractor##'!F:F)","v":-0.15},10.4125,"Woodwork:Wash down and apply two coats of polyurethane lacquer varnish to general surfaces of existing varnished woodwork."]
["4440AB","WOODWORK:FRENCH POLISH","PAINTING AND DECORATING","Internal Decoration","Varnish, Polish to Existing Internal Woodwork","SM",48,{"$f":"SUMIF('Contractor##'!C:C,'Planned Maint v6.2 CSV File'!C:C,'Contractor##'!F:F)","v":-0.15},40.799999999999997,"Woodwork:Strip old polish, wash down,oil,body in and fully French polish to general surfaces of existing polished woodwork."]
["4440AC","WOODWORK:WASH AND POLISH","PAINTING AND DECORATING","Internal Decoration","Varnish, Polish to Existing Internal Woodwork","SM",30.12,{"$f":"SUMIF('Contractor##'!C:C,'Planned Maint v6.2 CSV File'!C:C,'Contractor##'!F:F)","v":-0.15},25.602,"Woodwork:Wash down and apply two coats of wax polish to general surfaces of existing polished woodwork."]
["4440AD","WOODWORK:REVIVE AND POLISH","PAINTING AND DECORATING","Internal Decoration","Varnish, Polish to Existing Internal Woodwork","SM",39.5,{"$f":"SUMIF('Contractor##'!C:C,'Planned Maint v6.2 CSV File'!C:C,'Contractor##'!F:F)","v":-0.15},33.574999999999996,"Woodwotk:Wash down, strip old polish, oil and apply two coats of wax polish to general surfaces of existing woodwork."]
["4500DA","ROOM:REDECORATE UPTO 20SM CEILING AREA","PAINTING AND DECORATING","Internal Decoration","Paintwork to Ceiling, Walls, Woodwork","IT",127.5,{"$f":"SUMIF('Contractor##'!C:C,'Planned Maint v6.2 CSV File'!C:C,'Contractor##'!F:F)","v":-0.15},108.375,"Room:Rub down, prepare for and apply two coats of emulsion to ceilings and walls, one undercoat and gloss on all previously painted surfaces of room upto 20.00sm ceiling area."]
["4500DB","ROOM:REDECORATE 20-25SM CEILING AREA","PAINTING AND DECORATING","Internal Decoration","Paintwork to Ceiling, Walls, Woodwork","IT",159.37,{"$f":"SUMIF('Contractor##'!C:C,'Planned Maint v6.2 CSV File'!C:C,'Contractor##'!F:F)","v":-0.15},135.46449999999999,"Room:Rub down, prepare for and apply two coats of emulsion to ceilings and walls, one undercoat and gloss on all previously painted surfaces of room over 20.00 and ne 25.00sm ceiling area."]
["4500DC","ROOM:REDECORATE 25-30SM CEILING AREA","PAINTING AND DECORATING","Internal Decoration","Paintwork to Ceiling, Walls, Woodwork","IT",191.24,{"$f":"SUMIF('Contractor##'!C:C,'Planned Maint v6.2 CSV File'!C:C,'Contractor##'!F:F)","v":-0.15},162.554,"Room:Rub down, prepare for and apply two coats of emulsion to ceilings and walls, one undercoat and gloss on all previously painted surfaces of room over 15.00 and ne 20.00sm ceiling area."]
["4500DD","ROOM:REDECORATE OVER 30SM CEILING AREA","PAINTING AND DECORATING","Internal Decoration","Paintwork to Ceiling, Walls, Woodwork","IT",223.12,{"$f":"SUMIF('Contractor##'!C:C,'Planned Maint v6.2 CSV File'!C:C,'Contractor##'!F:F)","v":-0.15},189.65199999999999,"Room:Rub down, prepare for and apply two coats of emulsion to ceilings and walls, one undercoat and gloss on all previously painted surfaces of room over 30.00sm ceiling area."]
["4500EA","HALL STAIRS:REDECORATE 2 STOREY","PAINTING AND DECORATING","Internal Decoration","Paintwork to Ceiling, Walls, Woodwork","IT",381.24,{"$f":"SUMIF('Contractor##'!C:C,'Planned Maint v6.2 CSV File'!C:C,'Contractor##'!F:F)","v":-0.15},324.05399999999997,"Hall Stairs:Rub down, prepare for and apply two coats of emulsion to ceilings and walls, one undercoat and gloss on all previously painted surfaces of hall, landing and staircase area complete. (2 storey) (classified as a single area)."]
["4500EB","HALL STAIRS:REDECORATE 3 STOREY","PAINTING AND DECORATING","Internal Decoration","Paintwork to Ceiling, Walls, Woodwork","IT",571.86,{"$f":"SUMIF('Contractor##'!C:C,'Planned Maint v6.2 CSV File'!C:C,'Contractor##'!F:F)","v":-0.15},486.08100000000002,"Hall Stairs:Rub down, prepare for and apply two coats of emulsion to ceilings and walls, one undercoat and gloss on all previously painted surfaces of hall, landing and staircase area complete (3 storey) (classified as a single area)."]
["4500FA","HALL:REDECORATE COMPLETE OVER 3SM CEILING AREA","PAINTING AND DECORATING","Internal Decoration","Paintwork to Ceiling, Walls, Woodwork","IT",208.74,{"$f":"SUMIF('Contractor##'!C:C,'Planned Maint v6.2 CSV File'!C:C,'Contractor##'!F:F)","v":-0.15},177.429,"Hall:Rub down, prepare for and apply two coats of emulsion to ceilings and walls, one undercoat and gloss on all previously painted surfaces of lobby, hall or corridor over 3.00sm ceiling area complete. (classified as a single area)"]
["4500FB","LOBBY:REDECORATE COMPLETE NE 3SM CEILING AREA","PAINTING AND DECORATING","Internal Decoration","Paintwork to Ceiling, Walls, Woodwork","IT",114.15,{"$f":"SUMIF('Contractor##'!C:C,'Planned Maint v6.2 CSV File'!C:C,'Contractor##'!F:F)","v":-0.15},97.027500000000003,"Lobby:Rub down, prepare for and apply two coats of emulsion to ceilings and walls, one undercoat and gloss on all previously painted surfaces of lobby or hall ne 3.00sm ceiling area complete. (classified as a single area)"]
["4500GA","CORRIDOR/COMMUNAL AREA:REDECORATE ","PAINTING AND DECORATING","Internal Decoration","Paintwork to Ceiling, Walls, Woodwork","SM",13.97,{"$f":"SUMIF('Contractor##'!C:C,'Planned Maint v6.2 CSV File'!C:C,'Contractor##'!F:F)","v":-0.15},11.874499999999999,"Room:Rub down, prepare for and apply two coats of emulsion to ceilings and walls, one undercoat and gloss on all previously painted surfaces of corridors, open communal areas etc [measured per square metre of ceiling area.]"]
["4500HA","WALK IN CUPBOARD:REDECORATE NE 2SM CEILING AREA","PAINTING AND DECORATING","Internal Decoration","Paintwork to Ceiling, Walls, Woodwork","IT",55.05,{"$f":"SUMIF('Contractor##'!C:C,'Planned Maint v6.2 CSV File'!C:C,'Contractor##'!F:F)","v":-0.15},46.792499999999997,"Walk In Cupboard:Rub down, prepare for and apply two coats of emulsion to ceilings and walls, one undercoat and gloss on all previously painted surfaces of walk in cupboard ne 2.00sm ceiling area complete. (classified as a single area)."]
["4505DA","ROOM:WASH REDECORATE UPTO 20SM CEILING AREA","PAINTING AND DECORATING","Internal Decoration","Paintwork to Ceiling, Walls, Washdown Woodwork","IT",82.25,{"$f":"SUMIF('Contractor##'!C:C,'Planned Maint v6.2 CSV File'!C:C,'Contractor##'!F:F)","v":-0.15},69.912499999999994,"Room:Rub down, prepare for and apply two coats of emulsion to ceilings and walls, wash down only to all other previously painted surfaces of room upto 20.00sm ceiling area."]
["4505DB","ROOM:WASH REDECORATE 20-25SM CEILING AREA","PAINTING AND DECORATING","Internal Decoration","Paintwork to Ceiling, Walls, Washdown Woodwork","IT",100.31,{"$f":"SUMIF('Contractor##'!C:C,'Planned Maint v6.2 CSV File'!C:C,'Contractor##'!F:F)","v":-0.15},85.263499999999993,"Room:Rub down, prepare for and apply two coats of emulsion to ceilings and walls, wash down only to all other previously painted surfaces of room over 20.00 and ne 25.00sm ceiling area."]
["4505DC","ROOM:WASH REDECORATE 25-30SM CEILING AREA","PAINTING AND DECORATING","Internal Decoration","Paintwork to Ceiling, Walls, Washdown Woodwork","IT",119.37,{"$f":"SUMIF('Contractor##'!C:C,'Planned Maint v6.2 CSV File'!C:C,'Contractor##'!F:F)","v":-0.15},{"$f":"(1+H1988)*G1988","v":101.4645},"Room:Rub down, prepare for and apply two coats of emulsion to ceilings and walls, wash down only to all other previously painted surfaces of room over 25.00 and ne 30.00sm ceiling area."]
["4505DD","ROOM:WASH REDECORATE OVER 30SM CEILING AREA","PAINTING AND DECORATING","Internal Decoration","Paintwork to Ceiling, Walls, Washdown Woodwork","IT",138.43,{"$f":"SUMIF('Contractor##'!C:C,'Planned Maint v6.2 CSV File'!C:C,'Contractor##'!F:F)","v":-0.15},117.66550000000001,"Room:Rub down, prepare for and apply two coats of emulsion to ceilings and walls, wash down only to all other previously painted surfaces of room over 30.00sm ceiling area."]
["4505EA","HALL STAIRS:WASH REDECORATE 2 STOREY","PAINTING AND DECORATING","Internal Decoration","Paintwork to Ceiling, Walls, Washdown Woodwork","IT",222.49,{"$f":"SUMIF('Contractor##'!C:C,'Planned Maint v6.2 CSV File'!C:C,'Contractor##'!F:F)","v":-0.15},189.1165,"Hall Stairs:Rub down, prepare for and apply two coats of emulsion to ceilings and walls, washdown only to all other previously painted surfaces of hall, landing and staircase area complete (2 storey) (classified as a single area)."]
["4505EB","HALL STAIRS:WASH REDECORATE 3 STOREY","PAINTING AND DECORATING","Internal Decoration","Paintwork to Ceiling, Walls, Washdown Woodwork","IT",333.74,{"$f":"SUMIF('Contractor##'!C:C,'Planned Maint v6.2 CSV File'!C:C,'Contractor##'!F:F)","v":-0.15},283.67899999999997,"Hall Stairs:Rub down, prepare for and apply two coats of emulsion to ceilings and walls, wash down only to all other previously painted surfaces of hall, landing and staircase area complete (3 storey) (classified as a single area)."]
["4505FA","HALL:WASH REDECORATE OVER 3SM CEILING AREA","PAINTING AND DECORATING","Internal Decoration","Paintwork to Ceiling, Walls, Washdown Woodwork","IT",139.37,{"$f":"SUMIF('Contractor##'!C:C,'Planned Maint v6.2 CSV File'!C:C,'Contractor##'!F:F)","v":-0.15},118.4645,"Hall:Rub down, prepare for and apply two coats of emulsion to ceilings and walls, wash down only to all other previously painted surfaces of lobby, hall or corridor over 3.00sm ceiling area complete (classified as a single area)."]
["4505FB","LOBBY:WASH REDECORATE NE 3SM CEILING AREA","PAINTING AND DECORATING","Internal Decoration","Paintwork to Ceiling, Walls, Washdown Woodwork","IT",57.5,{"$f":"SUMIF('Contractor##'!C:C,'Planned Maint v6.2 CSV File'!C:C,'Contractor##'!F:F)","v":-0.15},48.875,"Lobby:Rub down, prepare for and apply two coats of emulsion to ceilings and walls, wash down only to all other previously painted surfaces of lobby or hall ne 3.00sm ceiling area complete (classified as a single area)."]
["4505GA","CORRIDOR/COMMUNAL AREA:WASH REDECORATE","PAINTING AND DECORATING","Internal Decoration","Paintwork to Ceiling, Walls, Washdown Woodwork","SM",9.85,{"$f":"SUMIF('Contractor##'!C:C,'Planned Maint v6.2 CSV File'!C:C,'Contractor##'!F:F)","v":-0.15},8.3724999999999987,"Room:Rub down, prepare for and apply two coats of emulsion to ceilings and walls, wash down only to all other previously painted surfaces of corridors, open communal areas etc [measured per square metre of ceiling area.]."]
["4505HA","WALK IN CUPBOARD:WASH REDECORATE NE 2SM CEILING","PAINTING AND DECORATING","Internal Decoration","Paintwork to Ceiling, Walls, Washdown Woodwork","IT",26.97,{"$f":"SUMIF('Contractor##'!C:C,'Planned Maint v6.2 CSV File'!C:C,'Contractor##'!F:F)","v":-0.15},22.924499999999998,"Walk In Cupboard:Rub down, prepare for and apply two coats of emulsion to ceilings and walls, wash down only to all other previously painted surfaces of walk in cupboard ne 2.00sm ceiling area complete (classified as a single area)."]
["4506AA","ROOM:REDECORATE CEILING UPTO 20SM CEILING AREA","PAINTING AND DECORATING","Internal Decoration","Paintwork to Ceilings Only","IT",43.25,{"$f":"SUMIF('Contractor##'!C:C,'Planned Maint v6.2 CSV File'!C:C,'Contractor##'!F:F)","v":-0.15},36.762499999999996,"Room:Rub down, prepare for and apply two coats of emulsion to ceilings only of room upto 20.00sm ceiling area."]
["4506AB","HALL STAIRS:REDECORATE CEILINGS 3 STOREY","PAINTING AND DECORATING","Internal Decoration","Paintwork to Ceilings Only","IT",140.12,{"$f":"SUMIF('Contractor##'!C:C,'Planned Maint v6.2 CSV File'!C:C,'Contractor##'!F:F)","v":-0.15},119.102,"Hall Stairs:Rub down, prepare for and apply two coats of emulsion to ceilings of hall, landing and staircase area complete (3 storey) (classified as a single area)."]
["4506AC","HALL STAIRS:REDECORATE CEILINGS 2 STOREY","PAINTING AND DECORATING","Internal Decoration","Paintwork to Ceilings Only","IT",96.87,{"$f":"SUMIF('Contractor##'!C:C,'Planned Maint v6.2 CSV File'!C:C,'Contractor##'!F:F)","v":-0.15},82.339500000000001,"Hall Stairs:Rub down, prepare for and apply two coats of emulsion to ceilings of hall, landing and staircase area complete (2 storey) (classified as a single area)."]
["4506AD","HALL:REDECORATE CEILINGS OVER 3SM AREA","PAINTING AND DECORATING","Internal Decoration","Paintwork to Ceilings Only","IT",43.25,{"$f":"SUMIF('Contractor##'!C:C,'Planned Maint v6.2 CSV File'!C:C,'Contractor##'!F:F)","v":-0.15},36.762499999999996,"Hall:Rub down, prepare for and apply two coats of emulsion to ceilings of lobby, hall or corridor over 3.00sm area complete (classified as a single area)."]
["4506AE","LOBBY:REDECORATE CEILINGS NE 3SM AREA","PAINTING AND DECORATING","Internal Decoration","Paintwork to Ceilings Only","IT",17.46,{"$f":"SUMIF('Contractor##'!C:C,'Planned Maint v6.2 CSV File'!C:C,'Contractor##'!F:F)","v":-0.15},14.841000000000001,"Lobby:Rub down, prepare for and apply two coats of emulsion to ceilings of lobby or hall ne 3.00sm area complete (classified as a single area)."]
["4506AF","ROOM:REDECORATE CEILING 20-25SM CEILING AREA","PAINTING AND DECORATING","Internal Decoration","Paintwork to Ceilings Only","IT",54.06,{"$f":"SUMIF('Contractor##'!C:C,'Planned Maint v6.2 CSV File'!C:C,'Contractor##'!F:F)","v":-0.15},45.951000000000001,"Room:Rub down, prepare for and apply two coats of emulsion to ceilings only of room over 20.00 and ne 25.00sm ceiling area."]
["4506AG","ROOM:REDECORATE CEILING 25-30SM CEILING AREA","PAINTING AND DECORATING","Internal Decoration","Paintwork to Ceilings Only","IT",66.87,{"$f":"SUMIF('Contractor##'!C:C,'Planned Maint v6.2 CSV File'!C:C,'Contractor##'!F:F)","v":-0.15},56.839500000000001,"Room:Rub down, prepare for and apply two coats of emulsion to ceilings only of room over 25.00 and ne 30.00sm ceiling area."]
["4506AH","ROOM:REDECORATE CEILING OVER 30SM CEILING AREA","PAINTING AND DECORATING","Internal Decoration","Paintwork to Ceilings Only","IT",78.69,{"$f":"SUMIF('Contractor##'!C:C,'Planned Maint v6.2 CSV File'!C:C,'Contractor##'!F:F)","v":-0.15},66.886499999999998,"Room:Rub down, prepare for and apply two coats of emulsion to ceilings only of room over 30.00sm ceiling area."]
["4506AJ","CORRIDOR/COMMUNAL ROOMS:REDECORATE CEILING ","PAINTING AND DECORATING","Internal Decoration","Paintwork to Ceilings Only","SM",3.29,{"$f":"SUMIF('Contractor##'!C:C,'Planned Maint v6.2 CSV File'!C:C,'Contractor##'!F:F)","v":-0.15},2.7965,"Corridor/Communal room:Rub down, prepare for and apply two coats of emulsion to ceilings only of corridor or open communal areas. [measured per square metre of ceiling area.]"]
["4510DA","ROOM:STRIP PAPER UPTO 20SM CEILING AREA","PAINTING AND DECORATING","Internal Decoration","Strip Paper","IT",149.99,{"$f":"SUMIF('Contractor##'!C:C,'Planned Maint v6.2 CSV File'!C:C,'Contractor##'!F:F)","v":-0.15},127.4915,"Room:Extra for stripping any number of layers of any type of wallpaper or wallcovering from walls and ceilings including any extra preparation to receive new decoration for room upto 20.00sm ceiling area."]
["4510DB","ROOM:STRIP PAPER OVER 20SM CEILING AREA ","PAINTING AND DECORATING","Internal Decoration","Strip Paper","SM",8.2799999999999994,{"$f":"SUMIF('Contractor##'!C:C,'Planned Maint v6.2 CSV File'!C:C,'Contractor##'!F:F)","v":-0.15},7.0379999999999994,"Room:Extra for stripping any number of layers of any type of wallpaper or wallcovering from walls and ceilings including any extra preparation to receive new decoration for room over 20.00 ceiling area. [measured per square metre of ceiling area in excess of 20.00sm.]"]
["4510EA","HALL STAIRS:STRIP PAPER 2 STOREY","PAINTING AND DECORATING","Internal Decoration","Strip Paper","IT",177.48,{"$f":"SUMIF('Contractor##'!C:C,'Planned Maint v6.2 CSV File'!C:C,'Contractor##'!F:F)","v":-0.15},150.85799999999998,"Hall Stairs:Extra for stripping any number of layers of any type of wallpaper or wallcovering from walls and ceilings to any hall, landing and stair, including any extra preparation to receive new decoration (2 storey) (classified as a single area)."]
["4510EB","HALL STAIRS:STRIP PAPER 3 STOREY","PAINTING AND DECORATING","Internal Decoration","Strip Paper","IT",257.16000000000003,{"$f":"SUMIF('Contractor##'!C:C,'Planned Maint v6.2 CSV File'!C:C,'Contractor##'!F:F)","v":-0.15},218.58600000000001,"Hall Stairs:Extra for stripping any number of layers of any type of wallpaper or wallcovering from walls and ceilings to any hall, landing and stair including any extra preparation to receive new decoration (3 storey) (classified as a single area)."]
["4510FA","HALL:STRIP PAPER OVER 3SM CEILING AREA","PAINTING AND DECORATING","Internal Decoration","Strip Paper","IT",122.49,{"$f":"SUMIF('Contractor##'!C:C,'Planned Maint v6.2 CSV File'!C:C,'Contractor##'!F:F)","v":-0.15},104.11649999999999,"Hall:Extra for stripping any number of layers of any type of wallpaper or coverings from walls and ceilings to any lobby, hall, or corridor over 3.00sm ceiling area including any extra preparation to receive new decoration (classified as a single area)."]
["4510FB","LOBBY:STRIP PAPER NE 3SM CEILING AREA","PAINTING AND DECORATING","Internal Decoration","Strip Paper","IT",74.06,{"$f":"SUMIF('Contractor##'!C:C,'Planned Maint v6.2 CSV File'!C:C,'Contractor##'!F:F)","v":-0.15},62.951000000000001,"Lobby:Extra for stripping any number of layers of any type of wallpaper or coverings from walls and ceilings to any lobby or hall ne 3.00sm ceiling area including any extra preparation to receive new decoration (classified as a single area)."]
["4510GA","CORRIDOR/COMMUNAL ROOMS:STRIP PAPER ","PAINTING AND DECORATING","Internal Decoration","Strip Paper","SM",7.66,{"$f":"SUMIF('Contractor##'!C:C,'Planned Maint v6.2 CSV File'!C:C,'Contractor##'!F:F)","v":-0.15},6.5110000000000001,"Corridor:Extra for stripping any number of layers of any type of wallpaper or wallcovering from walls and ceilings of corridor or open communal areas including any extra preparation to receive new decoration. [measured per square metre of ceiling area]"]
["4511DA","ROOM:STRIP PAINTED PAPER UPTO 20SM CEILING AREA","PAINTING AND DECORATING","Internal Decoration","Strip Painted Paper","IT",359.04,{"$f":"SUMIF('Contractor##'!C:C,'Planned Maint v6.2 CSV File'!C:C,'Contractor##'!F:F)","v":-0.15},305.18400000000003,"Room:Extra for stripping any number of layers of any type of painted wallpaper or wallcovering from walls and ceilings including any extra preparation to receive new decoration for room upto 20.00sm ceiling area (only to be charged when specifically instructed by Client’s Representative)."]
["4511DB","ROOM:STRIP PAINTED PAPER OVER 20SM AREA ","PAINTING AND DECORATING","Internal Decoration","Strip Painted Paper","SM",20.16,{"$f":"SUMIF('Contractor##'!C:C,'Planned Maint v6.2 CSV File'!C:C,'Contractor##'!F:F)","v":-0.15},17.135999999999999,"Room:Extra for stripping any number of layers of any type of painted wallpaper or wallcovering from walls and ceilings including any extra preparation to receive new decoration for room over 20.00 ceiling area. [measured per square metre of ceiling area in excess of 20.00sm.] (only to be charged when specifically instructed by Client’s Representative)."]
["4511EA","HALL STAIRS:STRIP PAINTED PAPER 2 STOREY","PAINTING AND DECORATING","Internal Decoration","Strip Painted Paper","IT",426.54,{"$f":"SUMIF('Contractor##'!C:C,'Planned Maint v6.2 CSV File'!C:C,'Contractor##'!F:F)","v":-0.15},362.55900000000003,"Hall Stairs:Extra for stripping any number of layers of any type of painted wallpaper or wallcovering from walls and ceilings to any hall, landing and stair, including any extra preparation to receive new decoration (classified as a single area) (2 storey) (only to be charged when specifically instructed by Client’s Representative)."]
["4511EB","HALL STAIRS:STRIP PAINTED PAPER 3 STOREY","PAINTING AND DECORATING","Internal Decoration","Strip Painted Paper","IT",618.4,{"$f":"SUMIF('Contractor##'!C:C,'Planned Maint v6.2 CSV File'!C:C,'Contractor##'!F:F)","v":-0.15},525.64,"Hall Stairs:Extra for stripping any number of layers of any type of painted wallpaper or wallcovering from walls and ceilings to any hall, landing and stair, including any extra preparation to receive new decoration (classified as a single area) (3 storey) (only to be charged when specifically instructed by Client’s Representative)."]
["4511FA","HALL:STRIP PAINTED PAPER OVER 3SM CEILING AREA","PAINTING AND DECORATING","Internal Decoration","Strip Painted Paper","IT",297.48,{"$f":"SUMIF('Contractor##'!C:C,'Planned Maint v6.2 CSV File'!C:C,'Contractor##'!F:F)","v":-0.15},252.858,"Hall:Extra for stripping any number of layers of any type of painted wallpaper or coverings from walls and ceilings to any lobby, hall, or corridor over 3.00sm ceiling area including any extra preparation to receive new decoration (classified as a single area) (only to be charged when specifically instructed by Client’s Representative)."]
["4511FB","LOBBY:STRIP PAINTED PAPER NE 3SM CEILING AREA","PAINTING AND DECORATING","Internal Decoration","Strip Painted Paper","IT",146.24,{"$f":"SUMIF('Contractor##'!C:C,'Planned Maint v6.2 CSV File'!C:C,'Contractor##'!F:F)","v":-0.15},124.304,"Lobby:Extra for stripping any number of layers of any type of painted wallpaper or coverings from walls and ceilings to any lobby or hall ne 3.00sm total ceiling area including any extra preparation to receive new decoration (classified as a single area) (only to be charged when specifically instructed by Client’s Representative)."]
["4511GA","CORRIDOR COMMUNAL ROOMS:STRIP PAINTED PAPER ","PAINTING AND DECORATING","Internal Decoration","Strip Painted Paper","SM",18.440000000000001,{"$f":"SUMIF('Contractor##'!C:C,'Planned Maint v6.2 CSV File'!C:C,'Contractor##'!F:F)","v":-0.15},15.674000000000001,"Corridor:Extra for stripping any number of layers of any type of painted wallpaper or wallcovering from walls and ceilings of corridor or open communal areas including any extra preparation to receive new decoration. [measured per square metre of ceiling area] (only to be charged when specifically instructed by Client’s Representative)."]
["4520AD","ROOM:PAPER CEILING UPTO 20SM CEILING AREA","PAINTING AND DECORATING","Internal Decoration","Ceiling Finishes - Alternatives","IT",102.22,{"$f":"SUMIF('Contractor##'!C:C,'Planned Maint v6.2 CSV File'!C:C,'Contractor##'!F:F)","v":-0.15},86.887,"Room:Extra for prepare, size and hang lining, woodchip or anaglypta paper to ceilings upto 20.00sm ceiling area."]
["4520AE","HALL STAIRS:PAPER CEILING 2 STOREY","PAINTING AND DECORATING","Internal Decoration","Ceiling Finishes - Alternatives","IT",122.25,{"$f":"SUMIF('Contractor##'!C:C,'Planned Maint v6.2 CSV File'!C:C,'Contractor##'!F:F)","v":-0.15},103.91249999999999,"Hall Stairs:Extra for prepare, size and hang lining, woodchip or anaglypta paper to ceilings to any hall, landing and staircase area (2 storey) (classified as a single area)."]
["4520AF","HALL STAIRS:PAPER CEILING 3 STOREY","PAINTING AND DECORATING","Internal Decoration","Ceiling Finishes - Alternatives","IT",182.88,{"$f":"SUMIF('Contractor##'!C:C,'Planned Maint v6.2 CSV File'!C:C,'Contractor##'!F:F)","v":-0.15},155.44799999999998,"Hall Stairs:Extra for prepare, size and hang lining, woodchip or anaglypta paper to ceilings to any hall, landing and staircase area (3 storey) (classified as a single area)."]
["4520AG","HALL:PAPER CEILINGS OVER 3SM CEILING AREA","PAINTING AND DECORATING","Internal Decoration","Ceiling Finishes - Alternatives","IT",59.21,{"$f":"SUMIF('Contractor##'!C:C,'Planned Maint v6.2 CSV File'!C:C,'Contractor##'!F:F)","v":-0.15},50.328499999999998,"Hall:Extra for prepare, size and hang lining, woodchip or anaglypta paper to ceilings to any lobby, hall or corridor over 3.00sm ceiling area (classified as a single area)."]
["4520AH","LOBBY:PAPER CEILINGS NE 3SM CEILING AREA","PAINTING AND DECORATING","Internal Decoration","Ceiling Finishes - Alternatives","IT",19.7,{"$f":"SUMIF('Contractor##'!C:C,'Planned Maint v6.2 CSV File'!C:C,'Contractor##'!F:F)","v":-0.15},16.744999999999997,"Lobby:Extra for prepare, size and hang lining, woodchip or anaglypta paper to ceilings to any lobby or hall ne 3.00sm ceiling area (classified as a single area)."]
["4520AJ","ROOM:PAPER CEILING OVER 20SM CEILING AREA","PAINTING AND DECORATING","Internal Decoration","Ceiling Finishes - Alternatives","SM",6.12,{"$f":"SUMIF('Contractor##'!C:C,'Planned Maint v6.2 CSV File'!C:C,'Contractor##'!F:F)","v":-0.15},5.202,"Room:Extra for prepare, size and hang lining, woodchip or anaglypta paper to ceilings over 20.00sm ceiling area. [measured per square metre of ceiling area in excess of 20.00sm.]  "]
["4520AK","CORRIDOR/COMMUNAL ROOMS:PAPER CEILING ","PAINTING AND DECORATING","Internal Decoration","Ceiling Finishes - Alternatives","SM",5.5,{"$f":"SUMIF('Contractor##'!C:C,'Planned Maint v6.2 CSV File'!C:C,'Contractor##'!F:F)","v":-0.15},4.6749999999999998,"Corridor:Extra for prepare, size and hang lining, woodchip or anaglypta paper to ceilings of corridor or open communal areas [measured per square metre of ceiling area]"]
["4520BD","ROOM:ARTEX CEILING UPTO 20SM CEILING AREA","PAINTING AND DECORATING","Internal Decoration","Ceiling Finishes - Alternatives","IT",62.56,{"$f":"SUMIF('Contractor##'!C:C,'Planned Maint v6.2 CSV File'!C:C,'Contractor##'!F:F)","v":-0.15},53.176000000000002,"Room:Extra for prepare and apply Artex or similar to ceilings upto 20.00sm ceiling area."]
["4520BE","HALL STAIRS:ARTEX CEILINGS 2 STOREY","PAINTING AND DECORATING","Internal Decoration","Ceiling Finishes - Alternatives","IT",55.44,{"$f":"SUMIF('Contractor##'!C:C,'Planned Maint v6.2 CSV File'!C:C,'Contractor##'!F:F)","v":-0.15},47.123999999999995,"Hall Stairs:Extra for prepare and apply Artex or similar to ceilings of any hall, landing and staircase area (2 storey) (classified as a single area)."]
["4520BF","HALL STAIRS:ARTEX CEILINGS 3 STOREY","PAINTING AND DECORATING","Internal Decoration","Ceiling Finishes - Alternatives","IT",82.85,{"$f":"SUMIF('Contractor##'!C:C,'Planned Maint v6.2 CSV File'!C:C,'Contractor##'!F:F)","v":-0.15},70.422499999999999,"Hall Stairs:Extra for prepare and apply Artex or similar to ceilings of any hall, landing and staircase area (3 storey) (classified as a single area)."]
["4520BG","HALL:ARTEX CEILINGS OVER 3SM CEILING AREA","PAINTING AND DECORATING","Internal Decoration","Ceiling Finishes - Alternatives","IT",53.45,{"$f":"SUMIF('Contractor##'!C:C,'Planned Maint v6.2 CSV File'!C:C,'Contractor##'!F:F)","v":-0.15},45.432500000000005,"Hall:Extra for prepare and apply Artex or similar to ceilings of any lobby, hall or corridor over 3.00sm ceiling area (classified as a single area)."]
["4520BH","LOBBY:ARTEX CEILINGS NE 3SM CEILING AREA","PAINTING AND DECORATING","Internal Decoration","Ceiling Finishes - Alternatives","IT",17.010000000000002,{"$f":"SUMIF('Contractor##'!C:C,'Planned Maint v6.2 CSV File'!C:C,'Contractor##'!F:F)","v":-0.15},14.458500000000001,"Lobby:Extra for prepare and apply Artex or similar to ceilings of any lobby or hall ne 3.00sm ceiling area (classified as a single area)."]
["4520BJ","ROOM:ARTEX CEILING OVER 20SM CEILING AREA","PAINTING AND DECORATING","Internal Decoration","Ceiling Finishes - Alternatives","SM",3.62,{"$f":"SUMIF('Contractor##'!C:C,'Planned Maint v6.2 CSV File'!C:C,'Contractor##'!F:F)","v":-0.15},3.077,"Room:Extra for prepare and apply Artex or similar to ceilings over 20.00sm ceiling area. [measured per square metre of ceiling area in excess of 20.00sm.]  "]
["4520BK","CORRIDOR/COMMUNAL ROOMS:ARTEX CEILING ","PAINTING AND DECORATING","Internal Decoration","Ceiling Finishes - Alternatives","SM",3.62,{"$f":"SUMIF('Contractor##'!C:C,'Planned Maint v6.2 CSV File'!C:C,'Contractor##'!F:F)","v":-0.15},3.077,"Corridor:Extra for prepare and apply Artex or similar to ceilings to ceilings of corridor or open communal areas [measured per square metre of ceiling area]"]
["4520CD","ROOM:EGGSHELL CEILING UPTO 20SM CEILING AREA","PAINTING AND DECORATING","Internal Decoration","Ceiling Finishes - Alternatives","IT",37.020000000000003,{"$f":"SUMIF('Contractor##'!C:C,'Planned Maint v6.2 CSV File'!C:C,'Contractor##'!F:F)","v":-0.15},31.467000000000002,"Room:Extra for prepare and apply two coats of eggshell or undercoat and gloss to ceilings, upto 20.00sm ceiling area."]
["4520CE","HALL STAIRS:EGGSHELL OR GLOSS CEILING 2 STOREY","PAINTING AND DECORATING","Internal Decoration","Ceiling Finishes - Alternatives","IT",36.369999999999997,{"$f":"SUMIF('Contractor##'!C:C,'Planned Maint v6.2 CSV File'!C:C,'Contractor##'!F:F)","v":-0.15},30.914499999999997,"Hall Stairs:Extra for prepare and apply two coats of eggshell or undercoat and gloss to ceilings of any hall, landing and staircase area. (2 storey) (classified as a single area)."]
["4520CF","HALL STAIRS:EGGSHELL OR GLOSS CEILING 3 STOREY","PAINTING AND DECORATING","Internal Decoration","Ceiling Finishes - Alternatives","IT",55.19,{"$f":"SUMIF('Contractor##'!C:C,'Planned Maint v6.2 CSV File'!C:C,'Contractor##'!F:F)","v":-0.15},46.911499999999997,"Hall Stairs:Extra for prepare and apply two coats of eggshell or undercoat and gloss to ceilings of any hall, landing and staircase area (3 storey) (classified as a single area)."]
["4520CG","HALL:EGGSHELL CEILING OVER 3SM CEILING AREA","PAINTING AND DECORATING","Internal Decoration","Ceiling Finishes - Alternatives","IT",42.71,{"$f":"SUMIF('Contractor##'!C:C,'Planned Maint v6.2 CSV File'!C:C,'Contractor##'!F:F)","v":-0.15},36.3035,"Hall:Extra for prepare and apply two coats of eggshell or undercoat and gloss to ceilings of any lobby, hall or corridor over 3.00sm ceiling area (classified as a single area)."]
["4520CH","LOBBY:EGGSHELL CEILING NE 3SM CEILING AREA","PAINTING AND DECORATING","Internal Decoration","Ceiling Finishes - Alternatives","IT",13.6,{"$f":"SUMIF('Contractor##'!C:C,'Planned Maint v6.2 CSV File'!C:C,'Contractor##'!F:F)","v":-0.15},11.559999999999999,"Lobby:Extra for prepare and apply two coats of eggshell or undercoat and gloss to ceilings of any lobby or hall ne 3.00sm ceiling area (classified as a single area)."]
["4520CJ","ROOM:EGGSHELL OR GLOSS CEILING OVER 20SM CLG AREA","PAINTING AND DECORATING","Internal Decoration","Ceiling Finishes - Alternatives","SM",2.69,{"$f":"SUMIF('Contractor##'!C:C,'Planned Maint v6.2 CSV File'!C:C,'Contractor##'!F:F)","v":-0.15},2.2864999999999998,"Room:Extra for prepare and apply two coats of eggshell or undercoat and gloss to ceilings, over 20.00sm ceiling area. [measured per square metre of ceiling area in excess of 20.00sm.]  "]
["4520CK","CORRIDOR/COMMUNAL ROOMS:EGGSHELL OR GLOSS CEILING ","PAINTING AND DECORATING","Internal Decoration","Ceiling Finishes - Alternatives","SM",2.69,{"$f":"SUMIF('Contractor##'!C:C,'Planned Maint v6.2 CSV File'!C:C,'Contractor##'!F:F)","v":-0.15},2.2864999999999998,"Corridor:Extra for prepare and apply two coats of eggshell or undercoat and gloss to ceilings to ceilings of corridor or open communal areas [measured per square metre of ceiling area]"]
["4530AD","ROOM:LINING PAPER WALLS UPTO 20SM CEILING AREA","PAINTING AND DECORATING","Internal Decoration","Wall Finishes - Alternatives","IT",89.44,{"$f":"SUMIF('Contractor##'!C:C,'Planned Maint v6.2 CSV File'!C:C,'Contractor##'!F:F)","v":-0.15},76.024000000000001,"Room:Extra for prepare, size and hang lining, woodchip or anaglypta paper to walls of room upto 20.00sm ceiling area."]
["4530AE","HALL STAIRS:LINING PAPER WALLS 2 STOREY","PAINTING AND DECORATING","Internal Decoration","Wall Finishes - Alternatives","IT",236.47,{"$f":"SUMIF('Contractor##'!C:C,'Planned Maint v6.2 CSV File'!C:C,'Contractor##'!F:F)","v":-0.15},200.99949999999998,"Hall:Extra for prepare, size and hang lining, woodchip or anaglypta paper to walls of any size hall, landing and staircase area. (2 Storey)(Classified as a single area)."]
["4530AF","HALL STAIRS:LINING PAPER WALLS 3 STOREY","PAINTING AND DECORATING","Internal Decoration","Wall Finishes - Alternatives","IT",197.05,{"$f":"SUMIF('Contractor##'!C:C,'Planned Maint v6.2 CSV File'!C:C,'Contractor##'!F:F)","v":-0.15},167.49250000000001,"Hall:Extra for prepare, size and hang lining, woodchip or anaglypta paper to walls of any size hall, landing and staircase area. (3 Storey)(Classified as a single area)."]
["4530AG","HALL:LINING PAPER WALLS OVER 3SM CEILING AREA","PAINTING AND DECORATING","Internal Decoration","Wall Finishes - Alternatives","IT",106.83,{"$f":"SUMIF('Contractor##'!C:C,'Planned Maint v6.2 CSV File'!C:C,'Contractor##'!F:F)","v":-0.15},90.805499999999995,"Hall:Extra for prepare, size and hang lining, woodchip or anaglypta paper to walls of any lobby, hall or corridor over 3.00sm ceiling area (classified as a single area)."]
["4530AH","LOBBY:LINING PAPER WALLS NE 3SM CEILING AREA","PAINTING AND DECORATING","Internal Decoration","Wall Finishes - Alternatives","IT",38.36,{"$f":"SUMIF('Contractor##'!C:C,'Planned Maint v6.2 CSV File'!C:C,'Contractor##'!F:F)","v":-0.15},32.606000000000002,"Lobby:Extra for prepare, size and hang lining, woodchip or anaglypta paper to walls of any lobby or hall ne 3.00sm ceiling area (classified as a single area)."]
["4530AJ","ROOM:LINING PAPER WALLS OVER 20SM CEILING AREA","PAINTING AND DECORATING","Internal Decoration","Wall Finishes - Alternatives","SM",5.87,{"$f":"SUMIF('Contractor##'!C:C,'Planned Maint v6.2 CSV File'!C:C,'Contractor##'!F:F)","v":-0.15},4.9894999999999996,"Room:Extra for prepare, size and hang lining, woodchip or anaglypta paper to walls of room over 20.00sm ceiling area. [measured per square metre of ceiling area in excess of 20.00sm.]  "]
["4530AK","CORRIDOR/COMMUNAL ROOMS:LINING PAPER WALLS ","PAINTING AND DECORATING","Internal Decoration","Wall Finishes - Alternatives","SM",9,{"$f":"SUMIF('Contractor##'!C:C,'Planned Maint v6.2 CSV File'!C:C,'Contractor##'!F:F)","v":-0.15},7.6499999999999995,"Corridor:Extra for prepare, size and hang lining, woodchip or anaglypta paper to walls of corridor or open communal areas [measured per square metre of ceiling area]"]
["4530BD","ROOM:WALLPAPER WALLS UPTO 20SM CEILING AREA","PAINTING AND DECORATING","Internal Decoration","Wall Finishes - Alternatives","IT",104.88,{"$f":"SUMIF('Contractor##'!C:C,'Planned Maint v6.2 CSV File'!C:C,'Contractor##'!F:F)","v":-0.15},89.147999999999996,"Room:Extra for prepare, size and hang wallpaper in lieu of two coats of emulsion to walls of room upto 20.00sm ceiling area."]
["4530BE","HALL STAIRS:WALLPAPER WALLS 2 STOREY","PAINTING AND DECORATING","Internal Decoration","Wall Finishes - Alternatives","IT",216.99,{"$f":"SUMIF('Contractor##'!C:C,'Planned Maint v6.2 CSV File'!C:C,'Contractor##'!F:F)","v":-0.15},184.44149999999999,"Hall Stairs:Extra for prepare, size and hang wallpaper in lieu of two coats of emulsion to walls of any size hall, landing and staircase area (2 storey) (classified as a single area)."]
["4530BF","HALL STAIRS:WALLPAPER WALLS 3 STOREY","PAINTING AND DECORATING","Internal Decoration","Wall Finishes - Alternatives","IT",249.78,{"$f":"SUMIF('Contractor##'!C:C,'Planned Maint v6.2 CSV File'!C:C,'Contractor##'!F:F)","v":-0.15},212.31299999999999,"Hall Stairs:Extra for prepare, size and hang wallpaper in lieu of two coats of emulsion to walls of any size hall, landing and staircase area (3 storey) (classified as a single area)."]
["4530BG","HALL:WALLPAPER WALLS OVER 3SM CEILING AREA","PAINTING AND DECORATING","Internal Decoration","Wall Finishes - Alternatives","IT",113.48,{"$f":"SUMIF('Contractor##'!C:C,'Planned Maint v6.2 CSV File'!C:C,'Contractor##'!F:F)","v":-0.15},96.457999999999998,"Hall:Extra for prepare, size and hang wallpaper in lieu off two coats of emulsion to walls of any size hall and landing area. (Classified as a single area)."]
["4530BH","LOBBY:WALLPAPER WALLS NE 3SM CEILING AREA","PAINTING AND DECORATING","Internal Decoration","Wall Finishes - Alternatives","IT",49.47,{"$f":"SUMIF('Contractor##'!C:C,'Planned Maint v6.2 CSV File'!C:C,'Contractor##'!F:F)","v":-0.15},42.049499999999995,"Lobby:Extra for prepare, size and hang wallpaper in lieu of two coats of emulsion to walls of any lobby or hall ne 3.00sm ceiling area (classified as a single area)."]
["4530BJ","ROOM:WALLPAPER WALLS OVER 20SM CEILING AREA","PAINTING AND DECORATING","Internal Decoration","Wall Finishes - Alternatives","SM",8.3699999999999992,{"$f":"SUMIF('Contractor##'!C:C,'Planned Maint v6.2 CSV File'!C:C,'Contractor##'!F:F)","v":-0.15},{"$f":"(1+H2052)*G2052","v":7.1144999999999987},"Room:Extra for prepare, size and hang wallpaper in lieu of two coats of emulsion to walls of room over 20.00sm ceiling area. [measured per square metre of ceiling area in excess of 20.00sm.]  "]
["4530BK","CORRIDOR/COMMUNAL ROOMS:WALLPAPER WALLS ","PAINTING AND DECORATING","Internal Decoration","Wall Finishes - Alternatives","SM",11.5,{"$f":"SUMIF('Contractor##'!C:C,'Planned Maint v6.2 CSV File'!C:C,'Contractor##'!F:F)","v":-0.15},9.7750000000000004,"Corridor:Extra for prepare, size and hang wallpaper in lieu of two coats of emulsion to walls of corridor or open communal areas [measured per square metre of ceiling area]"]
["4530CD","ROOM:EGGSHELL WALLS UPTO 20SM CEILING AREA","PAINTING AND DECORATING","Internal Decoration","Wall Finishes - Alternatives","IT",63.8,{"$f":"SUMIF('Contractor##'!C:C,'Planned Maint v6.2 CSV File'!C:C,'Contractor##'!F:F)","v":-0.15},54.23,"Room:Extra for prepare and apply two coats eggshell or undercoat and gloss to walls of room upto 20.00sm ceiling area."]
["4530CE","HALL STAIRS:EGGSHELL OR GLOSS WALLS 2 STOREY","PAINTING AND DECORATING","Internal Decoration","Wall Finishes - Alternatives","IT",128.62,{"$f":"SUMIF('Contractor##'!C:C,'Planned Maint v6.2 CSV File'!C:C,'Contractor##'!F:F)","v":-0.15},109.327,"Hall Stairs:Extra for prepare and apply two coats eggshell or undercoat and gloss to walls of any size hall, landing and staircase area (2 storey) (classified as a single area)."]
["4530CF","HALL STAIRS:EGGSHELL OR GLOSS WALLS 3 STOREY","PAINTING AND DECORATING","Internal Decoration","Wall Finishes - Alternatives","IT",195.93,{"$f":"SUMIF('Contractor##'!C:C,'Planned Maint v6.2 CSV File'!C:C,'Contractor##'!F:F)","v":-0.15},166.54050000000001,"Hall Stairs:Extra for prepare and apply two coats of eggshell or undercoat and gloss to walls of any hall, landing and staircase area (3 storey) (classified as a single area)."]
["4530CG","HALL:EGGSHELL OR GLOSS WALLS OVER 3SM CEILING AREA","PAINTING AND DECORATING","Internal Decoration","Wall Finishes - Alternatives","IT",71.31,{"$f":"SUMIF('Contractor##'!C:C,'Planned Maint v6.2 CSV File'!C:C,'Contractor##'!F:F)","v":-0.15},60.613500000000002,"Hall:Extra for prepare and apply two coats eggshell or undercoat and gloss to walls of any lobby, hall or corridor over 3.00sm ceiling area (classified as a single area)."]
["4530CH","LOBBY:EGGSHELL OR GLOSS WALLS NE 3SM CEILING AREA","PAINTING AND DECORATING","Internal Decoration","Wall Finishes - Alternatives","IT",64.06,{"$f":"SUMIF('Contractor##'!C:C,'Planned Maint v6.2 CSV File'!C:C,'Contractor##'!F:F)","v":-0.15},54.451000000000001,"Lobby:Extra for prepare and apply two coats eggshell or undercoat and gloss to walls of any lobby or hall ne 3.00sm ceiling area (classified as a single area)."]
["4530CJ","ROOM:EGGSHELL OR GLOSS WALLS OVER 20SM CLG AREA","PAINTING AND DECORATING","Internal Decoration","Wall Finishes - Alternatives","SM",7.88,{"$f":"SUMIF('Contractor##'!C:C,'Planned Maint v6.2 CSV File'!C:C,'Contractor##'!F:F)","v":-0.15},6.6979999999999995,"Room:Extra for prepare and apply two coats eggshell or undercoat and gloss to walls of room over 20.00sm ceiling area. [measured per square metre of ceiling area in excess of 20.00sm.]  "]
["4530CK","CORRIDOR/COMMUNAL ROOMS:EGGSHELL OR GLOSS WALLS ","PAINTING AND DECORATING","Internal Decoration","Wall Finishes - Alternatives","SM",7.57,{"$f":"SUMIF('Contractor##'!C:C,'Planned Maint v6.2 CSV File'!C:C,'Contractor##'!F:F)","v":-0.15},6.4344999999999999,"Corridor:Extra for prepare and apply two coats eggshell or undercoat and gloss to walls of corridor or open communal areas [measured per square metre of ceiling area]"]
["4540AA","HALL STAIRS:REDECORATE 2 STOREY CLASS ‘O’","PAINTING AND DECORATING","Internal Decoration","Class ‘O’ Fire Retardant Paint","IT",900,{"$f":"SUMIF('Contractor##'!C:C,'Planned Maint v6.2 CSV File'!C:C,'Contractor##'!F:F)","v":-0.15},765,"Hall Stairs:Thoroughly clean down all wall and ceiling surfaces to common areas to remove dirt, grease and surface containments, scrape and remove all loose and defective coatings, prime bare areas with one coat of fire retardant primer and apply two coats of Class ‘O’ fire retardant matt paint, prepare and apply two coats of polyurethane lacquer or one undercoat and one gloss coat to all previously decorated timber surfaces to hall, landing and staircase areas complete (2 storey) (classified as a single area)."]
["4540AB","HALL STAIRS:REDECORATE 3 STOREY CLASS ‘O’","PAINTING AND DECORATING","Internal Decoration","Class ‘O’ Fire Retardant Paint","IT",1320,{"$f":"SUMIF('Contractor##'!C:C,'Planned Maint v6.2 CSV File'!C:C,'Contractor##'!F:F)","v":-0.15},1122,"Hall Stairs:Thoroughly clean down all wall and ceiling surfaces to common areas to remove dirt, grease and surface containments, scrape and remove all loose and defective coatings, prime bare areas with one coat of fire retardant primer and apply two coats of Class ‘O’ fire retardant matt paint, prepare and apply two coats of polyurethane lacquer or one undercoat and one gloss coat to all previously decorated timber surfaces to hall, landing and staircase areas complete (3 storey) (classified as a single area)."]
["4540AC","HALL:REDECORATE COMPLETE OVER 3SM CLASS ‘O’","PAINTING AND DECORATING","Internal Decoration","Class ‘O’ Fire Retardant Paint","IT",480,{"$f":"SUMIF('Contractor##'!C:C,'Planned Maint v6.2 CSV File'!C:C,'Contractor##'!F:F)","v":-0.15},408,"Hall:Thoroughly clean down all wall and ceiling surfaces to common areas to remove dirt, grease and surface containments, scrape and remove all loose and defective coatings, prime bare areas with one coat of fire retardant primer and apply two coats of Class ‘O’ fire retardant matt paint, prepare and apply two coats of polyurethane lacquer or one undercoat and one gloss coat to all previously decorated timber surfaces to lobby, hall or corridor over 3.00sm ceiling area complete (classified as a single area)."]
["4540AD","LOBBY:REDECORATE COMPLETE NE 3SM CLASS ‘O’","PAINTING AND DECORATING","Internal Decoration","Class ‘O’ Fire Retardant Paint","IT",260,{"$f":"SUMIF('Contractor##'!C:C,'Planned Maint v6.2 CSV File'!C:C,'Contractor##'!F:F)","v":-0.15},221,"Lobby:Thoroughly clean down all wall and ceiling surfaces to common areas to remove dirt, grease and surface containments, scrape and remove all loose and defective coatings, prime bare areas with one coat of fire retardant primer and apply two coats of Class ‘O’ fire retardant matt paint, prepare and apply two coats of polyurethane lacquer or one undercoat and one gloss coat to all previously decorated timber surfaces to lobby or hall ne 3.00sm ceiling area complete (classified as a single area)."]
["4600CA","DWELLING:CLEAR EXCEPTIONALLY DIRTY","CLEANING AND CLEARANCES","Internal and External Cleaning and Clearance","Internal Clearance","IT",154.66999999999999,{"$f":"SUMIF('Contractor##'!C:C,'Planned Maint v6.2 CSV File'!C:C,'Contractor##'!F:F)","v":-0.23300000000000001},118.63189,"Dwelling:Clear out ‘exceptionally’ dirty dwelling, remove all rubbish, furniture, carpets and non-approved fittings to approved tip, initial wash and scrub with disinfectant floors, woodwork, walls and ceilings and all other surfaces, including drying out with de-humidifier. (Provision of skip or equivalent deemed necessary by Client’s Representative to be charged separately as Item 4600SA or 4600SB)."]
["4600CB","DWELLING:CLEAR ENVIRONMENTALLY DIRTY ","CLEANING AND CLEARANCES","Internal and External Cleaning and Clearance","Internal Clearance","IT",330.03,{"$f":"SUMIF('Contractor##'!C:C,'Planned Maint v6.2 CSV File'!C:C,'Contractor##'!F:F)","v":-0.23300000000000001},253.13300999999998,"Dwelling:Clear out socially and environmentally dirty dwelling, remove all rubbish, furniture, carpets and non-approved fittings to approved tip, carefully clean out and dispose of anti-social, medical or human debris, initial wash and scrub with disinfectant floors, woodwork, walls and ceilings and all other surfaces and dry by de-humidifier. (Provision of skip or equivalent deemed necessary by Client’s Representative to be charged separately as Item 4600SA or 4600SB)."]
["4600CC","DWELLING:CLEAR OUT COMPLETE","CLEANING AND CLEARANCES","Internal and External Cleaning and Clearance","Internal Clearance","IT",37.5,{"$f":"SUMIF('Contractor##'!C:C,'Planned Maint v6.2 CSV File'!C:C,'Contractor##'!F:F)","v":-0.23300000000000001},28.762499999999999,"Dwelling:Clear out, remove all rubbish, furniture, carpets and all non-approved fittings to tip and make ready for incoming tenants. (Provision of skip or equivalent deemed necessary by Client’s Representative to be charged separately as Item 4600SA or 4600SB)."]
["4600DD","ROOFSPACE:CLEAR OUT COMPLETE","CLEANING AND CLEARANCES","Internal and External Cleaning and Clearance","Internal Clearance","IT",51.17,{"$f":"SUMIF('Contractor##'!C:C,'Planned Maint v6.2 CSV File'!C:C,'Contractor##'!F:F)","v":-0.23300000000000001},39.247390000000003,"Roofspace:Clean out, remove all rubbish, debris previous tenants stored items and all non-approved fittings to tip,and make ready for incoming tenants or to lay insulation etc., (provision of skip or equivalent deemed necessary by Client’s Representative to be charged separately as item 4600SA or 4600SB)"]
["4600FA","GARDEN:CLEAR DEBRIS","CLEANING AND CLEARANCES","Internal and External Cleaning and Clearance","External Clearance","IT",27.74,{"$f":"SUMIF('Contractor##'!C:C,'Planned Maint v6.2 CSV File'!C:C,'Contractor##'!F:F)","v":-0.23300000000000001},21.276579999999999,"Garden:Clear away all litter and rubbish including scrap metal, timber, broken glass, garden debris, fallen leaves, dumped materials and stones, load up and remove from site to an approved tip."]
["4600FB","GARDEN:CLEAR EXCEPTIONAL DEBRIS","CLEANING AND CLEARANCES","Internal and External Cleaning and Clearance","External Clearance","IT",83.21,{"$f":"SUMIF('Contractor##'!C:C,'Planned Maint v6.2 CSV File'!C:C,'Contractor##'!F:F)","v":-0.23300000000000001},63.822069999999997,"Garden:Clear up exceptionally littered and over- grown garden, clear away all litter and rubbish including scrap metal, timber, broken glass, garden debris, fallen leaves, fly tipped materials, building debris, load up and remove from site to an approved tip."]
["4600FC","GARDEN:CUT GRASS NE 100MM HIGH","CLEANING AND CLEARANCES","Internal and External Cleaning and Clearance","External Clearance","SM",2.5,{"$f":"SUMIF('Contractor##'!C:C,'Planned Maint v6.2 CSV File'!C:C,'Contractor##'!F:F)","v":-0.23300000000000001},1.9175,"Garden:Litter pick including removal of minor objects and cut grass (ne 100mm high) with rotary or cylinder mower including bag up cut grass and remove."]
["4600FD","GARDEN:CUT GRASS OVER 100MM HIGH","CLEANING AND CLEARANCES","Internal and External Cleaning and Clearance","External Clearance","SM",2.81,{"$f":"SUMIF('Contractor##'!C:C,'Planned Maint v6.2 CSV File'!C:C,'Contractor##'!F:F)","v":-0.23300000000000001},2.1552700000000002,"Garden:Litter pick including removal of minor objects and cut grass (over 100mm high) with rotary or cylinder mower including bag up cut grass and remove."]
["4600GA","GARAGE:CLEAR DEBRIS","CLEANING AND CLEARANCES","Internal and External Cleaning and Clearance","External Clearance","NO",37.9,{"$f":"SUMIF('Contractor##'!C:C,'Planned Maint v6.2 CSV File'!C:C,'Contractor##'!F:F)","v":-0.23300000000000001},29.069299999999998,"Garage:Clear out, and remove all contents to an approved tip and make ready for new tenant."]
["4600HA","SHED:CLEAR DEBRIS","CLEANING AND CLEARANCES","Internal and External Cleaning and Clearance","External Clearance","NO",25.78,{"$f":"SUMIF('Contractor##'!C:C,'Planned Maint v6.2 CSV File'!C:C,'Contractor##'!F:F)","v":-0.23300000000000001},19.773260000000001,"Shed:Clear out, and remove all contents to an approved tip and make ready for new tenant."]
["4600SA","DWELLING:MINI SKIP FOR RUBBISH","CLEANING AND CLEARANCES","Internal and External Cleaning and Clearance","Disposal of Previous Tenants Rubbish","NO",103.95,{"$f":"SUMIF('Contractor##'!C:C,'Planned Maint v6.2 CSV File'!C:C,'Contractor##'!F:F)","v":-0.23300000000000001},79.729650000000007,"Dwelling:Provide mini skip or equivalent for removal of excessive domestic rubbish etc., to tip, including costs of landfill tax, (only to be charged when specifically instructed by Client’s Representative)."]
["4600SB","DWELLING OR GARDEN:SKIP FOR RUBBISH","CLEANING AND CLEARANCES","Internal and External Cleaning and Clearance","Disposal of Previous Tenants Rubbish","NO",155.93,{"$f":"SUMIF('Contractor##'!C:C,'Planned Maint v6.2 CSV File'!C:C,'Contractor##'!F:F)","v":-0.23300000000000001},119.59831000000001,"Dwelling or Garden:Provide skip or equivalent for removal of excessive domestic rubbish, furniture, carpets and non-approved fittings to tip including costs of landfill tax, (only to be charged when specifically instructed by Client’s Representative)."]
["4600SD","GARDEN:LABOUR AND SKIP FOR RUBBISH","CLEANING AND CLEARANCES","Internal and External Cleaning and Clearance","Disposal of Previous Tenants Rubbish","NO",268.42,{"$f":"SUMIF('Contractor##'!C:C,'Planned Maint v6.2 CSV File'!C:C,'Contractor##'!F:F)","v":-0.23300000000000001},205.87814000000003,"Garden:Provide labour, skip or equivalent for removal of environmentally unsound material, fly tipping, scrap metal, tenants debris etc., from garden areas to tip including landfill tax (per skip)."]
["4600TA","DWELLING:MOVE CONTENTS TO STORE","CLEANING AND CLEARANCES","Internal and External Cleaning and Clearance","Disposal of Previous Tenants Rubbish","IT",56.25,{"$f":"SUMIF('Contractor##'!C:C,'Planned Maint v6.2 CSV File'!C:C,'Contractor##'!F:F)","v":-0.23300000000000001},43.143750000000004,"Dwelling:Additional cost for removing furniture, carpets and other contents as designated by Client’s Representative to secure storage provided by Service Provider, store for up to 28 days and later hand over to Tenant or their representatives."]
["4600TB","DWELLING:MOVE DISPOSE CONTENTS TO STORE","CLEANING AND CLEARANCES","Internal and External Cleaning and Clearance","Disposal of Previous Tenants Rubbish","IT",105.1,{"$f":"SUMIF('Contractor##'!C:C,'Planned Maint v6.2 CSV File'!C:C,'Contractor##'!F:F)","v":-0.23300000000000001},80.611699999999999,"Dwelling:Additional cost for removing furniture, carpets and other contents as designated by Client’s Representative to secure storage provided by Service Provider, store for up to 28 days and later when instructed, dispose to tip."]
["4601AA","GARDEN OR COMMUNAL AREA:LABOUR SKIP RUBBISH","CLEANING AND CLEARANCES","Internal and External Cleaning and Clearance","External Communal Clearance","NO",274.66000000000003,{"$f":"SUMIF('Contractor##'!C:C,'Planned Maint v6.2 CSV File'!C:C,'Contractor##'!F:F)","v":-0.23300000000000001},210.66422000000003,"Garden or Communal Area:Provide labour, skip or equivalent for removal of environmentally unsound material, fly tipping, scrap metal, tenants debris etc., from communal garden, bin stores, communal staircases, balcony access decks and the like, garages and hard paved areas to tip including landfill tax, wash down and disinfect as necessary (per skip)."]
["4601AB","GARDEN OR COMMUNAL AREA:LABOUR MINI-SKIP RUBBISH","CLEANING AND CLEARANCES","Internal and External Cleaning and Clearance","External Communal Clearance","NO",163.94,{"$f":"SUMIF('Contractor##'!C:C,'Planned Maint v6.2 CSV File'!C:C,'Contractor##'!F:F)","v":-0.23300000000000001},125.74198,"Garden or Communal Area:Provide labour, mini-skip or equivalent for removal of environmentally unsound material, fly tipping, scrap metal, tenants debris etc., from communal garden, bin stores, communal staircases, balcony access decks and the like, garages and hard paved areas to tip including landfill tax, wash down and disinfect as necessary (per mini-skip)."]
["4603AA","COMMUNAL WASTE CLEARANCE:FRIDGES, FREEZERS ","CLEANING AND CLEARANCES","External Cleaning and Clearance","Environmental Waste Clearance","NO",58.3,{"$f":"SUMIF('Contractor##'!C:C,'Planned Maint v6.2 CSV File'!C:C,'Contractor##'!F:F)","v":-0.23300000000000001},44.716099999999997,"Communal Waste Clearance:Environmental waste disposal of fly tipped domestic fridges, fridge/freezers, upright and chest freezers to approved disposal site including cost of landfill tax, (per appliance). [only to be charged when instructed by Client’s Representative]"]
["4603AB","COMMUNAL WASTE CLEARANCE:CALOR GAS BOTTLES ","CLEANING AND CLEARANCES","External Cleaning and Clearance","Environmental Waste Clearance","NO",18.47,{"$f":"SUMIF('Contractor##'!C:C,'Planned Maint v6.2 CSV File'!C:C,'Contractor##'!F:F)","v":-0.23300000000000001},14.16649,"Communal Waste Clearance:Environmental waste disposal of fly tipped calor gas bottles to approved disposal site including cost of landfill tax, (per bottle). [minimum order value will not apply unless this is sole item of works on the Works Order] [only to be charged when instructed by Client’s Representative]"]
["4603AC","COMMUNAL WASTE:TV’S AND COMPUTER MONITORS ","CLEANING AND CLEARANCES","External Cleaning and Clearance","Environmental Waste Clearance","NO",13.65,{"$f":"SUMIF('Contractor##'!C:C,'Planned Maint v6.2 CSV File'!C:C,'Contractor##'!F:F)","v":-0.23300000000000001},10.46955,"Communal Waste Clearance:Environmental waste disposal of fly tipped television screens and computer monitors to approved disposal site including cost of landfill tax, (per item). [minimum order value will not apply unless this is sole item of works on the Works Order] [only to be charged when instructed by Client’s Representative]"]
["4603AD","COMMUNAL WASTE:COMPUTER DESK TOP UNITS","CLEANING AND CLEARANCES","External Cleaning and Clearance","Environmental Waste Clearance","NO",12.1,{"$f":"SUMIF('Contractor##'!C:C,'Planned Maint v6.2 CSV File'!C:C,'Contractor##'!F:F)","v":-0.23300000000000001},9.2806999999999995,"Communal Waste Clearance:Environmental waste disposal of fly tipped computer desk top unit or cpu’s to approved disposal site including cost of landfill tax, (per item). [minimum order value will not apply unless this is sole item of works on the Works Order] [only to be charged when instructed by Client’s Representative]"]
["4603AE","COMMUNAL WASTE CLEARANCE:CAR TYRES ","CLEANING AND CLEARANCES","External Cleaning and Clearance","Environmental Waste Clearance","NO",10.6,{"$f":"SUMIF('Contractor##'!C:C,'Planned Maint v6.2 CSV File'!C:C,'Contractor##'!F:F)","v":-0.23300000000000001},8.1302000000000003,"Communal Waste Clearance:Environmental waste disposal of fly tipped car or van tyres with or without rims to approved disposal site including cost of landfill tax, (per tyre). [minimum order value will not apply unless this is sole item of works on the Works Order] [only to be charged when instructed by Client’s Representative]"]
["4603AF","COMMUNAL WASTE:CAR OR VAN BATTERIES ","CLEANING AND CLEARANCES","External Cleaning and Clearance","Environmental Waste Clearance","NO",11.65,{"$f":"SUMIF('Contractor##'!C:C,'Planned Maint v6.2 CSV File'!C:C,'Contractor##'!F:F)","v":-0.23300000000000001},8.935550000000001,"Waste Clearance:Environmental waste disposal of fly tipped car or van batteries to approved disposal site including cost of landfill tax, (per battery). [minimum order value will not apply unless this is sole item of works on the Works Order] [only to be charged when instructed by Client’s Representative] "]
["4603AG","COMMUNAL WASTE CLEARANCE:COOKERS ","CLEANING AND CLEARANCES","External Cleaning and Clearance","Environmental Waste Clearance","NO",20.3,{"$f":"SUMIF('Contractor##'!C:C,'Planned Maint v6.2 CSV File'!C:C,'Contractor##'!F:F)","v":-0.23300000000000001},15.5701,"Communal Waste Clearance:Environmental waste disposal of fly tipped domestic cookers, built in ovens or hobunits, to approved disposal site including cost of landfill tax, (per appliance – built in oven with separate hobunit will be treated as one appliance). [minimum order value will not apply unless this is sole item of works on the Works Order] [only to be charged when instructed by Client’s Representative]"]
["4603AH","COMMUNAL WASTE CLEARANCE:FLUORESCENT TUBES","CLEANING AND CLEARANCES","External Cleaning and Clearance","Environmental Waste Clearance","NO",2.38,{"$f":"SUMIF('Contractor##'!C:C,'Planned Maint v6.2 CSV File'!C:C,'Contractor##'!F:F)","v":-0.23300000000000001},1.8254599999999999,"Communal Waste Clearance:Environmental waste disposal of fly tipped fluorescent tubes to approved disposal site including cost of landfill tax, (per tube). [minimum order value will not apply unless this is sole item of works on the Works Order] [only to be charged when instructed by Client’s Representative]"]
["4603AJ","COMMUNAL WASTE CLEARANCE:PAINT CANS","CLEANING AND CLEARANCES","External Cleaning and Clearance","Environmental Waste Clearance","NO",2.88,{"$f":"SUMIF('Contractor##'!C:C,'Planned Maint v6.2 CSV File'!C:C,'Contractor##'!F:F)","v":-0.23300000000000001},2.2089599999999998,"Communal Waste Clearance:Environmental waste disposal of fly tipped paint cans to approved disposal site including cost of landfill tax, (per can). [minimum order value will not apply unless this is sole item of works on the Works Order] [only to be charged when instructed by Client’s Representative]"]
["4605AD","CARPET:CLEAN TO ROOM UPTO 20SM CEILING AREA","CLEANING AND CLEARANCES","Internal and External Cleaning and Clearance","Carpet Cleaning","IT",42.96,{"$f":"SUMIF('Contractor##'!C:C,'Planned Maint v6.2 CSV File'!C:C,'Contractor##'!F:F)","v":-0.23300000000000001},32.950319999999998,"Carpet:Thoroughly clean, scrub as necessary vacuum carpet including dry by dehumidifier to room upto 20.00sm ceiling area."]
["4605AE","CARPET:CLEAN TO HALL STAIRS","CLEANING AND CLEARANCES","Internal and External Cleaning and Clearance","Carpet Cleaning","IT",42.49,{"$f":"SUMIF('Contractor##'!C:C,'Planned Maint v6.2 CSV File'!C:C,'Contractor##'!F:F)","v":-0.23300000000000001},32.589829999999999,"Carpet:Thoroughly clean, scrub as necessary vacuum carpet including dry by dehumidifier to hall, landing and staircase area complete."]
["4605AF","CARPET:CLEAN TO HALL","CLEANING AND CLEARANCES","Internal and External Cleaning and Clearance","Carpet Cleaning","IT",25.93,{"$f":"SUMIF('Contractor##'!C:C,'Planned Maint v6.2 CSV File'!C:C,'Contractor##'!F:F)","v":-0.23300000000000001},19.888310000000001,"Carpet:Thoroughly clean, scrub as necessary vacuum carpet including dry by dehumidifier to hall area complete."]
["4610AA","DWELLING:DISINFESTATION WORKS","CLEANING AND CLEARANCES","Internal and External Cleaning and Clearance","Disinfestation","IT",76.23,{"$f":"SUMIF('Contractor##'!C:C,'Planned Maint v6.2 CSV File'!C:C,'Contractor##'!F:F)","v":-0.23300000000000001},58.468410000000006,"Dwelling:Seal and secure void dwelling and carry out disinfestation works."]
["4612AA","WASPS NEST:REMOVE INT OR EASY EXT","SPECIALIST TREATMENTS","Pest Control","Pest Control","NO",61.75,{"$f":"SUMIF('Contractor##'!C:C,'Planned Maint v6.2 CSV File'!C:C,'Contractor##'!F:F)","v":-0.27500000000000002},44.768749999999997,"Wasps Nest:Remove wasps nest of any size from any internal location or easily accessible external location including engagement of Specialist if necessary."]
["4612AB","WASPS NEST:REMOVE EXTERNAL","SPECIALIST TREATMENTS","Pest Control","Pest Control","NO",76,{"$f":"SUMIF('Contractor##'!C:C,'Planned Maint v6.2 CSV File'!C:C,'Contractor##'!F:F)","v":-0.27500000000000002},55.1,"Wasps Nest:Remove wasps nest of any size from any external location or where access possible externally including engagement of Specialist if necessary."]
["4612BA","RODENTS:MICE ERADICATION","SPECIALIST TREATMENTS","Pest Control","Pest Control","IT",56.99,{"$f":"SUMIF('Contractor##'!C:C,'Planned Maint v6.2 CSV File'!C:C,'Contractor##'!F:F)","v":-0.27500000000000002},41.317749999999997,"Rodents:Eradicate mice internally from any type of dwelling, including engagement of Specialist if necessary, initially attend property, lay trap/bait, subsequently return and clear, re attend, inspect, relocate trap/bait and replenish bait if necessary, subsequently return and clear away when all sign of mice has ceased."]
["4612CA","RODENTS:RAT ERADICATION ","SPECIALIST TREATMENTS","Pest Control","Pest Control","IT",66.510000000000005,{"$f":"SUMIF('Contractor##'!C:C,'Planned Maint v6.2 CSV File'!C:C,'Contractor##'!F:F)","v":-0.27500000000000002},48.219750000000005,"Rodents:Eradicate rats internally or within the garden confines of any type of dwelling, including engagement of Specialist if necessary, initially attend property, lay trapbait, subsequently return and and remove waste and debris."]
["4612DA","LICE ANTS:ERADICATE","SPECIALIST TREATMENTS","Pest Control","Pest Control","IT",19.010000000000002,{"$f":"SUMIF('Contractor##'!C:C,'Planned Maint v6.2 CSV File'!C:C,'Contractor##'!F:F)","v":-0.27500000000000002},13.782250000000001,"Lice Ants:Eradicate wood lice, ants or similar infestation from any type of dwelling, including engagement of Specialist if necessary, initially attend property, provide insecticide over affected area."]
["4612EA","NEST:REMOVE ANT NEST","SPECIALIST TREATMENTS","Pest Control","Pest Control","NO",51,{"$f":"SUMIF('Contractor##'!C:C,'Planned Maint v6.2 CSV File'!C:C,'Contractor##'!F:F)","v":-0.27500000000000002},36.975000000000001,"Nest:Locate, kill by approved chemical means and remove Ant nest from interior of building"]
["4612FA","NEST:REMOVE HORNETS NEST","SPECIALIST TREATMENTS","Pest Control","Pest Control","NO",61.75,{"$f":"SUMIF('Contractor##'!C:C,'Planned Maint v6.2 CSV File'!C:C,'Contractor##'!F:F)","v":-0.27500000000000002},44.768749999999997,"Nest:Locate, kill by approved chemical means and remove Hornets nest from interior of building"]
["4612GA","NEST:REMOVE BEES NEST","SPECIALIST TREATMENTS","Pest Control","Pest Control","NO",61.75,{"$f":"SUMIF('Contractor##'!C:C,'Planned Maint v6.2 CSV File'!C:C,'Contractor##'!F:F)","v":-0.27500000000000002},44.768749999999997,"Nest:Locate, kill by approved chemical means and remove Bees nest from interior of building"]
["4612HA","COCKROACH:DISINFEST ROACH INFESTATION","SPECIALIST TREATMENTS","Pest Control","Pest Control","NO",50,{"$f":"SUMIF('Contractor##'!C:C,'Planned Maint v6.2 CSV File'!C:C,'Contractor##'!F:F)","v":-0.27500000000000002},36.25,"Cockroach:Disinfest roach infestation by approved chemical means,"]
["4612JA","BEETLE:DISINFEST BEETLE INFESTATION","SPECIALIST TREATMENTS","Pest Control","Pest Control","NO",50,{"$f":"SUMIF('Contractor##'!C:C,'Planned Maint v6.2 CSV File'!C:C,'Contractor##'!F:F)","v":-0.27500000000000002},36.25,"Beetle:Disinfest beetle infestation by approved chemical means,"]
["4612KA","PIGEON:DISINFEST PIGEON INFESTATION","SPECIALIST TREATMENTS","Pest Control","Pest Control","NO",50,{"$f":"SUMIF('Contractor##'!C:C,'Planned Maint v6.2 CSV File'!C:C,'Contractor##'!F:F)","v":-0.27500000000000002},36.25,"Pigeon:Disinfest Pigeon infestation by approved chemical or other means,"]
["4612KB","PIGEONS:INSTALL ANTI-PIGEON SPIKING","SPECIALIST TREATMENTS","Pest Control","Pest Control","LM",15.94,{"$f":"SUMIF('Contractor##'!C:C,'Planned Maint v6.2 CSV File'!C:C,'Contractor##'!F:F)","v":-0.27500000000000002},11.5565,"Pigeons:Install proprietry anti-pigeon spiking to pipework, parapets, window heads, gutters and the like"]
["4612KC","PIGEONS:INSTALL ANTI-PIGEON NETTING","SPECIALIST TREATMENTS","Pest Control","Pest Control","SM",18.940000000000001,{"$f":"SUMIF('Contractor##'!C:C,'Planned Maint v6.2 CSV File'!C:C,'Contractor##'!F:F)","v":-0.27500000000000002},13.7315,"Pigeons:Install proprietry anti-pigeon netting to walls, windows, rooflights and the like"]
["4612LA","RAT:DISINFEST RAT INFESTATION","SPECIALIST TREATMENTS","Pest Control","Pest Control","NO",75,{"$f":"SUMIF('Contractor##'!C:C,'Planned Maint v6.2 CSV File'!C:C,'Contractor##'!F:F)","v":-0.27500000000000002},54.375,"Rat:Disinfest Rat infestation by approved chemical or other means,"]
["4612MA","DEBRIS:REMOVE DEBRIS OF INFESTATION AND DISPOSE","SPECIALIST TREATMENTS","Pest Control","Pest Control","CM",360,{"$f":"SUMIF('Contractor##'!C:C,'Planned Maint v6.2 CSV File'!C:C,'Contractor##'!F:F)","v":-0.27500000000000002},261,"Debris:Remove the debris of infestation, carcasses, droppings and other contaminated material by approved means to an approved disposal site."]
["4700AA","DWELLING:REDECORATE 1 BEDROOM FLAT","PAINTING AND DECORATING","Internal Decoration","Internal Paintwork - Complete Dwellings","IT",528.11,{"$f":"SUMIF('Contractor##'!C:C,'Planned Maint v6.2 CSV File'!C:C,'Contractor##'!F:F)","v":-0.15},448.89350000000002,"Dwelling:Redecorate complete one bedroom Flat or Bungalow, rub down, prepare for and apply two coats of emulsion to ceilings and walls, one undercoat and gloss on all other previously painted surfaces."]
["4700AB","DWELLING:REDECORATE 2 BEDROOM FLAT","PAINTING AND DECORATING","Internal Decoration","Internal Paintwork - Complete Dwellings","IT",630.61,{"$f":"SUMIF('Contractor##'!C:C,'Planned Maint v6.2 CSV File'!C:C,'Contractor##'!F:F)","v":-0.15},536.01850000000002,"Dwelling:Redecorate complete two bedroom Flat or Bungalow, rub down, prepare for and apply two coats of emulsion to ceilings and walls, one undercoat and gloss on all other previously painted surfaces."]
["4700AC","DWELLING:REDECORATE 3 BEDROOM FLAT","PAINTING AND DECORATING","Internal Decoration","Internal Paintwork - Complete Dwellings","IT",733.11,{"$f":"SUMIF('Contractor##'!C:C,'Planned Maint v6.2 CSV File'!C:C,'Contractor##'!F:F)","v":-0.15},623.14350000000002,"Dwelling:Redecorate complete three bedroom Flat or Bungalow, rub down, prepare for and apply two coats of emulsion to ceilings and walls, one undercoat and gloss on all other previously painted surfaces."]
["4700CA","DWELLING:REDECORATE 2 BEDROOM HOUSE","PAINTING AND DECORATING","Internal Decoration","Internal Paintwork - Complete Dwellings","IT",809.36,{"$f":"SUMIF('Contractor##'!C:C,'Planned Maint v6.2 CSV File'!C:C,'Contractor##'!F:F)","v":-0.15},687.95600000000002,"Dwelling:Redecorate complete two bedroom House or Maisonette, rub down, prepare for and apply two coats of emulsion to ceilings and walls, one undercoat and gloss on all other previously painted surfaces."]
["4700CB","DWELLING:REDECORATE 3 BEDROOM HOUSE","PAINTING AND DECORATING","Internal Decoration","Internal Paintwork - Complete Dwellings","IT",911.85,{"$f":"SUMIF('Contractor##'!C:C,'Planned Maint v6.2 CSV File'!C:C,'Contractor##'!F:F)","v":-0.15},775.07249999999999,"Dwelling:Redecorate complete three bedroom House or Maisonette, rub down, prepare for and apply two coats of emulsion to ceilings and walls, one undercoat and gloss on all other previously painted surfaces."]
["4700CC","DWELLING:REDECORATE 4 BEDROOM HOUSE","PAINTING AND DECORATING","Internal Decoration","Internal Paintwork - Complete Dwellings","IT",1014.35,{"$f":"SUMIF('Contractor##'!C:C,'Planned Maint v6.2 CSV File'!C:C,'Contractor##'!F:F)","v":-0.15},862.19749999999999,"Dwelling:Redecorate complete four bedroom House or Maisonette, rub down, prepare for and apply two coats of emulsion to ceilings and walls, one undercoat and gloss on all other previously painted surfaces."]
["4700DA","DWELLING:REDECORATE BEDSIT NE 20SM CEILING AREA","PAINTING AND DECORATING","Internal Decoration","Internal Paintwork - Complete Dwellings","IT",366.24,{"$f":"SUMIF('Contractor##'!C:C,'Planned Maint v6.2 CSV File'!C:C,'Contractor##'!F:F)","v":-0.15},{"$f":"(1+H2116)*G2116","v":311.30399999999997},"Dwelling:Redecorate complete bedsit ne 20.00sm ceiling area including all rooms, rub down, prepare for and apply two coats of emulsion to ceilings and walls, one undercoat and gloss on all other previously painted surfaces."]
["4700DB","DWELLING:REDECORATE BEDSIT 20 TO 30SM CEILING AREA","PAINTING AND DECORATING","Internal Decoration","Internal Paintwork - Complete Dwellings","IT",414.37,{"$f":"SUMIF('Contractor##'!C:C,'Planned Maint v6.2 CSV File'!C:C,'Contractor##'!F:F)","v":-0.15},352.21449999999999,"Dwelling:Redecorate complete bedsit 20.00 - 30.00sm ceiling area including all rooms, rub down, prepare for and apply two coats of emulsion to ceilings and walls, one undercoat and gloss on all other previously painted surfaces."]
["4700DC","DWELLING:REDECORATE BEDSIT OVER 30SM CEILING AREA","PAINTING AND DECORATING","Internal Decoration","Internal Paintwork - Complete Dwellings","IT",509.36,{"$f":"SUMIF('Contractor##'!C:C,'Planned Maint v6.2 CSV File'!C:C,'Contractor##'!F:F)","v":-0.15},432.95600000000002,"Dwelling:Redecorate complete bedsit exceeding 30.00sm ceiling area including all rooms, rub down, prepare for and apply two coats of emulsion to ceilings and walls, one undercoat and gloss on all other previously painted surfaces."]
["4700EA","DWELLING:REDECORATE MULTIPLE OCCUPIED 3 BED FLAT","PAINTING AND DECORATING","Internal Decoration","Internal Paintwork - Complete Dwellings","IT",698.42,{"$f":"SUMIF('Contractor##'!C:C,'Planned Maint v6.2 CSV File'!C:C,'Contractor##'!F:F)","v":-0.15},593.65699999999993,"Dwelling:Redecorate all rooms in three bedroom multiple occupancy flat complete comprising bedrooms, lobby, hall, communal kitchen, bathroom, toilet and shower room including rub down, prepare for and apply two coats of emulsion to ceilings and walls, one undercoat and gloss on all other previously painted surfaces."]
["4700EB","DWELLING:REDECORATE MULTIPLE OCCUPIED 4 BED FLAT","PAINTING AND DECORATING","Internal Decoration","Internal Paintwork - Complete Dwellings","IT",817.48,{"$f":"SUMIF('Contractor##'!C:C,'Planned Maint v6.2 CSV File'!C:C,'Contractor##'!F:F)","v":-0.15},694.85799999999995,"Dwelling:Redecorate all rooms in four bedroom multiple occupancy flat complete comprising bedrooms, lobby, hall, communal kitchen, bathroom, toilet and shower room including rub down, prepare for and apply two coats of emulsion to ceilings and walls, one undercoat and gloss on all other previously painted surfaces."]
["4700EC","DWELLING:REDECORATE MULTIPLE OCCUPIED 5 BED FLAT","PAINTING AND DECORATING","Internal Decoration","Internal Paintwork - Complete Dwellings","IT",936.54,{"$f":"SUMIF('Contractor##'!C:C,'Planned Maint v6.2 CSV File'!C:C,'Contractor##'!F:F)","v":-0.15},796.05899999999997,"Dwelling:Redecorate all rooms in five bedroom multiple occupancy flat complete comprising bedrooms, lobby, hall, communal kitchen, bathroom, toilet and shower room including rub down, prepare for and apply two coats of emulsion to ceilings and walls, one undercoat and gloss on all other previously painted surfaces."]
["4700FA","ROOM:WHOLE REDECORATION ADDITION HT ABOVE 3.0M","PAINTING AND DECORATING","Internal Decoration","Work to Room Heights Above 3.00m","SM",5.69,{"$f":"SUMIF('Contractor##'!C:C,'Planned Maint v6.2 CSV File'!C:C,'Contractor##'!F:F)","v":-0.15},4.8365,"Room:Additional allowance for working in room with ceiling 3.00m above floor level and painting all walls, ceilings and woodwork (measured floor area)."]
["4705AA","DWELLING:WASH 2CT REDECORATION 1 BEDROOM FLAT","PAINTING AND DECORATING","Internal Decoration","internal Paintwork and Washdown - Complete Dwellings","IT",344.93,{"$f":"SUMIF('Contractor##'!C:C,'Planned Maint v6.2 CSV File'!C:C,'Contractor##'!F:F)","v":-0.15},293.19049999999999,"Dwelling:Redecoration and washdown complete one bedroom Flat or Bungalow, rub down, prepare for and apply two coats of emulsion to ceilings and walls, wash down only to all other previously painted surfaces."]
["4705AB","DWELLING:WASH 2CT REDECORATION 2 BEDROOM FLAT","PAINTING AND DECORATING","Internal Decoration","internal Paintwork and Washdown - Complete Dwellings","IT",411.55,{"$f":"SUMIF('Contractor##'!C:C,'Planned Maint v6.2 CSV File'!C:C,'Contractor##'!F:F)","v":-0.15},349.8175,"Dwelling:Redecoration and washdown complete two bedroom Flat or Bungalow, rub down, prepare for and apply two coats of emulsion to ceilings and walls, wash down only to all other previously painted surfaces."]
["4705AC","DWELLING:WASH 2CT REDECORATION 3 BEDROOM FLAT","PAINTING AND DECORATING","Internal Decoration","internal Paintwork and Washdown - Complete Dwellings","IT",478.18,{"$f":"SUMIF('Contractor##'!C:C,'Planned Maint v6.2 CSV File'!C:C,'Contractor##'!F:F)","v":-0.15},406.45299999999997,"Dwelling:Redecoration and washdown complete three bedroom Flat or Bungalow, rub down, prepare for and apply two coats of emulsion to ceilings and walls, wash down only to all other previously painted surfaces."]
["4705CA","DWELLING:WASH 2CT REDECORATION 2 BEDROOM HOUSE","PAINTING AND DECORATING","Internal Decoration","internal Paintwork and Washdown - Complete Dwellings","IT",518.11,{"$f":"SUMIF('Contractor##'!C:C,'Planned Maint v6.2 CSV File'!C:C,'Contractor##'!F:F)","v":-0.15},440.39350000000002,"Dwelling:Redecoration and washdown complete two bedroom House or Maisonette, rub down, prepare for and apply two coats of emulsion to ceilings and walls, wash down only to all other previously painted surfaces."]
["4705CB","DWELLING:WASH 2CT REDECORATION 3 BEDROOM HOUSE","PAINTING AND DECORATING","Internal Decoration","internal Paintwork and Washdown - Complete Dwellings","IT",584.74,{"$f":"SUMIF('Contractor##'!C:C,'Planned Maint v6.2 CSV File'!C:C,'Contractor##'!F:F)","v":-0.15},497.029,"Dwelling:Redecoration and washdown complete three bedroom House or Maisonette, rub down, prepare for and apply two coats of emulsion to ceilings and walls, wash down only to all other previously painted surfaces."]
["4705CC","DWELLING:WASH 2CT REDECORATION 4 BEDROOM HOUSE","PAINTING AND DECORATING","Internal Decoration","internal Paintwork and Washdown - Complete Dwellings","IT",649.79999999999995,{"$f":"SUMIF('Contractor##'!C:C,'Planned Maint v6.2 CSV File'!C:C,'Contractor##'!F:F)","v":-0.15},552.32999999999993,"Dwelling:Redecoration and washdown complete four bedroom House or Maisonette, rub down, prepare for and apply two coats of emulsion to ceilings and walls, wash down only to all other previously painted surfaces."]
["4705EA","DWELLING:WASH 1CT REDECORATION 1 BEDROOM FLAT","PAINTING AND DECORATING","Internal Decoration","internal Paintwork and Washdown - Complete Dwellings","IT",193.56,{"$f":"SUMIF('Contractor##'!C:C,'Planned Maint v6.2 CSV File'!C:C,'Contractor##'!F:F)","v":-0.15},164.52600000000001,"Dwelling:Redecoration and washdown complete one bedroom Flat or Bungalow, rub down, prepare for and apply one coat of emulsion to ceilings and walls, wash down only to all other previously painted surfaces."]
["4705EB","DWELLING:WASH 1CT REDECORATION 2 BEDROOM FLAT","PAINTING AND DECORATING","Internal Decoration","internal Paintwork and Washdown - Complete Dwellings","IT",231.56,{"$f":"SUMIF('Contractor##'!C:C,'Planned Maint v6.2 CSV File'!C:C,'Contractor##'!F:F)","v":-0.15},196.82599999999999,"Dwelling:Redecoration and washdown complete two bedroom Flat or Bungalow, rub down, prepare for and apply one coat of emulsion to ceilings and walls, wash down only to all other previously painted surfaces."]
["4705EC","DWELLING:WASH 1CT REDECORATION 3 BEDROOM FLAT","PAINTING AND DECORATING","Internal Decoration","internal Paintwork and Washdown - Complete Dwellings","IT",267.99,{"$f":"SUMIF('Contractor##'!C:C,'Planned Maint v6.2 CSV File'!C:C,'Contractor##'!F:F)","v":-0.15},227.79150000000001,"Dwelling:Redecoration and washdown complete three bedroom Flat or Bungalow, rub down, prepare for and apply one coat of emulsion to ceilings and walls, washdown only to all other previously painted surfaces."]
["4705GA","DWELLING:WASH 1CT REDECORATION 2 BEDROOM HOUSE","PAINTING AND DECORATING","Internal Decoration","internal Paintwork and Washdown - Complete Dwellings","IT",291.87,{"$f":"SUMIF('Contractor##'!C:C,'Planned Maint v6.2 CSV File'!C:C,'Contractor##'!F:F)","v":-0.15},248.08949999999999,"Dwelling:Redecoration and washdown complete two bedroom House or Maisonette, rub down, prepare for and apply one coat of emulsion to ceilings and walls, wash down only to all other previously painted surfaces."]
["4705GB","DWELLING:WASH 1CT REDECORATION 3 BEDROOM HOUSE","PAINTING AND DECORATING","Internal Decoration","internal Paintwork and Washdown - Complete Dwellings","IT",329.87,{"$f":"SUMIF('Contractor##'!C:C,'Planned Maint v6.2 CSV File'!C:C,'Contractor##'!F:F)","v":-0.15},280.3895,"Dwelling:Redecoration and washdown complete three bedroom House or Maisonette, rub down, prepare for and apply one coat of emulsion to ceilings and walls, wash down only to all other previously painted surfaces."]
["4705GC","DWELLING:WASH 1CT REDECORATION 4 BEDROOM HOUSE","PAINTING AND DECORATING","Internal Decoration","internal Paintwork and Washdown - Complete Dwellings","IT",366.3,{"$f":"SUMIF('Contractor##'!C:C,'Planned Maint v6.2 CSV File'!C:C,'Contractor##'!F:F)","v":-0.15},311.35500000000002,"Dwelling:Redecoration and washdown complete four bedroom House or Maisonette, rub down, prepare for and apply one coat of emulsion to ceilings and walls, wash down only to all other previously painted surfaces."]
["4705JA","DWELLING:WASH 2CT REDEC BEDSIT NE 20SM CLG AREA","PAINTING AND DECORATING","Internal Decoration","internal Paintwork and Washdown - Complete Dwellings","IT",230.43,{"$f":"SUMIF('Contractor##'!C:C,'Planned Maint v6.2 CSV File'!C:C,'Contractor##'!F:F)","v":-0.15},195.8655,"Dwelling:Redecoration and washdown complete bedsit ne 20.00sm ceiling area including all rooms, rub down, prepare for and apply two coats of emulsion to ceilings and walls, wash down only to all other previously painted surfaces."]
["4705JB","DWELLING:WASH 2CT REDEC BEDSIT 20 TO 30SM CLG AREA","PAINTING AND DECORATING","Internal Decoration","internal Paintwork and Washdown - Complete Dwellings","IT",272.56,{"$f":"SUMIF('Contractor##'!C:C,'Planned Maint v6.2 CSV File'!C:C,'Contractor##'!F:F)","v":-0.15},231.67599999999999,"Dwelling:Redecoration and washdown complete bedsit 20.00 to 30.00sm ceiling area including all rooms, rub down, prepare for and apply two coats of emulsion to ceilings and walls, wash down only to all other previously painted surfaces."]
["4705JC","DWELLING:WASH 2CT REDEC BEDSIT OVER 30SM CLG AREA","PAINTING AND DECORATING","Internal Decoration","internal Paintwork and Washdown - Complete Dwellings","IT",319.93,{"$f":"SUMIF('Contractor##'!C:C,'Planned Maint v6.2 CSV File'!C:C,'Contractor##'!F:F)","v":-0.15},271.94049999999999,"Dwelling:Redecoration and washdown complete bedsit exceeding 30.00sm ceiling area including all rooms, rub down, prepare for and apply two coats of emulsion to ceilings and walls, wash down only to all other previously painted surfaces."]
["4705KA","DWELLING:WASH 2CT REDEC MULTIPLE OCC 3 BED FLAT","PAINTING AND DECORATING","Internal Decoration","internal Paintwork and Washdown - Complete Dwellings","IT",440.05,{"$f":"SUMIF('Contractor##'!C:C,'Planned Maint v6.2 CSV File'!C:C,'Contractor##'!F:F)","v":-0.15},374.04250000000002,"Dwelling:Redecoration and washdown all rooms in three bedroom multiple occupancy flat complete comprising bedrooms, lobby, hall, communal kitchen, bathroom, toilet and shower room including rub down, prepare for and apply two coats of emulsion to ceilings and walls, wash down only to all other previously painted surfaces."]
["4705KB","DWELLING:WASH 2CT REDEC MULTIPLE OCC 4 BED FLAT","PAINTING AND DECORATING","Internal Decoration","internal Paintwork and Washdown - Complete Dwellings","IT",513.17999999999995,{"$f":"SUMIF('Contractor##'!C:C,'Planned Maint v6.2 CSV File'!C:C,'Contractor##'!F:F)","v":-0.15},436.20299999999992,"Dwelling:Redecoration and washdown all rooms in four bedroom multiple occupancy flat complete comprising bedrooms, lobby, hall, communal kitchen, bathroom, toilet and shower room including rub down, prepare for and apply two coats of emulsion to ceilings and walls, wash down only to all other previously painted surfaces."]
["4705KC","DWELLING:WASH 2CT REDEC MULTIPLE OCC 5 BED FLAT","PAINTING AND DECORATING","Internal Decoration","internal Paintwork and Washdown - Complete Dwellings","IT",586.29999999999995,{"$f":"SUMIF('Contractor##'!C:C,'Planned Maint v6.2 CSV File'!C:C,'Contractor##'!F:F)","v":-0.15},498.35499999999996,"Dwelling:Redecoration and washdown all rooms in five bedroom multiple occupancy flat complete comprising bedrooms, lobby, hall, communal kitchen, bathroom, toilet and shower room including rub down, prepare for and apply two coats of emulsion to ceilings and walls, wash down only to all other previously painted surfaces."]
["4711AA","WALLS:APPLY 2 COATS CLASS ‘O’ PAINT","PAINTING AND DECORATING","Internal Decoration","Class ‘O’ Fire Retardant Paint","SM",12.1,{"$f":"SUMIF('Contractor##'!C:C,'Planned Maint v6.2 CSV File'!C:C,'Contractor##'!F:F)","v":-0.15},10.285,"Walls:Thoroughly clean down all wall surfaces to common areas to remove dirt, grease and surface containments, scrape and remove all loose or defective coatings, prime bare areas with one coat of fire retardant primer and apply two coats of Class ‘O’ fire retardant matt paint. "]
["4711AB","CEILINGS:APPLY 2 COATS CLASS ‘O’ PAINT","PAINTING AND DECORATING","Internal Decoration","Class ‘O’ Fire Retardant Paint","SM",12.9,{"$f":"SUMIF('Contractor##'!C:C,'Planned Maint v6.2 CSV File'!C:C,'Contractor##'!F:F)","v":-0.15},10.965,"Ceilings:Thoroughly clean down all ceiling surfaces to common areas to remove dirt, grease and surface containments, scrape and remove all loose or defective coatings, prime bare areas with one coat of fire retardant primer and apply two coats of Class ‘O’ fire retardant matt paint. "]
["4801AA","FIRE UPGRADE COATING: PAINTED BRICK WALLS – 3 COAT","PAINTING AND DECORATING","Internal Decoration","Paint Applications – Fire Upgrading","SM",24.4,{"$f":"SUMIF('Contractor##'!C:C,'Planned Maint v6.2 CSV File'!C:C,'Contractor##'!F:F)","v":-0.15},20.74,"Fire Upgrading Coating:Remove all existing defective paint to fair face brick or block wall surfaces back to a solid edge, feather off and repair any defective areas with a high quality filler as necessary, spot prime filled or bare areas with afire upgrading primer, remove any existing graffiti with a graffiti removal system, wash down, rinse, clean off and apply one full coat of fire upgrading primer at a coverage rate of 10sm per litre, apply two full coats of fire upgrading finish at a coverage rate of 10sm per litre."]
["4801AB","FIRE UPGRADE COATING: PAINTED PLASTER WALLS – 3 CT","PAINTING AND DECORATING","Internal Decoration","Paint Applications – Fire Upgrading","SM",22.53,{"$f":"SUMIF('Contractor##'!C:C,'Planned Maint v6.2 CSV File'!C:C,'Contractor##'!F:F)","v":-0.15},19.150500000000001,"Fire Upgrading Coating:Remove all existing defective paint to plastered or rendered wall surfaces back to a solid edge, feather off and repair any defective areas with a high quality filler as necessary, spot prime filled or bare areas with afire upgrading primer, remove any existing graffiti with a graffiti removal system, wash down, rinse, clean off and apply one full coat of fire upgrading primer at a coverage rate of 10sm per litre, apply two full coats of fire upgrading finish at a coverage rate of 10sm per litre."]
["4801AC","FIRE UPGRADE COATING:CONCRETE SOFFIT – 3 COAT","PAINTING AND DECORATING","Internal Decoration","Paint Applications – Fire Upgrading","SM",26.28,{"$f":"SUMIF('Contractor##'!C:C,'Planned Maint v6.2 CSV File'!C:C,'Contractor##'!F:F)","v":-0.15},22.338000000000001,"Fire Upgrading Coating:Remove all existing defective paint to concrete soffit back to a solid edge, feather off and repair any defective areas with a high quality filler as necessary, spot prime filled or bare areas with afire upgrading primer, remove any existing graffiti with a graffiti removal system, wash down, rinse, clean off and apply one full coat of fire upgrading primer at a coverage rate of 10sm per litre, apply two full coats of fire upgrading finish at a coverage rate of 10sm per litre."]
["4801AD","FIRE UPGRADE COATING:PLASTERED SOFFIT – 3 COAT","PAINTING AND DECORATING","Internal Decoration","Paint Applications – Fire Upgrading","SM",24.4,{"$f":"SUMIF('Contractor##'!C:C,'Planned Maint v6.2 CSV File'!C:C,'Contractor##'!F:F)","v":-0.15},20.74,"Fire Upgrading Coating:Remove all existing defective paint to plastered or rendered surfaces back to a solid edge, feather off and repair any defective areas with a high quality filler as necessary, spot prime filled or bare areas with afire upgrading primer, remove any existing graffiti with a graffiti removal system, wash down, rinse, clean off and apply one full coat of fire upgrading primer at a coverage rate of 10sm per litre, apply two full coats of fire upgrading finish at a coverage rate of 10sm per litre."]
["4802AA","FIRE UPGRADE COATING: PAINTED BRICK WALLS – 4 COAT","PAINTING AND DECORATING","Internal Decoration","Paint Applications – Fire Upgrading","SM",31.51,{"$f":"SUMIF('Contractor##'!C:C,'Planned Maint v6.2 CSV File'!C:C,'Contractor##'!F:F)","v":-0.15},26.7835,"Fire Upgrading Coating:Remove all existing defective paint to fair face brick or block wall surfaces back to a solid edge, feather off and repair any defective areas with a high quality filler as necessary, spot prime filled or bare areas with afire upgrading primer, remove any existing graffiti with a graffiti removal system, wash down, rinse, clean off and apply two full coats of fire upgrading primer at a coverage rate of 10sm per litre, apply two full coats of fire upgrading finish at a coverage rate of 10sm per litre."]
["4802AB","FIRE UPGRADE COATING: PAINTED PLASTER WALLS – 4 CT","PAINTING AND DECORATING","Internal Decoration","Paint Applications – Fire Upgrading","SM",29.01,{"$f":"SUMIF('Contractor##'!C:C,'Planned Maint v6.2 CSV File'!C:C,'Contractor##'!F:F)","v":-0.15},24.6585,"Fire Upgrading Coating:Remove all existing defective paint to  plastered or rendered wall surfaces back to a solid edge, feather off and repair any defective areas with a high quality filler as necessary, spot prime filled or bare areas with afire upgrading primer, remove any existing graffiti with a graffiti removal system, wash down, rinse, clean off and apply two full coats of fire upgrading primer at a coverage rate of 10sm per litre, apply two full coats of fire upgrading finish at a coverage rate of 10sm per litre."]
["4802AC","FIRE UPGRADE COATING: PAINTED CONCRETE SOFFIT–4 CT","PAINTING AND DECORATING","Internal Decoration","Paint Applications – Fire Upgrading","SM",34.01,{"$f":"SUMIF('Contractor##'!C:C,'Planned Maint v6.2 CSV File'!C:C,'Contractor##'!F:F)","v":-0.15},28.908499999999997,"Fire Upgrading Coating:Remove all existing defective paint to concrete soffit back to a solid edge, feather off and repair any defective areas with a high quality filler as necessary, spot prime filled or bare areas with afire upgrading primer, remove any existing graffiti with a graffiti removal system, wash down, rinse, clean off and apply one full coat of fire upgrading primer at a coverage rate of 10sm per litre, apply two full coats of fire upgrading finish at a coverage rate of 10sm per litre."]
["4802AD","FIRE UPGRADE COATING: PAINTED PLASTER SOFFIT –4 CT","PAINTING AND DECORATING","Internal Decoration","Paint Applications – Fire Upgrading","SM",31.51,{"$f":"SUMIF('Contractor##'!C:C,'Planned Maint v6.2 CSV File'!C:C,'Contractor##'!F:F)","v":-0.15},26.7835,"Fire Upgrading Coating:Remove all existing defective paint to plastered or rendered surfaces back to a solid edge, feather off and repair any defective areas with a high quality filler as necessary, spot prime filled or bare areas with afire upgrading primer, remove any existing graffiti with a graffiti removal system, wash down, rinse, clean off and apply two full coats of fire upgrading primer at a coverage rate of 10sm per litre, apply two full coats of fire upgrading finish at a coverage rate of 10sm per litre."]
["4803AA","FIRE UPGRADE COATING:STRIP PAINTED BRICK WALL–3 CT","PAINTING AND DECORATING","Internal Decoration","Paint Applications – Fire Upgrading","SM",33.83,{"$f":"SUMIF('Contractor##'!C:C,'Planned Maint v6.2 CSV File'!C:C,'Contractor##'!F:F)","v":-0.15},28.755499999999998,"Fire Upgrading Coating:Strip off existing multi layer paint coatings to existing walls with a proprietary paint stripper, scrape off or remove with a proprietary paint scraper, wash down,rinse,  spot prime filled or bare areas with afire upgrading primer, remove any existing graffiti with a graffiti removal system, clean off and apply one full coat of primer at a coverage rate of 10sm per litre, apply two full coats of gloss or satin finish at a coverage rate of 10sm per litre."]
["4803AB","FIRE UPGRADE COATING:STRIP PAINT PLASTER WALL–3 CT","PAINTING AND DECORATING","Internal Decoration","Paint Applications – Fire Upgrading","SM",32.89,{"$f":"SUMIF('Contractor##'!C:C,'Planned Maint v6.2 CSV File'!C:C,'Contractor##'!F:F)","v":-0.15},27.956499999999998,"Fire Upgrading Coating:Strip off existing multi layer paint coatings to existing plastered or rendered walls with a proprietary paint stripper, scrape off or remove with a proprietary paint scraper, wash down,rinse,  spot prime filled or bare areas with afire upgrading primer, remove any existing graffiti with a graffiti removal system, clean off and apply one full coat of primer at a coverage rate of 10sm per litre, apply two full coats of gloss or satin finish at a coverage rate of 10sm per litre."]
["4803AC","FIRE UPGRADE COATING:CONCRETE SOFFIT–STRIP 3 COAT","PAINTING AND DECORATING","Internal Decoration","Paint Applications – Fire Upgrading","SM",25.39,{"$f":"SUMIF('Contractor##'!C:C,'Planned Maint v6.2 CSV File'!C:C,'Contractor##'!F:F)","v":-0.15},21.581499999999998,"Fire Upgrading Coating:Strip off existing multi layer paint coatings to existing concrete soffits with a proprietary paint stripper, scrape off or remove with a proprietary paint scraper, wash down,rinse,  spot prime filled or bare areas with afire upgrading primer, remove any existing graffiti with a graffiti removal system, clean off and apply one full coat of primer at a coverage rate of 10sm per litre, apply two full coats of gloss or satin finish at a coverage rate of 10sm per litre"]
["4803AD","FIRE UPGRADE COATING:PLASTERED SOFFIT-STRIP 3 COAT","PAINTING AND DECORATING","Internal Decoration","Paint Applications – Fire Upgrading","SM",24.45,{"$f":"SUMIF('Contractor##'!C:C,'Planned Maint v6.2 CSV File'!C:C,'Contractor##'!F:F)","v":-0.15},20.782499999999999,"Fire Upgrading Coating:Strip off existing multi layer paint coatings to existing plastered or rendered soffits with a proprietary paint stripper, scrape off or remove with a proprietary paint scraper, wash down,rinse,  spot prime filled or bare areas with afire upgrading primer, remove any existing graffiti with a graffiti removal system, clean off and apply one full coat of primer at a coverage rate of 10sm per litre, apply two full coats of gloss or satin finish at a coverage rate of 10sm per litre"]
["4804AA","FIRE UPGRADE COATING:STRIP PAINT BRICK WALLS– DEC","PAINTING AND DECORATING","Internal Decoration","Paint Applications – Fire Upgrading","SM",37.770000000000003,{"$f":"SUMIF('Contractor##'!C:C,'Planned Maint v6.2 CSV File'!C:C,'Contractor##'!F:F)","v":-0.15},32.104500000000002,"Fire Upgrading Coating:Strip off existing multi layer paint coatings to existing walls with a proprietary paint stripper, scrape off or remove with a proprietary paint scraper, wash down,rinse,  spot prime filled or bare areas with afire upgrading primer, remove any existing graffiti with a graffiti removal system, clean off and apply one full coat of primer at a coverage rate of 10sm per litre, apply one full coats of colourcoat complete with decorative flakes, and apply one full coat of gloss or satin lacquer finish at a coverage rate of 10sm per litre."]
["4804AB","FIRE UPGRADE COATING:STRIP PAINT PLASTER WALL– DEC","PAINTING AND DECORATING","Internal Decoration","Paint Applications – Fire Upgrading","SM",35.270000000000003,{"$f":"SUMIF('Contractor##'!C:C,'Planned Maint v6.2 CSV File'!C:C,'Contractor##'!F:F)","v":-0.15},29.979500000000002,"Fire Upgrading Coating:Strip off existing multi layer paint coatings to existing plastered or rendered walls with a proprietary paint stripper, scrape off or remove with a proprietary paint scraper, wash down,rinse,  spot prime filled or bare areas with afire upgrading primer, remove any existing graffiti with a graffiti removal system, clean off and apply one full coat of primer at a coverage rate of 10sm per litre, apply one full coats of colourcoat complete with decorative flakes, and apply one full coat of gloss or satin lacquer finish at a coverage rate of 10sm per litre."]
["4804AC","FIRE UPGRADE COATING:PAINT CONCRETE SOFFIT– DEC","PAINTING AND DECORATING","Internal Decoration","Paint Applications – Fire Upgrading","SM",30.27,{"$f":"SUMIF('Contractor##'!C:C,'Planned Maint v6.2 CSV File'!C:C,'Contractor##'!F:F)","v":-0.15},25.729499999999998,"Fire Upgrading Coating:Strip off existing multi layer paint coatings to existing concrete soffits with a proprietary paint stripper, scrape off or remove with a proprietary paint scraper, wash down,rinse,  spot prime filled or bare areas with afire upgrading primer, remove any existing graffiti with a graffiti removal system, clean off and apply one full coat of primer at a coverage rate of 10sm per litre, apply one full coats of colourcoat complete with decorative flakes, and apply one full coat of gloss or satin lacquer finish at a coverage rate of 10sm per litre."]
["4804AD","FIRE UPGRADE COATING:PAINT PLASTER SOFFIT– DEC","PAINTING AND DECORATING","Internal Decoration","Paint Applications – Fire Upgrading","SM",29.34,{"$f":"SUMIF('Contractor##'!C:C,'Planned Maint v6.2 CSV File'!C:C,'Contractor##'!F:F)","v":-0.15},24.939,"Fire Upgrading Coating:Strip off existing multi layer paint coatings to existing plastered or rendered soffits with a proprietary paint stripper, scrape off or remove with a proprietary paint scraper, wash down,rinse,  spot prime filled or bare areas with afire upgrading primer, remove any existing graffiti with a graffiti removal system, clean off and apply one full coat of primer at a coverage rate of 10sm per litre, apply one full coats of colourcoat complete with decorative flakes, and apply one full coat of gloss or satin lacquer finish at a coverage rate of 10sm per litre."]
["4805AA","FIRE UPGRADE COATING:WOODWORK – 3 COAT","PAINTING AND DECORATING","Internal Decoration","Paint Applications – Fire Upgrading","SM",24.59,{"$f":"SUMIF('Contractor##'!C:C,'Planned Maint v6.2 CSV File'!C:C,'Contractor##'!F:F)","v":-0.15},20.901499999999999,"Fire Upgrading Coating:Remove all existing defective paint to general surfaces of woodwork back to a solid edge, feather off and repair any defective areas with a high quality filler as necessary, spot prime filled or bare areas with afire upgrading primer, remove any existing graffiti with a graffiti removal system, wash down, rinse, clean off and apply one full coat of fire upgrading primer at a coverage rate of 10sm per litre, apply two full coats of fire upgrading finish at a coverage rate of 10sm per litre."]
["4805AB","FIRE UPGRADE COATING:WOODWORK NE 300MM – 3 COAT","PAINTING AND DECORATING","Internal Decoration","Paint Applications – Fire Upgrading","LM",20.399999999999999,{"$f":"SUMIF('Contractor##'!C:C,'Planned Maint v6.2 CSV File'!C:C,'Contractor##'!F:F)","v":-0.15},17.34,"Fire Upgrading Coating:Remove all existing defective paint to general surfaces of woodwork not exceeding 300mm girth, back to a solid edge, feather off and repair any defective areas with a high quality filler as necessary, spot prime filled or bare areas with afire upgrading primer, remove any existing graffiti with a graffiti removal system, wash down, rinse, clean off and apply one full coat of fire upgrading primer at a coverage rate of 10sm per litre, apply two full coats of fire upgrading finish at a coverage rate of 10sm per litre."]
["4805AC","FIRE UPGRADE COATING:TIMBER DOORS – 3 COAT","PAINTING AND DECORATING","Internal Decoration","Paint Applications – Fire Upgrading","SM",35.86,{"$f":"SUMIF('Contractor##'!C:C,'Planned Maint v6.2 CSV File'!C:C,'Contractor##'!F:F)","v":-0.15},30.480999999999998,"Fire Upgrading Coating:Remove all existing defective paint to general surfaces of timber doors back to a solid edge, feather off and repair any defective areas with a high quality filler as necessary, spot prime filled or bare areas with afire upgrading primer, remove any existing graffiti with a graffiti removal system, wash down, rinse, clean off and apply one full coat of fire upgrading primer at a coverage rate of 10sm per litre, apply two full coats of fire upgrading finish at a coverage rate of 10sm per litre."]
["4805AD","FIRE UPGRADE COATING:TIMBER GLAZED DOORS – 3 COAT","PAINTING AND DECORATING","Internal Decoration","Paint Applications – Fire Upgrading","SM",25.54,{"$f":"SUMIF('Contractor##'!C:C,'Planned Maint v6.2 CSV File'!C:C,'Contractor##'!F:F)","v":-0.15},21.709,"Fire Upgrading Coating:Remove all existing defective paint to general surfaces of glazed timber doors back to a solid edge, feather off and repair any defective areas with a high quality filler as necessary, spot prime filled or bare areas with afire upgrading primer, remove any existing graffiti with a graffiti removal system, wash down, rinse, clean off and apply one full coat of fire upgrading primer at a coverage rate of 10sm per litre, apply two full coats of fire upgrading finish at a coverage rate of 10sm per litre."]
["4805AE","FIRE UPGRADE COATING:TIMBER WINDOWS, SCREENS–3 CT","PAINTING AND DECORATING","Internal Decoration","Paint Applications – Fire Upgrading","SM",25.23,{"$f":"SUMIF('Contractor##'!C:C,'Planned Maint v6.2 CSV File'!C:C,'Contractor##'!F:F)","v":-0.15},21.445499999999999,"Fire Upgrading Coating:Remove all existing defective paint to general surfaces of glazed timber windows, screens etc back to a solid edge, feather off and repair any defective areas with a high quality filler as necessary, spot prime filled or bare areas with afire upgrading primer, remove any existing graffiti with a graffiti removal system, wash down, rinse, clean off and apply one full coat of fire upgrading primer at a coverage rate of 10sm per litre, apply two full coats of fire upgrading finish at a coverage rate of 10sm per litre."]
["4805AF","FIRE UPGRADE COATING:DOOR FRAMES NE 300MM – 3 COAT","PAINTING AND DECORATING","Internal Decoration","Paint Applications – Fire Upgrading","LM",17.73,{"$f":"SUMIF('Contractor##'!C:C,'Planned Maint v6.2 CSV File'!C:C,'Contractor##'!F:F)","v":-0.15},15.070499999999999,"Fire Upgrading Coating:Remove all existing defective paint to general surfaces of timber door frames not exceeding 300mm girth, back to a solid edge, feather off and repair any defective areas with a high quality filler as necessary, spot prime filled or bare areas with afire upgrading primer, remove any existing graffiti with a graffiti removal system, wash down, rinse, clean off and apply one full coat of fire upgrading primer at a coverage rate of 10sm per litre, apply two full coats of fire upgrading finish at a coverage rate of 10sm per litre."]
["4805AG","FIRE UPGRADE COATING:SKIRTINGS NE 300MM – 3 COAT","PAINTING AND DECORATING","Internal Decoration","Paint Applications – Fire Upgrading","LM",17.73,{"$f":"SUMIF('Contractor##'!C:C,'Planned Maint v6.2 CSV File'!C:C,'Contractor##'!F:F)","v":-0.15},15.070499999999999,"Fire Upgrading Coating:Remove all existing defective paint to general surfaces of skirtings etc not exceeding 300mm girth, back to a solid edge, feather off and repair any defective areas with a high quality filler as necessary, spot prime filled or bare areas with afire upgrading primer, remove any existing graffiti with a graffiti removal system, wash down, rinse, clean off and apply one full coat of fire upgrading primer at a coverage rate of 10sm per litre, apply two full coats of fire upgrading finish at a coverage rate of 10sm per litre."]
["4806AA","FIRE UPGRADE COATING:METALWORK – 3 COAT","PAINTING AND DECORATING","Internal Decoration","Paint Applications – Fire Upgrading","SM",16.71,{"$f":"SUMIF('Contractor##'!C:C,'Planned Maint v6.2 CSV File'!C:C,'Contractor##'!F:F)","v":-0.15},14.2035,"Fire Upgrading Coating:Remove all existing defective paint to general surfaces of metalwork back to a solid edge, feather off and repair any defective areas with a high quality filler as necessary, spot prime filled or bare areas with afire upgrading primer, remove any existing graffiti with a graffiti removal system, wash down, rinse, clean off and apply one full coat of fire upgrading primer at a coverage rate of 10sm per litre, apply two full coats of fire upgrading finish at a coverage rate of 10sm per litre."]
["4806AB","FIRE UPGRADE COATING:METALWORK NE 300MM – 3 COAT","PAINTING AND DECORATING","Internal Decoration","Paint Applications – Fire Upgrading","LM",18.27,{"$f":"SUMIF('Contractor##'!C:C,'Planned Maint v6.2 CSV File'!C:C,'Contractor##'!F:F)","v":-0.15},15.529499999999999,"Fire Upgrading Coating:Remove all existing defective paint to general surfaces of metalwork not exceeding 300mm girth, back to a solid edge, feather off and repair any defective areas with a high quality filler as necessary, spot prime filled or bare areas with afire upgrading primer, remove any existing graffiti with a graffiti removal system, wash down, rinse, clean off and apply one full coat of fire upgrading primer at a coverage rate of 10sm per litre, apply two full coats of fire upgrading finish at a coverage rate of 10sm per litre."]
["4806AC","FIRE UPGRADE COATING:METAL DOORS – 3 COAT","PAINTING AND DECORATING","Internal Decoration","Paint Applications – Fire Upgrading","SM",23.36,{"$f":"SUMIF('Contractor##'!C:C,'Planned Maint v6.2 CSV File'!C:C,'Contractor##'!F:F)","v":-0.15},19.855999999999998,"Fire Upgrading Coating:Remove all existing defective paint to general surfaces of metal doors back to a solid edge, feather off and repair any defective areas with a high quality filler as necessary, spot prime filled or bare areas with afire upgrading primer, remove any existing graffiti with a graffiti removal system, wash down, rinse, clean off and apply one full coat of fire upgrading primer at a coverage rate of 10sm per litre, apply two full coats of fire upgrading finish at a coverage rate of 10sm per litre."]
["4806AD","FIRE UPGRADE COATING:METAL GLAZED DOORS – 3 COAT","PAINTING AND DECORATING","Internal Decoration","Paint Applications – Fire Upgrading","SM",26.08,{"$f":"SUMIF('Contractor##'!C:C,'Planned Maint v6.2 CSV File'!C:C,'Contractor##'!F:F)","v":-0.15},22.167999999999999,"Fire Upgrading Coating:Remove all existing defective paint to general surfaces of glazed metal doors back to a solid edge, feather off and repair any defective areas with a high quality filler as necessary, spot prime filled or bare areas with afire upgrading primer, remove any existing graffiti with a graffiti removal system, wash down, rinse, clean off and apply one full coat of fire upgrading primer at a coverage rate of 10sm per litre, apply two full coats of fire upgrading finish at a coverage rate of 10sm per litre."]
["4806AE","FIRE UPGRADE COATING:METAL WINDOWS, SCREENS – 3 CT","PAINTING AND DECORATING","Internal Decoration","Paint Applications – Fire Upgrading","SM",27.04,{"$f":"SUMIF('Contractor##'!C:C,'Planned Maint v6.2 CSV File'!C:C,'Contractor##'!F:F)","v":-0.15},22.983999999999998,"Fire Upgrading Coating:Remove all existing defective paint to general surfaces of glazed metal windows, screens etc back to a solid edge, feather off and repair any defective areas with a high quality filler as necessary, spot prime filled or bare areas with afire upgrading primer, remove any existing graffiti with a graffiti removal system, wash down, rinse, clean off and apply one full coat of fire upgrading primer at a coverage rate of 10sm per litre, apply two full coats of fire upgrading finish at a coverage rate of 10sm per litre."]
["4806AF","FIRE UPGRADE COATING:METAL DR FRAMES NE 300MM–3 CT","PAINTING AND DECORATING","Internal Decoration","Paint Applications – Fire Upgrading","LM",16.73,{"$f":"SUMIF('Contractor##'!C:C,'Planned Maint v6.2 CSV File'!C:C,'Contractor##'!F:F)","v":-0.15},14.220499999999999,"Fire Upgrading Coating:Remove all existing defective paint to general surfaces of metal door frames not exceeding 300mm girth, back to a solid edge, feather off and repair any defective areas with a high quality filler as necessary, spot prime filled or bare areas with afire upgrading primer, remove any existing graffiti with a graffiti removal system, wash down, rinse, clean off and apply one full coat of fire upgrading primer at a coverage rate of 10sm per litre, apply two full coats of fire upgrading finish at a coverage rate of 10sm per litre."]
["4806AG","FIRE UPGRADE COATING:BALUSTRADES – 3 COAT","PAINTING AND DECORATING","Internal Decoration","Paint Applications – Fire Upgrading","SM",26.95,{"$f":"SUMIF('Contractor##'!C:C,'Planned Maint v6.2 CSV File'!C:C,'Contractor##'!F:F)","v":-0.15},22.907499999999999,"Fire Upgrading Coating:Remove all existing defective paint to general surfaces of balustrading [measured both sides], back to a solid edge, feather off and repair any defective areas with a high quality filler as necessary, spot prime filled or bare areas with afire upgrading primer, remove any existing graffiti with a graffiti removal system, wash down, rinse, clean off and apply one full coat of fire upgrading primer at a coverage rate of 10sm per litre, apply two full coats of fire upgrading finish at a coverage rate of 10sm per litre."]
["4806AH","FIRE UPGRADE COATING:METAL HANDRAILS NE 300MM–3 CT","PAINTING AND DECORATING","Internal Decoration","Paint Applications – Fire Upgrading","LM",13.6,{"$f":"SUMIF('Contractor##'!C:C,'Planned Maint v6.2 CSV File'!C:C,'Contractor##'!F:F)","v":-0.15},11.559999999999999,"Fire Upgrading Coating:Remove all existing defective paint to general surfaces of metal handrails, brackets etc not exceeding 300mm girth, back to a solid edge, feather off and repair any defective areas with a high quality filler as necessary, spot prime filled or bare areas with afire upgrading primer, remove any existing graffiti with a graffiti removal system, wash down, rinse, clean off and apply one full coat of fire upgrading primer at a coverage rate of 10sm per litre, apply two full coats of fire upgrading finish at a coverage rate of 10sm per litre."]
["4808AA","SPRAYED COATINGS:16MM ONE HOUR TO SURFACES","PAINTING AND DECORATING","Internal Decoration","Sprayed Coatings","SM",14.26,{"$f":"SUMIF('Contractor##'!C:C,'Planned Maint v6.2 CSV File'!C:C,'Contractor##'!F:F)","v":-0.15},12.120999999999999,"Sprayed Coatings:Prepare and applysprayed mineral wool coating, 16mm thickness to give one hour fire protection to general surfaces"]
["4808AB","SPRAYED COATINGS:22MM ONE HOUR TO SURFACES","PAINTING AND DECORATING","Internal Decoration","Sprayed Coatings","SM",16.399999999999999,{"$f":"SUMIF('Contractor##'!C:C,'Planned Maint v6.2 CSV File'!C:C,'Contractor##'!F:F)","v":-0.15},13.939999999999998,"Sprayed Coatings:Prepare and applysprayed mineral wool coating, 22mm thickness to give one and a half hour fire protection to general surfaces"]
["4808AC","SPRAYED COATINGS:28MM TWO HOUR TO SURFACES","PAINTING AND DECORATING","Internal Decoration","Sprayed Coatings","SM",19.25,{"$f":"SUMIF('Contractor##'!C:C,'Planned Maint v6.2 CSV File'!C:C,'Contractor##'!F:F)","v":-0.15},16.362500000000001,"Sprayed Coatings:Prepare and applysprayed mineral wool coating, 28mm thickness to give two hour fire protection to general surfaces"]
["4808AD","SPRAYED COATINGS:52MM FOUR HOUR TO SURFACES","PAINTING AND DECORATING","Internal Decoration","Sprayed Coatings","SM",28.19,{"$f":"SUMIF('Contractor##'!C:C,'Planned Maint v6.2 CSV File'!C:C,'Contractor##'!F:F)","v":-0.15},23.961500000000001,"Sprayed Coatings:Prepare and applysprayed mineral wool coating, 522mm thickness to give four hour fire protection to general surfaces"]
["4809AA","SPRAYED COATINGS:15MM ","PAINTING AND DECORATING","Internal Decoration","Sprayed Coatings","SM",43.03,{"$f":"SUMIF('Contractor##'!C:C,'Planned Maint v6.2 CSV File'!C:C,'Contractor##'!F:F)","v":-0.15},36.575499999999998,"Sprayed Coatings:Prepare and applysprayed cementitious coating Pyrok WF26 or other equal and approved, 15mm thickness to and including expanded metal lathing to general surfaces"]
["4810AA","FLAME RETARDANT COATING:APPLY 2 CT SURFACES","PAINTING AND DECORATING","Internal Decoration","Flame Retardant Coatings","SM",12.89,{"$f":"SUMIF('Contractor##'!C:C,'Planned Maint v6.2 CSV File'!C:C,'Contractor##'!F:F)","v":-0.15},10.9565,"Flame Retardant Coating:Prepare and apply one undercoat and one finishing coat of clear flame retardant surface coating to general surfaces of woodwork"]
["4810AB","FLAME RETARDANT COATING:APPLY 2 CT SURFACE NE300MM","PAINTING AND DECORATING","Internal Decoration","Flame Retardant Coatings","LM",14.46,{"$f":"SUMIF('Contractor##'!C:C,'Planned Maint v6.2 CSV File'!C:C,'Contractor##'!F:F)","v":-0.15},{"$f":"(1+H2180)*G2180","v":12.291},"Flame Retardant Coating:Prepare and apply one undercoat and one finishing coat of clear flame retardant surface coating to general surfaces of woodwork not exceeding 300mm girth"]
["4811AA","FLAME RETARDANT COATING:APPLY 3 CT SURFACES","PAINTING AND DECORATING","Internal Decoration","Flame Retardant Coatings","SM",19.420000000000002,{"$f":"SUMIF('Contractor##'!C:C,'Planned Maint v6.2 CSV File'!C:C,'Contractor##'!F:F)","v":-0.15},16.507000000000001,"Flame Retardant Coating:Prepare and apply two undercoats and one finishing coat of clear flame retardant surface coating to general surfaces of woodwork"]
["4811AB","FLAME RETARDANT COATING:APPLY 3 CT SURFACE NE300MM","PAINTING AND DECORATING","Internal Decoration","Flame Retardant Coatings","LM",21.92,{"$f":"SUMIF('Contractor##'!C:C,'Planned Maint v6.2 CSV File'!C:C,'Contractor##'!F:F)","v":-0.15},18.632000000000001,"Flame Retardant Coating:Prepare and apply two undercoats and one finishing coat of clear flame retardant surface coating to general surfaces of woodwork not exceeding 300mm girth"]
["4900AA","TANKING:INSTALL ASPHALT DPM HORIZONTAL","SPECIALIST TREATMENTS","Mastic Asphalt Tanking etc","Mastic Asphalt Tanking Damp Proof Membrane","SM",37.65,{"$f":"SUMIF('Contractor##'!C:C,'Planned Maint v6.2 CSV File'!C:C,'Contractor##'!F:F)","v":-0.27500000000000002},27.296249999999997,"Tanking:Clean off horizontal surface of concrete, prime surface with bituminous emulsion or apply keying mix of cement:sand:slurry apply two coats of asphalt to BS 6925, tanking and damp proofing 20mm thick including all necessary internal angle fillets, make good, and remove waste and debris."]
["4900AB","TANKING:INSTALL ASPHALT DPM VERTICAL","SPECIALIST TREATMENTS","Mastic Asphalt Tanking etc","Mastic Asphalt Tanking Damp Proof Membrane","SM",52.96,{"$f":"SUMIF('Contractor##'!C:C,'Planned Maint v6.2 CSV File'!C:C,'Contractor##'!F:F)","v":-0.27500000000000002},38.396000000000001,"Tanking:Rake out joints of brickwork to form key, brush surface of brickwork, prime with proprietary bitumen and rubber emulsion, apply two coats of asphalt to BS 6925, tanking and damp proofing 20mm thick including all necessary internal angle fillets, make good, and remove waste and debris."]
["4900AC","TANKING:INSTALL ASPHALT DPM RAKE FOR KEY","SPECIALIST TREATMENTS","Mastic Asphalt Tanking etc","Mastic Asphalt Tanking Damp Proof Membrane","SM",51.3,{"$f":"SUMIF('Contractor##'!C:C,'Planned Maint v6.2 CSV File'!C:C,'Contractor##'!F:F)","v":-0.27500000000000002},37.192499999999995,"Tanking:Clean off vertical surface of concrete, prime surface with bituminous emulsion or apply keying mix of cement:sand:slurry apply two coats of asphalt to BS 6925, tanking and damp proofing 20mm thick including all necessary internal angle fillets, make good, and remove waste and debris."]
["5150AC","PANE:REGLAZE 4MM CLEAR OR OBSCURE UPTO 1.00SM","GLAZING","Reglaze Doors and Windows","Glass - Clear and Obscured","NO",62.31,{"$f":"SUMIF('Contractor##'!C:C,'Planned Maint v6.2 CSV File'!C:C,'Contractor##'!F:F)","v":-0.17860000000000001},51.181434000000003,"Pane:Reglaze single pane in 4mm clear or obscure glass, upto 1.00sm, hack out and glaze with putty, sprigs, clips or beads at any level, touch up paintwork to match existing and remove waste and debris."]
["5150AD","PANE:REGLAZE 4MM CLEAR OR OBSCURE OVER 1.00SM","GLAZING","Reglaze Doors and Windows","Glass - Clear and Obscured","SM",67.930000000000007,{"$f":"SUMIF('Contractor##'!C:C,'Planned Maint v6.2 CSV File'!C:C,'Contractor##'!F:F)","v":-0.17860000000000001},55.797702000000008,"Pane:Reglaze single pane in 4mm clear or obscure glass, over 1.00sm, hack out and glaze with putty, sprigs, clips or beads at any level, touch up paintwork to match existing, and remove waste and debris."]
["5150BC","PANE:REGLAZE 6MM CLEAR OR OBSCURE UPTO 1.00SM","GLAZING","Reglaze Doors and Windows","Glass - Clear and Obscured","NO",84.52,{"$f":"SUMIF('Contractor##'!C:C,'Planned Maint v6.2 CSV File'!C:C,'Contractor##'!F:F)","v":-0.17860000000000001},69.424728000000002,"Pane:Reglaze single pane in 6mm clear or obscure glass, upto 1.00sm, hack out and glaze with putty, sprigs, clips or beads at any level, touch up decoration to match existing, and remove waste and debris."]
["5150BD","PANE:REGLAZE 6MM CLEAR OR OBSCURE OVER 1.00SM","GLAZING","Reglaze Doors and Windows","Glass - Clear and Obscured","SM",89.2,{"$f":"SUMIF('Contractor##'!C:C,'Planned Maint v6.2 CSV File'!C:C,'Contractor##'!F:F)","v":-0.17860000000000001},73.26888000000001,"Pane:Reglaze single pane in 6mm clear or obscure glass, over 1.00sm, hack out and glaze with putty, sprigs, clips or beads at any level, touch up decoration to match existing, and remove waste and debris."]
["5200AC","PANE:REGLAZE 7MM GWCG UPTO 1.00SM","GLAZING","Reglaze Doors and Windows","Glass - Georgian Wired Cast","NO",70.150000000000006,{"$f":"SUMIF('Contractor##'!C:C,'Planned Maint v6.2 CSV File'!C:C,'Contractor##'!F:F)","v":-0.17860000000000001},57.621210000000005,"Pane:Reglaze single pane in 7mm georgian wired cast glass, upto 1.00sm, hack out and glaze with putty, sprigs, clips or beads at any level, touch up decoration to match existing, and remove waste and debris."]
["5200AD","PANE:REGLAZE 7MM GWCG OVER 1.00SM","GLAZING","Reglaze Doors and Windows","Glass - Georgian Wired Cast","SM",75.150000000000006,{"$f":"SUMIF('Contractor##'!C:C,'Planned Maint v6.2 CSV File'!C:C,'Contractor##'!F:F)","v":-0.17860000000000001},61.728210000000004,"Pane:Reglaze single pane in 7mm georgian wired cast glass, over 1.00sm, hack out and glaze with putty, sprigs, clips or beads at any level, touch up decoration to match existing, and remove waste and debris."]
["5250AC","PANE:REGLAZE 6MM GWPP UPTO 1.00SM","GLAZING","Reglaze Doors and Windows","Glass - Georgian Wired Polished","NO",121.01,{"$f":"SUMIF('Contractor##'!C:C,'Planned Maint v6.2 CSV File'!C:C,'Contractor##'!F:F)","v":-0.17860000000000001},99.397614000000004,"Pane:Reglaze single pane in 6mm georgian wired polished plate glass upto 1.00sm, hack out and glaze with putty, sprigs, clips or beads at any level, touch up decoration to match existing, and remove waste and debris."]
["5250AD","PANE:REGLAZE 6MM GWPP OVER 1.00SM","GLAZING","Reglaze Doors and Windows","Glass - Georgian Wired Polished","SM",126.01,{"$f":"SUMIF('Contractor##'!C:C,'Planned Maint v6.2 CSV File'!C:C,'Contractor##'!F:F)","v":-0.17860000000000001},103.504614,"Pane:Reglaze single pane in 6mm georgian wired polished plate glass over 1.00sm, hack out and glaze with putty, sprigs, clips or beads at any level, touch up decoration to match existing, and remove waste and debris."]
["5250AE","BALUSTRADE:REGLAZE 6MM GWPP OVER 1.00SM","GLAZING","Reglaze Doors and Windows","Glass - Georgian Wired Polished","SM",133.12,{"$f":"SUMIF('Contractor##'!C:C,'Planned Maint v6.2 CSV File'!C:C,'Contractor##'!F:F)","v":-0.17860000000000001},109.344768,"Balustrade:Reglaze single panel of glazed balustrade in 6mm georgian wired polished plate glass over 1.00sm, hack out and glaze with screws,washers, sprigs, clips or beads at any level, touch up decoration to match existing, and remove waste and debris."]
["5300AC","PANE:REGLAZE 6MM TOUGHENED UPTO 1.00SM","GLAZING","Reglaze Doors and Windows","Glass - Toughened","NO",120.23,{"$f":"SUMIF('Contractor##'!C:C,'Planned Maint v6.2 CSV File'!C:C,'Contractor##'!F:F)","v":-0.17860000000000001},98.756922000000003,"Pane:Reglaze single pane in 6mm toughened safety glass upto 1.00sm, hack out and glaze with putty, sprigs, clips or beads at any level, touch up decoration to match existing, and remove waste and debris."]
["5300AD","PANE:REGLAZE 6MM TOUGHENED OVER 1.00SM","GLAZING","Reglaze Doors and Windows","Glass - Toughened","SM",125.86,{"$f":"SUMIF('Contractor##'!C:C,'Planned Maint v6.2 CSV File'!C:C,'Contractor##'!F:F)","v":-0.17860000000000001},103.381404,"Pane:Reglaze single pane in 6mm toughened safety glass, over 1.00sm, hack out and glaze with putty, sprigs, clips or beads at any level, touch up decoration to match existing, and remove waste and debris."]
["5350AA","PANE:REGLAZE 6.8MM LAMINATED/STIPPOLYTE UPTO 1 SM","GLAZING","Reglaze Doors and Windows","Glass - Laminated","NO",144.4,{"$f":"SUMIF('Contractor##'!C:C,'Planned Maint v6.2 CSV File'!C:C,'Contractor##'!F:F)","v":-0.17860000000000001},118.61016000000001,"Pane:Reglaze single pane in 6.8mm laminated/stippolyte glass upto 1.00sm, hack out and glaze with putty, sprigs, clips or beads at any level, touch up decoration to match existing, and remove waste and debris."]
["5350AB","PANE:REGLAZE 6.8MM LAMINATED/STIPPOLYTE OVER 1 SM","GLAZING","Reglaze Doors and Windows","Glass - Laminated","SM",147.61000000000001,{"$f":"SUMIF('Contractor##'!C:C,'Planned Maint v6.2 CSV File'!C:C,'Contractor##'!F:F)","v":-0.17860000000000001},121.24685400000001,"Pane:Reglaze single pane in 6.8mm laminated/stippolyte glass over 1.00sm, hack out and glaze with putty, sprigs, clips or beads at any level, touch up decoration to match existing, and remove waste and debris."]
["5350AC","PANE:REGLAZE 6.4MM LAMINATED UPTO 1.00SM","GLAZING","Reglaze Doors and Windows","Glass - Laminated","NO",110.96,{"$f":"SUMIF('Contractor##'!C:C,'Planned Maint v6.2 CSV File'!C:C,'Contractor##'!F:F)","v":-0.17860000000000001},91.142544000000001,"Pane:Reglaze single pane in 6.4mm laminated glass upto 1.00sm, hack out and glaze with putty, sprigs, clips or beads at any level, touch up decoration to match existing, and remove waste and debris."]
["5350AD","PANE:REGLAZE 6.4MM LAMINATED OVER 1.00SM","GLAZING","Reglaze Doors and Windows","Glass - Laminated","SM",114.08,{"$f":"SUMIF('Contractor##'!C:C,'Planned Maint v6.2 CSV File'!C:C,'Contractor##'!F:F)","v":-0.17860000000000001},93.705312000000006,"Pane:Reglaze single pane in 6.4mm laminated glass over 1.00sm, hack out and glaze with putty, sprigs, clips or beads at any level, touch up decoration to match existing, and remove waste and debris."]
["5350BC","PANE:REGLAZE 4.4MM LAMINATED UPTO 1.00SM","GLAZING","Reglaze Doors and Windows","Glass - Laminated","NO",94.23,{"$f":"SUMIF('Contractor##'!C:C,'Planned Maint v6.2 CSV File'!C:C,'Contractor##'!F:F)","v":-0.17860000000000001},77.400522000000009,"Pane:Reglaze single pane in 4.4mm laminated glass, upto 1.00sm, hack out and glaze with putty, sprigs, clips or beads at any level, touch up decoration to match existing, and remove waste and debris."]
["5350BD","PANE:REGLAZE 4.4MM LAMINATED OVER 1.00SM","GLAZING","Reglaze Doors and Windows","Glass - Laminated","SM",99.85,{"$f":"SUMIF('Contractor##'!C:C,'Planned Maint v6.2 CSV File'!C:C,'Contractor##'!F:F)","v":-0.17860000000000001},82.01679,"Pane:Reglaze single pane in 4.4mm laminated glass, over 1.00sm hack out and glaze with putty, sprigs, clips or beads at any level, touch up decoration to match existing, and remove waste and debris."]
["5400AC","PANE:REGLAZE 4MM POLYCARBONATE UPTO 1.00SM","GLAZING","Reglaze Doors and Windows","Glass - Polycarbonate","NO",106.27,{"$f":"SUMIF('Contractor##'!C:C,'Planned Maint v6.2 CSV File'!C:C,'Contractor##'!F:F)","v":-0.17860000000000001},87.290177999999997,"Pane:Reglaze single pane in 4mm polycarbonate upto 1.00sm, hack out and glaze with putty, sprigs, clips or beads at any level, touch up decoration to match existing, and remove waste and debris."]
["5400AD","PANE:REGLAZE 4MM POLYCARBONATE OVER 1.00SM","GLAZING","Reglaze Doors and Windows","Glass - Polycarbonate","SM",109.4,{"$f":"SUMIF('Contractor##'!C:C,'Planned Maint v6.2 CSV File'!C:C,'Contractor##'!F:F)","v":-0.17860000000000001},89.861160000000012,"Pane:Reglaze single pane in 4mm polycarbonate glass, over 1.00sm hack out and glaze with putty, sprigs, clips or beads at any level, touch up decoration to match existing, and remove waste and debris."]
["5400BA","PANE:REGLAZE 6MM POLYCARBONATE UPTO 1.00SM","GLAZING","Reglaze Doors and Windows","Glass - Polycarbonate","NO",148.52000000000001,{"$f":"SUMIF('Contractor##'!C:C,'Planned Maint v6.2 CSV File'!C:C,'Contractor##'!F:F)","v":-0.17860000000000001},121.99432800000001,"Pane:Reglaze single pane in 6mm polycarbonate upto 1.00sm, hack out and glaze with putty, sprigs, clips or beads at any level, touch up decoration to match existing, and remove waste and debris."]
["5400BB","PANE:REGLAZE 6MM POLYCARBONATE OVER 1.00SM","GLAZING","Reglaze Doors and Windows","Glass - Polycarbonate","SM",151.65,{"$f":"SUMIF('Contractor##'!C:C,'Planned Maint v6.2 CSV File'!C:C,'Contractor##'!F:F)","v":-0.17860000000000001},124.56531000000001,"Pane:Reglaze single pane in 6mm polycarbonate, over 1.00sm hack out and glaze with putty, sprigs, clips or beads at any level, touch up decoration to match existing, and remove waste and debris."]
["5410AA","PANE:REGLAZE 6.5MM HALF HOUR FIRE UPTO 0.50SM","GLAZING","Reglaze Doors and Windows","Fire Resisting to BS952","NO",91.56,{"$f":"SUMIF('Contractor##'!C:C,'Planned Maint v6.2 CSV File'!C:C,'Contractor##'!F:F)","v":-0.17860000000000001},75.207384000000005,"Pane:Reglaze single pane in 6.5mm Pyran or similarhalf hour fire resisting glass upto 0.50sm, hack out and glaze with intumescent liner and compound, sprigs, clips or beads at any level, touch up decoration to match existing, and remove waste and debris."]
["5410AB","PANE:REGLAZE 6.5MM HALF HOUR FIRE 0.50-1.00SM","GLAZING","Reglaze Doors and Windows","Fire Resisting to BS952","NO",186.87,{"$f":"SUMIF('Contractor##'!C:C,'Planned Maint v6.2 CSV File'!C:C,'Contractor##'!F:F)","v":-0.17860000000000001},153.49501800000002,"Pane:Reglaze single pane in 6.5mm Pyran or similar half hour fire resisting glass over 0.50 not exceeding 1.00sm, hack out and glaze with intumescent liner and compound, sprigs, clips or beads at any level, touch up decoration to match existing, and remove waste and debris."]
["5410AC","PANE:REGLAZE 6.5MM HALF HOUR FIRE OVER 1.00SM","GLAZING","Reglaze Doors and Windows","Fire Resisting to BS952","SM",282.5,{"$f":"SUMIF('Contractor##'!C:C,'Planned Maint v6.2 CSV File'!C:C,'Contractor##'!F:F)","v":-0.17860000000000001},232.0455,"Pane:Reglaze single pane in 6.5mm Pyran or similar half hour fire resisting glass over 1.00sm, hack out and glaze with intumescent liner and compound, sprigs, clips or beads at any level, touch up decoration to match existing, and remove waste and debris."]
["5410BA","PANE:REGLAZE 15MM ONE HOUR FIRE UPTO 0.50SM","GLAZING","Reglaze Doors and Windows","Fire Resisting to BS952","NO",162.56,{"$f":"SUMIF('Contractor##'!C:C,'Planned Maint v6.2 CSV File'!C:C,'Contractor##'!F:F)","v":-0.17860000000000001},133.52678399999999,"Pane:Reglaze single pane in 15mm Pyrostop or similar one hour fire resisting glass, upto 0.50sm, hack out and glaze with intumescent liner and compound, sprigs, clips or beads at any level, touch up decoration to match existing, and remove waste and debris."]
["5410BB","PANE:REGLAZE 15MM ONE HOUR FIRE UPTO 1.00SM","GLAZING","Reglaze Doors and Windows","Fire Resisting to BS952","NO",305.33999999999997,{"$f":"SUMIF('Contractor##'!C:C,'Planned Maint v6.2 CSV File'!C:C,'Contractor##'!F:F)","v":-0.17860000000000001},250.806276,"Pane:Reglaze single pane in 15mm Pyrostop or similar one hour fire resisting glass, over 0.50 not exceeding 1.00sm, hack out and glaze with intumescent liner and compound, sprigs, clips or beads at any level, touch up decoration to match existing, and remove waste and debris."]
["5410BC","PANE:REGLAZE 15 MM ONE HOUR FIRE OVER 1.00SM","GLAZING","Reglaze Doors and Windows","Fire Resisting to BS952","SM",376.12,{"$f":"SUMIF('Contractor##'!C:C,'Planned Maint v6.2 CSV File'!C:C,'Contractor##'!F:F)","v":-0.17860000000000001},308.94496800000002,"Pane:Reglaze single pane in 15mm  Pyrostop or similar one hour fire resisting glass, over 1.00sm hack out and glaze with intumescent liner and compound, sprigs, clips or beads at any level, touch up decoration to match existing, and remove waste and debris."]
["5412AA","PANE:REGLAZE 7MM FIRE SAFETY IMPACT UPTO 1.00SM","GLAZING","Reglaze Doors and Windows","7mm Fire Safety Impact Glass","NO",204.4,{"$f":"SUMIF('Contractor##'!C:C,'Planned Maint v6.2 CSV File'!C:C,'Contractor##'!F:F)","v":-0.17860000000000001},167.89416,"Pane:Reglaze single pane in 7mm clear pyrostem or pyroshield fire/safety wired impact glass upto 1.00sm, hack out and glaze with putty, sprigs, clips or beads at any level, touch up decoration to match existing, and remove waste and debris."]
["5412AB","PANE:REGLAZE 7MM FIRE SAFETY IMPACT GLASS OVER 1SM","GLAZING","Reglaze Doors and Windows","7mm Fire Safety Impact Glass","SM",207.97,{"$f":"SUMIF('Contractor##'!C:C,'Planned Maint v6.2 CSV File'!C:C,'Contractor##'!F:F)","v":-0.17860000000000001},170.82655800000001,"Pane:Reglaze single pane in 7mm clear pyrostem or pyroshield fire/safety wired impact glass, over 1.00sm hack out and glaze with putty, sprigs, clips or beads at any level, touch up decoration to match existing, and remove waste and debris."]
["5420AA","PANE:REGLAZE 6MM POLISHED PLATE UPTO 1.00SM","GLAZING","Reglaze Doors and Windows","Polished Plate Glass","NO",151.87,{"$f":"SUMIF('Contractor##'!C:C,'Planned Maint v6.2 CSV File'!C:C,'Contractor##'!F:F)","v":-0.17860000000000001},124.74601800000001,"Pane:Reglaze single pane in 6mm polished plate glass upto 1.00sm, hack out and glaze with putty, sprigs, clips or beads at any level, touch up decoration to match existing, and remove waste and debris."]
["5420AB","PANE:REGLAZE 6MM POLISHED PLATE OVER 1.00SM","GLAZING","Reglaze Doors and Windows","Polished Plate Glass","SM",155,{"$f":"SUMIF('Contractor##'!C:C,'Planned Maint v6.2 CSV File'!C:C,'Contractor##'!F:F)","v":-0.17860000000000001},127.31700000000001,"Pane:Reglaze single pane in 6mm polished plate glass, over 1.00sm hack out and glaze with putty, sprigs, clips or beads at any level, touch up decoration to match existing, and remove waste and debris."]
["5501AC","DOUBLE GLAZED UNIT:REGLAZE NE 1.00SM OBSCURE","GLAZING","Reglaze Doors and Windows","Double Glazed Units - Obscure Low Emissivity [Low E] Glass","NO",81.08,{"$f":"SUMIF('Contractor##'!C:C,'Planned Maint v6.2 CSV File'!C:C,'Contractor##'!F:F)","v":-0.17860000000000001},66.599112000000005,"Double Glazed Unit:Reglaze unit upto 1.00sm, hermatically sealed with 4mm obscure low emissity (Low E) glass flush edge unit, including remove beads etc. hack out glass and glaze new unit to wood, metal or PVCu frames."]
["5501AD","DOUBLE GLAZED UNIT:REGLAZE OVER 1.0SM OBSCURE","GLAZING","Reglaze Doors and Windows","Double Glazed Units - Obscure Low Emissivity [Low E] Glass","SM",83.33,{"$f":"SUMIF('Contractor##'!C:C,'Planned Maint v6.2 CSV File'!C:C,'Contractor##'!F:F)","v":-0.17860000000000001},68.447261999999995,"Double Glazed Unit:Reglaze unit over 1.00sm with hermetically sealed 4mm obscure low emissity (Low E) glass flush edge unit, including remove beads etc., hack out glass and glaze new unit to wood, metal or PVCu frames."]
["5510AC","DOUBLE GLAZED UNIT:REGLAZE UPTO 1.00SM-CLEAR LOW E","GLAZING","Reglaze Doors and Windows","Double Glazed Units - Clear Float Low Emissivity [Low E] Glass","NO",99.56,{"$f":"SUMIF('Contractor##'!C:C,'Planned Maint v6.2 CSV File'!C:C,'Contractor##'!F:F)","v":-0.17860000000000001},81.778584000000009,"Double Glazed Unit:Reglaze unit upto 1.00sm, hermetically sealed with 4mm clear float low emissivity (Low E) glass flush edge unit, including remove beads etc and set aside, hack out glass and glaze new unit to wood, metal or PVCu frames, touch up decoration as necessary to match existing, and remove waste and debris."]
["5510AD","DOUBLE GLAZED UNIT:REGLAZE OVER 1.00SM-CLEAR LOW E","GLAZING","Reglaze Doors and Windows","Double Glazed Units - Clear Float Low Emissivity [Low E] Glass","SM",101.75,{"$f":"SUMIF('Contractor##'!C:C,'Planned Maint v6.2 CSV File'!C:C,'Contractor##'!F:F)","v":-0.17860000000000001},83.577449999999999,"Double Glazed Unit:Reglaze unit over 1.00sm with hermetically sealed with 4mm clear float low emissivity (Low E) glass flush edge unit, including remove beads etc and set aside, hack out glass and glaze new unit to wood, metal or PVCu frames, touch up decoration as necessary to match existing, and remove waste and debris."]
["5510AE","DOUBLE GLAZED UNIT:REGLAZE 28MM NE 1SM-CLEAR LOW E","GLAZING","Reglaze Doors and Windows","Double Glazed Units - Clear Float Low Emissivity [Low E] Glass","NO",113.79,{"$f":"SUMIF('Contractor##'!C:C,'Planned Maint v6.2 CSV File'!C:C,'Contractor##'!F:F)","v":-0.17860000000000001},93.467106000000001,"Double Glazed Unit:Reglaze unit upto 1.00sm with 28mm thick hermetically sealed with 4mm clear float low emissivity (Low E) glass flush edge unit, including remove beads etc and set aside, hack out glass and glaze new unit to wood, metal or PVCu frames, touch up decoration as necessary to match existing, and remove waste and debris."]
["5510AF","DOUBLE GLAZED UNIT:REGLAZE 28MM EX 1SM-CLEAR LOW E","GLAZING","Reglaze Doors and Windows","Double Glazed Units - Clear Float Low Emissivity [Low E] Glass","SM",116.92,{"$f":"SUMIF('Contractor##'!C:C,'Planned Maint v6.2 CSV File'!C:C,'Contractor##'!F:F)","v":-0.17860000000000001},96.038088000000002,"Double Glazed Unit:Reglaze unit over 1.00sm with 28mm thick hermetically sealed with 4mm clear float low emissivity (Low E) glass flush edge unit, including remove beads etc and set aside, hack out glass and glaze new unit to wood, metal or PVCu frames, touch up decoration as necessary to match existing, and remove waste and debris."]
["5560AC","DOUBLE GLAZED UNIT:REGLAZE UPTO 1.00SM-SAFETY LOWE","GLAZING","Reglaze Doors and Windows","Double Glazed Units - Safety Low Emissivity [Low E] Glass","NO",144.38999999999999,{"$f":"SUMIF('Contractor##'!C:C,'Planned Maint v6.2 CSV File'!C:C,'Contractor##'!F:F)","v":-0.17860000000000001},118.601946,"Double Glazed Unit:Reglaze unit upto 1.00sm, hermatically sealed with 4mm safety low emissivity (Low E) glass flush edge unit, including remove beads etc., hack out glass and glaze new unit to wood, metal or PVCu frames, touch up decoration as necessary to match existing, and remove waste and debris."]
["5560AD","DOUBLE GLAZED UNIT:REGLAZE OVER 1.0SM-SAFETY LOWE","GLAZING","Reglaze Doors and Windows","Double Glazed Units - Safety Low Emissivity [Low E] Glass","SM",146.58000000000001,{"$f":"SUMIF('Contractor##'!C:C,'Planned Maint v6.2 CSV File'!C:C,'Contractor##'!F:F)","v":-0.17860000000000001},120.40081200000002,"Double Glazed Unit:Reglaze unit over 1.00sm with hermetically sealed 4mm safety low emissivity (Low E) glass flush edge unit, including remove beads etc., hack out glass and glaze new unit to wood, metal or PVCu frames, touch up decoration as necessary to match existing, and remove waste and debris."]
["5560AE","DOUBLE GLAZED UNIT:REGLAZE 28MM NE 1SM-SAFETY LOWE","GLAZING","Reglaze Doors and Windows","Double Glazed Units - Safety Low Emissivity [Low E] Glass","NO",165.87,{"$f":"SUMIF('Contractor##'!C:C,'Planned Maint v6.2 CSV File'!C:C,'Contractor##'!F:F)","v":-0.17860000000000001},136.24561800000001,"Double Glazed Unit:Reglaze unit upto 1.00sm with 28mm thick hermatically sealed with 4mm safety low emissivity (Low E) glass flush edge unit, including remove beads etc., hack out glass and glaze new unit to wood, metal or PVCu frames, touch up decoration as necessary to match existing, and remove waste and debris."]
["5560AF","DOUBLE GLAZED UNIT:REGLAZE 28MM EX 1SM-SAFETY LOWE","GLAZING","Reglaze Doors and Windows","Double Glazed Units - Safety Low Emissivity [Low E] Glass","SM",169,{"$f":"SUMIF('Contractor##'!C:C,'Planned Maint v6.2 CSV File'!C:C,'Contractor##'!F:F)","v":-0.17860000000000001},138.81659999999999,"Double Glazed Unit:Reglaze unit over 1.00sm with 28mm thick hermetically sealed 4mm safety low emissivity (Low E) glass flush edge unit, including remove beads etc., hack out glass and glaze new unit to wood, metal or PVCu frames, touch up decoration as necessary to match existing, and remove waste and debris."]
["5570ZA","VACUUM DOUBLE GLAZING:REGLAZE UPTO 1.00SM-CLEAR ","GLAZING","Reglaze Doors and Windows","Vacuum Glazed Units – Pilkington energiKare Legacy Vacuum Glazing","NO",189.25,{"$f":"SUMIF('Contractor##'!C:C,'Planned Maint v6.2 CSV File'!C:C,'Contractor##'!F:F)","v":-0.17860000000000001},155.44995,"Vacuum Glazed Unit:Reglaze existing single glazed pane upto 1.00sm, with double glazed clear unit , including remove beads etc and set aside, hack out glass and glaze new unit to wood, metal or PVCu frames, touch up decoration as necessary to match existing, and remove waste and debris."]
["5570ZB","VACUUM DOUBLE GLAZING:REGLAZE OVER 1.00SM-CLEAR ","GLAZING","Reglaze Doors and Windows","Vacuum Glazed Units – Pilkington energiKare Legacy Vacuum Glazing","SM",282.2,{"$f":"SUMIF('Contractor##'!C:C,'Planned Maint v6.2 CSV File'!C:C,'Contractor##'!F:F)","v":-0.17860000000000001},231.79908,"Vacuum Glazed Unit:Reglaze existing single glazed pane over 1.00sm, with double glazed clear unit , including remove beads etc and set aside, hack out glass and glaze new unit to wood, metal or PVCu frames, touch up decoration as necessary to match existing, and remove waste and debris."]
["5570ZC","VACUUM DOUBLE GLAZING:REGLAZE UPTO 1.00SM-OBSCURE","GLAZING","Reglaze Doors and Windows","Vacuum Glazed Units – Pilkington energiKare Legacy Vacuum Glazing","NO",197.25,{"$f":"SUMIF('Contractor##'!C:C,'Planned Maint v6.2 CSV File'!C:C,'Contractor##'!F:F)","v":-0.17860000000000001},162.02115000000001,"Vacuum Glazed Unit:Reglaze existing single glazed pane upto 1.00sm, with double glazed obscure unit , including remove beads etc and set aside, hack out glass and glaze new unit to wood, metal or PVCu frames, touch up decoration as necessary to match existing, and remove waste and debris."]
["5570ZD","VACUUM DOUBLE GLAZING:REGLAZE OVER 1.00SM-OBSCURE ","GLAZING","Reglaze Doors and Windows","Vacuum Glazed Units – Pilkington energiKare Legacy Vacuum Glazing","SM",290.2,{"$f":"SUMIF('Contractor##'!C:C,'Planned Maint v6.2 CSV File'!C:C,'Contractor##'!F:F)","v":-0.17860000000000001},238.37028000000001,"Vacuum Glazed Unit:Reglaze existing single glazed pane over 1.00sm, with double glazed obscure unit , including remove beads etc and set aside, hack out glass and glaze new unit to wood, metal or PVCu frames, touch up decoration as necessary to match existing, and remove waste and debris."]
["5570ZE","VACUUM DOUBLE GLAZING:REGLAZE UPTO 1.00SM-SAFETY","GLAZING","Reglaze Doors and Windows","Vacuum Glazed Units – Pilkington energiKare Legacy Vacuum Glazing","NO",491.7,{"$f":"SUMIF('Contractor##'!C:C,'Planned Maint v6.2 CSV File'!C:C,'Contractor##'!F:F)","v":-0.17860000000000001},403.88238000000001,"Vacuum Glazed Unit:Reglaze existing single glazed pane upto 1.00sm, with double glazed laminated safety glass unit , including remove beads etc and set aside, hack out glass and glaze new unit to wood, metal or PVCu frames, touch up decoration as necessary to match existing, and remove waste and debris."]
["5570ZF","VACUUM DOUBLE GLAZING:REGLAZE OVER 1.00SM-SAFETY","GLAZING","Reglaze Doors and Windows","Vacuum Glazed Units – Pilkington energiKare Legacy Vacuum Glazing","SM",584.65,{"$f":"SUMIF('Contractor##'!C:C,'Planned Maint v6.2 CSV File'!C:C,'Contractor##'!F:F)","v":-0.17860000000000001},480.23151000000001,"Vacuum Glazed Unit:Reglaze existing single glazed pane over 1.00sm, with double glazed laminated safety glass unit , including remove beads etc and set aside, hack out glass and glaze new unit to wood, metal or PVCu frames, touch up decoration as necessary to match existing, and remove waste and debris."]
["5590ZA","TRIPLE GLAZING:REGLAZE UPTO 1.00SM-CLEAR ","GLAZING","Reglaze Doors and Windows","Triple Glazed Units ","NO",264,{"$f":"SUMIF('Contractor##'!C:C,'Planned Maint v6.2 CSV File'!C:C,'Contractor##'!F:F)","v":-0.17860000000000001},216.84960000000001,"Triple Glazed Unit:Reglaze existing single or double glazed pane upto 1.00sm, with triple glazed clear unit , including remove beads etc and set aside, hack out glass and glaze new unit to wood, metal or PVCu frames, touch up decoration as necessary to match existing, and remove waste and debris."]
["5590ZB","TRIPLE GLAZING:REGLAZE OVER 1.00SM-CLEAR ","GLAZING","Reglaze Doors and Windows","Triple Glazed Units ","SM",416.36,{"$f":"SUMIF('Contractor##'!C:C,'Planned Maint v6.2 CSV File'!C:C,'Contractor##'!F:F)","v":-0.17860000000000001},341.99810400000001,"Triple Glazed Unit:Reglaze existing single or double glazed pane over 1.00sm, with triple glazed clear unit , including remove beads etc and set aside, hack out glass and glaze new unit to wood, metal or PVCu frames, touch up decoration as necessary to match existing, and remove waste and debris."]
["5590ZC","TRIPLE GLAZING:REGLAZE UPTO 1.00SM-OBSCURE","GLAZING","Reglaze Doors and Windows","Triple Glazed Units ","NO",272,{"$f":"SUMIF('Contractor##'!C:C,'Planned Maint v6.2 CSV File'!C:C,'Contractor##'!F:F)","v":-0.17860000000000001},223.42080000000001,"Triple Glazed Unit:Reglaze existing single or double glazed pane upto 1.00sm, with triple glazed obscure unit , including remove beads etc and set aside, hack out glass and glaze new unit to wood, metal or PVCu frames, touch up decoration as necessary to match existing, and remove waste and debris."]
["5590ZD","TRIPLE GLAZING:REGLAZE OVER 1.00SM-OBSCURE ","GLAZING","Reglaze Doors and Windows","Triple Glazed Units ","SM",424.36,{"$f":"SUMIF('Contractor##'!C:C,'Planned Maint v6.2 CSV File'!C:C,'Contractor##'!F:F)","v":-0.17860000000000001},348.56930400000005,"Triple Glazed Unit:Reglaze existing single or double glazed pane over 1.00sm, with triple glazed obscure unit , including remove beads etc and set aside, hack out glass and glaze new unit to wood, metal or PVCu frames, touch up decoration as necessary to match existing, and remove waste and debris."]
["5590ZE","TRIPLE GLAZING:REGLAZE UPTO 1.00SM-SAFETY","GLAZING","Reglaze Doors and Windows","Triple Glazed Units ","NO",574.45000000000005,{"$f":"SUMIF('Contractor##'!C:C,'Planned Maint v6.2 CSV File'!C:C,'Contractor##'!F:F)","v":-0.17860000000000001},471.85323000000005,"Triple Glazed Unit:Reglaze existing single or double glazed pane upto 1.00sm, with triple glazed laminated safety glass unit , including remove beads etc and set aside, hack out glass and glaze new unit to wood, metal or PVCu frames, touch up decoration as necessary to match existing, and remove waste and debris."]
["5590ZF","TRIPLE GLAZING:REGLAZE OVER 1.00SM-SAFETY","GLAZING","Reglaze Doors and Windows","Triple Glazed Units ","SM",726.81,{"$f":"SUMIF('Contractor##'!C:C,'Planned Maint v6.2 CSV File'!C:C,'Contractor##'!F:F)","v":-0.17860000000000001},597.00173399999994,"Triple Glazed Unit:Reglaze existing single or double glazed pane over 1.00sm, with triple glazed laminated safety glass unit , including remove beads etc and set aside, hack out glass and glaze new unit to wood, metal or PVCu frames, touch up decoration as necessary to match existing, and remove waste and debris."]
["5600AA","DOMELIGHT:REMOVE AND REFIX","GLAZING","Reglaze Doors and Windows","Domelights","NO",32.5,{"$f":"SUMIF('Contractor##'!C:C,'Planned Maint v6.2 CSV File'!C:C,'Contractor##'!F:F)","v":-0.17860000000000001},26.695499999999999,"Domelight:Take off and refix domelight ne 1219x1219mm including all necessary drilling and plugging and redressing of upstands and flashings."]
["5600AB","DOMELIGHT:RENEW 610X610MM COMPLETE","GLAZING","Reglaze Doors and Windows","Domelights","NO",186.23,{"$f":"SUMIF('Contractor##'!C:C,'Planned Maint v6.2 CSV File'!C:C,'Contractor##'!F:F)","v":-0.17860000000000001},152.96932200000001,"Domelight:Renew 610x610mm translucent glass fibre reinforced domelight including all necessary drilling and plugging and renewal as necessary of flashings and upstands, making good, and remove waste and debris."]
["5600AC","DOMELIGHT:RENEW 914X914MM COMPLETE","GLAZING","Reglaze Doors and Windows","Domelights","NO",226.11,{"$f":"SUMIF('Contractor##'!C:C,'Planned Maint v6.2 CSV File'!C:C,'Contractor##'!F:F)","v":-0.17860000000000001},185.72675400000003,"Domelight:Renew 914x914mm translucent glass fibre reinforced domelight including all necessary drilling and plugging and renewal as necessary of flashings and upstands, making good, and remove waste and debris."]
["5600AD","DOMELIGHT:RENEW 1210X1210MM COMPLETE","GLAZING","Reglaze Doors and Windows","Domelights","NO",247.44,{"$f":"SUMIF('Contractor##'!C:C,'Planned Maint v6.2 CSV File'!C:C,'Contractor##'!F:F)","v":-0.17860000000000001},203.24721600000001,"Domelight:Renew 1210x1210mm translucent glass fibre reinforced domelight including all necessary drilling and plugging and renewal as necessary of flashings and upstands, making good, and remove waste and debris."]
["5610AA","ROOFLIGHT:REGLAZE PYROSHIELD UPTO 0.50SM","GLAZING","Reglaze Doors and Windows","Pyroshield","NO",71,{"$f":"SUMIF('Contractor##'!C:C,'Planned Maint v6.2 CSV File'!C:C,'Contractor##'!F:F)","v":-0.17860000000000001},58.319400000000002,"Pane:Reglaze single pane to rooflight in Pyroshield Textured fire resisting glass upto 0.50sm, hack out and glaze with intumescentliner and compound, sprigs, clips or beads at any level, touch up decoration to match existing, and remove waste and debris."]
["5610AB","ROOFLIGHT:REGLAZE PYROSHIELD 0.50-1.00SM","GLAZING","Reglaze Doors and Windows","Pyroshield","NO",117.5,{"$f":"SUMIF('Contractor##'!C:C,'Planned Maint v6.2 CSV File'!C:C,'Contractor##'!F:F)","v":-0.17860000000000001},{"$f":"(1+H2244)*G2244","v":96.514499999999998},"Pane:Reglaze single pane to rooflight in Pyroshield Textured fire resisting glass over 0.50 not exceeding 1.00sm, hack out and glaze with intumescentliner and compound, sprigs, clips or beads at any level, touch up decoration to match existing, and remove waste and debris."]
["5610AC","ROOFLIGHT:REGLAZE PYROSHIELD OVER 1.00SM","GLAZING","Reglaze Doors and Windows","Pyroshield","SM",152.5,{"$f":"SUMIF('Contractor##'!C:C,'Planned Maint v6.2 CSV File'!C:C,'Contractor##'!F:F)","v":-0.17860000000000001},125.26350000000001,"Pane:Reglaze single pane to rooflight in Pyroshield Textured fire resisting glass over 1.00sm, hack out and glaze with intumescentliner and compound, sprigs, clips or beads at any level, touch up decoration to match existing, and remove waste and debris."]
["5610BA","ROOFLIGHT:REGLAZE 4MM POLYCARBONATE UPTO 1.00SM","GLAZING","Reglaze Doors and Windows","Polycarbonate","NO",115.65,{"$f":"SUMIF('Contractor##'!C:C,'Planned Maint v6.2 CSV File'!C:C,'Contractor##'!F:F)","v":-0.17860000000000001},94.994910000000004,"Rooflight:Reglaze single pane in 4mm polycarbonate upto 1.00sm, hack out and glaze with putty, sprigs, clips or beads at any level, touch up decoration to match existing, and remove waste and debris."]
["5610BB","ROOFLIGHT:REGLAZE 4MM POLYCARBONATE OVER 1.00SM","GLAZING","Reglaze Doors and Windows","Polycarbonate","SM",121.9,{"$f":"SUMIF('Contractor##'!C:C,'Planned Maint v6.2 CSV File'!C:C,'Contractor##'!F:F)","v":-0.17860000000000001},100.12866000000001,"Rooflight:Reglaze single pane in 4mm polycarbonate, over 1.00sm hack out and glaze with putty, sprigs, clips or beads at any level, touch up decoration to match existing, and remove waste and debris."]
["5610CA","ROOFLIGHT:REGLAZE 6MM POLYCARBONATE UPTO 1.00SM","GLAZING","Reglaze Doors and Windows","Polycarbonate","NO",157.9,{"$f":"SUMIF('Contractor##'!C:C,'Planned Maint v6.2 CSV File'!C:C,'Contractor##'!F:F)","v":-0.17860000000000001},129.69906,"Rooflight:Reglaze single pane in 6mm polycarbonate upto 1.00sm, hack out and glaze with putty, sprigs, clips or beads at any level, touch up decoration to match existing, and remove waste and debris."]
["5610CB","ROOFLIGHT:REGLAZE 6MM POLYCARBONATE OVER 1.00SM","GLAZING","Reglaze Doors and Windows","Polycarbonate","SM",164.15,{"$f":"SUMIF('Contractor##'!C:C,'Planned Maint v6.2 CSV File'!C:C,'Contractor##'!F:F)","v":-0.17860000000000001},134.83280999999999,"Rooflight:Reglaze single pane in 6mm polycarbonate, over 1.00sm hack out and glaze with putty, sprigs, clips or beads at any level, touch up decoration to match existing, and remove waste and debris."]
["5650AA","MIRROR:RENEW 450X450X4MM","GLAZING","Reglaze Doors and Windows","Mirrors","NO",31.51,{"$f":"SUMIF('Contractor##'!C:C,'Planned Maint v6.2 CSV File'!C:C,'Contractor##'!F:F)","v":-0.17860000000000001},25.882314000000001,"Mirror:Renew 450x450x4mm silvered float glass mirror with polished edges and predrilled holes and fix to any background including all drilling and plugging and making good, and remove waste and debris."]
["5650AB","MIRROR:RENEW 900X600X4MM","GLAZING","Reglaze Doors and Windows","Mirrors","NO",61.57,{"$f":"SUMIF('Contractor##'!C:C,'Planned Maint v6.2 CSV File'!C:C,'Contractor##'!F:F)","v":-0.17860000000000001},50.573598000000004,"Mirror:Renew 900x600x4mm silvered float glass mirror with polished edges and predrilled holes and fix to any background including all drilling and plugging and making good, and remove waste and debris."]
["5700AA","SCREEN:RENEW GLASS SCREEN/BATH","GLAZING","Reglaze Doors and Windows","Shower Screens","NO",157.26,{"$f":"SUMIF('Contractor##'!C:C,'Planned Maint v6.2 CSV File'!C:C,'Contractor##'!F:F)","v":-0.17860000000000001},129.17336399999999,"Screen:Renew or supply and install framed glass over bath shower screen including remove existing, drill and plug as necessary and fit new screen including all making good."]
["5700BA","SHOWER SCREEN:RENEW TWO SIDED GLASS SCREEN","GLAZING","Reglaze Doors and Windows","Shower Screens","IT",487.5,{"$f":"SUMIF('Contractor##'!C:C,'Planned Maint v6.2 CSV File'!C:C,'Contractor##'!F:F)","v":-0.17860000000000001},400.4325,"Shower Screen:Renew any two sided framed glass shower screen and door complete to individual cubicle above shower tray, remove existing, drill and plug as necessary and fit new screen including all making good."]
["5700BB","SHOWER SCREEN:RENEW THREE SIDED GLASS SCREEN","GLAZING","Reglaze Doors and Windows","Shower Screens","IT",646.87,{"$f":"SUMIF('Contractor##'!C:C,'Planned Maint v6.2 CSV File'!C:C,'Contractor##'!F:F)","v":-0.17860000000000001},531.33901800000001,"Shower Screen:Renew any three sided framed glass shower screen and door complete to individual cubicle above shower tray, remove existing, drill and plug as necessary and fit new screen including all making good."]
["5730ZA","CONDENSATION DRIP TRAY:RENEW","GLAZING","Reglaze Doors and Windows","Double Glazing Repairs","IT",25.18,{"$f":"SUMIF('Contractor##'!C:C,'Planned Maint v6.2 CSV File'!C:C,'Contractor##'!F:F)","v":-0.17860000000000001},20.682852,"Condensation Drip Tray:Carefully remove any size of double glazed unit, dismantle and renew condensation drip tray, reinstall double glazed unit including renewing any gaskets as necessary."]
["5730ZB","DOUBLE GLAZED UNITS:REFIX","GLAZING","Reglaze Doors and Windows","Double Glazing Repairs","NO",29.22,{"$f":"SUMIF('Contractor##'!C:C,'Planned Maint v6.2 CSV File'!C:C,'Contractor##'!F:F)","v":-0.17860000000000001},24.001307999999998,"Double Glazed Unit:Carefully remove any size of double glazed unit, renew gaskets as necessary, and refix including rebedding in silicone."]
["5750AA","VENT:RENEW CIRCULAR TO EXISTING OPENING","GLAZING","Reglaze Doors and Windows","Sundries","NO",13.83,{"$f":"SUMIF('Contractor##'!C:C,'Planned Maint v6.2 CSV File'!C:C,'Contractor##'!F:F)","v":-0.17860000000000001},11.359961999999999,"Vent:Renew circular vent to existing opening including carefully remove existing plastic ventilator and fit new ventilator, glass breakage is Service Provider’s risk."]
["5750AB","VENT:FIT NEW CIRCULAR TO EXISTING GLASS","GLAZING","Reglaze Doors and Windows","Sundries","NO",24.76,{"$f":"SUMIF('Contractor##'!C:C,'Planned Maint v6.2 CSV File'!C:C,'Contractor##'!F:F)","v":-0.17860000000000001},20.337864000000003,"Vent:Fit new circular vent to existing glass incl. carefully cut hole in glass and fit new ventilator, glass breakage is Service Provider’s risk."]
["5750AC","VENT:FIT METAL PERMAVENT","GLAZING","Reglaze Doors and Windows","Sundries","NO",29.01,{"$f":"SUMIF('Contractor##'!C:C,'Planned Maint v6.2 CSV File'!C:C,'Contractor##'!F:F)","v":-0.17860000000000001},23.828814000000001,"Vent:Supply and fit metal Permavent to window including scribing to line, knock out glass and install Permavent. Glass breakage is Service Provider’s risk."]
["5750BA","FILM:APPLY SOLAR REFLECTIVE FILM","GLAZING","Reglaze Doors and Windows","Safety and Solar Films","SM",75.67,{"$f":"SUMIF('Contractor##'!C:C,'Planned Maint v6.2 CSV File'!C:C,'Contractor##'!F:F)","v":-0.17860000000000001},62.155338,"Film:Prepare and apply solar reflective film to glass surfaces including all cutting and fitting to edges."]
["5750BB","FILM:APPLY SAFETY FILM","GLAZING","Reglaze Doors and Windows","Safety and Solar Films","SM",63.51,{"$f":"SUMIF('Contractor##'!C:C,'Planned Maint v6.2 CSV File'!C:C,'Contractor##'!F:F)","v":-0.17860000000000001},52.167113999999998,"Film:Prepare and apply safety film to glass surfaces including all cutting and fitting to edges."]
["5750BC","FILM:APPLY SAFETY FILM - 100 MICRON BOMB PROOF","GLAZING","Reglaze Doors and Windows","Safety and Solar Films","SM",46.69,{"$f":"SUMIF('Contractor##'!C:C,'Planned Maint v6.2 CSV File'!C:C,'Contractor##'!F:F)","v":-0.17860000000000001},38.351165999999999,"Film:Prepare and apply 100 Micron bomb proof safety film to glass surfaces including all cutting and fitting to edges."]
["5750BD","FILM:APPLY SAFETY FILM - 175 MICRON BOMB PROOF","GLAZING","Reglaze Doors and Windows","Safety and Solar Films","SM",49.69,{"$f":"SUMIF('Contractor##'!C:C,'Planned Maint v6.2 CSV File'!C:C,'Contractor##'!F:F)","v":-0.17860000000000001},40.815365999999997,"Film:Prepare and apply 175 Micron bomb proof safety film to glass surfaces including all cutting and fitting to edges."]
["5750BE","FILM:APPLY SAFETY FILM - 300 MICRON BOMB PROOF","GLAZING","Reglaze Doors and Windows","Safety and Solar Films","SM",53.69,{"$f":"SUMIF('Contractor##'!C:C,'Planned Maint v6.2 CSV File'!C:C,'Contractor##'!F:F)","v":-0.17860000000000001},44.100966,"Film:Prepare and apply 300 Micron bomb proof safety film to glass surfaces including all cutting and fitting to edges."]
["5750CA","PUTTY:RENEW DEFECTIVE PUTTY","GLAZING","Reglaze Doors and Windows","Sundries","LM",3.41,{"$f":"SUMIF('Contractor##'!C:C,'Planned Maint v6.2 CSV File'!C:C,'Contractor##'!F:F)","v":-0.17860000000000001},2.8009740000000001,"Putty:Renew loose or defective putty, hack out old, prepare and apply new putty, and remove waste and debris."]
["5750CB","BEAD:RENEW DEFECTIVE GLAZING BEAD","GLAZING","Reglaze Doors and Windows","Sundries","LM",6.92,{"$f":"SUMIF('Contractor##'!C:C,'Planned Maint v6.2 CSV File'!C:C,'Contractor##'!F:F)","v":-0.17860000000000001},5.684088,"Bead:Renew any type of defective glazing bead including remove existing bead, clean, prepare and supply and fit new bead to match existing including all cutting, mitres, sealing with silicone sealant as necessary and prepare for redecoration, and remove waste and debris."]
["5750CC","BEAD:APPLY SILICONE SEAL TO GLAZING BEAD","GLAZING","Reglaze Doors and Windows","Sundries","LM",4.6900000000000004,{"$f":"SUMIF('Contractor##'!C:C,'Planned Maint v6.2 CSV File'!C:C,'Contractor##'!F:F)","v":-0.17860000000000001},3.8523660000000004,"Bead:Seal around glazing bead with silicone sealant including remove existing bead, clean and prepare rebate and refix bead and prepare for redecoration, and remove waste and debris."]
["5750DA","WINDOW:BED EDGES IN WASHLEATHER STRIP","GLAZING","Reglaze Doors and Windows","Sundries","LM",2.61,{"$f":"SUMIF('Contractor##'!C:C,'Planned Maint v6.2 CSV File'!C:C,'Contractor##'!F:F)","v":-0.17860000000000001},2.1438540000000001,"Window:Extra for bedding edges of glass in washleather strip including sealing externally with putty and prepare for redecoration, and remove waste and debris."]
["5750EA","GASKETS:EXTRA OVER FOR COMPRESSION GASKET","GLAZING","Reglaze Doors and Windows","Sundries","LM",1.55,{"$f":"SUMIF('Contractor##'!C:C,'Planned Maint v6.2 CSV File'!C:C,'Contractor##'!F:F)","v":-0.17860000000000001},1.2731700000000001,"Gaskets:Extra over reglazing or renewal items for glazing to any metal or PVCu frame with compression gaskets instead of putty or beads."]
["5750FA","LOUVRE:RENEW BLADE NE 950MM LONG","GLAZING","Reglaze Doors and Windows","Sundries","NO",18.29,{"$f":"SUMIF('Contractor##'!C:C,'Planned Maint v6.2 CSV File'!C:C,'Contractor##'!F:F)","v":-0.17860000000000001},15.023406,"Louvre:Renew 6mm glass louvre blade ne 950mm long with polished edges including remove existing blade and bed/clip into jamb."]
["5750GA","TEMPORARY GLAZING:FIX PRIOR TO REPLACEMENT UNIT","GLAZING","Reglaze Doors and Windows","Sundries","NO",25.11,{"$f":"SUMIF('Contractor##'!C:C,'Planned Maint v6.2 CSV File'!C:C,'Contractor##'!F:F)","v":-0.17860000000000001},20.625354000000002,"Temporary Glazing:Provide and fix temporary glazing or boarding prior to the replacement of double glazed unit including hack out, bed and seal as necessary."]
["5750HA","SYLGLAS:FIT TAPE NE 100MM WIDE","GLAZING","Reglaze Doors and Windows","Sundries","LM",6.98,{"$f":"SUMIF('Contractor##'!C:C,'Planned Maint v6.2 CSV File'!C:C,'Contractor##'!F:F)","v":-0.17860000000000001},5.7333720000000001,"Sylglas:Prepare and apply Sylglas tape ne 100mm wide as temporary repair."]
["5750JA","SASH:EXTRA OVER GLAZING TO DISMANTLE SASH","GLAZING","Reglaze Doors and Windows","Sundries","NO",52.9,{"$f":"SUMIF('Contractor##'!C:C,'Planned Maint v6.2 CSV File'!C:C,'Contractor##'!F:F)","v":-0.17860000000000001},43.452060000000003,"Sash:Any reglazing works to windows of any type or size for removing sash or casement, dismantling, rebuilding and later refitting, making good all disturbed (can only be claimed if authorised by the Client’s Representative)."]
["5760AA","CONVERT:SINGLE PANE CLEAR","GLAZING","Reglaze Doors and Windows","Convert from Single to Double","SM",86.46,{"$f":"SUMIF('Contractor##'!C:C,'Planned Maint v6.2 CSV File'!C:C,'Contractor##'!F:F)","v":-0.17860000000000001},71.018243999999996,"Convert:Carefully remove existing single clear glazing pane, supply and install hermetically sealed with 4mm clear float glass and 12mm air gap flush edge unit, including remove beads etc and set aside, hack out glass and glaze new unit to wood, metal or PVCu frames, provide and install or refix in glass ventilators, remove and refix tenants net curtains, remove and refix any secondary glazing, and remove waste and debris."]
["5760BA","CONVERT:SINGLE PANE OBSCURE","GLAZING","Reglaze Doors and Windows","Convert from Single to Double","SM",86.46,{"$f":"SUMIF('Contractor##'!C:C,'Planned Maint v6.2 CSV File'!C:C,'Contractor##'!F:F)","v":-0.17860000000000001},71.018243999999996,"Convert:Carefully remove existing single obscure glazing pane, supply and install hermetically sealed with 4mm obscure glass and 12mm air gap flush edge unit, including remove beads etc and set aside, hack out glass and glaze new unit to wood, metal or PVCu frames, provide and install or refix in glass ventilators, remove and refix tenants net curtains, remove and refix any secondary glazing, and remove waste and debris. "]
["5760CA","CONVERT:SINGLE PANE SAFETY","GLAZING","Reglaze Doors and Windows","Convert from Single to Double","SM",132.79,{"$f":"SUMIF('Contractor##'!C:C,'Planned Maint v6.2 CSV File'!C:C,'Contractor##'!F:F)","v":-0.17860000000000001},109.073706,"Convert:Carefully remove existing single clear glazing pane, supply and install hermetically sealed with 6mm safety glass and 12mm air gap flush edge unit, including remove beads etc and set aside, hack out glass and glaze new unit to wood, metal or PVCu frames, provide and install or refix in glass ventilators, remove and refix tenants net curtains, remove and refix any secondary glazing, and remove waste and debris. "]
["5765AA","SECONDARY:INSTALL GLAZING","GLAZING","Reglaze Doors and Windows","Secondary Glazing","SM",110,{"$f":"SUMIF('Contractor##'!C:C,'Planned Maint v6.2 CSV File'!C:C,'Contractor##'!F:F)","v":-0.17860000000000001},90.353999999999999,"Secondary:Supply and install proprietary secondary glazing remove and refix tenants net curtains, install framing plugged and screwed to window reveals, head and cillboard, install glazing units complete with lock, and all ironmongery, make good finishes and touch up decorations, and remove waste and debris."]
["6011AA","DOWNPIPE:RENEW PVCU NE 2 STOREY","PLUMBING","Rainwater Pipework","Rainwater Pipework - PVCu","IT",89.95,{"$f":"SUMIF('Contractor##'!C:C,'Planned Maint v6.2 CSV File'!C:C,'Contractor##'!F:F)","v":-0.25890000000000002},66.661945000000003,"Downpipe:Renew round or square PVCu downpipe to ne 2 storey dwelling complete with new brackets plugged to brickwork and all necessary branches, offset projections, hopperhead, shoe, terminal and slate if required including all cutting and making joints and make good to structure and all finishes, and remove waste and debris."]
["6011AB","DOWNPIPE:RENEW PVCU 2-4 STOREY","PLUMBING","Rainwater Pipework","Rainwater Pipework - PVCu","IT",162.66,{"$f":"SUMIF('Contractor##'!C:C,'Planned Maint v6.2 CSV File'!C:C,'Contractor##'!F:F)","v":-0.25890000000000002},120.547326,"Downpipe:Renew round or square PVCu downpipe to over 2, ne 4 storey dwelling complete with new brackets plugged to brickwork and all necessary branches, offset projections, hopperhead, shoe, terminal and slate if required including all cutting and making joints and make good to structure and all finishes, and remove waste and debris."]
["6011AC","DOWNPIPE:RENEW PVCU PIPE","PLUMBING","Rainwater Pipework","Rainwater Pipework - PVCu","LM",15.48,{"$f":"SUMIF('Contractor##'!C:C,'Planned Maint v6.2 CSV File'!C:C,'Contractor##'!F:F)","v":-0.25890000000000002},11.472227999999999,"Downpipe:Renew round or square PVCu downpipe, remove and refix or renew pipe brackets plugged and screwed to brickwork including cutting and making joints, make good to structure and finishes, and remove waste and debris."]
["6011CA","DOWNPIPE:REMOVE AND REFIX PVCU COMPLETE","PLUMBING","Rainwater Pipework","Rainwater Pipework - PVCu","LM",13.68,{"$f":"SUMIF('Contractor##'!C:C,'Planned Maint v6.2 CSV File'!C:C,'Contractor##'!F:F)","v":-0.25890000000000002},10.138247999999999,"Downpipe:Take down any PVCu downpipe, remove and refix pipe brackets, plugged and screwed to brickwork and refix downpipes including all hopperheads offsets, shoes and remake all joints, make good to structure and finishes, and remove waste and debris."]
["6011CB","DOWNPIPE:RENEW NE 300MM PVCU OFFSET","PLUMBING","Rainwater Pipework","Rainwater Pipework - PVCu","NO",26.31,{"$f":"SUMIF('Contractor##'!C:C,'Planned Maint v6.2 CSV File'!C:C,'Contractor##'!F:F)","v":-0.25890000000000002},19.498341,"Downpipe:Renew any type of PVCu offset, ne 300mm projection including all cutting and remake joints, make good to structure and finishes."]
["6011CD","DOWNPIPE:RENEW PVCU HOPPERHEAD","PLUMBING","Rainwater Pipework","Rainwater Pipework - PVCu","NO",21.84,{"$f":"SUMIF('Contractor##'!C:C,'Planned Maint v6.2 CSV File'!C:C,'Contractor##'!F:F)","v":-0.25890000000000002},16.185624000000001,"Downpipe:Renew PVCu downpipe hopperhead for round or square downpipe, plugged and screwed to brickwork including all cutting and remake joints, make good to structure and finishes."]
["6011CE","DOWNPIPE:RENEW PVCU SHOE","PLUMBING","Rainwater Pipework","Rainwater Pipework - PVCu","NO",8.1300000000000008,{"$f":"SUMIF('Contractor##'!C:C,'Planned Maint v6.2 CSV File'!C:C,'Contractor##'!F:F)","v":-0.25890000000000002},6.0251430000000008,"Downpipe:Renew any type of PVCu downpipe shoe plugged and screwed to brickwork including all cutting and remake joints, make good to structure and finishes."]
["6011CF","DOWNPIPE:RENEW PVCU BRANCH","PLUMBING","Rainwater Pipework","Rainwater Pipework - PVCu","NO",25.9,{"$f":"SUMIF('Contractor##'!C:C,'Planned Maint v6.2 CSV File'!C:C,'Contractor##'!F:F)","v":-0.25890000000000002},19.194489999999998,"Downpipe:Renew round or square PVCu branch including all cutting and making joints, make good to structure and finishes."]
["6013AA","DOWNPIPE:76.5MM CAST ALUMINIUM NE 2 STOREY","PLUMBING","Rainwater Pipework","Rainwater Pipework - Cast Aluminium","IT",148.47999999999999,{"$f":"SUMIF('Contractor##'!C:C,'Planned Maint v6.2 CSV File'!C:C,'Contractor##'!F:F)","v":-0.25890000000000002},110.03852799999999,"Downpipe:Renew ne 76.5mm cast aluminium downpipe complete to ne 2 storey dwelling with new brackets plugged and screwed to brickwork and all necessary branches, offset projections, hopperheads, shoe, terminal and slate if necessary, cut and make all joints, make good to structure and finishes and prepare for redecoration, and remove waste and debris."]
["6013AB","DOWNPIPE:76.5MM CAST ALUMINIUM 2-4 STOREY","PLUMBING","Rainwater Pipework","Rainwater Pipework - Cast Aluminium","IT",286.87,{"$f":"SUMIF('Contractor##'!C:C,'Planned Maint v6.2 CSV File'!C:C,'Contractor##'!F:F)","v":-0.25890000000000002},212.599357,"Downpipe:Renew ne 76.5mm cast aluminium downpipe complete to exc 2, ne 4 storey dwelling with new brackets plugged and screwed to brickwork and all branches, offset projections, hopperheads, shoe, terminal and slate if necessary, cut and make all joints, make good to structure and finishes and prepare for redecoration, and remove waste and debris."]
["6013AC","DOWNPIPE:RENEW NE 76.5MM ALUMINIUM","PLUMBING","Rainwater Pipework","Rainwater Pipework - Cast Aluminium","LM",23.33,{"$f":"SUMIF('Contractor##'!C:C,'Planned Maint v6.2 CSV File'!C:C,'Contractor##'!F:F)","v":-0.25890000000000002},17.289862999999997,"Downpipe:Renew ne 76.5mm diameter cast aluminium downpipe, remove and refix or renew pipe brackets plugged and screwed to brickwork including cutting and making joints, make good to structureand finishes and prepare for redecoration, and remove waste and debris."]
["6013BA","DOWNPIPE:102MM ALUMINIUM NE 2 STOREY","PLUMBING","Rainwater Pipework","Rainwater Pipework - Cast Aluminium","IT",186.4,{"$f":"SUMIF('Contractor##'!C:C,'Planned Maint v6.2 CSV File'!C:C,'Contractor##'!F:F)","v":-0.25890000000000002},138.14104,"Downpipe:Renew 102mm cast aluminium downpipe complete to ne 2 storey dwelling with new brackets plugged and screwed to brickwork and all necessary branches, offset projections, hopperheads, shoe, terminal and slate if necessary, cut and make all joints, make good to structure and finishes and prepare for redecoration, and remove waste and debris."]
["6013BB","DOWNPIPE:102MM ALUMINIUM 2-4 STOREY","PLUMBING","Rainwater Pipework","Rainwater Pipework - Cast Aluminium","IT",342.49,{"$f":"SUMIF('Contractor##'!C:C,'Planned Maint v6.2 CSV File'!C:C,'Contractor##'!F:F)","v":-0.25890000000000002},253.81933900000001,"Downpipe:Renew 102mm cast aluminium downpipe complete to exc 2, ne 4 storey dwelling with new brackets plugged and screwed to brickwork and all branches, offset projections, hopperheads, shoe, terminal and slate if necessary, cut and make all joints, make good to structure and finishes and prepare for redecoration, and remove waste and debris."]
["6013BC","DOWNPIPE:RENEW 102MM ALUMINIUM","PLUMBING","Rainwater Pipework","Rainwater Pipework - Cast Aluminium","LM",31.35,{"$f":"SUMIF('Contractor##'!C:C,'Planned Maint v6.2 CSV File'!C:C,'Contractor##'!F:F)","v":-0.25890000000000002},23.233485000000002,"Downpipe:Renew 102mm diameter cast aluminium downpipe, remove and refix or renew pipe brackets plugged and screwed to brickwork including cutting and making joints, make good to structureand finishes and prepare for redecoration, and remove waste and debris."]
["6013CA","DOWNPIPE:REMOVE AND REFIX CAST ALUMINIUM COMPLETE","PLUMBING","Rainwater Pipework","Rainwater Pipework - Cast Aluminium","LM",6.74,{"$f":"SUMIF('Contractor##'!C:C,'Planned Maint v6.2 CSV File'!C:C,'Contractor##'!F:F)","v":-0.25890000000000002},4.9950140000000003,"Downpipe:Take down any cast aluminium downpipe, remove/refix pipe brackets, plugged and screwed to brickwork and refix downpipes including all hopperheads, offsets, branches, shoes and remake all joints, make good to structure and finishes and prepare for redecoration, and remove waste and debris."]
["6014AA","DOWNPIPE:76.5MM PC ALUMINIUM NE 2 STOREY","PLUMBING","Rainwater Pipework","Rainwater Pipework - Polyester Coated Aluminium","IT",157.86000000000001,{"$f":"SUMIF('Contractor##'!C:C,'Planned Maint v6.2 CSV File'!C:C,'Contractor##'!F:F)","v":-0.25890000000000002},116.99004600000001,"Downpipe:Renew ne 76.5mm powder coated cast aluminium downpipe complete to ne 2 storey dwelling with new brackets plugged and screwed to brickwork and all necessary branches, offset projections, hopperheads, shoe, terminal and slate if necessary, cut and make all joints, make good to structure and finishes, and remove waste and debris."]
["6014AB","DOWNPIPE:76.5MM PC ALUMINIUM 2-4 STOREY","PLUMBING","Rainwater Pipework","Rainwater Pipework - Polyester Coated Aluminium","IT",276.60000000000002,{"$f":"SUMIF('Contractor##'!C:C,'Planned Maint v6.2 CSV File'!C:C,'Contractor##'!F:F)","v":-0.25890000000000002},204.98826000000003,"Downpipe:Renew ne 76.5mm powdercoated cast aluminium downpipe complete to exc 2, ne 4 storey dwelling with new brackets plugged and screwed to brickwork and all necessary branches, offset projections, hopperheads, shoe, terminal and slate if necessary, cut and make all joints, make good to structure and finishes, and remove waste and debris."]
["6014AC","DOWNPIPE:RENEW 76.5MM PC ALUMINIUM","PLUMBING","Rainwater Pipework","Rainwater Pipework - Polyester Coated Aluminium","LM",26.33,{"$f":"SUMIF('Contractor##'!C:C,'Planned Maint v6.2 CSV File'!C:C,'Contractor##'!F:F)","v":-0.25890000000000002},19.513162999999999,"Downpipe:Renew ne 76.5mm powder coated cast aluminium downpipe, remove and refix or renew pipe brackets plugged and screwed to brickwork including cutting and making joints, make good to structure and finishes, and remove waste and debris."]
["6014BA","DOWNPIPE:102MM PC ALUMINIUM NE 2 STOREY","PLUMBING","Rainwater Pipework","Rainwater Pipework - Polyester Coated Aluminium","IT",193.17,{"$f":"SUMIF('Contractor##'!C:C,'Planned Maint v6.2 CSV File'!C:C,'Contractor##'!F:F)","v":-0.25890000000000002},143.15828699999997,"Downpipe:Renew 102mm powder coated cast aluminium downpipe complete to ne 2 storey dwelling with new brackets plugged and screwed to brickwork and all necessary branches, offset projections, hopperheads, shoe, terminal and slate if necessary, cut and make all joints, make good to structure and finishes, and remove waste and debris."]
["6014BB","DOWNPIPE:102MM PC ALUMINIUM 2-4 STOREY","PLUMBING","Rainwater Gutters","Rainwater Pipework - Polyester Coated Aluminium","IT",337.49,{"$f":"SUMIF('Contractor##'!C:C,'Planned Maint v6.2 CSV File'!C:C,'Contractor##'!F:F)","v":-0.25890000000000002},250.11383900000001,"Downpipe:Renew 102mm powdercoated cast aluminium downpipe complete to exc 2, ne 4 storey dwelling with new brackets plugged and screwed to brickwork and all necessary branches, offset projections, hopperheads, shoe, terminal and slate if necessary, cut and make all joints, make good to structure and finishes, and remove waste and debris."]
["6014BC","DOWNPIPE:RENEW 102MM PC ALUMINIUM","PLUMBING","Rainwater Gutters","Rainwater Pipework - Polyester Coated Aluminium","LM",34.15,{"$f":"SUMIF('Contractor##'!C:C,'Planned Maint v6.2 CSV File'!C:C,'Contractor##'!F:F)","v":-0.25890000000000002},25.308564999999998,"Downpipe:Renew 102mm powder coated cast aluminium downpipe, remove and refix or renew pipe brackets plugged and screwed to brickwork including cutting and making joints, make good to structure and finishes, and remove waste and debris."]
["6014CA","DOWNPIPE:REMOVE AND REFIX PC ALUMINIUM","PLUMBING","Rainwater Gutters","Rainwater Pipework - Polyester Coated Aluminium","LM",8.9499999999999993,{"$f":"SUMIF('Contractor##'!C:C,'Planned Maint v6.2 CSV File'!C:C,'Contractor##'!F:F)","v":-0.25890000000000002},6.6328449999999997,"Downpipe:Take down any powder coated cast aluminium downpipe, remove/refix pipe brackets, plugged and screwed to brickwork and refix downpipes including all hopperheads, offsets, branches, shoes and remake all joints, make good to structure and finishes, and remove waste and debris."]
["6015AA","DOWNPIPE:RENEW 50MM CAST IRON PIPE","PLUMBING","Rainwater Gutters","Rainwater Pipework - Cast Iron Repairs","LM",45.87,{"$f":"SUMIF('Contractor##'!C:C,'Planned Maint v6.2 CSV File'!C:C,'Contractor##'!F:F)","v":-0.25890000000000002},33.994256999999998,"Downpipe:Renew 50mm diameter cast iron downpipe, remove and refix or renew pipe brackets plugged and screwed to brickwork and all branches, offset projections, hopperheads, shoe, terminal and slate if necessary, cut and make all joints, make good to structure and finishes and prepare for redecoration, and remove waste and debris."]
["6015BA","DOWNPIPE:RENEW 63MM CAST IRON PIPE","PLUMBING","Rainwater Gutters","Rainwater Pipework - Cast Iron Repairs","LM",48.93,{"$f":"SUMIF('Contractor##'!C:C,'Planned Maint v6.2 CSV File'!C:C,'Contractor##'!F:F)","v":-0.25890000000000002},36.262022999999999,"Downpipe:Renew 63mm diameter cast iron downpipe, remove and refix or renew pipe brackets plugged and screwed to brickwork and all branches, offset projections, hopperheads, shoe, terminal and slate if necessary, cut and make all joints, make good to structure and finishes and prepare for redecoration, and remove waste and debris."]
["6015CA","DOWNPIPE:RENEW 75MM CAST IRON PIPE","PLUMBING","Rainwater Gutters","Rainwater Pipework - Cast Iron Repairs","LM",66.72,{"$f":"SUMIF('Contractor##'!C:C,'Planned Maint v6.2 CSV File'!C:C,'Contractor##'!F:F)","v":-0.25890000000000002},49.446191999999996,"Downpipe:Renew 75mm diameter cast iron downpipe, remove and refix or renew pipe brackets plugged and screwed to brickwork and all branches, offset projections, hopperheads, shoe, terminal and slate if necessary, cut and make all joints, make good to structure and finishes and prepare for redecoration, and remove waste and debris."]
["6015DA","DOWNPIPE:RENEW UPTO 100MM CAST IRON PIPE","PLUMBING","Rainwater Gutters","Rainwater Pipework - Cast Iron Repairs","IT",83.68,{"$f":"SUMIF('Contractor##'!C:C,'Planned Maint v6.2 CSV File'!C:C,'Contractor##'!F:F)","v":-0.25890000000000002},62.015248000000007,"Downpipe:Renew length of upto 100mm diameter cast iron downpipe, remove and refix or renew pipe brackets plugged and screwed to brickwork including cutting and making joints, make good to structure and finishes and prepare for redecoration, and remove waste and debris."]
["6015EA","DOWNPIPE:REMOVE AND REFIX CAST IRON COMPLETE","PLUMBING","Rainwater Gutters","Rainwater Pipework - Cast Iron Repairs","LM",15.84,{"$f":"SUMIF('Contractor##'!C:C,'Planned Maint v6.2 CSV File'!C:C,'Contractor##'!F:F)","v":-0.25890000000000002},11.739023999999999,"Downpipe:Take down any cast iron downpipe, remove and refix pipe brackets, plugged and screwed to brickwork and refix downpipes including all hopper heads, offsets, branches, shoes and remake all joints, make good to structure and finishes and prepare for redecoration, and remove waste and debris."]
["6015EB","DOWNPIPE:RENEW CAST IRON PIPE BRACKET","PLUMBING","Rainwater Gutters","Rainwater Pipework - Cast Iron Repairs","NO",21.82,{"$f":"SUMIF('Contractor##'!C:C,'Planned Maint v6.2 CSV File'!C:C,'Contractor##'!F:F)","v":-0.25890000000000002},16.170801999999998,"Downpipe:Renew any diameter cast iron downpipe bracket plugged and screwed to brickwork, make good to structure and finishes and prepare for redecoration, and remove waste and debris."]
["6015EC","DOWNPIPE:REFIX LOOSE CAST IRON BRACKET","PLUMBING","Rainwater Gutters","Rainwater Pipework - Cast Iron Repairs","NO",3.22,{"$f":"SUMIF('Contractor##'!C:C,'Planned Maint v6.2 CSV File'!C:C,'Contractor##'!F:F)","v":-0.25890000000000002},2.386342,"Downpipe:Refix loose downpipe bracket, including replugging and screwing to brickwork, make good to structure and finishes and prepare for redecoration, and remove waste and debris."]
["6015ED","DOWNPIPE:REMAKE CAST IRON JOINTS","PLUMBING","Rainwater Gutters","Rainwater Pipework - Cast Iron Repairs","IT",9.0299999999999994,{"$f":"SUMIF('Contractor##'!C:C,'Planned Maint v6.2 CSV File'!C:C,'Contractor##'!F:F)","v":-0.25890000000000002},6.6921329999999992,"Downpipe:Remake any loose or leaking cast iron downpipe joint or joints to any fitting, make good to structure and finishes and prepare for redecoration, and remove waste and debris."]
["6031AA","GUTTER:RENEW NE 112MM PVCU COMPLETE","PLUMBING","Rainwater Gutters","Rainwater Gutters - PVCu","LM",27.31,{"$f":"SUMIF('Contractor##'!C:C,'Planned Maint v6.2 CSV File'!C:C,'Contractor##'!F:F)","v":-0.25890000000000002},{"$f":"(1+H2308)*G2308","v":20.239440999999999},"Gutter:Renew any gutter with ne 112mm PVCu gutter of any profile including support brackets fixed to fascia complete with all necessary angles, outlets stop ends, including cutting, making gutters line and level and connections to existing guttering and downpipes, and remove waste and debris."]
["6031AB","GUTTER:RENEW 112MM PVCU","PLUMBING","Rainwater Gutters","Rainwater Gutters - PVCu","LM",17.29,{"$f":"SUMIF('Contractor##'!C:C,'Planned Maint v6.2 CSV File'!C:C,'Contractor##'!F:F)","v":-0.25890000000000002},12.813618999999999,"Gutter:Renew ne 112mm PVCu gutter of any profile, including support brackets fixed to fascia including cutting, making joints, line and level and connection to existing guttering and remove wasrte and debris."]
["6031BA","GUTTER:RENEW 150MM PVCU COMPLETE","PLUMBING","Rainwater Gutters","Rainwater Gutters - PVCu","LM",36.04,{"$f":"SUMIF('Contractor##'!C:C,'Planned Maint v6.2 CSV File'!C:C,'Contractor##'!F:F)","v":-0.25890000000000002},26.709243999999998,"Gutter:Renew any gutter with 150mm PVCu gutter of any profile including support brackets fixed to fascia complete with all necessary angles, outlets stop ends, including cutting, making gutters line and level and connections to existing guttering and downpipes, and remove waste and debris."]
["6031BB","GUTTER:RENEW 150MM PVCU","PLUMBING","Rainwater Gutters","Rainwater Gutters - PVCu","LM",23.26,{"$f":"SUMIF('Contractor##'!C:C,'Planned Maint v6.2 CSV File'!C:C,'Contractor##'!F:F)","v":-0.25890000000000002},17.237985999999999,"Gutter:Renew 150mm PVCu gutter of any profile, including support brackets fixed to fascia including cutting, making joints, line and level and connection to existing guttering and remove wasrte and debris."]
["6031CA","GUTTER:REALIGN PVCU GUTTER","PLUMBING","Rainwater Gutters","Rainwater Gutters - PVCu","LM",7.33,{"$f":"SUMIF('Contractor##'!C:C,'Planned Maint v6.2 CSV File'!C:C,'Contractor##'!F:F)","v":-0.25890000000000002},5.4322629999999998,"Gutter:Take down any PVCu gutter, remove and refix brackets to fascia and refix gutter to brackets to line and level including all angles, outlets and stop ends and remake all joints."]
["6031CB","GUTTER:RENEW PVCU STOP END","PLUMBING","Rainwater Gutters","Rainwater Gutters - PVCu","NO",5.93,{"$f":"SUMIF('Contractor##'!C:C,'Planned Maint v6.2 CSV File'!C:C,'Contractor##'!F:F)","v":-0.25890000000000002},4.3947229999999999,"Gutter:Renew ne 112mm PVCu gutter stop end of any profile, including remaking joints and line and level and remove waste and debris.."]
["6031CC","GUTTER:RENEW PVCU OUTLET","PLUMBING","Rainwater Gutters","Rainwater Gutters - PVCu","NO",10.41,{"$f":"SUMIF('Contractor##'!C:C,'Planned Maint v6.2 CSV File'!C:C,'Contractor##'!F:F)","v":-0.25890000000000002},7.7148510000000003,"Gutter:Renew ne 112mm PVCu gutter outlet of any profile, including remaking joints and line and level, and remove waste and debris."]
["6031CD","GUTTER:RENEW PVCU ANGLE","PLUMBING","Rainwater Gutters","Rainwater Gutters - PVCu","NO",10.81,{"$f":"SUMIF('Contractor##'!C:C,'Planned Maint v6.2 CSV File'!C:C,'Contractor##'!F:F)","v":-0.25890000000000002},8.0112909999999999,"Gutter:Renew ne 112mm PVCu gutter angle of any profile including remaking joints and line and level, and remove waste and debris."]
["6031CE","GUTTER:RENEW PVCU UNION","PLUMBING","Rainwater Gutters","Rainwater Gutters - PVCu","NO",9.7799999999999994,{"$f":"SUMIF('Contractor##'!C:C,'Planned Maint v6.2 CSV File'!C:C,'Contractor##'!F:F)","v":-0.25890000000000002},7.2479579999999997,"Gutter:Renew ne 112mm PVCu gutter union or fitting rubbers of any profile including remake joints and line and level, and remove waste and debris."]
["6031CF","GUTTER:RENEW PVCU BRACKET","PLUMBING","Rainwater Gutters","Rainwater Gutters - PVCu","NO",5.47,{"$f":"SUMIF('Contractor##'!C:C,'Planned Maint v6.2 CSV File'!C:C,'Contractor##'!F:F)","v":-0.25890000000000002},4.0538169999999996,"Gutter:Renew ne 112mm PVCu gutter bracket of any profile including remaking joints and line and level, and remove waste and debris."]
["6031CG","GUTTER:TAKE DOWN AND REFIX PVCU OUTLET","PLUMBING","Rainwater Gutters","Rainwater Gutters - PVCu","NO",6.76,{"$f":"SUMIF('Contractor##'!C:C,'Planned Maint v6.2 CSV File'!C:C,'Contractor##'!F:F)","v":-0.25890000000000002},5.009836,"Gutter:Take down any PVCu gutter outlet and refix and remake joints."]
["6031CH","GUTTER:REMAKE PVCU JOINT","PLUMBING","Rainwater Gutters","Rainwater Gutters - PVCu","NO",4.55,{"$f":"SUMIF('Contractor##'!C:C,'Planned Maint v6.2 CSV File'!C:C,'Contractor##'!F:F)","v":-0.25890000000000002},3.3720049999999997,"Gutter:Remake any PVCu gutter joint including break joint, clean out and make joint. "]
["6033AA","GUTTER:RENEW IN CAST IRON COMPLETE","PLUMBING","Rainwater Gutters","Rainwater Gutters - Cast Iron","LM",45.63,{"$f":"SUMIF('Contractor##'!C:C,'Planned Maint v6.2 CSV File'!C:C,'Contractor##'!F:F)","v":-0.25890000000000002},33.816392999999998,"Gutter:Renew ne 125mm cast iron gutter of any profile including support brackets fixed to fascia complete with all necessary angles, outlets and stop ends, including cutting, making gutters line and level, and connections to existing guttering, and rub down, prepare for redecoration to outside of gutter and apply one coat of bitumastic paint to inside of gutter, and remove waste and debris."]
["6033AB","GUTTER:RENEW LENGTH OF CAST IRON","PLUMBING","Rainwater Gutters","Rainwater Gutters - Cast Iron","LM",53.05,{"$f":"SUMIF('Contractor##'!C:C,'Planned Maint v6.2 CSV File'!C:C,'Contractor##'!F:F)","v":-0.25890000000000002},39.315354999999997,"Gutter:Renew ne 125mm cast iron gutter of any profile including support brackets fixed to fascia including cutting, making joints, line and level, and connections to existing guttering, and rub down, prepare for redecoration to outside of gutter and apply one coat of bitumastic paint to inside of gutter, and remove waste and debris."]
["6033BA","GUTTER:REALIGN CAST IRON GUTTER","PLUMBING","Rainwater Gutters","Rainwater Gutters - Cast Iron","LM",6.92,{"$f":"SUMIF('Contractor##'!C:C,'Planned Maint v6.2 CSV File'!C:C,'Contractor##'!F:F)","v":-0.25890000000000002},5.128412,"Gutter:Take down any cast iron gutter, remove and refix brackets to fascia and refix gutter to brackets, including all angles, outlets and stop ends, remake all joints and touch up decorations."]
["6033BB","GUTTER:RENEW CAST IRON STOP END","PLUMBING","Rainwater Gutters","Rainwater Gutters - Cast Iron","NO",13.32,{"$f":"SUMIF('Contractor##'!C:C,'Planned Maint v6.2 CSV File'!C:C,'Contractor##'!F:F)","v":-0.25890000000000002},9.8714519999999997,"Gutter:Renew ne 125mm cast iron gutter stop end of any profile, including remaking joint, line and level, rub down, prepare for redecoration, and remove waste and debris."]
["6033BC","GUTTER:RENEW CAST IRON OUTLET","PLUMBING","Rainwater Gutters","Rainwater Gutters - Cast Iron","NO",30.66,{"$f":"SUMIF('Contractor##'!C:C,'Planned Maint v6.2 CSV File'!C:C,'Contractor##'!F:F)","v":-0.25890000000000002},22.722125999999999,"Gutter:Renew ne 125mm cast iron gutter outlet of any profile, including remaking joint, line and level, rub down, prepare for redecoration, and remove waste and debris."]
["6033BD","GUTTER:RENEW IN CAST IRON ANGLE","PLUMBING","Rainwater Gutters","Rainwater Gutters - Cast Iron","NO",30.63,{"$f":"SUMIF('Contractor##'!C:C,'Planned Maint v6.2 CSV File'!C:C,'Contractor##'!F:F)","v":-0.25890000000000002},22.699892999999999,"Gutter:Renew ne 125mm cast iron gutter angle of any profile, including remaking joint, line and level, rub down, prepare for redecoration, and remove waste and debris."]
["6033BE","GUTTER:RENEW IN CAST IRON UNION","PLUMBING","Rainwater Gutters","Rainwater Gutters - Cast Iron","NO",26.01,{"$f":"SUMIF('Contractor##'!C:C,'Planned Maint v6.2 CSV File'!C:C,'Contractor##'!F:F)","v":-0.25890000000000002},19.276011,"Gutter:Renew ne 125mm cast iron gutter union of any profile, including remaking joint, line and level, rub down, prepare for redecoration, and remove waste and debris."]
["6033BF","GUTTER:RENEW CAST IRON BRACKET","PLUMBING","Rainwater Gutters","Rainwater Gutters - Cast Iron","NO",14.58,{"$f":"SUMIF('Contractor##'!C:C,'Planned Maint v6.2 CSV File'!C:C,'Contractor##'!F:F)","v":-0.25890000000000002},10.805237999999999,"Gutter:Renew gutter bracket for cast iron gutter including line and level, and rub down, prepare for redecoration, and remove waste and debris."]
["6033BG","GUTTER:TAKE DOWN AND REFIX CAST IRON OUTLET","PLUMBING","Rainwater Gutters","Rainwater Gutters - Cast Iron","NO",20.190000000000001,{"$f":"SUMIF('Contractor##'!C:C,'Planned Maint v6.2 CSV File'!C:C,'Contractor##'!F:F)","v":-0.25890000000000002},14.962809,"Gutter:Take down any cast iron gutter outlet and refix, remake all joints, and prepare for redecoration, and remove waste and debris."]
["6033BH","GUTTER:REMAKE CAST IRON JOINTS","PLUMBING","Rainwater Gutters","Rainwater Gutters - Cast Iron","NO",7.08,{"$f":"SUMIF('Contractor##'!C:C,'Planned Maint v6.2 CSV File'!C:C,'Contractor##'!F:F)","v":-0.25890000000000002},5.246988,"Gutter:Remake any cast iron gutter joint including break joint, clean out and make joint, and prepare for redecoration, and remove waste and debris."]
["6035AA","GUTTER:RENEW CAST ALUMINIUM COMPLETE","PLUMBING","Rainwater Gutters","Rainwater Gutters - Cast Aluminium","LM",43.44,{"$f":"SUMIF('Contractor##'!C:C,'Planned Maint v6.2 CSV File'!C:C,'Contractor##'!F:F)","v":-0.25890000000000002},32.193383999999995,"Gutter:Renew any gutter with ne 113mm cast aluminium gutter of any profile including support brackets fixed to fascia complete with all necessary angles, outlets and stop ends, including cuting, making gutter line and level, and connections to existing guttering and prepare for redecoration and remove waste and debris."]
["6035AB","GUTTER:RENEW NE 113MM CAST ALUMINIUM","PLUMBING","Rainwater Gutters","Rainwater Gutters - Polyester Coated Aluminium","LM",28.85,{"$f":"SUMIF('Contractor##'!C:C,'Planned Maint v6.2 CSV File'!C:C,'Contractor##'!F:F)","v":-0.25890000000000002},21.380735000000001,"Gutter:Renew any gutter with ne 113mm cast aluminium gutter of any profile including support brackets fixed to fascia including cutting, making gutter line and level, connections and prepare for redecoration and remove waste and debris."]
["6035BA","GUTTER:RENEW 125MM CAST ALUMINIUM COMPLETE","PLUMBING","Rainwater Gutters","Rainwater Gutters - Polyester Coated Aluminium","LM",43.27,{"$f":"SUMIF('Contractor##'!C:C,'Planned Maint v6.2 CSV File'!C:C,'Contractor##'!F:F)","v":-0.25890000000000002},32.067397,"Gutter:Renew any gutter with 125mm cast aluminium gutter of any profile including support brackets fixed to fascia complete with all necessary angles, outlets and stop ends, including cutting, making gutter line and level, and connections to existing guttering and prepare for redecoration and remove waste and debris."]
["6035BB","GUTTER:RENEW 125MM CAST ALUMINIUM","PLUMBING","Rainwater Gutters","Rainwater Gutters - Polyester Coated Aluminium","LM",28.97,{"$f":"SUMIF('Contractor##'!C:C,'Planned Maint v6.2 CSV File'!C:C,'Contractor##'!F:F)","v":-0.25890000000000002},21.469666999999998,"Gutter:Renew any gutter with 125mm cast aluminium gutter of any profile including support brackets fixed to fascia including cutting, making gutter line and level, connections and prepare for redecoration and remove waste and debris."]
["6035CA","GUTTER:REALIGN CAST ALUMINIUM GUTTER","PLUMBING","Rainwater Gutters","Rainwater Gutters - Polyester Coated Aluminium","LM",6.77,{"$f":"SUMIF('Contractor##'!C:C,'Planned Maint v6.2 CSV File'!C:C,'Contractor##'!F:F)","v":-0.25890000000000002},5.0172469999999993,"Gutter:Take down any cast aluminium gutter, remove refix brackets to fascia and refix gutter to brackets, including all angles, outlets and stop ends, remake all joints and touch up decorations."]
["6035CB","GUTTER:RENEW CAST ALUMINIUM STOP END","PLUMBING","Rainwater Gutters","Rainwater Gutters - Polyester Coated Aluminium","NO",12.58,{"$f":"SUMIF('Contractor##'!C:C,'Planned Maint v6.2 CSV File'!C:C,'Contractor##'!F:F)","v":-0.25890000000000002},9.3230380000000004,"Gutter:Renew ne 125mm cast aluminium gutter stop end of any profile, including remaking joint, line and level and prepare for redecoration, and remove waste and debris."]
["6035CC","GUTTER:RENEW CAST ALUMINIUM OUTLET","PLUMBING","Rainwater Gutters","Rainwater Gutters - Polyester Coated Aluminium","NO",27.48,{"$f":"SUMIF('Contractor##'!C:C,'Planned Maint v6.2 CSV File'!C:C,'Contractor##'!F:F)","v":-0.25890000000000002},20.365428000000001,"Gutter:Renew ne 125mm cast aluminium gutter outlet of any profile, including remaking joint, line and level and prepare for redecoration, and remove waste and debris. "]
["6036AA","GUTTER:RENEW 113MM PC CAST ALUMINIUM COMPLETE","PLUMBING","Rainwater Gutters","Rainwater Gutters - Polyester Coated Aluminium","LM",44.87,{"$f":"SUMIF('Contractor##'!C:C,'Planned Maint v6.2 CSV File'!C:C,'Contractor##'!F:F)","v":-0.25890000000000002},33.253156999999995,"Gutter:Renew any gutter with ne 113mm powder coated cast aluminium gutter of any profile including support brackets fixed to fascia complete with all necessary angles, outlets and stop ends, including cutting, making gutter line and level, and connections to existing guttering and remove waste and debris."]
["6036AB","GUTTER:RENEW NE 113MM PC CAST ALUMINIUM","PLUMBING","Rainwater Gutters","Rainwater Gutters - Polyester Coated Aluminium","LM",29.53,{"$f":"SUMIF('Contractor##'!C:C,'Planned Maint v6.2 CSV File'!C:C,'Contractor##'!F:F)","v":-0.25890000000000002},21.884682999999999,"Gutter:Renew any gutter with ne 113mm powder coated cast aluminium gutter of any profile including support brackets fixed to fascia including cutting, making gutter line and level, connections and remove waste and debris."]
["6036BA","GUTTER:RENEW 125MM PC CAST ALUMINIUM COMPLETE","PLUMBING","Rainwater Gutters","Rainwater Gutters - Polyester Coated Aluminium","LM",47.95,{"$f":"SUMIF('Contractor##'!C:C,'Planned Maint v6.2 CSV File'!C:C,'Contractor##'!F:F)","v":-0.25890000000000002},35.535744999999999,"Gutter:Renew any gutter with 125mm powder coated cast aluminium gutter of any profile including support brackets fixed to fascia complete with all necessary angles, outlets and stop ends, including cutting, making gutter line and level, and connections to existing guttering and remove waste and debris."]
["6036BB","GUTTER:RENEW 125MM PC CAST ALUMINIUM","PLUMBING","Rainwater Gutters","Rainwater Gutters - Polyester Coated Aluminium","LM",28.12,{"$f":"SUMIF('Contractor##'!C:C,'Planned Maint v6.2 CSV File'!C:C,'Contractor##'!F:F)","v":-0.25890000000000002},20.839732000000001,"Gutter:Renew any gutter with 125mm powder coated cast aluminium gutter of any profile including support brackets fixed to fascia including cutting, making gutter line and level, connections and remove waste and debris."]
["6036CA","GUTTER:REALIGN PC CAST ALUMINIUM GUTTER","PLUMBING","Rainwater Gutters","Rainwater Gutters - Polyester Coated Aluminium","LM",6.9,{"$f":"SUMIF('Contractor##'!C:C,'Planned Maint v6.2 CSV File'!C:C,'Contractor##'!F:F)","v":-0.25890000000000002},5.1135900000000003,"Gutter:Take down any powder coated cast aluminium gutter, remove/refix brackets to fascia and refix gutter to brackets, including all angles, outlets and stop ends, remake all joints."]
["6037AA","GUTTER:RENEW SEAMLESS METAL COMPLETE","PLUMBING","Rainwater Gutters","Rainwater Gutters - Seamless Metal","LM",32.659999999999997,{"$f":"SUMIF('Contractor##'!C:C,'Planned Maint v6.2 CSV File'!C:C,'Contractor##'!F:F)","v":-0.25890000000000002},24.204325999999998,"Gutter:Renew any gutter with self finished rolled seamless metal gutter of any profile including support brackets fixed to fascia complete with all necessary angles, outlets and stop ends, including cutting, making gutter line and level, joint cover stripsand any connections to existing guttering and remove waste and debris."]
["6037AB","GUTTER:RENEW SEAMLESS METAL","PLUMBING","Rainwater Gutters","Rainwater Gutters - Seamless Metal","LM",16.52,{"$f":"SUMIF('Contractor##'!C:C,'Planned Maint v6.2 CSV File'!C:C,'Contractor##'!F:F)","v":-0.25890000000000002},12.242972,"Gutter:Renew any gutter with self finished rolled seamless metal gutter of any profile including support brackets fixed to fascia including cutting, making gutter line and level, joint cover strips and connections and remove waste and debris."]
["6037BA","GUTTER:REALIGN SEAMLESS METAL GUTTER","PLUMBING","Rainwater Gutters","Rainwater Gutters - Seamless Metal","LM",6.84,{"$f":"SUMIF('Contractor##'!C:C,'Planned Maint v6.2 CSV File'!C:C,'Contractor##'!F:F)","v":-0.25890000000000002},5.0691239999999995,"Gutter:Take down any rolled seamless metal gutter of any profile, remove/refix brackets and refix gutter to line and level including remake all connections."]
["6037BB","GUTTER:REMAKE JOINT - SEAMLESS GUTTER","PLUMBING","Rainwater Gutters","Rainwater Gutters - Seamless Metal","NO",9.57,{"$f":"SUMIF('Contractor##'!C:C,'Planned Maint v6.2 CSV File'!C:C,'Contractor##'!F:F)","v":-0.25890000000000002},7.092327,"Gutter:Remake leaking or defective joint in self finished rolled seamless metal gutter of any profile, remove rivet fixed cover strip, remake joints and refix cover strip including rerivetting"]
["6037BC","GUTTER:REMAKE SEAMLESS JOINT TO DOWNPIPE","PLUMBING","Rainwater Gutters","Rainwater Gutters - Seamless Metal","NO",13.37,{"$f":"SUMIF('Contractor##'!C:C,'Planned Maint v6.2 CSV File'!C:C,'Contractor##'!F:F)","v":-0.25890000000000002},9.9085069999999984,"Gutter:Remake leaking or defective joint in self finished rolled seamless metal gutter of any profile at joint with downpipe including rebed/ renew gutter insert to downpipe and remake joint."]
["6037BD","GUTTER:REFIX OR RENEW BRACKET TO SEAMLESS ","PLUMBING","Rainwater Gutters","Rainwater Gutters - Seamless Metal","NO",13.12,{"$f":"SUMIF('Contractor##'!C:C,'Planned Maint v6.2 CSV File'!C:C,'Contractor##'!F:F)","v":-0.25890000000000002},9.7232319999999994,"Gutter:Refix or renew gutter bracket to any profile rolled seamless gutter."]
["6039AA","DOWNPIPE:CLEAR BLOCKAGE NE 2 STOREY","PLUMBING","Rainwater Gutters","Gutters/Downpipes - Clean Out","IT",9.84,{"$f":"SUMIF('Contractor##'!C:C,'Planned Maint v6.2 CSV File'!C:C,'Contractor##'!F:F)","v":-0.25890000000000002},7.2924239999999996,"Downpipe:Clear blockage from downpipe ne 2 storey including gain access, rod, flush out and test including clean out gulley and remove debris from site on completion (not to be claimed with 6039BA)"]
["6039AB","HOPPER:CLEAR OUT HOPPERHEAD","PLUMBING","Rainwater Gutters","Gutters/Downpipes - Clean Out","NO",8.0500000000000007,{"$f":"SUMIF('Contractor##'!C:C,'Planned Maint v6.2 CSV File'!C:C,'Contractor##'!F:F)","v":-0.25890000000000002},5.9658550000000004,"Hopper:Clear out blocked hopperhead including rod if necessary, flush out and test and remove debris from site on completion, and remove waste and debris."]
["6039AC","FLAT ROOF OUTLET:CLEAR OUT","PLUMBING","Rainwater Gutters","Gutters/Downpipes - Clean Out","IT",11.18,{"$f":"SUMIF('Contractor##'!C:C,'Planned Maint v6.2 CSV File'!C:C,'Contractor##'!F:F)","v":-0.25890000000000002},8.2854979999999987,"Flat Roof Outlet:Clear out blocked flat roof outlet including rod if necessary, flush out and test and remove debris from site on completion, and remove waste and debris."]
["6039AD","DOWNPIPE:CLEAR BLOCKAGE 2 TO 4 STOREY","PLUMBING","Rainwater Gutters","Gutters/Downpipes - Clean Out","IT",20.13,{"$f":"SUMIF('Contractor##'!C:C,'Planned Maint v6.2 CSV File'!C:C,'Contractor##'!F:F)","v":-0.25890000000000002},14.918342999999998,"Downpipe:Clear blockage from downpipe any 2 to 4 storey including gain access, rod, flush out and test including clean out gulley and remove debris from site on completion (not to be claimed with 6039BA)."]
["6039BA","GUTTER:CLEAN AND FLUSH OUT PER ELEVATION","PLUMBING","Rainwater Gutters","Gutters/Downpipes - Clean Out","IT",20.13,{"$f":"SUMIF('Contractor##'!C:C,'Planned Maint v6.2 CSV File'!C:C,'Contractor##'!F:F)","v":-0.25890000000000002},14.918342999999998,"Gutter:Clean out debris from gutters to any type of property including flush out and test, rod downpipe including clean out gulley and remove debris from site on completion (per elevation)."]
["6101AA","STACK:RENEW EXTERNAL PVCU COMPLETE NE 2 STOREY","PLUMBING","Foul Drainage Above Ground","Soil and Vent Stacks - External - PVCu","IT",287.14,{"$f":"SUMIF('Contractor##'!C:C,'Planned Maint v6.2 CSV File'!C:C,'Contractor##'!F:F)","v":-0.25890000000000002},212.799454,"Stack:Take down external soil stack complete to any dwelling ne 2 storey and renew with 110mm PVCu pipework complete with all necessary wc branches, bends, offsets, waste bosses, pipes, brackets, access pipes, drain connector, terminal and slate if necessary including all cutting and making joints, fixing to any background, make good to structure including roofing, soffit or similar and make good to all finishes and test, and remove waste and debris."]
["6101AB","STACK:RENEW EXTERNAL PVCU COMPLETE 2 TO 4 STOREY","PLUMBING","Foul Drainage Above Ground","Soil and Vent Stacks - External - PVCu","IT",444.02,{"$f":"SUMIF('Contractor##'!C:C,'Planned Maint v6.2 CSV File'!C:C,'Contractor##'!F:F)","v":-0.25890000000000002},329.063222,"Stack:Take down external soil stack complete to any dwelling over 2, ne 4 storey and renew with 110mm PVCu pipework complete with all necessary wc branches, bends, offsets, waste bosses, pipes, brackets, access pipes, drain connector, terminal and slate if necessary including all cutting and making joints, fixing to any background, make good to structure including roofing, soffit or similar and make good to all finishes and test, and remove waste and debris."]
["6101AC","STACK:RENEW EXTERNAL 110MM PVCU SOIL STACK","PLUMBING","Foul Drainage Above Ground","Soil and Vent Stacks - External - PVCu","LM",18.04,{"$f":"SUMIF('Contractor##'!C:C,'Planned Maint v6.2 CSV File'!C:C,'Contractor##'!F:F)","v":-0.25890000000000002},13.369444,"Stack:Renew 110mm diameter PVCu length or section of external soil stack, renew or refix clips as necessary, including cut and make joints, make good to structure and finishes and test, and remove waste and debris."]
["6101BA","STACK:RENEW EXTERNAL PVCU SOIL STACK BRACKET","PLUMBING","Foul Drainage Above Ground","Soil and Vent Stacks - External - PVCu","NO",6.5,{"$f":"SUMIF('Contractor##'!C:C,'Planned Maint v6.2 CSV File'!C:C,'Contractor##'!F:F)","v":-0.25890000000000002},4.8171499999999998,"Stack:Renew 110mm diameter external PVCu soil stack pipe bracket securely plugged and screwed to any background, make good to structure and finishes and test, and remove waste and debris."]
["6101BB","STACK:RENEW EXTERNAL PVCU WC BRANCH PIPE","PLUMBING","Foul Drainage Above Ground","Soil and Vent Stacks - External - PVCu","NO",72.290000000000006,{"$f":"SUMIF('Contractor##'!C:C,'Planned Maint v6.2 CSV File'!C:C,'Contractor##'!F:F)","v":-0.25890000000000002},53.574119000000003,"Stack:Renew 110mm diameter external PVCu soil stack wc branch pipe with access, connect to pan, including cutting, making joints, cut holes to walls, make good to structure and finishes and test, and remove waste and debris."]
["6101BC","STACK:RENEW EXTERNAL PVCU OFFSET","PLUMBING","Foul Drainage Above Ground","Soil and Vent Stacks - External - PVCu","NO",17.63,{"$f":"SUMIF('Contractor##'!C:C,'Planned Maint v6.2 CSV File'!C:C,'Contractor##'!F:F)","v":-0.25890000000000002},13.065593,"Stack:Renew 110mm diameter external PVCu soil stack offset including cutting and making all necessary joints, make good to structure and finishes and test, and remove waste and debris."]
["6101BD","STACK:RENEW EXTERNAL PVCU JUNCTION","PLUMBING","Foul Drainage Above Ground","Soil and Vent Stacks - External - PVCu","NO",37.75,{"$f":"SUMIF('Contractor##'!C:C,'Planned Maint v6.2 CSV File'!C:C,'Contractor##'!F:F)","v":-0.25890000000000002},27.976524999999999,"Stack:Renew 110mm diameter external PVCu soil stack junction with access including cutting and making all necessary joints, and make good to structure and finishes and test, and remove waste and debris."]
["6101BE","STACK:RENEW EXTERNAL PVCU ACCESS BEND","PLUMBING","Foul Drainage Above Ground","Soil and Vent Stacks - External - PVCu","NO",38.99,{"$f":"SUMIF('Contractor##'!C:C,'Planned Maint v6.2 CSV File'!C:C,'Contractor##'!F:F)","v":-0.25890000000000002},28.895489000000001,"Stack:Renew 110mm diameter external PVCu soil stack access bend, including cutting and making all necessary joints, make good to structure and finishes and test, and remove waste and debris."]
["6101BF","STACK:RENEW EXTERNAL PVCU ACCESS PIPE","PLUMBING","Foul Drainage Above Ground","Soil and Vent Stacks - External - PVCu","NO",21.92,{"$f":"SUMIF('Contractor##'!C:C,'Planned Maint v6.2 CSV File'!C:C,'Contractor##'!F:F)","v":-0.25890000000000002},16.244911999999999,"Stack:Renew 110mm diameter external PVCu soil stack access pipe, including cutting and making all necessary joints, make good to structure and finishes and test, and remove waste and debris."]
["6101BG","STACK:RENEW EXTERNAL PVCU VENT TERMINAL","PLUMBING","Foul Drainage Above Ground","Soil and Vent Stacks - External - PVCu","NO",48.64,{"$f":"SUMIF('Contractor##'!C:C,'Planned Maint v6.2 CSV File'!C:C,'Contractor##'!F:F)","v":-0.25890000000000002},36.047103999999997,"Stack:Renew 110mm diameter external PVCu soil stack/vent terminal and weathering slate and make good to roofing."]
["6101BH","STACK:RENEW EXTERNAL PVCU DOUBLE SOCKET","PLUMBING","Foul Drainage Above Ground","Soil and Vent Stacks - External - PVCu","NO",24.23,{"$f":"SUMIF('Contractor##'!C:C,'Planned Maint v6.2 CSV File'!C:C,'Contractor##'!F:F)","v":-0.25890000000000002},17.956852999999999,"Stack:Renew 110mm diameter external PVCu soil stack double socket, including cutting and making all necessary joints, make good to structure and finishes and test, and remove waste and debris."]
["6101BJ","STACK:RENEW EXTERNAL PVCU DRAIN CONNECTOR","PLUMBING","Foul Drainage Above Ground","Soil and Vent Stacks - External - PVCu","NO",19.059999999999999,{"$f":"SUMIF('Contractor##'!C:C,'Planned Maint v6.2 CSV File'!C:C,'Contractor##'!F:F)","v":-0.25890000000000002},14.125365999999998,"Stack:Renew drain connection with 110mm diameter external PVCu soil stack drainage adaptor."]
["6101BK","STACK:RENEW EXTERNAL PVCU 110MM BOSS CONNECTOR","PLUMBING","Foul Drainage Above Ground","Soil and Vent Stacks - External - PVCu","NO",20.260000000000002,{"$f":"SUMIF('Contractor##'!C:C,'Planned Maint v6.2 CSV File'!C:C,'Contractor##'!F:F)","v":-0.25890000000000002},15.014686000000001,"Stack:Renew 110mm diameter external PVCu soil stack boss connector, including cutting and making all necessary joints, make good and test, and remove waste and debris."]
["6101BL","STACK:RENEW EXTERNAL PVCU BOSS ADAPTOR","PLUMBING","Foul Drainage Above Ground","Soil and Vent Stacks - External - PVCu","NO",13.16,{"$f":"SUMIF('Contractor##'!C:C,'Planned Maint v6.2 CSV File'!C:C,'Contractor##'!F:F)","v":-0.25890000000000002},9.7528760000000005,"Stack:Renew 32mm or 40mm diameter external solvent PVCu boss adaptor, including any additional renewal of boss pipe, and remove waste and debris."]
["6101BM","STACK:REPAIR FRACTURE ON EXTERNAL PVCU AT SLAB","PLUMBING","Foul Drainage Above Ground","Soil and Vent Stacks - External - PVCu","IT",85.93,{"$f":"SUMIF('Contractor##'!C:C,'Planned Maint v6.2 CSV File'!C:C,'Contractor##'!F:F)","v":-0.25890000000000002},63.682723000000003,"Stack:Repair fractured external soil outlet at slab level, break up concrete slab, repair pipework fix new PVCu pipe or fitting with new clips, remake all joints, make good walls and floors and test (measured per pipe or fitting)."]
["6101BN","STACK:ACCESS COVER TO EXISTING EXTERNAL PVCU","PLUMBING","Foul Drainage Above Ground","Soil and Vent Stacks - External - PVCu","IT",33.08,{"$f":"SUMIF('Contractor##'!C:C,'Planned Maint v6.2 CSV File'!C:C,'Contractor##'!F:F)","v":-0.25890000000000002},24.515587999999997,"Stack:Insert or cut into any existing external PVCu soil stack and provide and fix new proprietory bolted removable access covers and seals, maintain integrity of existing system by using compatible seals or solvent welding."]
["6103AA","STACK:RENEW INTERNAL PVCU COMPLETE NE 2 STOREY","PLUMBING","Foul Drainage Above Ground","Soil and Vent Stacks - Internal - PVCu","IT",354.24,{"$f":"SUMIF('Contractor##'!C:C,'Planned Maint v6.2 CSV File'!C:C,'Contractor##'!F:F)","v":-0.25890000000000002},262.527264,"Stack:Take down internal soil stack complete to any dwelling ne 2 storey and renew with 110mm PVCu pipework complete with all necessary fittings i.e. wc branch, bends, offsets, waste bosses, pipes, brackets, access pipes, drain connector terminal and slate if necessary including all cutting and making joints, fixing to any background, remove and refix access panels, duct casings and the like for access, make good to structure and finishes and test, and remove waste and debris."]
["6103AB","STACK:RENEW INTERNAL PVCU COMPLETE 2-4 STOREY","PLUMBING","Foul Drainage Above Ground","Soil and Vent Stacks - Internal - PVCu","IT",511.12,{"$f":"SUMIF('Contractor##'!C:C,'Planned Maint v6.2 CSV File'!C:C,'Contractor##'!F:F)","v":-0.25890000000000002},378.79103199999997,"Stack:Take down internal soil stack complete to any dwelling over 2 ne 4 storey and renew with 110mm PVCu pipework complete with all necessary wc branches, bends, offsets, waste bosses, pipes, brackets, access pipes, drain connector terminal and slate if necessary including all cutting and making joints, fixing to any background, remove and refix access panels, duct casings and the like for access, make good to structure and finishes and test, and remove waste and debris."]
["6103AC","STACK:RENEW INTERNAL 110MM PVCU SOIL STACK","PLUMBING","Foul Drainage Above Ground","Soil and Vent Stacks - Internal - PVCu","LM",22.52,{"$f":"SUMIF('Contractor##'!C:C,'Planned Maint v6.2 CSV File'!C:C,'Contractor##'!F:F)","v":-0.25890000000000002},16.689571999999998,"Stack:Renew 110mm diameter PVCu length or section of internal soil stack, remove and refix access panels, duct casings and the like for access, renew or refix clips as necessary including cut and make joints, make good to structure and finishes and test, and remove waste and debris."]
["6105AA","STACK:RENEW NE 150MM CAST IRON NE 2M","PLUMBING","Foul Drainage Above Ground","Soil and Vent Stacks - Cast Iron - Repairs","NO",108.64,{"$f":"SUMIF('Contractor##'!C:C,'Planned Maint v6.2 CSV File'!C:C,'Contractor##'!F:F)","v":-0.25890000000000002},{"$f":"(1+H2372)*G2372","v":80.513103999999998},"Stack:Renew up to 150mm diameter cast iron soil stack length ne 2m long with existing or new clips or ears including all cutting, remake joints, make good and prepare for redecoration, and remove waste and debris.."]
["6105AB","STACK:REMAKE JOINT TO CAST IRON STACK","PLUMBING","Foul Drainage Above Ground","Soil and Vent Stacks - Cast Iron - Repairs","NO",20.75,{"$f":"SUMIF('Contractor##'!C:C,'Planned Maint v6.2 CSV File'!C:C,'Contractor##'!F:F)","v":-0.25890000000000002},15.377825,"Stack:Remake ne 150mm diameter cast iron soil stack joint."]
["6105AC","STACK:RENEW CAST IRON OFFSET","PLUMBING","Foul Drainage Above Ground","Soil and Vent Stacks - Cast Iron - Repairs","NO",51.96,{"$f":"SUMIF('Contractor##'!C:C,'Planned Maint v6.2 CSV File'!C:C,'Contractor##'!F:F)","v":-0.25890000000000002},38.507556000000001,"Stack:Renew ne 150mm diameter offset to cast iron soil stack including remake joints and prepare for redecoration, and remove waste and debris."]
["6105AD","STACK:RENEW CAST IRON BRANCH","PLUMBING","Foul Drainage Above Ground","Soil and Vent Stacks - Cast Iron - Repairs","NO",85.08,{"$f":"SUMIF('Contractor##'!C:C,'Planned Maint v6.2 CSV File'!C:C,'Contractor##'!F:F)","v":-0.25890000000000002},63.052788,"Stack:Renew ne 150mm diameter branch to cast iron soil stack including remake joints and prepare for redecoration, and remove waste and debris."]
["6201AA","WASTE:RENEW 32MM PIPE AND TRAP BASIN","PLUMBING","Waste Pipework and Fittings","Waste Pipework and Fittings - Plastic","NO",42.14,{"$f":"SUMIF('Contractor##'!C:C,'Planned Maint v6.2 CSV File'!C:C,'Contractor##'!F:F)","v":-0.25890000000000002},31.229953999999999,"Waste:Renew waste to any sink or basin in ne 32mm plastic pipework complete including trap, all fittings, clips, cut or form holes and make good, make all necessary connections to stack, gully or hopper head and test, and remove waste and debris."]
["6201BA","WASTE:RENEW 40MM PIPE AND TRAP SINK","PLUMBING","Waste Pipework and Fittings","Waste Pipework and Fittings - Plastic","NO",49.35,{"$f":"SUMIF('Contractor##'!C:C,'Planned Maint v6.2 CSV File'!C:C,'Contractor##'!F:F)","v":-0.25890000000000002},36.573284999999998,"Waste:Renew waste to any sink or basin in ne 40mm plastic pipework complete including trap, all fittings, clips, cut or form holes and make good, make all necessary connections to stack, gully or hopper head and test, and remove waste and debris."]
["6201CA","WASTE:RENEW 40MM PIPE AND TRAP BATH","PLUMBING","Waste Pipework and Fittings","Waste Pipework and Fittings - Plastic","NO",59.82,{"$f":"SUMIF('Contractor##'!C:C,'Planned Maint v6.2 CSV File'!C:C,'Contractor##'!F:F)","v":-0.25890000000000002},44.332602000000001,"Waste:Renew waste to any bath in ne 40mm plastic pipework complete including trap, all fittings, clips, cut or form holes and make good, make all necessary connections to stack, gully or hopper head and test, and remove waste and debris."]
["6201CB","WASTE:RENEW NE 40MM TEE","PLUMBING","Waste Pipework and Fittings","Waste Pipework and Fittings - Plastic","NO",12.12,{"$f":"SUMIF('Contractor##'!C:C,'Planned Maint v6.2 CSV File'!C:C,'Contractor##'!F:F)","v":-0.25890000000000002},8.982132,"Fitting:Renew ne 40mm diameter plastic tee, make all necessary joints and test on completion, and remove waste and debris."]
["6201CC","WASTE:RENEW LEAKING JOINT","PLUMBING","Waste Pipework and Fittings","Waste Pipework and Fittings - Plastic","NO",6.9,{"$f":"SUMIF('Contractor##'!C:C,'Planned Maint v6.2 CSV File'!C:C,'Contractor##'!F:F)","v":-0.25890000000000002},5.1135900000000003,"Waste:Renew joint of waste fitting, including remove and securely refix and make all necessary joints, and test on completion, and remove waste and debris."]
["6201CD","WASTE:RENEW PLASTIC PIPE CLIP","PLUMBING","Waste Pipework and Fittings","Waste Pipework and Fittings - Plastic","NO",2.52,{"$f":"SUMIF('Contractor##'!C:C,'Planned Maint v6.2 CSV File'!C:C,'Contractor##'!F:F)","v":-0.25890000000000002},1.867572,"Waste:Renew or supply and fix pipe clip for any diameter plastic pipe including plugging and screwing as necessary."]
["6201CE","WASTE:RENEW NE 40MM BEND OR CONNECTOR","PLUMBING","Waste Pipework and Fittings","Waste Pipework and Fittings - Plastic","NO",9.8800000000000008,{"$f":"SUMIF('Contractor##'!C:C,'Planned Maint v6.2 CSV File'!C:C,'Contractor##'!F:F)","v":-0.25890000000000002},7.3220680000000007,"Fitting:Renew ne 40mm diameter plastic straight connector or bend, make all necessary joints to waste pipe and trap or stack, and test all joints on completion, and remove waste and debris."]
["6201DA","WASTE:RENEW 40MM PIPE AND TRAP SHOWER","PLUMBING","Waste Pipework and Fittings","Waste Pipework and Fittings - Plastic","NO",127.89,{"$f":"SUMIF('Contractor##'!C:C,'Planned Maint v6.2 CSV File'!C:C,'Contractor##'!F:F)","v":-0.25890000000000002},94.779279000000002,"Waste:Renew waste to any shower in ne 40mm plastic pipework complete including sealed trap, all fittings, clips, remove and refix tray, cut and form holes and make good, make all necessary connections to stack, gully or hopper head and test, and remove waste and debris."]
["6201EA","TRAP:RENEW 32MM SINK OR BASIN TRAP","PLUMBING","Waste Pipework and Fittings","Waste Pipework and Fittings - Plastic","NO",10.7,{"$f":"SUMIF('Contractor##'!C:C,'Planned Maint v6.2 CSV File'!C:C,'Contractor##'!F:F)","v":-0.25890000000000002},7.9297699999999995,"Trap:Renew ne 32mm diameter plastic trap to sink or basin including all adjustments to pipework, make all connections and test on completion, and remove waste and debris."]
["6201EB","TRAP:RENEW 40MM SINK OR BASIN TRAP","PLUMBING","Waste Pipework and Fittings","Waste Pipework and Fittings - Plastic","NO",10.84,{"$f":"SUMIF('Contractor##'!C:C,'Planned Maint v6.2 CSV File'!C:C,'Contractor##'!F:F)","v":-0.25890000000000002},8.0335239999999999,"Trap:Renew ne 40mm diameter plastic trap to sink or basin including all adjustments to pipework, make all connections and test on completion, and remove waste and debris."]
["6201FA","TRAP:RENEW NE 40MM BATH TRAP","PLUMBING","Waste Pipework and Fittings","Waste Pipework and Fittings - Plastic","NO",15.32,{"$f":"SUMIF('Contractor##'!C:C,'Planned Maint v6.2 CSV File'!C:C,'Contractor##'!F:F)","v":-0.25890000000000002},11.353652,"Trap:Renew ne 40mm diameter plastic trap to bath including all adjustments to pipework, make all connections and test on completion, and remove waste and debris."]
["6201GA","TRAP:RENEW NE 40MM SHOWER TRAP","PLUMBING","Waste Pipework and Fittings","Waste Pipework and Fittings - Plastic","NO",74.98,{"$f":"SUMIF('Contractor##'!C:C,'Planned Maint v6.2 CSV File'!C:C,'Contractor##'!F:F)","v":-0.25890000000000002},55.567678000000001,"Trap:Renew ne 40mm diameter plastic sealed trap to shower including all adjustments to pipework, make all connections, remove and refix tray and test, and remove waste and debris."]
["6201JA","PIPE:RENEW 32MM WASTE","PLUMBING","Waste Pipework and Fittings","Waste Pipework and Fittings - Plastic","LM",17.03,{"$f":"SUMIF('Contractor##'!C:C,'Planned Maint v6.2 CSV File'!C:C,'Contractor##'!F:F)","v":-0.25890000000000002},12.620933000000001,"Pipe:Renew any pipe with 32mm plastic waste pipe complete with all brackets, connections, bends, tees etc, cut/form holes and make good, make all necessary connections to stack, gulley or hopper head and test, and remove waste and debris."]
["6201JB","PIPE:RENEW 40MM WASTE","PLUMBING","Waste Pipework and Fittings","Waste Pipework and Fittings - Plastic","LM",18.16,{"$f":"SUMIF('Contractor##'!C:C,'Planned Maint v6.2 CSV File'!C:C,'Contractor##'!F:F)","v":-0.25890000000000002},13.458375999999999,"Pipe:Renew any pipe with 40mm plastic waste pipe complete with all brackets, connections, bends, tees etc, cut/form holes and make good, make all necessary connections to stack, gulley or hopper head and test, and remove waste and debris."]
["6201JC","PIPE:RENEW 50MM WASTE","PLUMBING","Waste Pipework and Fittings","Waste Pipework and Fittings - Plastic","LM",21.04,{"$f":"SUMIF('Contractor##'!C:C,'Planned Maint v6.2 CSV File'!C:C,'Contractor##'!F:F)","v":-0.25890000000000002},15.592744,"Pipe:Renew any pipe with 50mm plastic waste pipe complete with all brackets, connections, bends, tees etc, cut/form holes and make good, make all necessary connections to stack, gulley or hopper head and test, and remove waste and debris."]
["6201KA","STACK:RENEW 50MM WASTE","PLUMBING","Waste Pipework and Fittings","Waste Pipework and Fittings - Plastic","IT",43.02,{"$f":"SUMIF('Contractor##'!C:C,'Planned Maint v6.2 CSV File'!C:C,'Contractor##'!F:F)","v":-0.25890000000000002},31.882122000000003,"Stack:Renew any waste stack with 50mm plastic waste stack ne 3.00 m long, complete with all brackets, connections, offsets, bends, tees etc, hopper head, cut/form holes and make good, make all necessary connections to gulley and test, and remove waste and debris."]
["6201KB","STACK:RENEW 63MM WASTE","PLUMBING","Waste Pipework and Fittings","Waste Pipework and Fittings - Plastic","IT",73.81,{"$f":"SUMIF('Contractor##'!C:C,'Planned Maint v6.2 CSV File'!C:C,'Contractor##'!F:F)","v":-0.25890000000000002},54.700591000000003,"Stack:Renew any waste stack with 63mm plastic waste stack ne 3.00 m long, complete with all brackets, connections, offsets, bends, tees etc, hopper head, cut/form holes and make good, make all necessary connections to gulley and test, and remove waste and debris."]
["6201KC","STACK:RENEW 75MM WASTE","PLUMBING","Waste Pipework and Fittings","Waste Pipework and Fittings - Plastic","IT",102.59,{"$f":"SUMIF('Contractor##'!C:C,'Planned Maint v6.2 CSV File'!C:C,'Contractor##'!F:F)","v":-0.25890000000000002},76.029449,"Stack:Renew any waste stack with 75mm plastic waste stack ne 3.00 m long, complete with all brackets, connections, offsets, bends, tees etc, hopper head, cut/form holes and make good, make all necessary connections to gulley and test, and remove waste and debris."]
["6203AA","TRAP:RENEW NE 35MM COPPER TRAP","PLUMBING","Waste Pipework and Fittings","Waste PipeworK and Fittings - Copper","NO",40.799999999999997,{"$f":"SUMIF('Contractor##'!C:C,'Planned Maint v6.2 CSV File'!C:C,'Contractor##'!F:F)","v":-0.25890000000000002},30.236879999999996,"Trap:Renew ne 35mm copper trap to sink or basin including making all necessary adjustments to pipework and remake all joints and test, and remove waste and debris."]
["6203AB","TRAP:RENEW NE 42MM COPPER TRAP","PLUMBING","Waste Pipework and Fittings","Waste PipeworK and Fittings - Copper","NO",44.96,{"$f":"SUMIF('Contractor##'!C:C,'Planned Maint v6.2 CSV File'!C:C,'Contractor##'!F:F)","v":-0.25890000000000002},33.319856000000001,"Trap:Renew ne 42mm copper trap to sink or basin including making all necessary adjustments to pipework and remake all joints and test, and remove waste and debris."]
["6203AC","TRAP:RENEW NE 42MM COPPER BATH TRAP","PLUMBING","Waste Pipework and Fittings","Waste PipeworK and Fittings - Copper","NO",105.73,{"$f":"SUMIF('Contractor##'!C:C,'Planned Maint v6.2 CSV File'!C:C,'Contractor##'!F:F)","v":-0.25890000000000002},78.356503000000004,"Trap:Renew ne 42mm combined two piece copper trap to bath including making all necessary adjustments to pipework and remake all joints and test, and remove waste and debris."]
["6205AA","STACK:CLEAR BLOCKAGE","PLUMBING","Waste Pipework and Fittings","Soil/Waste Pipe Blockages","LM",8.9499999999999993,{"$f":"SUMIF('Contractor##'!C:C,'Planned Maint v6.2 CSV File'!C:C,'Contractor##'!F:F)","v":-0.25890000000000002},6.6328449999999997,"Soil Stack:Cleaning soil stack and including gain access, remove and refix any ducts, manhole covers etc., as necessary from roof level to manhole or point of discharge, and all associated waste pipework from trap to soil pipe and wc branches from wc trap to soil pipe, flush out and test, and remove waste and debris on completion, by rodding."]
["6205AB","STACK:CLEAN BY JET","PLUMBING","Waste Pipework and Fittings","Soil/Waste Pipe Blockages","LM",11.18,{"$f":"SUMIF('Contractor##'!C:C,'Planned Maint v6.2 CSV File'!C:C,'Contractor##'!F:F)","v":-0.25890000000000002},8.2854979999999987,"Soil Stack:Cleaning soil stack and including gain access, remove and refix any ducts, manhole covers etc., as necessary from roof level to manhole or point of discharge, and all associated waste pipework from trap to soil pipe and wc branches from wc trap to soil pipe, flush out and test, and remove waste and debris on completion, by pressure jetting."]
["6205BA","STACK:CCTV SURVEY","PLUMBING","Waste Pipework and Fittings","Soil/Waste Pipe Blockages","HR",65,{"$f":"SUMIF('Contractor##'!C:C,'Planned Maint v6.2 CSV File'!C:C,'Contractor##'!F:F)","v":-0.25890000000000002},48.171500000000002,"Stack:Undertake CCTV Survey of soil stack to identify faults, or following repairs or jetting, gain access, remove and refix any ducts, manhole covers etc., as necessary, provide report and video to Client’s Representative."]
["6301AA","SINK TOP:RENEW SINGLE DRAINER TOP - TAPS","PLUMBING","Fittings, Equipment and Appliances Associated With Services","Sinks","NO",157.32,{"$f":"SUMIF('Contractor##'!C:C,'Planned Maint v6.2 CSV File'!C:C,'Contractor##'!F:F)","v":-0.25890000000000002},116.58985199999999,"Sink Top:Renew with any size and type stainless steel single drainer sink top complete with new taps and waste fittings, reconnect to existing supply pipework including any adjustments and provide new service valves if not already installed, complete with new plug and chain, renew plastic trap and make all connections, make good existing or provide 300mm high glazed tile splashback fixed with adhesive including all labours, silicone sealant between splashback and fitting, crossbond and test, and remove waste and debris. [Sinktop and taps PC Sum of £80.00 supplied and delivered complete ready for installation]"]
["6301BA","SINK TOP:RENEW DOUBLE DRAINER TOP - TAPS","PLUMBING","Fittings, Equipment and Appliances Associated With Services","Sinks","NO",203.23,{"$f":"SUMIF('Contractor##'!C:C,'Planned Maint v6.2 CSV File'!C:C,'Contractor##'!F:F)","v":-0.25890000000000002},150.613753,"Sink Top:Renew any with size and type stainless steel double drainer sink top complete with new taps and waste fittings, reconnect to existing supply pipework and provide new service valves if not already installed, including any adjustments, complete with new plug and chain, renew plastic trap and make all connections, make good existing or provide 300mm high glazed tile splashback fixed with adhesive including all labours, silicone sealant between splashback and fitting, crossbond and test, and remove waste and debris. [Sinktop and taps PC Sum of £100.00 supplied and delivered complete ready for installation]"]
["6301CA","SINK UNIT:RENEW SINGLE DRAINER TOP TAPS BASE UNIT","PLUMBING","Fittings, Equipment and Appliances Associated With Services","Sinks","NO",347.34,{"$f":"SUMIF('Contractor##'!C:C,'Planned Maint v6.2 CSV File'!C:C,'Contractor##'!F:F)","v":-0.25890000000000002},257.41367399999996,"Sink Unit:Renew with any size and type stainless steel single drainer sink top and base unit complete with new taps and waste fittings, reconnect to existing supply pipework including any adjustments and provide new service valves if not already installed, complete with new plug and chain, renew plastic trap and make all connections, make good existing or provide 300mm high glazed tile splashback fixed with adhesive including all labours, silicone sealant between splashback and fitting, crossbond and test, and remove waste and debris. [Sink Base Unit, Sinktop and taps PC Sum of £200.00 supplied and delivered complete ready for installation]"]
["6301DA","SINK TOP:RENEW SINGLE DRAINER TOP – MIXER","PLUMBING","Fittings, Equipment and Appliances Associated With Services","Sinks","NO",201.31,{"$f":"SUMIF('Contractor##'!C:C,'Planned Maint v6.2 CSV File'!C:C,'Contractor##'!F:F)","v":-0.25890000000000002},149.19084100000001,"Sink Top:Renew with any size and type stainless steel single drainer sink top complete with new mixer taps and waste fittings, reconnect to existing supply pipework including any adjustments and provide new service valves if not already installed, complete with new plug and chain, renew plastic trap and make all connections, make good existing or provide 300mm high glazed tile splashback fixed with adhesive including all labours, silicone sealant between splashback and fitting, crossbond and test, and remove waste and debris. [Sinktop and mixer PC Sum of £120.00 supplied and delivered complete ready for installation]."]
["6301DB","SINK TOP:RENEW DOUBLE DRAINER TOP – MIXER","PLUMBING","Fittings, Equipment and Appliances Associated With Services","Sinks","NO",274.08,{"$f":"SUMIF('Contractor##'!C:C,'Planned Maint v6.2 CSV File'!C:C,'Contractor##'!F:F)","v":-0.25890000000000002},203.12068799999997,"Sink Top:Renew any with size and type stainless steel double drainer sink top complete with new mixer taps and waste fittings, reconnect to existing supply pipework and provide new service valves if not already installed, including any adjustments, complete with new plug and chain, renew plastic trap and make all connections, make good existing or provide 300mm high glazed tile splashback fixed with adhesive including all labours, silicone sealant between splashback and fitting, crossbond and test, and remove waste and debris. [Sinktop and mixer PC Sum of £140.00 supplied and delivered complete ready for installation]."]
["6301DC","SINK UNIT:RENEW SINGLE DRAINER TOP MIXER BASE UNIT","PLUMBING","Fittings, Equipment and Appliances Associated With Services","Sinks","NO",363.65,{"$f":"SUMIF('Contractor##'!C:C,'Planned Maint v6.2 CSV File'!C:C,'Contractor##'!F:F)","v":-0.25890000000000002},269.501015,"Sink Unit:Renew with any size and type stainless steel single drainer sink top and base unit complete with new mixer taps and waste fittings, reconnect to existing supply pipework including any adjustments and provide new service valves if not already installed, complete with new plug and chain, renew plastic trap and make all connections, make good existing or provide 300mm high glazed tile splashback fixed with adhesive including all labours, silicone sealant between splashback and fitting, crossbond and test, and remove waste and debris. [Sink Base Unit, Sinktop and mixer PC Sum of £240.00 supplied and delivered complete ready for installation]."]
["6301GA","SINK TOP:RENEW SINGLE DRAINER DEEP BOWL TOP TAPS","PLUMBING","Fittings, Equipment and Appliances Associated With Services","Sinks - Deep Bowl","NO",157.32,{"$f":"SUMIF('Contractor##'!C:C,'Planned Maint v6.2 CSV File'!C:C,'Contractor##'!F:F)","v":-0.25890000000000002},116.58985199999999,"Sink Top:Renew with any size/type stainless steel deep bowl single drainer sink top complete with new taps and waste fittings, reconnect to existing supply pipework and provide new service valves if not already installed, including any adjustments, complete with new plug and chain, renew plastic trap, make all connections, make good existing or provide 300mm high glazed tile splashback fixed with adhesive including all labours, silicone sealant between splashback and fitting, and crossbond, test, adjust sink base unit to accommodate deep bowl and trap, and remove waste and debris. [Sinktop and taps PC Sum of £80.00 supplied and delivered complete ready for installation]"]
["6301GB","SINK TOP:RENEW DOUBLE DRAINER DEEP BOWL TOP TAPS","PLUMBING","Fittings, Equipment and Appliances Associated With Services","Sinks - Deep Bowl","NO",203.23,{"$f":"SUMIF('Contractor##'!C:C,'Planned Maint v6.2 CSV File'!C:C,'Contractor##'!F:F)","v":-0.25890000000000002},150.613753,"Sink Top:Renew any with size/type stainless steel deep bowl double drainer sink top complete with new taps and waste fittings, reconnect to existing supply pipework and provide new service valves if not already installed, including any adjustments, complete with new plug and chain, renew plastic trap, make all connections, make good existing or provide 300mm high glazed tile splashback fixed with adhesive including all labours, silicone sealant between splashback and fitting, and crossbond, test, adjust sink base unit to accommodate deep bowl and trap, and remove waste and debris. [Sinktop and taps PC Sum of £100.00 supplied and delivered complete ready for installation]"]
["6301HA","SINK UNIT:RENEW SINGLE DRAINER DEEP TOP BASE TAPS","PLUMBING","Fittings, Equipment and Appliances Associated With Services","Sinks - Deep Bowl","NO",329.45,{"$f":"SUMIF('Contractor##'!C:C,'Planned Maint v6.2 CSV File'!C:C,'Contractor##'!F:F)","v":-0.25890000000000002},244.155395,"Sink Unit:Renew with any size and type stainless steel deep bowl single drainer sink top and base unit complete with new taps and waste fittings, connect to existing supply pipework including any adjustments and provide new service valves if not already installed, complete with new plug and chain, renew plastic trap make all connections, make good existing or provide 300mm high glazed tile splashback fixed with adhesive including all labours, silicone sealant between splashback and fitting, crossbond and test, and remove waste and debris. [Sink Base Unit, Sinktop and taps PC Sum of £200.00 supplied and delivered complete ready for installation]"]
["6301JA","SINK TOP:RENEW SINGLE DRAINER DEEP BOWL TOP MIXER","PLUMBING","Fittings, Equipment and Appliances Associated With Services","Sinks - Deep Bowl","NO",201.31,{"$f":"SUMIF('Contractor##'!C:C,'Planned Maint v6.2 CSV File'!C:C,'Contractor##'!F:F)","v":-0.25890000000000002},149.19084100000001,"Sink Top:Renew with any size/type stainless steel deep bowl single drainer sink top complete with new mixer tap and waste fittings, reconnect to existing supply pipework and provide new service valves if not already installed, including any adjustments, complete with new plug and chain, renew plastic trap, make all connections, make good existing or provide 300mm high glazed tile splashback fixed with adhesive including all labours, silicone sealant between splashback and fitting, and crossbond, test, adjust sink base unit to accommodate deep bowl and trap, and remove waste and debris. [Sinktop and mixer PC Sum of £120.00 supplied and delivered complete ready for installation]."]
["6301JB","SINK TOP:RENEW DOUBLE DRAINER DEEP BOWL TOP MIXER","PLUMBING","Fittings, Equipment and Appliances Associated With Services","Sinks - Deep Bowl","NO",247.23,{"$f":"SUMIF('Contractor##'!C:C,'Planned Maint v6.2 CSV File'!C:C,'Contractor##'!F:F)","v":-0.25890000000000002},183.22215299999999,"Sink Top:Renew any with size/type stainless steel deep bowl double drainer sink top complete with new mixer tap and waste fittings, reconnect to existing supply pipework and provide new service valves if not already installed, including any adjustments, complete with new plug and chain, renew plastic trap, make all connections, make good existing or provide 300mm high glazed tile splashback fixed with adhesive including all labours, silicone sealant between splashback and fitting, and crossbond, test, adjust sink base unit to accommodate deep bowl and trap, and remove waste and debris. [Sinktop and mixer PC Sum of £140.00 supplied and delivered complete ready for installation]."]
["6301JC","SINK UNIT:RENEW SINGLE DRAINER DEEP TOP MIXER BASE","PLUMBING","Fittings, Equipment and Appliances Associated With Services","Sinks - Deep Bowl","NO",373.44,{"$f":"SUMIF('Contractor##'!C:C,'Planned Maint v6.2 CSV File'!C:C,'Contractor##'!F:F)","v":-0.25890000000000002},276.75638399999997,"Sink Unit:Renew with any size and type stainless steel deep bowl single drainer sink top and base unit complete with new mixer tap and waste fittings, connect to existing supply pipework including any adjustments and provide new service valves if not already installed, complete with new plug and chain, renew plastic trap make all connections, make good existing or provide 300mm high glazed tile splashback fixed with adhesive including all labours, silicone sealant between splashback and fitting, crossbond and test, and remove waste and debris. [Sink Base Unit, Sinktop and mixer PC Sum of £240.00 supplied and delivered complete ready for installation]."]
["6302AA","SINK TOP:SUPPLY INSET TAPS ","PLUMBING","Fittings, Equipment and Appliances Associated With Services","Sink Tops - Inset","NO",165.88,{"$f":"SUMIF('Contractor##'!C:C,'Planned Maint v6.2 CSV File'!C:C,'Contractor##'!F:F)","v":-0.25890000000000002},122.933668,"Sink Top:Supply and fix 508x935mm stainless steel inset sink top, single bowl and single drainer complete with new taps and waste fitting, including cut out work top, sink, connect to existing supply pipework and provide new service valves if not already installed, including any adjustments, complete with new plug and chain, provide plastic waste trap and pipework, make all connections, silicone sealant between sink top and work top, crossbond and test, and remove waste and debris. [Sinktop and taps PC Sum of £80.00 supplied and delivered complete ready for installation]"]
["6302BA","SINK TOP:RENEW INSET TAPS","PLUMBING","Fittings, Equipment and Appliances Associated With Services","Sink Tops - Inset","NO",156.94,{"$f":"SUMIF('Contractor##'!C:C,'Planned Maint v6.2 CSV File'!C:C,'Contractor##'!F:F)","v":-0.25890000000000002},116.308234,"Sink Top:Renew with 508x935mm stainless steel inset sink top, single bowl and single drainer complete with new taps and waste fitting, reconnect to existing supply pipework, and provide new service valves if not already installed, including any adjustments, complete with new plug and chain, renew plastic waste trap, make all connections, renew silicone sealant between sink top and work top, crossbond and test, and remove waste and debris. [Sinktop and taps PC Sum of £80.00 supplied and delivered complete ready for installation]"]
["6302CA","SINK TOP:SUPPLY INSET MIXER ","PLUMBING","Fittings, Equipment and Appliances Associated With Services","Sink Tops - Inset","NO",209.88,{"$f":"SUMIF('Contractor##'!C:C,'Planned Maint v6.2 CSV File'!C:C,'Contractor##'!F:F)","v":-0.25890000000000002},155.542068,"Sink Top:Supply and fix 508x935mm stainless steel inset sink top, single bowl and single drainer complete with new mixer tap and waste fitting, including cut out work top, sink, connect to existing supply pipework and provide new service valves if not already installed, including any adjustments, complete with new plug and chain, provide plastic waste trap and pipework, make all connections, silicone sealant between sink top and work top, crossbond and test, and remove waste and debris. [Sinktop and mixer PC Sum of £120.00 supplied and delivered complete ready for installation]."]
["6302DA","SINK TOP:RENEW INSET MIXER","PLUMBING","Fittings, Equipment and Appliances Associated With Services","Sink Tops - Inset","NO",200.93,{"$f":"SUMIF('Contractor##'!C:C,'Planned Maint v6.2 CSV File'!C:C,'Contractor##'!F:F)","v":-0.25890000000000002},148.909223,"Sink Top:Renew with 508x935mm stainless steel inset sink top, single bowl and single drainer complete with new mixer tap and waste fitting, reconnect to existing supply pipework, and provide new service valves if not already installed, including any adjustments, complete with new plug and chain, renew plastic waste trap, make all connections, renew silicone sealant between sink top and work top, crossbond and test, and remove waste and debris.  [Sinktop and mixer PC Sum of £120.00 supplied and delivered complete ready for installations]."]
["6302GA","SINK TOP:SUPPLY DEEP BOWL INSET TAPS","PLUMBING","Fittings, Equipment and Appliances Associated With Services","Sink Tops - Deep Bowl Inset","NO",165.88,{"$f":"SUMIF('Contractor##'!C:C,'Planned Maint v6.2 CSV File'!C:C,'Contractor##'!F:F)","v":-0.25890000000000002},122.933668,"Sink Top:Supply and fix 508x935mm stainless steel inset sink top, single deep bowl and single drainer complete with new taps and waste fitting, including cut out work top for sink, connect to existing supply pipework and provide new service valves if not already installed, including any adjustments, complete with new plug and chain, provide plastic waste trap and pipework, make all connections, silicone sealant between sink top and work top, crossbond, test, adjust sink base unit to accommodate deep bowl and trap, and remove waste and debris. [Sinktop and taps PC Sum of £80.00 supplied and delivered complete ready for installation]"]
["6302GB","SINK TOP:RENEW WITH DEEP BOWL INSET TAPS","PLUMBING","Fittings, Equipment and Appliances Associated With Services","Sink Tops - Deep Bowl Inset","NO",156.94,{"$f":"SUMIF('Contractor##'!C:C,'Planned Maint v6.2 CSV File'!C:C,'Contractor##'!F:F)","v":-0.25890000000000002},116.308234,"Sink Top:Renew with 508x935mm stainless steel inset sink top, single deep bowl and single drainer complete with new taps and waste fitting, reconnect to existing supply pipework, and provide new service valves if not already installed, including any adjustments, complete with new plug and chain, renew plastic waste trap, make all connections,. renew silicone sealant between sinktop and worktop, top, crossbond, test, adjust sink base unit to accommodate deep bowl and trap, and remove waste and debris. [Sinktop and taps PC Sum of £80.00 supplied and delivered complete ready for installation]"]
["6302HA","SINK TOP:SUPPLY DEEP BOWL INSET MIXER","PLUMBING","Fittings, Equipment and Appliances Associated With Services","Sink Tops - Deep Bowl Inset","NO",209.88,{"$f":"SUMIF('Contractor##'!C:C,'Planned Maint v6.2 CSV File'!C:C,'Contractor##'!F:F)","v":-0.25890000000000002},155.542068,"Sink Top:Supply and fix 508x935mm stainless steel inset sink top, single deep bowl and single drainer complete with new mixer taps and waste fitting, including cut out work top for sink, connect to existing supply pipework and provide new service valves if not already installed, including any adjustments, complete with new plug and chain, provide plastic waste trap and pipework, make all connections, silicone sealant between sink top and work top, crossbond, test, adjust sink base unit to accommodate deep bowl and trap, and remove waste and debris. [Sinktop and mixer PC Sum of £120.00 supplied and delivered complete ready for installation]."]
["6302HB","SINK TOP:RENEW WITH DEEP BOWL INSET MIXER","PLUMBING","Fittings, Equipment and Appliances Associated With Services","Sink Tops - Deep Bowl Inset","NO",200.93,{"$f":"SUMIF('Contractor##'!C:C,'Planned Maint v6.2 CSV File'!C:C,'Contractor##'!F:F)","v":-0.25890000000000002},148.909223,"Sink Top:Renew with 508x935mm stainless steel inset sink top, single deep bowl and single drainer complete with new mixer taps and waste fitting, reconnect to existing supply pipework, and provide new service valves if not already installed, including any adjustments, complete with new plug and chain, renew plastic waste trap, make all connections,. renew silicone sealant between sinktop and worktop, top, crossbond, test, adjust sink base unit to accommodate deep bowl and trap, and remove waste and debris. [Sinktop and mixer PC Sum of £120.00 supplied and delivered complete ready for installation]."]
["6303AA","SINK UNIT:REMOVE SINK TOP AND RENEW 1M BASE TAPS","PLUMBING","Fittings, Equipment and Appliances Associated With Services","Sink Base Units","NO",193.71,{"$f":"SUMIF('Contractor##'!C:C,'Planned Maint v6.2 CSV File'!C:C,'Contractor##'!F:F)","v":-0.25890000000000002},143.558481,"Sink Unit:Remove stainless steel sink top and set aside, renew 1000mm long sink base unit scribed and securely plugged to wall, refix and reconnect existing sink top, and provide new service valves if not already installed, renew taps, silicone sealant between splashback and fitting, and crossbond, remake connections to existing supply and waste pipework, test, and make good plaster or tiled finishes on completion, and remove waste and debris. (Unit to be PC Sum of £80.00 supplied and delivered to site ready assembled for installation complete to receive sinktop measured seperately)"]
["6303AB","SINK UNIT:REMOVE SINK TOP RENEW 1.2M BASE TAPS","PLUMBING","Fittings, Equipment and Appliances Associated With Services","Sink Base Units","NO",239.95,{"$f":"SUMIF('Contractor##'!C:C,'Planned Maint v6.2 CSV File'!C:C,'Contractor##'!F:F)","v":-0.25890000000000002},177.82694499999999,"Sink Unit:Remove stainless steel sink top and set aside, renew 1200mm long sink base unit scribed and securely plugged to wall, refix and reconnect existing sink top, and provide new service valves if not already installed, renew taps, silicone sealant between splashback and fitting, and crossbond, remake connections to existing supply and waste pipework, test, and make good plaster or tiled finishes on completion, and remove waste and debris. (Unit to be PC Sum of £120.00 supplied and delivered to site ready assembled for installation complete to receive sinktop measured seperately)"]
["6303AC","SINK UNIT:REMOVE SINK TOP RENEW 1.5M BASE TAPS","PLUMBING","Fittings, Equipment and Appliances Associated With Services","Sink Base Units","NO",286.19,{"$f":"SUMIF('Contractor##'!C:C,'Planned Maint v6.2 CSV File'!C:C,'Contractor##'!F:F)","v":-0.25890000000000002},212.09540899999999,"Sink Unit:Remove stainless steel sink top and set aside, renew 1500mm long sink base unit scribed and securely plugged to wall, refix and reconnect existing sink top, and provide new service valves if not already installed, renew taps, silicone sealant between splashback and fitting, and crossbond, remake connections to existing supply and waste pipework, test, and make good plaster or tiled finishes on completion, and remove waste and debris. (Unit to be PC Sum of £160.00 supplied and delivered to site ready assembled for installation complete to receive sinktop measured seperately)"]
["6303BA","SINK UNIT:REMOVE SINK TOP AND RENEW 1M BASE MIXER","PLUMBING","Fittings, Equipment and Appliances Associated With Services","Sink Base Units","NO",238.15,{"$f":"SUMIF('Contractor##'!C:C,'Planned Maint v6.2 CSV File'!C:C,'Contractor##'!F:F)","v":-0.25890000000000002},176.492965,"Sink Unit:Remove stainless steel sink top and set aside, renew 1000mm long sink base unit scribed and securely plugged to wall, refix and reconnect existing sink top, and provide new service valves if not already installed, renew with mixer taps, silicone sealant between splashback and fitting, and crossbond, remake connections to existing supply and waste pipework, test, and make good plaster or tiled finishes on completion, and remove waste and debris. [Unit to be PC Sum of £80.00 supplied and delivered to site ready assembled for installation completed to receive sinktop measured separately]."]
["6303BB","SINK UNIT:REMOVE SINK TOP RENEW 1.2M BASE MIXER","PLUMBING","Fittings, Equipment and Appliances Associated With Services","Sink Base Units","NO",284.39,{"$f":"SUMIF('Contractor##'!C:C,'Planned Maint v6.2 CSV File'!C:C,'Contractor##'!F:F)","v":-0.25890000000000002},210.76142899999999,"Sink Unit:Remove stainless steel sink top and set aside, renew 1200mm long sink base unit scribed and securely plugged to wall, refix and reconnect existing sink top, and provide new service valves if not already installed, renew with mixer taps, silicone sealant between splashback and fitting, and crossbond, remake connections to existing supply and waste pipework, test, and make good plaster or tiled finishes on completion, and remove waste and debris. [Unit to be PC Sum of £120.00 supplied and delivered to site ready assembled for installation completed to receive sinktop measured separately]."]
["6303BC","SINK UNIT:REMOVE SINK TOP RENEW 1.5M BASE MIXER","PLUMBING","Fittings, Equipment and Appliances Associated With Services","Sink Base Units","NO",330.62,{"$f":"SUMIF('Contractor##'!C:C,'Planned Maint v6.2 CSV File'!C:C,'Contractor##'!F:F)","v":-0.25890000000000002},245.022482,"Sink Unit:Remove stainless steel sink top and set aside, renew 1500mm long sink base unit scribed and securely plugged to wall, refix and reconnect existing sink top, and provide new service valves if not already installed, renew with mixer taps, silicone sealant between splashback and fitting, and crossbond, remake connections to existing supply and waste pipework, test, and make good plaster or tiled finishes on completion, and remove waste and debris. [Unit to be PC Sum of £160.00 supplied and delivered to site ready assembled for installation completed to receive sinktop measured separately]."]
["6304AA","BELFAST SINK:RENEW","PLUMBING","Fittings, Equipment and Appliances Associated With Services","Belfast Sinks","IT",208.41,{"$f":"SUMIF('Contractor##'!C:C,'Planned Maint v6.2 CSV File'!C:C,'Contractor##'!F:F)","v":-0.25890000000000002},154.452651,"Belfast Sink:Renew with white glazed fireclay belfast sink ne 610x455x255mm on and including cantilever brackets, complete with new waste fitting, reconnect to existing waste pipework including any adjustments, complete with plug and chain, renew plastic trap, make good existing or provide 150x150x6mm glazed tile splashback fixed with adhesive including all rounded edges and labours, silicone sealant between splashback and fitting, and crossbond in accordance with current IEE regulations, and remove waste and debris.."]
["6304BA","CLEANERS SINK:RENEW","PLUMBING","Fittings, Equipment and Appliances Associated With Services","Cleaners Sinks","IT",303.31,{"$f":"SUMIF('Contractor##'!C:C,'Planned Maint v6.2 CSV File'!C:C,'Contractor##'!F:F)","v":-0.25890000000000002},224.783041,"Belfast Sink:Renew with white glazed fireclay cleaners sink ne 610x455x255mm with hardwood pad and aluminium bucket grating, on and including cantilever brackets, complete with new waste fitting, reconnect to existing waste pipework including any adjustments, complete with plug and chain, renew plastic trap, make good existing or provide 150x150x6mm glazed tile splashback fixed with adhesive including all rounded edges and labours, silicone sealant between splashback and fitting, and crossbond in accordance with current IEE regulations, and remove waste and debris.."]
["6305AA","WC SUITE:RENEW LOW LEVEL WITH PLASTIC CISTERN","PLUMBING","Fittings, Equipment and Appliances Associated With Services","WC Suites","NO",187.24,{"$f":"SUMIF('Contractor##'!C:C,'Planned Maint v6.2 CSV File'!C:C,'Contractor##'!F:F)","v":-0.25890000000000002},138.763564,"WC Suite:Renew wc suite complete with vitreous china pan fixed with brass or non-ferrous screws to floor including any necessary plugging, 6 litre plastic low level cistern plugged to wall, with overflow syphon, silencer pipe, float handle and ball valve, 32mm diameter flush pipe, wc cone, reconnect to existing supply and overflow pipework and provide new service valve if not already installed, make flush pipe and soil pipe joints with and including ‘Easy-Fit' connectors, and test all joints, and fix new plastic seat and lid to pan, and remove waste and debris. [WC Suite PC Sum of £80.00 supplied and delivered complete with cistern seat and lid ready for installation]"]
["6305AB","WC SUITE:RENEW LOW LEVEL WITH CHINA CISTERN","PLUMBING","Fittings, Equipment and Appliances Associated With Services","WC Suites","NO",200.19,{"$f":"SUMIF('Contractor##'!C:C,'Planned Maint v6.2 CSV File'!C:C,'Contractor##'!F:F)","v":-0.25890000000000002},148.36080899999999,"WC Suite:Renew wc suite complete with vitreous china pan fixed with brass or non-ferrous screws to floor including any necessary plugging, 6 litre vitreous china low level cistern plugged to wall, with overflow syphon, silencer pipe, float handle and ball valve, 32mm diameter flush pipe, wc cone, reconnect to existing supply and overflow pipework and provide new service valve if not already installed, make flush pipe and soil pipe joints with and including ‘Easy-Fit' connectors, and test all joints, and fix new plastic seat and lid to pan, and remove waste and debris. [WC Suite PC Sum of £90.00 supplied and delivered complete with cistern seat and lid ready for installation]"]
["6305BA","WC SUITE:RENEW HIGH LEVEL WITH PLASTIC CISTERN","PLUMBING","Fittings, Equipment and Appliances Associated With Services","WC Suites","NO",195.67,{"$f":"SUMIF('Contractor##'!C:C,'Planned Maint v6.2 CSV File'!C:C,'Contractor##'!F:F)","v":-0.25890000000000002},145.01103699999999,"WC Suite:Renew wc suite complete with vitreous china pan fixed with brass or non-ferrous screws to floor including any necessary plugging, 6 litre plastic high level cistern plugged to wall, with overflow syphon, silencer pipe, float, pull chain and ball valve, 32mm diameter flush pipe, wc cone, reconnect to existing supply and overflow pipework, and provide new service valve if not already installed, make flush pipe and soil pipe joints with and including ‘Easy-Fit' connectors, and test all joints, and fix new plastic plastic seat and lid to pan, and remove waste and debris."]
["6305BB","WC SUITE:RENEW HIGH LEVEL WITH CHINA CISTERN","PLUMBING","Fittings, Equipment and Appliances Associated With Services","WC Suites","NO",224.63,{"$f":"SUMIF('Contractor##'!C:C,'Planned Maint v6.2 CSV File'!C:C,'Contractor##'!F:F)","v":-0.25890000000000002},166.47329299999998,"WC Suite:Renew wc suite complete with vitreous china pan fixed with brass or non-ferrous screws to floor including any necessary plugging, 6 litre vitreous china high level cistern plugged to wall, with overflow syphon, silencer pipe, float, pull chain and ball valve, 32mm diameter flush pipe, wc cone, reconnect existing supply and overflow pipework, and provide new service valve if not already installed, make flush pipe and soil pipe joints with and including ‘Easy-Fit' connectors and test all joints, and fix new plastic seat and lid to pan, and remove waste and debris."]
["6305CA","WC SUITE:RENEW CLOSE COUPLED ","PLUMBING","Fittings, Equipment and Appliances Associated With Services","WC Suites","NO",197.2,{"$f":"SUMIF('Contractor##'!C:C,'Planned Maint v6.2 CSV File'!C:C,'Contractor##'!F:F)","v":-0.25890000000000002},146.14491999999998,"WC Suite:Renew vitreous china close coupled wc suite with pan fixed with brass or non-ferrous screws to floor, including any necessary plugging, 6 litre vitreous china cistern plugged to wall with overflow, syphon, silencer pipe, float, handle and ball valve, reconnect to existing supply and overflow pipework, and provide new service valve if not already installed, make soil pipe joint with and including 'Easy-Fit’ connector and test all joints, fix new plastic seat and lid to pan, and remove waste and debris. [WC Suite PC Sum of £90.00 supplied and delivered complete with cistern seat and lid ready for installation]"]
["6305DA","WC SUITE:INSTALL SPECIAL NEEDS TYPE","PLUMBING","Plumbing Works","Sanitary Fittings","NO",350.76,{"$f":"SUMIF('Contractor##'!C:C,'Planned Maint v6.2 CSV File'!C:C,'Contractor##'!F:F)","v":-0.25890000000000002},259.94823600000001,"WC Suite:Renew existing with special needs suite including wc pan fixed with brass or non-ferrous screws to floor, including any necessary plugging, 6 litre vitreous china low level cistern plugged to wall with overflow, syphon, silencer pipe, float handle, ball valve, 32mm diameter flush pipe, wc cone reconnect to existing supply and overflow pipework, provide new service valve if not already installed, make flush pipe and soil pipe joints with and including 'multiquik' connectors, and test all joints, and fix new plastic seat and lid to pan, make good wall and floor finishes, and remove waste and debris. [WC Suite PC Sum of £220.00 supplied and delivered complete with cistern seat and lid ready for installation]"]
["6305EA","WC SUITE:INSTALL CLOSE COUPLED SPECIAL NEEDS TYPE","PLUMBING","Plumbing Works","Sanitary Fittings","NO",375.76,{"$f":"SUMIF('Contractor##'!C:C,'Planned Maint v6.2 CSV File'!C:C,'Contractor##'!F:F)","v":-0.25890000000000002},278.47573599999998,"WC Suite:Renew existing with close coupled special needs suite with wc pan fixed with brass or non-ferrous screws to floor, including all plugging, 6 litre vitreous china cistern plugged to wall with overflow, syphon, silencer pipe, float, handle and ball valve, reconnect to existing supply and overflow pipework, provide new service valve if not already installed, make soil pipe joint with and including 'multiquik' connectors and test all joints, and fix new plastic seat and lid to pan, make good wall and floor finishes, and remove waste and debris. [WC Suite PC Sum of £275.00 supplied and delivered complete with cistern seat and lid ready for installation]"]
["6305FA","WC PAN:INSTALL SPECIAL NEEDS TYPE","PLUMBING","Plumbing Works","Sanitary Fittings","NO",228.76,{"$f":"SUMIF('Contractor##'!C:C,'Planned Maint v6.2 CSV File'!C:C,'Contractor##'!F:F)","v":-0.25890000000000002},169.53403599999999,"WC Pan:Renew wc pan with special needs wc pan fixed with brass or non-ferrous screws to floor, including plugging, remake joints including joint to soil pipe with 'multiquik' connectors, and fix new plastic seat and lid to pan, make good floor finishes, and remove waste and debris. [WC Pan PC Sum of £155.00 supplied and delivered complete with cistern seat and lid ready for installation]"]
["6305GA","WC PAN:RENEW COMPLETE","PLUMBING","Fittings, Equipment and Appliances Associated With Services","WC Suites","NO",93.26,{"$f":"SUMIF('Contractor##'!C:C,'Planned Maint v6.2 CSV File'!C:C,'Contractor##'!F:F)","v":-0.25890000000000002},{"$f":"(1+H2436)*G2436","v":69.114986000000002},"WC Pan:Renew wc pan fixed with brass or non-ferrous screws to floor, including any plugging, renew wc cone, remake flush pipe and soil pipe joints with and including ‘Easy-Fit' connectors, fix new plastic seat and lid to pan, make good to all wall and floor finishes, and remove waste and debris."]
["6305HA","WC PAN:REMOVE PAN COMPLETE","PLUMBING","Fittings, Equipment and Appliances Associated With Services","WC Suites","NO",16.54,{"$f":"SUMIF('Contractor##'!C:C,'Planned Maint v6.2 CSV File'!C:C,'Contractor##'!F:F)","v":-0.25890000000000002},12.257793999999999,"WC Pan:Remove wc pan complete, including disconnect and seal off, make good to existing sub floor and make good to all wall and floor finishes."]
["6305JB","WC PAN:OVERHAUL ANY TYPE","PLUMBING","Fittings, Equipment and Appliances Associated With Services","WC Suites","NO",37.83,{"$f":"SUMIF('Contractor##'!C:C,'Planned Maint v6.2 CSV File'!C:C,'Contractor##'!F:F)","v":-0.25890000000000002},28.035812999999997,"WC Pan:Overhaul any type of pan, if necessary renew sea and cover, seat hinges, refix seat, refix pan if loose, renew flush pie, renew wc cone and flush pipe joint, remake outlet or soil pipe connection with cement/sand or ‘Easy-Fit’ connector or rubber wc gasket, test for leaks on completion and leave wc pan in working order"]
["6305KA","WALL:REMOVE AND REFIX WC SUITE IN ASSOCIATION","PLUMBING","Fittings, Equipment and Appliances Associated With Services","WC Suites","IT",40.57,{"$f":"SUMIF('Contractor##'!C:C,'Planned Maint v6.2 CSV File'!C:C,'Contractor##'!F:F)","v":-0.25890000000000002},30.066427000000001,"Wall:Remove, set aside, store, later refix WC and cistern in conjunction with specialist treatment works. adjust, extend pipe stubs, and provide new service valve if not already installed connect with new fittings, cone and multikwick, adjust or refix wc seat, disconnect and reconnect pipework, replug wall, test and make good all wall and floor finishes, and remove waste and debris."]
["6305LA","WC CISTERN:RENEW LOW LEVEL PLASTIC","PLUMBING","Fittings, Equipment and Appliances Associated With Services","WC Suites","NO",55.55,{"$f":"SUMIF('Contractor##'!C:C,'Planned Maint v6.2 CSV File'!C:C,'Contractor##'!F:F)","v":-0.25890000000000002},41.168104999999997,"WC Cistern:Renew with 6 litre plastic low level cistern plugged and screwed securely to wall with overflow, syphon, silencer pipe, float, handle and ballvalve, reconnect existing supply overflow and flush pipework, and provide new service valve if not already installed, test on completion and make good all finishes, and remove waste and debris."]
["6305LB","WC CISTERN:RENEW HIGH LEVEL PLASTIC","PLUMBING","Fittings, Equipment and Appliances Associated With Services","WC Suites","NO",61.81,{"$f":"SUMIF('Contractor##'!C:C,'Planned Maint v6.2 CSV File'!C:C,'Contractor##'!F:F)","v":-0.25890000000000002},45.807391000000003,"WC Cistern:Renew with 6 litre plastic high level level cistern on existing brackets, with overflow, syphon, silencer pipe, float, handle and chain and ballvalve, reconnect existing supply overflow and flush pipework, and provide new service valve if not already installed, test on completion and make good all finishes, and remove waste and debris."]
["6305LC","WC CISTERN:RENEW HIGH WITH LOW PLASTIC","PLUMBING","Fittings, Equipment and Appliances Associated With Services","WC Suites","NO",66.400000000000006,{"$f":"SUMIF('Contractor##'!C:C,'Planned Maint v6.2 CSV File'!C:C,'Contractor##'!F:F)","v":-0.25890000000000002},49.209040000000002,"WC Cistern:Renew wc high level cistern with 6 litre plastic wc low level cistern plugged and screwed securely to wall, with overflow, siphon, silencer pipe, float, handle and ballvalve, reconnect existing supply, overflow and flush pipework including any necessary adjustments and provide new service valve if not already installed, test on completion and make good all finishes, and remove waste and debris."]
["6305MA","WC CISTERN:RENEW LOW LEVEL CHINA","PLUMBING","Fittings, Equipment and Appliances Associated With Services","WC Suites","NO",68.94,{"$f":"SUMIF('Contractor##'!C:C,'Planned Maint v6.2 CSV File'!C:C,'Contractor##'!F:F)","v":-0.25890000000000002},51.091434,"WC Cistern:Renew with 6 litre vitreous china low level cistern plugged and screwed securely to wall with overflow, syphon, silencer pipe, float, handle and ballvalve, reconnect existing supply overflow and flush pipework, and provide new service valve if not already installed, test on completion and make good all finishes, and remove waste and debris."]
["6305MB","WC CISTERN:RENEW HIGH LEVEL CHINA","PLUMBING","Fittings, Equipment and Appliances Associated With Services","WC Suites","NO",88.97,{"$f":"SUMIF('Contractor##'!C:C,'Planned Maint v6.2 CSV File'!C:C,'Contractor##'!F:F)","v":-0.25890000000000002},65.935666999999995,"WC Cistern:Renew with 6 litre vitreous china high level cistern on existing brackets, with overflow, syphon, silencer pipe, float, handle and chain and ballvalve, reconnect existing supply, overflow and flush pipework, and provide new service valve if not already installed, test on completion and make good all finishes, and remove waste and debris."]
["6305MC","WC CISTERN:RENEW HIGH WITH LOW CHINA","PLUMBING","Fittings, Equipment and Appliances Associated With Services","WC Suites","NO",79.78,{"$f":"SUMIF('Contractor##'!C:C,'Planned Maint v6.2 CSV File'!C:C,'Contractor##'!F:F)","v":-0.25890000000000002},59.124957999999999,"WC Cistern:Renew wc high level cistern with 6 litre vitreous china wc low level cistern plugged and screwed securely to wall, with overflow, syphon, silencer pipe, float, handle and ballvalve, reconnect existing supply, overflow and flush pipework including any necessary adjustments and provide new service valve if not already installed, test on completion and make good all finishes, and remove waste and debris."]
["6305NA","WC CISTERN:REFIX INCLUDING RENEW BRACKET","PLUMBING","Fittings, Equipment and Appliances Associated With Services","WC Suites","NO",21.38,{"$f":"SUMIF('Contractor##'!C:C,'Planned Maint v6.2 CSV File'!C:C,'Contractor##'!F:F)","v":-0.25890000000000002},15.844717999999999,"WC Cistern:Refix any wc cistern, including turn off water supply, disconnect and make all necessary connections to pipework and replug securely to wall, including remove existing and fix new brackets and refix cistern, turn on water supply, test and make good all finishes, and remove waste and debris."]
["6305PA","WC CISTERN:DISCONNECT AND REMOVE","PLUMBING","Fittings, Equipment and Appliances Associated With Services","WC Suites","NO",26.11,{"$f":"SUMIF('Contractor##'!C:C,'Planned Maint v6.2 CSV File'!C:C,'Contractor##'!F:F)","v":-0.25890000000000002},19.350120999999998,"WC Cistern:Remove wc cistern complete including disconnect, cut back and seal off supply and overflow pipework and make good to plasterwork and decorate to match existing, and remove waste and debris."]
["6305QA","WC CISTERN:RENEW OVERFLOW","PLUMBING","Fittings, Equipment and Appliances Associated With Services","WC Suites","NO",38.85,{"$f":"SUMIF('Contractor##'!C:C,'Planned Maint v6.2 CSV File'!C:C,'Contractor##'!F:F)","v":-0.25890000000000002},28.791734999999999,"WC Cistern:Renew polypropylene overflow pipe to cistern, disconnect, and remove existing defective overflow pipe and fit new overflow pipe, including fittings, clips, cut and make good holes and finishes as necessary, and remove waste and debris."]
["6305RA","WC CISTERN:OVERHAUL ANY TYPE","PLUMBING","Fittings, Equipment and Appliances Associated With Services","WC Suites","IT",18.93,{"$f":"SUMIF('Contractor##'!C:C,'Planned Maint v6.2 CSV File'!C:C,'Contractor##'!F:F)","v":-0.25890000000000002},14.029022999999999,"WC Cistern:Overhaul any type of cistern, if necessary renew diaphram, linkage adjustment, water level, rewasher, reseat etc, renew float, renew ballvalve, repair leak on flush pipe, tighten flush pipe nut, and check flushing operation, repair leak to overflow, including renew overflow connector, renew flushing arm and lever assembly to low level wc pull chain and handle to high level wc cistern, cistern flushing syphon and remake joints, including turn off water supply reinstate water supply and test on completion and leave cistern in working order, and remove waste and debris."]
["6305RB","WC CISTERN/PAN:OVERHAUL ANY TYPE","PLUMBING","Fittings, Equipment and Appliances Associated With Services","WC Suites","IT",53.18,{"$f":"SUMIF('Contractor##'!C:C,'Planned Maint v6.2 CSV File'!C:C,'Contractor##'!F:F)","v":-0.25890000000000002},39.411698000000001,"WC Cistern/Pan:Overhaul any type of wc suite, if necessary renew seat and cover, seat hinges, refix seat, refix pan if loose, renew flush pie, renew wc cone and flush pipe joint, remake outlet or soil pipe connection with cement/sand or ‘Easy-Fit’ connector or rubber wc gasket, renew diaphram, linkage adjustment, water level, rewasher, reseat etc, renew float, renew ballvalve, repair leak on flush pipe, tighten flush pipe nut, and check flushing operation, repair leak to overflow, including renew overflow connector, renew flushing arm and lever assembly to low level wc pull chain and handle to high level wc cistern, cistern flushing syphon and remake joints, including turn off water supply reinstate water supply and test on completion and leave wc suite in working order, and remove waste and debris."]
["6306AA","SUITE:RENEW OR INSTALL MACERATOR 5M","PLUMBING","Fittings, Equipment and Appliances Associated With Services","Macerators","IT",575.42999999999995,{"$f":"SUMIF('Contractor##'!C:C,'Planned Maint v6.2 CSV File'!C:C,'Contractor##'!F:F)","v":-0.25890000000000002},426.45117299999993,"Suite:Supply and install or renew proprietary macerator system to wc suite, connect to electrical supplies including provision of 20 AMP DP fused switch connection unit with flexible cabling, cable with mini trunking to consumer unit, provide MCB and RCD protection, provide and install if required small bore pipework from macerator to soil and vent stack, up to 5m run, connect to wc suite including adaptor, fill, test and undertake earth fault loop impedance test, make good finishes, and remove waste and debris. [PC Sum for the supply and delivery of macerator complete £310.00 excluding VAT]"]
["6306AB","SUITE:RENEW OR INSTALL MACERATOR 10M","PLUMBING","Fittings, Equipment and Appliances Associated With Services","Macerators","IT",607.13,{"$f":"SUMIF('Contractor##'!C:C,'Planned Maint v6.2 CSV File'!C:C,'Contractor##'!F:F)","v":-0.25890000000000002},449.94404299999997,"Suite:Supply and install or renew proprietary macerator system to wc suite, connect to electrical supplies including provision of 20 AMP DP fused switch connection unit with flexible cabling, cable with mini trunking to consumer unit, provide MCB and RCD protection, provide and install if required small bore pipework from macerator to soil and vent stack, over 5m and upto 10m run, connect to wc suite including adaptor, fill, test and undertake earth fault loop impedance test, make good finishes, and remove waste and debris. [PC Sum for the supply and delivery of macerator complete £310.00 excluding VAT]"]
["6307AA","BASIN:RENEW ON BRACKETS COMPLETE TAPS","PLUMBING","Fittings, Equipment and Appliances Associated With Services","Wash Hand Basins","NO",166.8,{"$f":"SUMIF('Contractor##'!C:C,'Planned Maint v6.2 CSV File'!C:C,'Contractor##'!F:F)","v":-0.25890000000000002},123.61548000000001,"Basin:Renew vitreous china wash hand basin size ne 560x406mm complete with brackets, new taps and waste fitting, reconnect existing supply pipework including any adjustments, provide new service valves if not already installed, complete with new plug and chain, plastic trap, connect to waste and test all joints, make good existing or fix new 300mm high glazed wall tile splashback fixed with adhesive including all labours, silicone sealant between splashback and crossbond, and remove waste and debris. [Wash Hand Basin PC Sum of £50.00 supplied and delivered complete with taps and waste fitting ready for installation]"]
["6307BA","BASIN:RENEW COMPLETE WITH PEDESTAL TAPS","PLUMBING","Fittings, Equipment and Appliances Associated With Services","Wash Hand Basins","NO",197.75,{"$f":"SUMIF('Contractor##'!C:C,'Planned Maint v6.2 CSV File'!C:C,'Contractor##'!F:F)","v":-0.25890000000000002},146.552525,"Basin:Renew vitreous china wash hand basin size ne 560x406mm complete with pedestal, new taps and waste fitting, reconnect existing supply pipework including any adjustments, provide new service valves if not already installed, complete with new plug and chain, plastic trap, connect to waste and test all joints, make good existing or fix new 300mm high glazed wall tile splashback fixed with adhesive including all rounded edges and labours, silicone sealant between splashback and crossbond, and remove waste and debris. [Wash Hand Basin and Pedestal PC Sum of £70.00 supplied and delivered complete with taps and waste fitting ready for installation]"]
["6307BB","BASIN:RENEW ON BRACKETS COMPLETE MIXERS","PLUMBING","Fittings, Equipment and Appliances Associated With Services","Wash Hand Basins","NO",179.15,{"$f":"SUMIF('Contractor##'!C:C,'Planned Maint v6.2 CSV File'!C:C,'Contractor##'!F:F)","v":-0.25890000000000002},132.76806500000001,"Basin:Renew vitreous china wash hand basin size ne 560x406mm complete with brackets, new mixer taps and waste fitting, reconnect existing supply pipework including any adjustments, provide new service valves if not already installed, complete with new plug and chain, plastic trap, connect to waste and test all joints, make good existing or fix new 300mm high glazed wall tile splashback fixed with adhesive including all labours, silicone sealant between splashback and crossbond, and remove waste and debris. [Wash Hand Basin PC Sum of £80.00 supplied and delivered complete with mixer and waste fitting ready for installation]"]
["6307BC","BASIN:RENEW COMPLETE WITH PEDESTAL MIXER","PLUMBING","Fittings, Equipment and Appliances Associated With Services","Wash Hand Basins","NO",210.1,{"$f":"SUMIF('Contractor##'!C:C,'Planned Maint v6.2 CSV File'!C:C,'Contractor##'!F:F)","v":-0.25890000000000002},155.70510999999999,"Basin:Renew vitreous china wash hand basin size ne 560x406mm complete with pedestal, new mixer taps and waste fitting, reconnect existing supply pipework including any adjustments, provide new service valves if not already installed, complete with new plug and chain, plastic trap, connect to waste and test all joints, make good existing or fix new 300mm high glazed wall tile splashback fixed with adhesive including all rounded edges and labours, silicone sealant between splashback and crossbond, and remove waste and debris.  [Wash Hand Basin PC Sum of £100.00 supplied and delivered complete with mixer and waste fitting ready for installation]"]
["6307CA","BASIN:INSTALL ADJUSTABLE HEIGHT TYPE TAPS","PLUMBING","Plumbing Works","Sanitary Fittings","NO",418.5,{"$f":"SUMIF('Contractor##'!C:C,'Planned Maint v6.2 CSV File'!C:C,'Contractor##'!F:F)","v":-0.25890000000000002},310.15035,"Basin:Renew any type of wash hand basin with special needs adjustable height basin complete with new taps and waste fitting, plug and chain and plastic trap, reconnect to existing supplies and waste with flexible connections including any adjustments to pipework, provide new service valves if not already installed and test, make good existing or supply and fix new glazed wall tiling, make good and crossbond, make good wall and floor finishes, and remove waste and debris. [Wash hand basin PC Sum of £285.00 supplied and delivered complete with taps and waste fitting ready for installation]"]
["6307DA","BASIN:RENEW PEDESTAL ONLY","PLUMBING","Fittings, Equipment and Appliances Associated With Services","Wash Hand Basins","NO",54.3,{"$f":"SUMIF('Contractor##'!C:C,'Planned Maint v6.2 CSV File'!C:C,'Contractor##'!F:F)","v":-0.25890000000000002},40.241729999999997,"Basin:Renew any vitreous china wash hand basin pedestal including turn water off and on, remove existing wash hand basin and renew pedestal, refix basin and reconnect to supply and waste pipework, provide new service valves if not already installed, renew silicone sealant to splashback, make good all finishes and crossbond, and remove waste and debris."]
["6307EA","BASIN:DISCONNECT AND REMOVE","PLUMBING","Fittings, Equipment and Appliances Associated With Services","Wash Hand Basins","NO",23.87,{"$f":"SUMIF('Contractor##'!C:C,'Planned Maint v6.2 CSV File'!C:C,'Contractor##'!F:F)","v":-0.25890000000000002},17.690056999999999,"Basin:Remove basin including brackets/pedestal complete, disconect and seal off pipework, and remove waste and debris."]
["6307FA","BASIN:REFIX WASH HAND BASIN","PLUMBING","Fittings, Equipment and Appliances Associated With Services","Wash Hand Basins","NO",45.15,{"$f":"SUMIF('Contractor##'!C:C,'Planned Maint v6.2 CSV File'!C:C,'Contractor##'!F:F)","v":-0.25890000000000002},33.460664999999999,"Basin:Refix wash hand basin, turn off water supply disconnect and refix basin onto bracket and make all necessary connections, provide new services valves if not already installed, reinstate water supply, and test all joints, remake crossbond, and remove waste and debris."]
["6307GA","WALL:REMOVE AND REFIX WASHBASIN IN ASSOCIATION","PLUMBING","Fittings, Equipment and Appliances Associated With Services","Wash Hand Basins","IT",45.71,{"$f":"SUMIF('Contractor##'!C:C,'Planned Maint v6.2 CSV File'!C:C,'Contractor##'!F:F)","v":-0.25890000000000002},33.875681,"Wall:Remove, set aside, store and later refix washbasin and any pedestal in conjunction with specialist treatment works, turn water off/on, disconnect and reconnect and provide new service valves if not already installed, adjust, extend pipe stubs, connect with new fittings, make good or fix new tile splashback, renew sealant, crossbond and make good all wall and floor finishes, and remove waste and debris."]
["6309AA","BATH:RENEW 1700MM STEEL TAPS","PLUMBING","Fittings, Equipment and Appliances Associated With Services","Baths","NO",411.14,{"$f":"SUMIF('Contractor##'!C:C,'Planned Maint v6.2 CSV File'!C:C,'Contractor##'!F:F)","v":-0.25890000000000002},304.695854,"Bath:Renew upto 1700mm heavy duty vitreous enamel steel bath complete with new taps and waste fitting, reconnect existing supply pipework including any adjustments, provide new service valves if not already installed, complete with new plug and chain, plastic trap, connect to waste pipework, 4.8mm self finished hardboard bath panels screwed with chromium plated dome headed screws to and including 38x50mm softwood framing, angle trim, make good existing or renew 300mm high glazed wall tile splashback fixed with adhesive including all labours, silicone sealant between splashback and bath, and crossbond, and remove waste and debris. [Bath PC Sum of £150.00 supplied and delivered complete with taps bath panels and waste fitting ready for installation]"]
["6309AC","BATH:RENEW 1700MM STEEL WITH SHOWER MIXER","PLUMBING","Fittings, Equipment and Appliances Associated With Services","Baths","NO",448.42,{"$f":"SUMIF('Contractor##'!C:C,'Planned Maint v6.2 CSV File'!C:C,'Contractor##'!F:F)","v":-0.25890000000000002},332.32406200000003,"Bath:Renew upto 1700mm heavy duty vitreous enamel steel bath complete with new shower mixer taps and waste fitting, reconnect existing supply pipework including any adjustments, provide new service valves if not already installed, complete with new plug and chain, plastic trap, connect to waste pipework, 4.8mm self finished hardboard bath panels screwed with chromium plated dome headed screws to and including 38x50mm softwood framing, angle trim, make good existing or renew 300mm high glazed wall tile splashback fixed with adhesive including all labours, silicone sealant between splashback and bath, and crossbond, and remove waste and debris. [Bath PC Sum of £190.00 supplied and delivered complete with shower mixer taps, bath panels and waste fitting ready for installation]"]
["6309AD","BATH:RENEW 1700MM STEEL SHOWER MIXER - WET AREA","PLUMBING","Fittings, Equipment and Appliances Associated With Services","Baths","NO",677.53,{"$f":"SUMIF('Contractor##'!C:C,'Planned Maint v6.2 CSV File'!C:C,'Contractor##'!F:F)","v":-0.25890000000000002},502.11748299999999,"Bath:Renew upto 1700mm heavy duty vitreous enamel steel bath complete with new shower mixer taps and waste fitting, reconnect existing supply pipework including any adjustments, provide new service valves if not already installed, complete with new plug and chain, plastic trap, connect to waste pipework, 4.8mm self finished hardboard bath panels screwed with chromium plated dome headed screws to and including 38x50mm softwood framing, angle trim, make good existing or renew glazed wall tile splashback and wet area tiling fixed with adhesive including all labours, silicone sealant between splashback/wet are tiling and bath, and crossbond, and remove waste and debris. [Bath PC Sum of £150.00 supplied and delivered complete with taps bath panels and waste fitting ready for installation]"]
["6309BA","BATH:RENEW 1700MM ACRYLIC TAPS","PLUMBING","Fittings, Equipment and Appliances Associated With Services","Baths","NO",397.72,{"$f":"SUMIF('Contractor##'!C:C,'Planned Maint v6.2 CSV File'!C:C,'Contractor##'!F:F)","v":-0.25890000000000002},294.750292,"Bath:Renew 8mm thick Acrylic bath upto 1700mm long complete with new taps and waste fitting, reconnect existing supply pipework including any adjustments, provide new service valves if not already installed, complete with new plug and chain, plastic trap, connect to waste pipework, supply and fix new acrylic bath panels to match including proprietary fixings, make good existing or renew 300mm high glazed wall tile splashback fixed with adhesive including all labours, silicone sealant between splashback and bath, and crossbond, and remove waste and debris. [Bath PC Sum of £150.00 supplied and delivered complete with taps bath panels and waste fitting ready for installation]"]
["6309BB","BATH:RENEW 1700MM ACRYLIC  WITH SHOWER MIXER","PLUMBING","Fittings, Equipment and Appliances Associated With Services","Baths","NO",435,{"$f":"SUMIF('Contractor##'!C:C,'Planned Maint v6.2 CSV File'!C:C,'Contractor##'!F:F)","v":-0.25890000000000002},322.37849999999997,"Bath:Renew 8mm thick Acrylic bath upto 1700mm long complete with new shower mixer taps and waste fitting, reconnect existing supply pipework including any adjustments, provide new service valves if not already installed, complete with new plug and chain, plastic trap, connect to waste pipework, supply and fix new acrylic bath panels to match including proprietary fixings, make good existing or renew 300mm high glazed wall tile splashback fixed with adhesive including all labours, silicone sealant between splashback and bath, and crossbond, and remove waste and debris. . [Bath PC Sum of £190.00 supplied and delivered complete with shower mixer taps, bath panels and waste fitting ready for installation]"]
["6309BC","BATH:RENEW 1700MM ACRYLIC SHOWER MIXER - WET AREA","PLUMBING","Fittings, Equipment and Appliances Associated With Services","Baths","NO",663.57,{"$f":"SUMIF('Contractor##'!C:C,'Planned Maint v6.2 CSV File'!C:C,'Contractor##'!F:F)","v":-0.25890000000000002},491.771727,"Bath:Renew 8mm thick Acrylic bath upto 1700mm  complete with new shower mixer taps and waste fitting, reconnect existing supply pipework including any adjustments, provide new service valves if not already installed, complete with new plug and chain, plastic trap, connect to waste pipework, 4.8mm self finished hardboard bath panels screwed with chromium plated dome headed screws to and including 38x50mm softwood framing, angle trim, make good existing or renew glazed wall tile splashback and wet area tiling fixed with adhesive including all labours, silicone sealant between splashback/wet are tiling and bath, and crossbond, and remove waste and debris. [Bath PC Sum of £150.00 supplied and delivered complete with taps bath panels and waste fitting ready for installation]"]
["6309CA","BATH:INSTALL SPECIAL NEEDS TYPE","PLUMBING","Plumbing Works","Sanitary Fittings","NO",697.14,{"$f":"SUMIF('Contractor##'!C:C,'Planned Maint v6.2 CSV File'!C:C,'Contractor##'!F:F)","v":-0.25890000000000002},516.65045399999997,"Bath:Renew bath with special needs bath with rim and internal bath seat complete with new taps and waste reconnect to existing supply pipework including any adjustments, provide new service valves if not already installed, complete with new plug and chain, plastic trap, connect to waste pipework, remove existing bath panels and frame- work and fix new proprietary front and end bath panels including all necessary fixings and supports, make good existing and renew glazed wall tile splashback fixed with adhesive including all rounded edges and labours, silicone sealant between splashback and bath, and crossbond, make good wall and floor finishes, and remove waste and debris. [Bath PC Sum of £410.00 supplied and delivered complete with taps and waste fitting ready for installation]"]
["6309CB","BATH:INSTALL SPECIAL NEEDS HIP TYPE","PLUMBING","Plumbing Works","Sanitary Fittings","NO",498.04,{"$f":"SUMIF('Contractor##'!C:C,'Planned Maint v6.2 CSV File'!C:C,'Contractor##'!F:F)","v":-0.25890000000000002},369.097444,"Bath:Renew bath with special needs hip bath complete with new taps and waste reconnect to existing supply pipework including any adjustments, provide new service valves if not already installed, complete with new plug and chain, plastic trap, connect to waste pipework including any adjustments, test, crossbond and make good all wall and floor finishes, and remove waste and debris. [Bath PC Sum of £290.00 supplied and delivered complete with taps and waste fitting ready for installation]"]
["6309DA","BATH:REMOVE AND REFIX","PLUMBING","Fittings, Equipment and Appliances Associated With Services","Baths","NO",77.099999999999994,{"$f":"SUMIF('Contractor##'!C:C,'Planned Maint v6.2 CSV File'!C:C,'Contractor##'!F:F)","v":-0.25890000000000002},57.138809999999992,"Bath:Remove and later refix any bath after access for other work including remove/refix panels, framing, skirting, drain/refill system, disconnect and reconnect all pipework as necessary and provide new service valves if not already installed and test, renew silicone sealant, make good wall tiling and all finishes disturbed and crossbond."]
["6309DB","BATH:REMOVE AND PREPARE FOR SHOWER TRAY","PLUMBING","Fittings, Equipment and Appliances Associated With Services","Baths","NO",63.68,{"$f":"SUMIF('Contractor##'!C:C,'Planned Maint v6.2 CSV File'!C:C,'Contractor##'!F:F)","v":-0.25890000000000002},47.193247999999997,"Bath:Disconnect water supplies and waste, and cap off, remove bath and prepare bathroom to receive level access shower tray."]
["6309EA","BATH:REGRIND/REPOLISH NE 1800MM","PLUMBING","Fittings, Equipment and Appliances Associated With Services","Baths","NO",91.77,{"$f":"SUMIF('Contractor##'!C:C,'Planned Maint v6.2 CSV File'!C:C,'Contractor##'!F:F)","v":-0.25890000000000002},68.010746999999995,"Bath:Prepare, regrind and repolish completely any steel or cast iron bath ne 1800mm long, including removing/refixing all fittings etc."]
["6309EB","BATH:TOUCH UP CHIP","PLUMBING","Fittings, Equipment and Appliances Associated With Services","Baths","IT",37.909999999999997,{"$f":"SUMIF('Contractor##'!C:C,'Planned Maint v6.2 CSV File'!C:C,'Contractor##'!F:F)","v":-0.25890000000000002},28.095100999999996,"Bath:Prepare and touch up chip to any steel or cast iron bath including removing/refixing all fittings as necessary."]
["6309EC","BATH:RE-ENAMEL","PLUMBING","Fittings, Equipment and Appliances Associated With Services","Baths","IT",80.8,{"$f":"SUMIF('Contractor##'!C:C,'Planned Maint v6.2 CSV File'!C:C,'Contractor##'!F:F)","v":-0.25890000000000002},59.880879999999998,"Bath:Prepare, grind,re-enamel and repolish completely any steel or cast iron bath, including removing/refixing all fittings etc"]
["6309FA","BATH PANEL:RENEW HARDBOARD SIDE AND FRAMING","CARPENTRY AND JOINERY","Skirtings, Rails and Architraves","Bath Panels and Framing","IT",49.63,{"$f":"SUMIF('Contractor##'!C:C,'Planned Maint v6.2 CSV File'!C:C,'Contractor##'!F:F)","v":-0.1135},43.996994999999998,"Bath Panel:Renew or supply and fix 4.8mm self finished hardboard side bath panel, securely screwed with chromium plated dome headed screws to and including 38x50mm softwood framing and remove waste and debris."]
["6309FB","BATH PANEL:RENEW HARDBOARD END AND FRAMING","CARPENTRY AND JOINERY","Skirtings, Rails and Architraves","Bath Panels and Framing","IT",30.72,{"$f":"SUMIF('Contractor##'!C:C,'Planned Maint v6.2 CSV File'!C:C,'Contractor##'!F:F)","v":-0.1135},27.233279999999997,"Bath Panel:Renew or supply and fix 4.8mm self finished hardboard end bath panel, securely screwed with chromium plated dome headed screws to and including 38x50mm softwood framing complete with metal bath panel trim and remove waste and debris."]
["6309FC","BATH PANEL:RENEW HARDBOARD SIDE END AND FRAMING","CARPENTRY AND JOINERY","Skirtings, Rails and Architraves","Bath Panels and Framing","IT",73.209999999999994,{"$f":"SUMIF('Contractor##'!C:C,'Planned Maint v6.2 CSV File'!C:C,'Contractor##'!F:F)","v":-0.1135},64.900664999999989,"Bath Panel:Renew or supply and fix 4.8mm self finished hardboard side and end bath panels securely screwed with chromium plated dome screws to and including 38x50mm softwood framing complete with metal bath panel trim and remove waste and debris."]
["6309FD","BATH PANEL:RENEW HARDBOARD SIDE EXISTING FRAMING","CARPENTRY AND JOINERY","Skirtings, Rails and Architraves","Bath Panels and Framing","IT",19.32,{"$f":"SUMIF('Contractor##'!C:C,'Planned Maint v6.2 CSV File'!C:C,'Contractor##'!F:F)","v":-0.1135},17.127179999999999,"Bath Panel:Renew or supply and fix 4.8mm self finished hardboard side bath panel securely screwed with chromium plated dome screws to existing framing and remove waste and debris."]
["6309FE","BATH PANEL:RENEW HARDBOARD END EXISTING FRAMING","CARPENTRY AND JOINERY","Skirtings, Rails and Architraves","Bath Panels and Framing","IT",11.79,{"$f":"SUMIF('Contractor##'!C:C,'Planned Maint v6.2 CSV File'!C:C,'Contractor##'!F:F)","v":-0.1135},10.451834999999999,"Bath Panel:Renew or supply and fix 4.8mm self finished hardboard end bath panel securely screwed with chromium plated dome screws to existing framing complete with metal bath trim and remove waste and debris."]
["6309FF","BATH PANEL:RENEW HARDBD SIDE END EXISTING FRAMING","CARPENTRY AND JOINERY","Skirtings, Rails and Architraves","Bath Panels and Framing","IT",26.73,{"$f":"SUMIF('Contractor##'!C:C,'Planned Maint v6.2 CSV File'!C:C,'Contractor##'!F:F)","v":-0.1135},23.696144999999998,"Bath Panel:Renew or supply and fix 4.8mm self finished hardboard side and end bath panels securely screwed with chromium plated dome screws to existing framing and including metal bath panel edge trim and remove waste and debris."]
["6309GA","BATH PANEL:RENEW ACRYLIC SIDE","CARPENTRY AND JOINERY","Skirtings, Rails and Architraves","Bath Panels and Framing","IT",38.200000000000003,{"$f":"SUMIF('Contractor##'!C:C,'Planned Maint v6.2 CSV File'!C:C,'Contractor##'!F:F)","v":-0.1135},33.8643,"Bath Panel:Renew or supply and fix proprietary acrylic side bath panel, colour to match, including all plinths, trims, corner pieces and the like, securely fixed with brackets and make good, and remove waste and debris."]
["6309GB","BATH PANEL:RENEW ACRYLIC END","CARPENTRY AND JOINERY","Skirtings, Rails and Architraves","Bath Panels and Framing","IT",23.4,{"$f":"SUMIF('Contractor##'!C:C,'Planned Maint v6.2 CSV File'!C:C,'Contractor##'!F:F)","v":-0.1135},20.744099999999996,"Bath Panel:Renew or supply and fix proprietary acrylic end bath panel, colour to match, including all plinths, trims, corner pieces and the like, securely fixed with brackets and make good, and remove waste and debris."]
["6309GC","PATH PANEL:RENEW ACRYLIC SIDE AND END","CARPENTRY AND JOINERY","Skirtings, Rails and Architraves","Bath Panels and Framing","IT",55.66,{"$f":"SUMIF('Contractor##'!C:C,'Planned Maint v6.2 CSV File'!C:C,'Contractor##'!F:F)","v":-0.1135},49.342589999999994,"Bath Panel:Renew or supply and fix proprietary acrylic side and end bath panel, colour to match, including all plinths, trims, corner pieces and the like, securely fixed with brackets and make good, and remove waste and debris."]
["6309HA","PANEL:REMOVE AND REFIX ANY TYPE","CARPENTRY AND JOINERY","Skirtings, Rails and Architraves","Bath Panels and Framing","NO",6.37,{"$f":"SUMIF('Contractor##'!C:C,'Planned Maint v6.2 CSV File'!C:C,'Contractor##'!F:F)","v":-0.1135},5.6470050000000001,"Panel:Remove and later refix any bath panel (side or end) including any corner angle trim, skirting etc."]
["6310XC","TOILET:UPGRADE TO BENCHMARK NO EXISTING WHB","PLUMBING","Fittings, Equipment and Appliances Associated With Services","Bathroom Upgrades To Benchmark Standards","IT",1045.7,{"$f":"SUMIF('Contractor##'!C:C,'Planned Maint v6.2 CSV File'!C:C,'Contractor##'!F:F)","v":-0.25890000000000002},774.96826999999996,"Toilet:Upgrade separate toilet to benchmark standard disconnect and strip out existing wc suite, supply and soilpipework, strip out electric wiring and light fittings, hack off any wall tiling, take up and remove floor coverings, install new wc suite, and wash hand basin complete, install new supply, soil and waste pipework, complete with service valves to all appliances, install new electric wiring, switch, light fitting, low voltage transformer extract fan, make good wall and ceiling finishes, supply and fix wall tiling to splashback, supply and lay new non-slip floor covering, redecorate, supplemental equipotential bonding and remove waste and debris. [Sanitary fittings, taps and mixers PC Sum of £136.00 supplied and delivered to site ready assembled for installation complete excluding VAT]"]
["6310XD","TOILET:UPGRADE TO BENCHMARK EXISTING WHB","PLUMBING","Fittings, Equipment and Appliances Associated With Services","Bathroom Upgrades To Benchmark Standards","IT",998.94,{"$f":"SUMIF('Contractor##'!C:C,'Planned Maint v6.2 CSV File'!C:C,'Contractor##'!F:F)","v":-0.25890000000000002},740.31443400000001,"Toilet:Upgrade separate toilet to benchmark standard disconnect and strip out existing wc suite, and basin, supply, waste and soil pipework, strip out electric wiring and light fittings, hack off any wall tiling, take up and remove floor coverings, install new wc suite, and wash hand basin complete, install new supply, soil and waste pipework, complete with service valves to all appliances, install new electric wiring, switch, light fitting, low voltage transformer extract fan, make good wall and ceiling finishes, supply and fix wall, tiling to splashback, supply and lay new non-slip floor covering, redecorate, supplemental equipotential bonding and remove waste and debris. [Sanitary fittings, taps and mixers PC Sum of £136.00 supplied and delivered to site ready assembled for installation complete excluding VAT]"]
["6310ZA","BATHROOM:UPGRADE TO BENCHMARK NO WC","PLUMBING","Fittings, Equipment and Appliances Associated With Services","Bathroom Upgrades To Benchmark Standards","IT",1612.25,{"$f":"SUMIF('Contractor##'!C:C,'Planned Maint v6.2 CSV File'!C:C,'Contractor##'!F:F)","v":-0.25890000000000002},1194.838475,"Bathroom:Upgrade bathroom to benchmark standard disconnect and strip out existing sanitary fittings, supply and waste pipework, strip out electric wiring and light fittings, hack off wall tiling, take up and remove floor coverings, install new bath with shower/mixer taps, and basin complete, install new supply and waste pipework, complete with service valves to all appliances, install new electric wiring, switch, light and shaver fitting, low voltage transformer extract fan, make wall and ceiling finishes, supply and fix wall tiling to splashbacks and shower area, supply and lay new non-slip floor covering, redecorate, supplemental equipotential bonding and remove waste and debris. [Sanitary fittings, taps and mixers PC Sum of £196.00 supplied and delivered to site ready assembled for installation complete excluding VAT]"]
["6310ZB","BATHROOM:UPGRADE TO BENCHMARK WC","PLUMBING","Fittings, Equipment and Appliances Associated With Services","Bathroom Upgrades To Benchmark Standards","IT",1896.46,{"$f":"SUMIF('Contractor##'!C:C,'Planned Maint v6.2 CSV File'!C:C,'Contractor##'!F:F)","v":-0.25890000000000002},1405.466506,"Bathroom:Upgrade bathroom to benchmark standard disconnect and strip out existing sanitary fittings, supply soil and waste pipework, strip out electric wiring and light fittings, hack off wall tiling, take up and remove floor coverings, install new wc suite, bath with shower/mixer taps, and basin complete, install new supply, soil and waste pipework, complete with service valves to all appliances, install new electric wiring, switch, light and shaver fitting, low voltage transformer extract fan, make good wall and ceiling finishes, supply and fix wall tiling to splashbacks and shower area, supply and lay new non-slip floor covering, redecorate, supplemental equipotential bonding and remove waste and debris. [Sanitary fittings, taps and mixers PC Sum of £286.00 supplied and delivered to site ready assembled for installation complete excluding VAT]"]
["6310ZE","SHOWER:INSTALL 8.7 KW UNIT OVER BATH","PLUMBING","Fittings, Equipment and Appliances Associated With Services","Bathroom Upgrades To Benchmark Standards","IT",561.21,{"$f":"SUMIF('Contractor##'!C:C,'Planned Maint v6.2 CSV File'!C:C,'Contractor##'!F:F)","v":-0.25890000000000002},415.91273100000001,"Shower:Supply and fix new 8.5 kW electric shower unit complete incorporating advanced temperature stabiliser for constant temperature control, [shower unit PC Sum of £320.00 supplied and delivered complete ready for installation] make all connections to water supply including running additional pipework as necessary, provide new service valve, make electrical connections including provision of double pole switch, cable, conduit and MCB 45 amp, RCD protection, install in line scale reducer, test, provide certificate, and make good all finishes on completion. Clean off walls and prepare to receive new tiles, supply and fix new ne 152x152x6mm glazed coloured ceramic wall tiles to bathroom splashbacks/shower areas and cills, including fixing with adhesive, grouting and any necessary cutting, sealing around sanitary fittings with silicone sealant.[2.4sm wall tiling]"]
["6311AA","SHOWER TRAY:RENEW FIRECLAY COMPLETE","PLUMBING","Fittings, Equipment and Appliances Associated With Services","Shower Trays","NO",234.74,{"$f":"SUMIF('Contractor##'!C:C,'Planned Maint v6.2 CSV File'!C:C,'Contractor##'!F:F)","v":-0.25890000000000002},173.96581399999999,"Shower Tray:Renew shower tray with ne 830x830x180mm glazed fireclay shower tray, anti-slip finish with chromium plated waste, make necessary connections to waste pipe, seal joint between tray and wall with silicone sealant and make good all finishes, refix any shower rails, curtains or doors removed for access, and remove waste and debris. [Shower Tray PC Sum of £50.00 supplied and delivered complete with waste fitting ready for installation]"]
["6311BA","SHOWER TRAY:RENEW ACRYLIC COMPLETE","PLUMBING","Fittings, Equipment and Appliances Associated With Services","Shower Trays","NO",200.55,{"$f":"SUMIF('Contractor##'!C:C,'Planned Maint v6.2 CSV File'!C:C,'Contractor##'!F:F)","v":-0.25890000000000002},148.62760500000002,"Shower Tray:Renew shower tray with ne 830x830x260mm acrylic shower tray, anti-slip finish with chromium plated waste, make necessary connections to waste pipe, seal joint between tray and wall with silicone sealant and make good all finishes, refix shower rails, curtains and doors removed for access, and remove waste and debris. [Shower Tray PC Sum of £50.00 supplied and delivered complete with waste fitting ready for installation]"]
["6311BB","SHOWER:INSTALL LEVEL ACCESS SHOWER TRAY ","PLUMBING","Fittings, Equipment and Appliances Associated With Services","Shower Trays","NO",534.80999999999995,{"$f":"SUMIF('Contractor##'!C:C,'Planned Maint v6.2 CSV File'!C:C,'Contractor##'!F:F)","v":-0.25890000000000002},396.34769099999994,"Shower:Supply and install front or corner entry level access shower tray complete with weighted full shower curtain as required, and ceiling secured track, tray recessed into floor boarding or sitting on floor joists or recessed into floor screed, complete with gravity waste, make all necessary connections to waste pipe, seal joint between tray and wall with silicone sealant, and make good all finishes, all to be installed in accordance with the manufacturers instructions, and remove waste and debris. [PC Sum for the supply and delivery of shower tray and waste complete £320.00 excluding VAT]"]
["6311CA","SHOWER:RENEW RAILS AND CURTAINS","PLUMBING","Fittings, Equipment and Appliances Associated With Services","Shower Rails and Curtains","IT",53.7,{"$f":"SUMIF('Contractor##'!C:C,'Planned Maint v6.2 CSV File'!C:C,'Contractor##'!F:F)","v":-0.25890000000000002},39.797069999999998,"Shower:Renew any size and type of shower rail and curtain including remove any defective rails, fix new rails with plastic plugs and matching non-ferrous screws including remove and rehang curtains, make good all finishes, and remove waste and debris."]
["6311CB","SHOWER:RENEW CURTAIN","PLUMBING","Fittings, Equipment and Appliances Associated With Services","Shower Rails and Curtains","IT",28.87,{"$f":"SUMIF('Contractor##'!C:C,'Planned Maint v6.2 CSV File'!C:C,'Contractor##'!F:F)","v":-0.25890000000000002},21.395557,"Shower:Renew any type of shower curtain to existing rails including remove and refix rails as found expedient, and remove waste and debris."]
["6311DA","SHOWER:RENEW NON-THERMOSTATIC MIX VALVE","PLUMBING","Fittings, Equipment and Appliances","Shower - Ancillaries","NO",115.89,{"$f":"SUMIF('Contractor##'!C:C,'Planned Maint v6.2 CSV File'!C:C,'Contractor##'!F:F)","v":-0.25890000000000002},85.886078999999995,"Shower:Renew any non-thermostatic mixing valve including disconnect and remove existing, fix new, adjust and or extend all pipework and reconnect and test, make good all finishes, and remove waste and debris."]
["6311DB","SHOWER:RENEW NON-THERMOSTATIC LOW FLOW MIX VALVE","PLUMBING","Fittings, Equipment and Appliances","Shower - Ancillaries","NO",220.66,{"$f":"SUMIF('Contractor##'!C:C,'Planned Maint v6.2 CSV File'!C:C,'Contractor##'!F:F)","v":-0.25890000000000002},163.531126,"Shower:Renew any non-thermostatic mixing valve with 6-9 litres per second aerating low flow type including disconnect and remove existing, fix new, adjust and or extend all pipework and reconnect and test, make good all finishes, and remove waste and debris."]
["6311DC","SHOWER:RENEW THERMOSTATIC MIXING VALVE","PLUMBING","Fittings, Equipment and Appliances","Shower - Ancillaries","NO",199.32,{"$f":"SUMIF('Contractor##'!C:C,'Planned Maint v6.2 CSV File'!C:C,'Contractor##'!F:F)","v":-0.25890000000000002},147.71605199999999,"Shower:Renew any thermostatic mixing valve including disconnect and remove existing, fix new including adjust and or extend all pipework and reconnect and test, make good all finishes, and remove waste and debris."]
["6311DD","SHOWER:RENEW THERMOSTATIC LOW FLOW MIXING VALVE","PLUMBING","Fittings, Equipment and Appliances","Shower - Ancillaries","NO",325.66000000000003,{"$f":"SUMIF('Contractor##'!C:C,'Planned Maint v6.2 CSV File'!C:C,'Contractor##'!F:F)","v":-0.25890000000000002},241.34662600000001,"Shower:Renew any thermostatic mixing valve with 6-9 litres per second aerating low flow type, including disconnect and remove existing, fix new including adjust and or extend all pipework and reconnect and test, make good all finishes, and remove waste and debris."]
["6311EA","SHOWER:RENEW HOSE AND SPRAY","PLUMBING","Fittings, Equipment and Appliances","Shower - Ancillaries","IT",27.28,{"$f":"SUMIF('Contractor##'!C:C,'Planned Maint v6.2 CSV File'!C:C,'Contractor##'!F:F)","v":-0.25890000000000002},20.217207999999999,"Shower:Renew any shower hose and spray including remove old and fix new and connect to mixing valve, and remove waste and debris.."]
["6311EB","SHOWER:RENEW ARM AND SPRAY HEAD","PLUMBING","Fittings, Equipment and Appliances","Shower - Ancillaries","IT",28.42,{"$f":"SUMIF('Contractor##'!C:C,'Planned Maint v6.2 CSV File'!C:C,'Contractor##'!F:F)","v":-0.25890000000000002},{"$f":"(1+H2500)*G2500","v":21.062062000000001},"Shower:Renew any shower arm and spray head including disconnect and remove old and fix new head and reconnect existing pipework, and remove waste and debris."]
["6311EC","SHOWER:RENEW SWIVEL PATTERN HEAD","PLUMBING","Fittings, Equipment and Appliances","Shower - Ancillaries","IT",20.25,{"$f":"SUMIF('Contractor##'!C:C,'Planned Maint v6.2 CSV File'!C:C,'Contractor##'!F:F)","v":-0.25890000000000002},15.007275,"Shower:Renew any swivel pattern shower head including disconnect and remove old and fix new head and reconnect existing pipework, and remove waste and debris."]
["6311ED","SHOWER:RENEW ROSE SPRAY HEAD","PLUMBING","Fittings, Equipment and Appliances","Shower - Ancillaries","IT",13.38,{"$f":"SUMIF('Contractor##'!C:C,'Planned Maint v6.2 CSV File'!C:C,'Contractor##'!F:F)","v":-0.25890000000000002},9.9159179999999996,"Shower:Renew any rose spray shower head including disconnect and remove old and fix new head and reconnect existing pipework, and remove waste and debris."]
["6311FA","SHOWER:RENEW SHOWER KIT","PLUMBING","Fittings, Equipment and Appliances","Shower - Ancillaries","IT",91,{"$f":"SUMIF('Contractor##'!C:C,'Planned Maint v6.2 CSV File'!C:C,'Contractor##'!F:F)","v":-0.25890000000000002},67.440100000000001,"Shower:Renew shower kit comprising slide bar, handspray and flexible tube, disconnect and remove old and fit new kit and reconnect existing pipework, and remove waste and debris."]
["6311GA","SHOWER:RENEW SHOWER SLIDE BAR","PLUMBING","Fittings, Equipment and Appliances","Shower - Ancillaries","IT",27.92,{"$f":"SUMIF('Contractor##'!C:C,'Planned Maint v6.2 CSV File'!C:C,'Contractor##'!F:F)","v":-0.25890000000000002},20.691511999999999,"Shower:Renew shower slide bar, disconnect and remove old and fit new slide bar to wall, and remove waste and debris."]
["6311XA","SHOWER:INSTALL SHOWER TRAY HALF SCREEN - TIMBER","PLUMBING","Showers/ Bath Aids","Shower Rooms","NO",911.08,{"$f":"SUMIF('Contractor##'!C:C,'Planned Maint v6.2 CSV File'!C:C,'Contractor##'!F:F)","v":-0.25890000000000002},675.20138800000007,"Shower:Supply and install to timber floor front or corner entry level access shower tray complete with half height carer screen, weighted full/half shower curtain as required, and ceiling secured track, tray recessed into floor boarding or sitting on floor joists, complete with gravity waste, make all necessary connections to waste pipe, seal joint between tray and wall with silicone sealant, and make good all finishes, all to be installed in accordance with the manufacturers instructions, and remove waste and debris. [PC Sum for the supply and delivery of shower tray, waste and carer screen complete £670.00 excluding VAT]"]
["6311XF","SHOWER:EXTRA FOR PUMPED WASTE PREPARATION FOR TRAY","PLUMBING","Showers/ Bath Aids","Shower Rooms","NO",251.06,{"$f":"SUMIF('Contractor##'!C:C,'Planned Maint v6.2 CSV File'!C:C,'Contractor##'!F:F)","v":-0.25890000000000002},186.06056599999999,"Shower:Extra for providing and installing pumped waste preparation for any type of level access shower tray or wet floor former, all to be installed in accordance with the manufacturers instructions."]
["6311XH","SHOWER:EXTRA FOR AUTOMATIC PUMP KIT","PLUMBING","Showers/ Bath Aids","Shower Rooms","NO",250.87,{"$f":"SUMIF('Contractor##'!C:C,'Planned Maint v6.2 CSV File'!C:C,'Contractor##'!F:F)","v":-0.25890000000000002},185.919757,"Shower:Extra for providing and installing automatic pump kit for any type of AKW Braddan, Multispec or Tuff-Form shower tray, to be installed in accordance with the manufacturers instructions."]
["6312AA","SHOWER ROOM:CONVERT WITH FLOOR DRAIN","PLUMBING","Showers/ Bath Aids","Shower Rooms","IT",1636.8,{"$f":"SUMIF('Contractor##'!C:C,'Planned Maint v6.2 CSV File'!C:C,'Contractor##'!F:F)","v":-0.25890000000000002},1213.0324799999999,"Shower Room:Convert existing bathroom to shower room including disconnect existing sanitary ware as necessary and set aside, clear away bath, screed floor to falls and crossfalls to and including new floor drain complete and connect to waste, lay non slip flooring as specified by Client’s Representative fully skirted to ensure complete waterproofing to room, refix and reconnect sanitaryware, provide new service valves if not already installed, install 8.7kw electric shower complete including connections to supplies, DP switch, MCB 45 amp, RCD protection, install in line scale reducer, fix new shower rail and curtain, soap dish, test, provide certificate, make good, provide extra wall tiling to shower area, and remove waste and debris. [PC Sum for supply and delivery of shower £250.00 excluding VAT]."]
["6312AB","SHOWER ROOM:CONVERT WITH SHOWER TRAY","PLUMBING","Showers/ Bath Aids","Shower Rooms","IT",1588.88,{"$f":"SUMIF('Contractor##'!C:C,'Planned Maint v6.2 CSV File'!C:C,'Contractor##'!F:F)","v":-0.25890000000000002},1177.5189680000001,"Shower Room:Convert existing bathroom to shower room including disconnect existing sanitary ware as necessary and set aside, clear away bath, screed floor to falls and crossfalls to and including new shower tray complete and connect to waste, lay non slip flooring as specified by Client’s Representative fully skirted to ensure complete waterproofing to room, refix and reconnect sanitaryware, provide new service valves if not already installed, install 8.7kw electric shower complete including connections to supplies, DP switch, MCB 45 amp, RCD protection, install inhibitor, fix new shower rail and curtain and soap dish, test, provide certificate, make good, provide extra wall tiling to shower area, and remove waste and debris. [PC Sum for supply and delivery of shower and shower tray £600.00 excluding VAT]."]
["6313AA","TAP:RENEW PAIR BASIN PILLAR TAPS","PLUMBING","Fittings, Equipment and Appliances Associated With Services","Taps - Traditional Type","IT",48.63,{"$f":"SUMIF('Contractor##'!C:C,'Planned Maint v6.2 CSV File'!C:C,'Contractor##'!F:F)","v":-0.25890000000000002},36.039693,"Tap:Renew pair 15mm chromium plated pillar taps to basin, turn off water supply, disconnect and remove old, connect new taps, including remove and refix securely basin if required, reinstate water supply and test on completion, and remove waste and debris."]
["6313AC","TAP:RENEW PAIR BATH PILLAR TAPS","PLUMBING","Fittings, Equipment and Appliances Associated With Services","Taps - Traditional Type","IT",61.54,{"$f":"SUMIF('Contractor##'!C:C,'Planned Maint v6.2 CSV File'!C:C,'Contractor##'!F:F)","v":-0.25890000000000002},45.607293999999996,"Tap:Renew pair of 22mm chromium plated pillar taps to bath, turn off water supply, remove bath panel and studding to gain access, refix on completion, reinstate water supply, test and make good, and remove waste and debris."]
["6313BA","TAP:RENEW PAIR BASIN TAPS-CERAMIC DISC","PLUMBING","Fittings, Equipment and Appliances Associated With Services","Taps - Ceramic Disc Type","IT",56.45,{"$f":"SUMIF('Contractor##'!C:C,'Planned Maint v6.2 CSV File'!C:C,'Contractor##'!F:F)","v":-0.25890000000000002},41.835095000000003,"Tap:Renew pair 15mm chromium plated ceramic disc pillar taps to basin, turn off water supply, disconnect and remove old, connect new taps to existing pipework including remove and refix, secure basin if required, reinstate water supply and test on completion, and remove waste and debris."]
["6313BC","TAP:RENEW PAIR BATH TAPS-CERAMIC DISC","PLUMBING","Fittings, Equipment and Appliances Associated With Services","Taps - Ceramic Disc Type","IT",95.09,{"$f":"SUMIF('Contractor##'!C:C,'Planned Maint v6.2 CSV File'!C:C,'Contractor##'!F:F)","v":-0.25890000000000002},70.471198999999999,"Tap:Renew pair of 22mm chromium plated ceramic disc pillar taps to bath, turn off water supply, remove bath panel and studding for access, refix on completion, reinstate water supply, test and make good, and remove waste and debris."]
["6313CA","TAP:RENEW PAIR HIGH NECK SINK PILLAR TAPS","PLUMBING","Fittings, Equipment and Appliances Associated With Services","Taps - Traditional Type","IT",68.42,{"$f":"SUMIF('Contractor##'!C:C,'Planned Maint v6.2 CSV File'!C:C,'Contractor##'!F:F)","v":-0.25890000000000002},50.706062000000003,"Tap:Renew pair 15mm chromium plated high neck pillar taps to sink top, turn off water supply, remove existing pillar taps and replace with new pillar taps, reinstate water supply and test on completion, and remove waste and debris."]
["6313DA","TAP:RENEW PAIR HIGH NECK SINK TAPS-CERAMIC DISC","PLUMBING","Fittings, Equipment and Appliances Associated With Services","Taps - Ceramic Disc Type","IT",77.91,{"$f":"SUMIF('Contractor##'!C:C,'Planned Maint v6.2 CSV File'!C:C,'Contractor##'!F:F)","v":-0.25890000000000002},57.739100999999998,"Tap:Renew pair 15mm chromium plated ceramic disc high neck pillar taps to sink top, turn off water supply, remove existing pillar taps and replace with new pillar taps and make all necessary connections to existing pipework, reinstate water supply and test on completion, and remove waste and debris."]
["6313EA","TAP:RENEW BRASS BIB TAP","PLUMBING","Fittings, Equipment and Appliances Associated With Services","Taps - Traditional Type","NO",37.79,{"$f":"SUMIF('Contractor##'!C:C,'Planned Maint v6.2 CSV File'!C:C,'Contractor##'!F:F)","v":-0.25890000000000002},28.006169,"Tap:Renew 15mm brass bib tap and backplate elbow securely fixed to wall or backboard with hose union loose key head and draincock, non return valve including locate, turn off water mains supply, reinstate water supply and test on completion, and remove waste and debris."]
["6313FC","TAP:RENEW BATH MIXER","PLUMBING","Fittings, Equipment and Appliances Associated With Services","Taps - Mixers","IT",74.87,{"$f":"SUMIF('Contractor##'!C:C,'Planned Maint v6.2 CSV File'!C:C,'Contractor##'!F:F)","v":-0.25890000000000002},55.486156999999999,"Tap:Renew mixer tap to bath, turn off water supply, remove bath panel and studding to gain access, refix on completion, reinstate water supply, test and make good, and remove waste and debris."]
["6313FD","TAP:RENEW BATH MIXER WITH SHOWER ATTACHMENT","PLUMBING","Fittings, Equipment and Appliances Associated With Services","Taps - Mixers","IT",90.93,{"$f":"SUMIF('Contractor##'!C:C,'Planned Maint v6.2 CSV File'!C:C,'Contractor##'!F:F)","v":-0.25890000000000002},67.388222999999996,"Tap:Renew mixer tap with shower hose attachment to bath, turn off water supply, remove bath panel and studding for access, refix on completion, reinstate water supply, test and make good, and remove waste and debris."]
["6313GA","TAP:RENEW SINK MIXER","PLUMBING","Fittings, Equipment and Appliances Associated With Services","Taps - Mixers","IT",57.92,{"$f":"SUMIF('Contractor##'!C:C,'Planned Maint v6.2 CSV File'!C:C,'Contractor##'!F:F)","v":-0.25890000000000002},42.924512,"Tap:Renew mixer tap to sink top, turn off water supply, make all necessary connections existing pipework, reinstate water supply and test on completion, and remove waste and debris."]
["6313HA","TAPS:RENEW WITH BASIN LEVERS - PAIR","PLUMBING","Plumbing Works","Taps","IT",83.39,{"$f":"SUMIF('Contractor##'!C:C,'Planned Maint v6.2 CSV File'!C:C,'Contractor##'!F:F)","v":-0.25890000000000002},61.800328999999998,"Taps:Renew pair of taps to wash hand basin with pair of 15mm ceramic disc lever taps incl.,turn water off/on, remove old, connect new tap to existing pipework including remove/refix basin securely if required, reinstate water supply, test on completion and make good, and remove waste and debris."]
["6313HB","TAPS:RENEW WITH SINK LEVERS - PAIR","PLUMBING","Plumbing Works","Taps","IT",82.53,{"$f":"SUMIF('Contractor##'!C:C,'Planned Maint v6.2 CSV File'!C:C,'Contractor##'!F:F)","v":-0.25890000000000002},61.162982999999997,"Taps:Renew pair of taps to sink with pair of 15mm high neck ceramic disc lever taps incl.,turn water off/on, remove old, connect new tap to existing pipework, reinstate water supply, test on completion and make good, and remove waste and debris."]
["6313HC","TAPS:RENEW WITH BATH LEVERS - PAIR","PLUMBING","Plumbing Works","Taps","IT",112.14,{"$f":"SUMIF('Contractor##'!C:C,'Planned Maint v6.2 CSV File'!C:C,'Contractor##'!F:F)","v":-0.25890000000000002},83.106954000000002,"Taps:Renew pair of taps to bath with pair of 22mm ceramic disc lever taps incl.,turn water off/on, remove panels/studding for access and refix on completion, remove existing taps and fix new and connect to existing pipework, reinstate water supply, test on completion and make good, and remove waste and debris."]
["6313JA","TAPS:RENEW KITCHEN SINK PAIR LOW FLOW 3-4 L/S ","PLUMBING","Fittings, Equipment and Appliances Associated With Services","Taps","NO",123.29,{"$f":"SUMIF('Contractor##'!C:C,'Planned Maint v6.2 CSV File'!C:C,'Contractor##'!F:F)","v":-0.25890000000000002},91.370219000000006,"Taps:Renew pair of 15mm Kitchen sink taps with pair of 3-4 litres per second aerating low flow taps,including locate, turn off water mains supply, install, seal, reinstate water supply and test on completion, and remove waste and debris."]
["6313JB","TAPS:RENEW WASH BASIN PAIR LOW FLOW 2-3 L/S ","PLUMBING","Fittings, Equipment and Appliances Associated With Services","Taps","NO",102.87,{"$f":"SUMIF('Contractor##'!C:C,'Planned Maint v6.2 CSV File'!C:C,'Contractor##'!F:F)","v":-0.25890000000000002},76.236957000000004,"Taps:Renew pair of 15mm wash basin taps with pair of 2-3 litres per second aerating low flow taps,including locate, turn off water mains supply, install, seal, reinstate water supply and test on completion, and remove waste and debris."]
["6314AA","TAPS:INSTALL SINK LEVERS - PAIR","PLUMBING","Fittings, Equipment and Appliances Associated With Services","Taps - Lever Handles","IT",100.26,{"$f":"SUMIF('Contractor##'!C:C,'Planned Maint v6.2 CSV File'!C:C,'Contractor##'!F:F)","v":-0.25890000000000002},74.302686000000008,"Taps:Install pair of 15mm chromium plated ceramic disc quarter action lever taps with thermostatic belnding valve to sink top in lieu of pillar taps"]
["6314AB","TAPS:INSTALL MONOBLOC SINK LEVERS - PAIR","PLUMBING","Fittings, Equipment and Appliances Associated With Services","Taps - Lever Handles","IT",125.26,{"$f":"SUMIF('Contractor##'!C:C,'Planned Maint v6.2 CSV File'!C:C,'Contractor##'!F:F)","v":-0.25890000000000002},92.830185999999998,"Taps:Install pair of chromium plated high neck lever action mono bloc taps with thermostatic belnding valve to sink top in lieu of pillar taps"]
["6314AC","MIXER:RENEW THERMOSTATIC TO SINK ","PLUMBING","Fittings, Equipment and Appliances Associated With Services","Taps - Mixers","IT",227.89,{"$f":"SUMIF('Contractor##'!C:C,'Planned Maint v6.2 CSV File'!C:C,'Contractor##'!F:F)","v":-0.25890000000000002},168.88927899999999,"Mixer:Renew thermostatic mixer tap to sink top, turn off water supply, make all necessary connections existing pipework, reinstate water supply, adjust thermostat and test on completion, and remove waste and debris."]
["6314AD","MIXER:RENEW THERMOSTATIC TO BASIN","PLUMBING","Fittings, Equipment and Appliances Associated With Services","Taps - Mixers","IT",202.89,{"$f":"SUMIF('Contractor##'!C:C,'Planned Maint v6.2 CSV File'!C:C,'Contractor##'!F:F)","v":-0.25890000000000002},150.36177899999998,"Mixer:Renew thermostatic mixer tap to basin, turn off water supply, make all necessary connections existing pipework, reinstate water supply, adjust thermostat  and test on completion, and remove waste and debris."]
["6314AE","MIXER:RENEW THERMOSTATIC TO BATH ","PLUMBING","Fittings, Equipment and Appliances Associated With Services","Taps - Mixers","IT",257.89,{"$f":"SUMIF('Contractor##'!C:C,'Planned Maint v6.2 CSV File'!C:C,'Contractor##'!F:F)","v":-0.25890000000000002},191.12227899999999,"Mixer:Renew thermostatic mixer tap to bath, turn off water supply, remove bath panel and studding to gain access, refix on completion, reinstate water supply, adjust thermostat, test and make good, and remove waste and debris."]
["6314AF","MIXER:RENEW THERMOSTATIC TO BATH SHOWER ATTACHMENT","PLUMBING","Fittings, Equipment and Appliances Associated With Services","Taps - Mixers","IT",302.89,{"$f":"SUMIF('Contractor##'!C:C,'Planned Maint v6.2 CSV File'!C:C,'Contractor##'!F:F)","v":-0.25890000000000002},224.471779,"Mixer:Renew thermostatic mixer tap with shower hose attachment to bath, turn off water supply, remove bath panel and studding for access, refix on completion, reinstate water supply, adjust thermostat, test and make good, and remove waste and debris."]
["6314BA","MIXER:OVERHAUL ANY TYPE OF THERMOSTATIC ","PLUMBING","Fittings, Equipment and Appliances Associated With Services","Taps - Mixers","IT",36.549999999999997,{"$f":"SUMIF('Contractor##'!C:C,'Planned Maint v6.2 CSV File'!C:C,'Contractor##'!F:F)","v":-0.25890000000000002},27.087204999999997,"Mixer:Overhaul any type of thermostatic mixer tap, including the dismantling and renewal of washers, reseating, repacking gland, resecure mixer, cleaning down stems, reassemble, adjust thermostat and test on completion, turn off water remake all necessary connections existing pipework, reinstate water supply and test on completion, and remove waste and debris."]
["6315AA","SEALANT:RENEW TO SIDES AND ENDS OF BATH","PLUMBING","Fittings, Equipment and Appliances Associated With Services","Sealant Joints to Sanitary Appliances and Fittings","IT",6.3,{"$f":"SUMIF('Contractor##'!C:C,'Planned Maint v6.2 CSV File'!C:C,'Contractor##'!F:F)","v":-0.25890000000000002},4.6689299999999996,"Sealant:Renew sanitaryware silicone sealant to side and ends of bath providing watertight joint."]
["6315AB","SEALANT:RENEW TO SHOWER TRAY","PLUMBING","Fittings, Equipment and Appliances Associated With Services","Sealant Joints to Sanitary Appliances and Fittings","IT",6.3,{"$f":"SUMIF('Contractor##'!C:C,'Planned Maint v6.2 CSV File'!C:C,'Contractor##'!F:F)","v":-0.25890000000000002},4.6689299999999996,"Sealant:Renew sanitaryware silicone sealant to sides of shower tray providing watertight joint."]
["6315AC","SEALANT:RENEW TO BASIN OR SINK","PLUMBING","Fittings, Equipment and Appliances Associated With Services","Sealant Joints to Sanitary Appliances and Fittings","IT",2.37,{"$f":"SUMIF('Contractor##'!C:C,'Planned Maint v6.2 CSV File'!C:C,'Contractor##'!F:F)","v":-0.25890000000000002},1.7564070000000001,"Sealant:Renew sanitaryware silicone sealant to sides of basin or sink to provide watertight joint."]
["6315AD","SEALANT:APPLY TO WORKTOP AND WALL","PLUMBING","Fittings, Equipment and Appliances Associated With Services","Sealant Joints to Sanitary Appliances and Fittings","LM",2.37,{"$f":"SUMIF('Contractor##'!C:C,'Planned Maint v6.2 CSV File'!C:C,'Contractor##'!F:F)","v":-0.25890000000000002},1.7564070000000001,"Sealant:Seal joint between worktop and wall with silicone sealant."]
["6315BA","SEALANT:PVC TRIM TO BATH","PLUMBING","Fittings, Equipment and Appliances Associated With Services","Sealant Joints to Sanitary Appliances and Fittings","IT",11,{"$f":"SUMIF('Contractor##'!C:C,'Planned Maint v6.2 CSV File'!C:C,'Contractor##'!F:F)","v":-0.25890000000000002},8.152099999999999,"Sealant:Replace existing sealant to side and ends of bath with suitable size PVCu quadrant or flexible PVC cover trim fixed to bath and tiles with sanitaryware silicone sealant to form a neat clean sealed beaded surround, including raking out existing defective sealant, cleaning and notching new quadrant trim around any obstructions."]
["6316JA","TAP:INSTALL EXTERNAL BRASS BIB TAP","PLUMBING","Fittings, Equipment and Appliances Associated With Services","Taps - Traditional Type","NO",51.21,{"$f":"SUMIF('Contractor##'!C:C,'Planned Maint v6.2 CSV File'!C:C,'Contractor##'!F:F)","v":-0.25890000000000002},37.951731000000002,"Tap:Install new external 15mm brass bib tap with back plate elbow securely fixed to wall or backboard, hose union, loose key head, draincock and non return isolating valve, including locate and turn off water mains supply, extend copper service pipework to external position, lag exposed sections, all necessary builders work in connection and making good, reinstate water supply and test on completion, and remove waste and debris."]
["6317AA","UPSTAND:FIT ALUMINIUM JOINT UPSTAND STRIP","PLUMBING","Fittings, Equipment and Appliances Associated With Services","Upstands","LM",9.48,{"$f":"SUMIF('Contractor##'!C:C,'Planned Maint v6.2 CSV File'!C:C,'Contractor##'!F:F)","v":-0.25890000000000002},7.0256280000000002,"Upstand:Provide and fix new proprietary aluminium joint strip between worktop and wall."]
["6317BA","UPSTAND:FIT PVC JOINT UPSTAND STRIP","PLUMBING","Fittings, Equipment and Appliances Associated With Services","Upstands","LM",5.18,{"$f":"SUMIF('Contractor##'!C:C,'Planned Maint v6.2 CSV File'!C:C,'Contractor##'!F:F)","v":-0.25890000000000002},3.8388979999999995,"Upstand:Provide and fix proprietary PVC joint strip between worktop and wall."]
["6319AA","WASHING MACHINE:FORM NEW WASTE OUTLET","PLUMBING","Fittings, Equipment and Appliances Associated With Services","Washing Machine Plumbing","IT",49.74,{"$f":"SUMIF('Contractor##'!C:C,'Planned Maint v6.2 CSV File'!C:C,'Contractor##'!F:F)","v":-0.25890000000000002},36.862313999999998,"Washing Machine:Cut in existing 40mm waste pipe and make connection for waste from washing machine including washing machine trap and securely fixed stand pipe, and remove waste and debris."]
["6319BA","WASHING MACHINE:SUPPLY VALVES OR STOP TAPS","PLUMBING","Fittings, Equipment and Appliances Associated With Services","Washing Machine Plumbing","IT",61.3,{"$f":"SUMIF('Contractor##'!C:C,'Planned Maint v6.2 CSV File'!C:C,'Contractor##'!F:F)","v":-0.25890000000000002},45.429429999999996,"Washing Machine:Supply and fix hot and cold water washing machine valves including adapt and extend existing pipework ne 1m, install in line service pipe stop taps to hot and cold water supply/mains service, make all joints and test on completion, and remove waste and debris."]
["6319CA","WASHING MACHINE:RENEW INDIVIDUAL VALVE","PLUMBING","Fittings, Equipment and Appliances Associated With Services","Washing Machine Plumbing","NO",14.88,{"$f":"SUMIF('Contractor##'!C:C,'Planned Maint v6.2 CSV File'!C:C,'Contractor##'!F:F)","v":-0.25890000000000002},11.027568,"Washing Machine:Renew individual washing machine valve including turn water off/on, drain and refill as necessary, remove existing and connect new valve existing pipework including any adaption of pipework required, make all joints and test on completion, and remove waste and debris."]
["6319CB","WASHING MACHINE:RENEW PAIR STOP TAPS","PLUMBING","Fittings, Equipment and Appliances Associated With Services","Washing Machine Plumbing","IT",29.76,{"$f":"SUMIF('Contractor##'!C:C,'Planned Maint v6.2 CSV File'!C:C,'Contractor##'!F:F)","v":-0.25890000000000002},22.055136000000001,"Washing Machine:Renew or supply and fix new pair of in line stop taps including turn water off/on, drain/refill as necessary, fix new stop taps to existing pipework including any adaption of pipework required, make all joints and test on completion, and remove waste and debris."]
["6340AA","REPLUMB:1 BED FLAT EXISTING TANK AND CYLINDER","PLUMBING","Replumbing Hot and Cold Water Installations","Whole Dwelling Renewals - Existing Tank and Cylinder","IT",676.75,{"$f":"SUMIF('Contractor##'!C:C,'Planned Maint v6.2 CSV File'!C:C,'Contractor##'!F:F)","v":-0.25890000000000002},501.53942499999999,"Replumb:Renew hot and cold water installation to 1 bed flat in copper pipework with gunmetal ancillaries, comprising 15mm rising main from incoming main to existing CWST with branches to sink, washing machine and F&E tank, 22mm feed from CWST to hws cylinder and bath, with 15mm branches to basin and wc, 22mm hot down feed fromhws cylinder to bath, 15mm branches to basin, sink and washing machine, including combined stopcock/ draincock, washmac valves, draincocks, all connections to fittings etc, service valves, test, refill system, and remove waste and debris."]
["6340AB","REPLUMB:2 BED FLAT EXISTING TANK AND CYLINDER","PLUMBING","Replumbing Hot and Cold Water Installations","Whole Dwelling Renewals - Existing Tank and Cylinder","IT",698.07,{"$f":"SUMIF('Contractor##'!C:C,'Planned Maint v6.2 CSV File'!C:C,'Contractor##'!F:F)","v":-0.25890000000000002},517.33967700000005,"Replumb:Renew hot and cold water installation to 2 bed flat in copper pipework with gunmetal ancillaries, comprising 15mm rising main from incoming main to existing CWST with branches to sink, washing machine and F&E tank, 22mm feed from CWST to hws cylinder and bath, with 15mm branches to basin and wc, 22mm hot down feed from hws cylinder to bath, 15mm branches to basin, sink and washing machine, including combined stopcock/ draincock, washmac valves, draincocks, all connections to fittings etc, service valves, test, refill system, and remove waste and debris."]
["6340AC","REPLUMB:3 BED FLAT EXISTING TANK AND CYLINDER","PLUMBING","Replumbing Hot and Cold Water Installations","Whole Dwelling Renewals - Existing Tank and Cylinder","IT",719.28,{"$f":"SUMIF('Contractor##'!C:C,'Planned Maint v6.2 CSV File'!C:C,'Contractor##'!F:F)","v":-0.25890000000000002},533.05840799999999,"Replumb:Renew hot and cold water installation to 3 bed flat in copper pipework with gunmetal ancillaries, comprising 15mm rising main from incoming main to existing CWST with branches to sink, washing machine and F&E tank, 22mm feed from CWST to hws cylinder and bath, with 15mm branches to basin and wc, 22mm hot down feed fromhws cylinder to bath, 15mm branches to basin, sink and washing machine, including combined stopcock/ draincock, washmac valves, draincocks, all connections to fittings etc, service valves, test, refill system, and remove waste and debris."]
["6340BA","REPLUMB:1 BED BUNG EXISTING TANK AND CYLINDER","PLUMBING","Replumbing Hot and Cold Water Installations","Whole Dwelling Renewals - Existing Tank and Cylinder","IT",676.75,{"$f":"SUMIF('Contractor##'!C:C,'Planned Maint v6.2 CSV File'!C:C,'Contractor##'!F:F)","v":-0.25890000000000002},501.53942499999999,"Replumb:Renew hot and cold water installation to 1 bed bung in copper pipework with gunmetal ancillaries, comprising 15mm rising main from incoming main to existing CWST with branches to sink, washing machine and F&E tank, 22mm feed from CWST to hws cylinder and bath, with 15mm branches to basin and wc, 22mm hot down feed from hws cylinder to bath, 15mm branches to basin, sink and washing machine, including combined stopcock/ draincock, washmac valves, draincocks, all connections to fittings etc, service valves, test, refill system, and remove waste and debris."]
["6340BB","REPLUMB:2 BED BUNG EXISTING TANK AND CYLINDER","PLUMBING","Replumbing Hot and Cold Water Installations","Whole Dwelling Renewals - Existing Tank and Cylinder","IT",698.07,{"$f":"SUMIF('Contractor##'!C:C,'Planned Maint v6.2 CSV File'!C:C,'Contractor##'!F:F)","v":-0.25890000000000002},517.33967700000005,"Replumb:Renew hot and cold water installation to 2 bed bung in copper pipework with gunmetal ancillaries, comprising 15mm rising main from incoming main to existing CWST with branches to sink, washing machine and F&E tank, 22mm feed from CWST to hws cylinder and bath, with 15mm branches to basin and wc, 22mm hot down feed from hws cylinder to bath, 15mm branches to basin, sink and washing machine, including combined stopcock/ draincock, washmac valves, draincocks, all connections to fittings etc, service valves, test, refill system, and remove waste and debris."]
["6340BC","REPLUMB:3 BED BUNG EXISTING TANK AND CYLINDER","PLUMBING","Replumbing Hot and Cold Water Installations","Whole Dwelling Renewals - Existing Tank and Cylinder","IT",719.28,{"$f":"SUMIF('Contractor##'!C:C,'Planned Maint v6.2 CSV File'!C:C,'Contractor##'!F:F)","v":-0.25890000000000002},533.05840799999999,"Replumb:Renew hot and cold water installation to 3 bed bung in copper pipework with gunmetal ancillaries, comprising 15mm rising main from incoming main to existing CWST with branches to sink, washing machine and F&E tank, 22mm feed from CWST to hws cylinder and bath, with 15mm branches to basin and wc, 22mm hot down feed from hws cylinder to bath, 15mm branches to basin, sink and washing machine, including combined stopcock/ draincock, washmac valves, draincocks, all connections to fittings etc, service valves, test, refill system, and remove waste and debris."]
["6340CA","REPLUMB:1 BED HOUSE EXISTING TANK AND CYLINDER","PLUMBING","Replumbing Hot and Cold Water Installations","Whole Dwelling Renewals - Existing Tank and Cylinder","IT",691.44,{"$f":"SUMIF('Contractor##'!C:C,'Planned Maint v6.2 CSV File'!C:C,'Contractor##'!F:F)","v":-0.25890000000000002},512.42618400000003,"Replumb:Renew hot and cold water installation to 1 bed house in copper pipework with gunmetal ancillaries, comprising 15mm rising main from incoming main to existing CWST with branches to sink, washing machine and F&E tank, 22mm feed from CWST to hws cylinder and bath, with 15mm branches to basin and wc, 22mm hot down feed from hws cylinder to bath, 15mm branches to basin, sink and washing machine, including combined stopcock/ draincock, washmac valves, draincocks, all connections to fittings etc, service valves, test, refill system, and remove waste and debris."]
["6340CB","REPLUMB:2 BED HOUSE EXISTING TANK AND CYLINDER","PLUMBING","Replumbing Hot and Cold Water Installations","Whole Dwelling Renewals - Existing Tank and Cylinder","IT",716.32,{"$f":"SUMIF('Contractor##'!C:C,'Planned Maint v6.2 CSV File'!C:C,'Contractor##'!F:F)","v":-0.25890000000000002},530.86475200000007,"Replumb:Renew hot and cold water installation to 2 bed house in copper pipework with gunmetal ancillaries, comprising 15mm rising main from incoming main to existing CWST with branches to sink, washing machine and F&E tank, 22mm feed from CWST to hws cylinder and bath, with 15mm branches to basin and wc, 22mm hot down feed from hws cylinder to bath, 15mm branches to basin, sink and washing machine, including combined stopcock/ draincock, washmac valves, draincocks, all connections to fittings etc, service valves, test, refill system, and remove waste and debris."]
["6340CC","REPLUMB:3 BED HOUSE EXISTING TANK AND CYLINDER","PLUMBING","Replumbing Hot and Cold Water Installations","Whole Dwelling Renewals - Existing Tank and Cylinder","IT",741.3,{"$f":"SUMIF('Contractor##'!C:C,'Planned Maint v6.2 CSV File'!C:C,'Contractor##'!F:F)","v":-0.25890000000000002},549.37743,"Replumb:Renew hot and cold water installation to 3 bed house in copper pipework with gunmetal ancillaries, comprising 15mm rising main from incoming main to existing CWST with branches to sink, washing machine and F&E tank, 22mm feed from CWST to hws cylinder and bath, with 15mm branches to basin and wc, 22mm hot down feed from hws cylinder to bath, 15mm branches to basin, sink and washing machine, including combined stopcock/ draincock, washmac valves, draincocks, all connections to fittings etc,. service valves, test, refill system, and remove waste and debris."]
["6340CD","REPLUMB:4 BED HOUSE EXISTING TANK AND CYLINDER","PLUMBING","Replumbing Hot and Cold Water Installations","Whole Dwelling Renewals - Existing Tank and Cylinder","IT",757.86,{"$f":"SUMIF('Contractor##'!C:C,'Planned Maint v6.2 CSV File'!C:C,'Contractor##'!F:F)","v":-0.25890000000000002},561.65004599999997,"Replumb:Renew hot and cold water installation to 4 bed house in copper pipework with gunmetal ancillaries, comprising 15mm rising main from incoming main to existing CWST with branches to sink, washing machine and F&E tank, 22mm feed from CWST to hws cylinder and bath, with 15mm branches to basin and wc, 22mm hot down feed from hws cylinder to bath, 15mm branches to basin, sink and washing machine, including combined stopcock/ draincock, washmac valves, draincocks, all connections to fittings etc, service valves, test, refill system, and remove waste and debris."]
["6340DA","REPLUMB:RENEW COLD WATER TANK","PLUMBING","Replumbing Hot and Cold Water Installations","Whole Dwelling Renewals - Existing Tank and Cylinder","IT",127.5,{"$f":"SUMIF('Contractor##'!C:C,'Planned Maint v6.2 CSV File'!C:C,'Contractor##'!F:F)","v":-0.25890000000000002},94.490250000000003,"Replumb:Renew cold water storage tank as part of the renewal of the hot and cold installation with 227 litres plastic tank, lid including Byelaw 30 kit, fix new insulation jacket, ballvalve and float, remove old tank, test on completion, and remove waste and debris.."]
["6340EA","REPLUMB:RENEW HOT WATER CYLINDER","PLUMBING","Replumbing Hot and Cold Water Installations","Whole Dwelling Renewals - Existing Tank and Cylinder","IT",268.77999999999997,{"$f":"SUMIF('Contractor##'!C:C,'Planned Maint v6.2 CSV File'!C:C,'Contractor##'!F:F)","v":-0.25890000000000002},199.19285799999997,"Replumb:Renew hot water cylinder as part of the renewal of the hot and cold installation with ne 140 litre indirect pre-insulated cylinder, install 3 kilowatt top entry immersion heater and thermostat, remake earth bonding, reconnect electricity supply, test on completion, and remove waste and debris."]
["6340FA","REPLUMB:RENEW COLD AND HOT TANKS","PLUMBING","Replumbing Hot and Cold Water Installations","Whole Dwelling Renewals - Existing Tank and Cylinder","IT",396.27,{"$f":"SUMIF('Contractor##'!C:C,'Planned Maint v6.2 CSV File'!C:C,'Contractor##'!F:F)","v":-0.25890000000000002},293.67569699999996,"Replumb:Renew cold water storage tank and hot water cylinder as part of the renewal of the hot and cold installation with 227 litres plastic tank, lid including Byelaw 30 kit,, insulation jacket, ballvalve and float and remove old tank and ne 140 litre indirect pre-insulated cylinder, install 3 kilowatt top entry immersion heater and thermostat, remake earth bonding, reconnect electricity supply, test on completion, and remove waste and debris."]
["6340XA","REPLUMB:FLAT/BUNGALOW EXISTING TANK/CYLINDER","PLUMBING","Replumbing Hot and Cold Water Installations","Whole Dwelling Renewals - Existing Tank and Cylinder","IT",730.84,{"$f":"SUMIF('Contractor##'!C:C,'Planned Maint v6.2 CSV File'!C:C,'Contractor##'!F:F)","v":-0.25890000000000002},541.62552400000004,"Replumb:Renew hot and cold water installation to flat or bungalow in copper pipework with gunmetal ancillaries, comprising 15mm rising main from incoming main to existing CWST with branches to sink, washing machine and F&E tank, 22mm feed from CWST to hws cylinder and bath, with 15mm branches to basin and wc, 22mm hot down feed from hws cylinder to bath, 15mm branches to basin, sink and washing machine, including combined stopcock/ draincock, washmac valves, draincocks, all connections to fittings etc, service valves, test, refill system, and remove waste and debris."]
["6340XB","REPLUMB:HOUSE/MAISONETTE EXISTING TANK/CYLINDER","PLUMBING","Replumbing Hot and Cold Water Installations","Whole Dwelling Renewals - Existing Tank and Cylinder","IT",750.3,{"$f":"SUMIF('Contractor##'!C:C,'Planned Maint v6.2 CSV File'!C:C,'Contractor##'!F:F)","v":-0.25890000000000002},556.04732999999999,"Replumb:Renew hot and cold water installation to house or maisonette in copper pipework with gunmetal ancillaries, comprising 15mm rising main from incoming main to existing CWST with branches to sink, washing machine and F&E tank, 22mm feed from CWST to hws cylinder and bath, with 15mm branches to basin and wc, 22mm hot down feed fromhws cylinder to bath, 15mm branches to basin, sink and washing machine, including combined stopcock/draincock, washmac valves, draincocks, all connections to fittings etc, service valves, test, refill system, and remove waste and debris."]
["6350AA","PIPE:RENEW OR INSTALL 15MM COPPER","PLUMBING","Supply Pipework","Copper Pipework - Renewals","LM",15.96,{"$f":"SUMIF('Contractor##'!C:C,'Planned Maint v6.2 CSV File'!C:C,'Contractor##'!F:F)","v":-0.25890000000000002},11.827956,"Pipe:Renew or fix new any 15mm diameter pipe with copper pipe fixed with clips and including all made bends, connectors, fittings and any adaptors for jointing to pipes of other material, and remove waste and debris."]
["6350AB","PIPE:RENEW OR INSTALL 22MM COPPER","PLUMBING","Supply Pipework","Copper Pipework - Renewals","LM",19.63,{"$f":"SUMIF('Contractor##'!C:C,'Planned Maint v6.2 CSV File'!C:C,'Contractor##'!F:F)","v":-0.25890000000000002},14.547792999999999,"Pipe:Renew or fix new any 22mm diameter pipe with copper pipe fixed with clips and including all made bends, connectors, fittings and any adaptors for jointing to pipes of other material, and remove waste and debris."]
["6350AC","PIPE:RENEW OR INSTALL 28MM COPPER","PLUMBING","Supply Pipework","Copper Pipework - Renewals","LM",23.55,{"$f":"SUMIF('Contractor##'!C:C,'Planned Maint v6.2 CSV File'!C:C,'Contractor##'!F:F)","v":-0.25890000000000002},17.452905000000001,"Pipe:Renew or fix new any 28mm diameter pipe with copper pipe fixed with clips and including all made bends, connectors, fittings and any adaptors for jointing to pipes of other material, and remove waste and debris."]
["6350AD","PIPE:RENEW OR INSTALL 35MM COPPER","PLUMBING","Supply Pipework","Copper Pipework - Renewals","LM",36.340000000000003,{"$f":"SUMIF('Contractor##'!C:C,'Planned Maint v6.2 CSV File'!C:C,'Contractor##'!F:F)","v":-0.25890000000000002},26.931574000000001,"Pipe:Renew or fix new any 35mm diameter pipe with copper pipe fixed with clips and including all made bends, connectors, fittings and any adaptors for jointing to pipes of other material, and remove waste and debris."]
["6350AE","PIPE:RENEW OR INSTALL 42MM COPPER","PLUMBING","Supply Pipework","Copper Pipework - Renewals","LM",40.47,{"$f":"SUMIF('Contractor##'!C:C,'Planned Maint v6.2 CSV File'!C:C,'Contractor##'!F:F)","v":-0.25890000000000002},29.992317,"Pipe:Renew or fix new any 42mm diameter pipe with copper pipe fixed with clips and including all made bends, connectors, fittings and any adaptors for jointing to pipes of other material, and remove waste and debris."]
["6350AF","PIPE:RENEW OR INSTALL 54MM COPPER","PLUMBING","Supply Pipework","Copper Pipework - Renewals","LM",46.79,{"$f":"SUMIF('Contractor##'!C:C,'Planned Maint v6.2 CSV File'!C:C,'Contractor##'!F:F)","v":-0.25890000000000002},{"$f":"(1+H2564)*G2564","v":34.676068999999998},"Pipe:Renew or fix new any 54mm diameter pipe with copper pipe fixed with clips and including all made bends, connectors, fittings and any adaptors for jointing to pipes of other material, and remove waste and debris."]
["6360CA","PIPE:INSTALL TEE/VALVE","PLUMBING","Supply Pipework","Steel Pipework - Renewals","IT",174.83,{"$f":"SUMIF('Contractor##'!C:C,'Planned Maint v6.2 CSV File'!C:C,'Contractor##'!F:F)","v":-0.25890000000000002},129.56651300000001,"Pipe:Pipework:Cut into existing heating circuit pipe not exceeding 50mm diameter and insert appropriate sized tee fitting, nipple and gate valve.Remove, thread and refix pipe as found expedient, including isolate, drain down and refill branch."]
["6360DA","PIPE:RENEW 15MM STEEL","PLUMBING","Supply Pipework","Steel Pipework - Renewals","LM",30.98,{"$f":"SUMIF('Contractor##'!C:C,'Planned Maint v6.2 CSV File'!C:C,'Contractor##'!F:F)","v":-0.25890000000000002},22.959278000000001,"Pipe:Renew 15mm black mild steel pipe, including all necessary cutting, threading, bending, fittings, couplings, clips and brackets, and remove waste and debris."]
["6360DB","PIPE:RENEW 20MM STEEL","PLUMBING","Supply Pipework","Steel Pipework - Renewals","LM",34.03,{"$f":"SUMIF('Contractor##'!C:C,'Planned Maint v6.2 CSV File'!C:C,'Contractor##'!F:F)","v":-0.25890000000000002},25.219633000000002,"Pipe:Renew 20mm black mild steel pipe, including all necessary cutting, threading, bending, fittings, couplings, clips and brackets, and remove waste and debris."]
["6360DC","PIPE:RENEW 25MM STEEL","PLUMBING","Supply Pipework","Steel Pipework - Renewals","LM",42.84,{"$f":"SUMIF('Contractor##'!C:C,'Planned Maint v6.2 CSV File'!C:C,'Contractor##'!F:F)","v":-0.25890000000000002},31.748724000000003,"Pipe:Renew 25mm black mild steel pipe, including all necessary cutting, threading, bending, fittings, couplings, clips and brackets, and remove waste and debris."]
["6360DD","PIPE:RENEW 32MM STEEL","PLUMBING","Supply Pipework","Steel Pipework - Renewals","LM",51.69,{"$f":"SUMIF('Contractor##'!C:C,'Planned Maint v6.2 CSV File'!C:C,'Contractor##'!F:F)","v":-0.25890000000000002},38.307458999999994,"Pipe:Renew 32mm black mild steel pipe, including all necessary cutting, threading, bending, fittings, couplings, clips and brackets, and remove waste and debris."]
["6360DE","PIPE:RENEW 40MM STEEL","PLUMBING","Supply Pipework","Steel Pipework - Renewals","LM",60.54,{"$f":"SUMIF('Contractor##'!C:C,'Planned Maint v6.2 CSV File'!C:C,'Contractor##'!F:F)","v":-0.25890000000000002},44.866194,"Pipe:Renew 40mm black mild steel pipe, including all necessary cutting, threading, bending, fittings, couplings, clips and brackets, and remove waste and debris."]
["6360DF","PIPE:RENEW 50MM STEEL","PLUMBING","Supply Pipework","Steel Pipework - Renewals","LM",78.260000000000005,{"$f":"SUMIF('Contractor##'!C:C,'Planned Maint v6.2 CSV File'!C:C,'Contractor##'!F:F)","v":-0.25890000000000002},57.998486,"Pipe:Renew 50mm black mild steel pipe, including all necessary cutting, threading, bending, fittings, couplings, clips and brackets, and remove waste and debris."]
["6450BA","INSULATION:REMOVE EXISTING FROM PIPE","PLUMBING","Supply Pipework","Insulation","LM",0.89,{"$f":"SUMIF('Contractor##'!C:C,'Planned Maint v6.2 CSV File'!C:C,'Contractor##'!F:F)","v":-0.25890000000000002},0.65957900000000003,"Insulation:Remove existing insulation including securing wires complete to any diameter pipe, and remove waste and debris."]
["6451AA","INSULATION:RENEW UPTO 22MM PIPE","PLUMBING","Supply Pipework","Insulation","LM",4.46,{"$f":"SUMIF('Contractor##'!C:C,'Planned Maint v6.2 CSV File'!C:C,'Contractor##'!F:F)","v":-0.25890000000000002},3.3053059999999999,"Insulation:Renew or supply preformed insulation to any pipe not exceeding 22mm diameter, fix preformed split cellular insulation section to pipework with adhesive tape, and remove waste and debris."]
["6451AB","INSULATION:RENEW TO 28MM PIPE","PLUMBING","Supply Pipework","Insulation","LM",6.54,{"$f":"SUMIF('Contractor##'!C:C,'Planned Maint v6.2 CSV File'!C:C,'Contractor##'!F:F)","v":-0.25890000000000002},4.846794,"Insulation:Renew or supply preformed insulation to any pipe not exceeding 22mm diameter, fix preformed split cellular insulation section to pipework with adhesive tape, and remove waste and debris."]
["6451AC","INSULATION:RENEW TO 35MM PIPE","PLUMBING","Supply Pipework","Insulation","LM",7.59,{"$f":"SUMIF('Contractor##'!C:C,'Planned Maint v6.2 CSV File'!C:C,'Contractor##'!F:F)","v":-0.25890000000000002},5.624949,"Insulation:Renew or supply preformed insulation to any pipe not exceeding 35mm diameter, fix preformed split cellular insulation section to pipework with adhesive tape, and remove waste and debris."]
["6451AD","INSULATION:RENEW TO 42MM PIPE","PLUMBING","Supply Pipework","Insulation","LM",8.2899999999999991,{"$f":"SUMIF('Contractor##'!C:C,'Planned Maint v6.2 CSV File'!C:C,'Contractor##'!F:F)","v":-0.25890000000000002},6.143718999999999,"Insulation:Renew or supply preformed insulation to any pipe not exceeding 42mm diameter, fix preformed split cellular insulation section to pipework with adhesive tape, and remove waste and debris."]
["6451AE","INSULATION:RENEW TO 54MM PIPE","PLUMBING","Supply Pipework","Insulation","LM",11.28,{"$f":"SUMIF('Contractor##'!C:C,'Planned Maint v6.2 CSV File'!C:C,'Contractor##'!F:F)","v":-0.25890000000000002},8.3596079999999997,"Insulation:Renew or supply preformed insulation to any pipe not exceeding 54mm diameter, fix preformed split cellular insulation section to pipework with adhesive tape, and remove waste and debris."]
["6500AA","STOPCOCK:RENEW 15MM DIAMETER","PLUMBING","Stopcocks and Valves","Stopcocks","NO",25.52,{"$f":"SUMIF('Contractor##'!C:C,'Planned Maint v6.2 CSV File'!C:C,'Contractor##'!F:F)","v":-0.25890000000000002},18.912872,"Stopcock:Renew 15mm stopcock connected to any type of pipework including locate supply and turn water off/on, drain down/refill, adjust pipework as necessary and test, and remove waste and debris."]
["6500AB","STOPCOCK:RENEW 20MM DIAMETER","PLUMBING","Stopcocks and Valves","Stopcocks","NO",36.5,{"$f":"SUMIF('Contractor##'!C:C,'Planned Maint v6.2 CSV File'!C:C,'Contractor##'!F:F)","v":-0.25890000000000002},27.050149999999999,"Stopcock:Renew 20mm stopcock connected to any type of pipework including locate supply and turn water off/on, drain down/refill, adjust pipework as necessary and test, and remove waste and debris."]
["6500AC","STOPCOCK:RENEW 22MM DIAMETER","PLUMBING","Stopcocks and Valves","Stopcocks","NO",29.34,{"$f":"SUMIF('Contractor##'!C:C,'Planned Maint v6.2 CSV File'!C:C,'Contractor##'!F:F)","v":-0.25890000000000002},21.743873999999998,"Stopcock:Renew 22mm stopcock connected to any type of pipework including locate supply and turn water off/on, drain down/refill, adjust pipework as necessary and test, and remove waste and debris."]
["6500AD","STOPCOCK:RENEW 25MM DIAMETER","PLUMBING","Stopcocks and Valves","Stopcocks","NO",46.3,{"$f":"SUMIF('Contractor##'!C:C,'Planned Maint v6.2 CSV File'!C:C,'Contractor##'!F:F)","v":-0.25890000000000002},34.312929999999994,"Stopcock:Renew 25mm stopcock connected to any type of pipework including locate supply and turn water off/on, drain down/refill, adjust pipework as necessary and test, and remove waste and debris."]
["6500AE","STOPCOCK:RENEW 28MM DIAMETER","PLUMBING","Stopcocks and Valves","Stopcocks","NO",42.49,{"$f":"SUMIF('Contractor##'!C:C,'Planned Maint v6.2 CSV File'!C:C,'Contractor##'!F:F)","v":-0.25890000000000002},31.489339000000001,"Stopcock:Renew 28mm stopcock connected to any type of pipework including locate supply and turn water off/on, drain down/refill, adjust pipework as necessary and test, and remove waste and debris."]
["6500AF","STOPCOCK:RENEW 32MM DIAMETER","PLUMBING","Stopcocks and Valves","Stopcocks","NO",66.77,{"$f":"SUMIF('Contractor##'!C:C,'Planned Maint v6.2 CSV File'!C:C,'Contractor##'!F:F)","v":-0.25890000000000002},49.483246999999999,"Stopcock:Renew 32mm stopcock connected to any type of pipework including locate supply and turn water off/on, drain down/refill, adjust pipework as necessary and test, and remove waste and debris."]
["6500AG","STOPCOCK:RENEW 35MM DIAMETER","PLUMBING","Stopcocks and Valves","Stopcocks","NO",98.89,{"$f":"SUMIF('Contractor##'!C:C,'Planned Maint v6.2 CSV File'!C:C,'Contractor##'!F:F)","v":-0.25890000000000002},73.287379000000001,"Stopcock:Renew 35mm stopcock connected to any type of pipework including locate supply and turn water off/on, drain down/refill, adjust pipework as necessary and test, and remove waste and debris."]
["6500AH","STOPCOCK:RENEW 42MM DIAMETER","PLUMBING","Stopcocks and Valves","Stopcocks","NO",107.82,{"$f":"SUMIF('Contractor##'!C:C,'Planned Maint v6.2 CSV File'!C:C,'Contractor##'!F:F)","v":-0.25890000000000002},79.905401999999995,"Stopcock:Renew 42mm stopcock connected to any type of pipework including locate supply and turn water off/on, drain down/refill, adjust pipework as necessary and test, and remove waste and debris."]
["6500AJ","STOPCOCK:RENEW 54MM DIAMETER","PLUMBING","Stopcocks and Valves","Stopcocks","NO",170.5,{"$f":"SUMIF('Contractor##'!C:C,'Planned Maint v6.2 CSV File'!C:C,'Contractor##'!F:F)","v":-0.25890000000000002},126.35755,"Stopcock:Renew 54mm stopcock connected to any type of pipework including locate supply and turn water off/on, drain down/refill, adjust pipework as necessary and test, and remove waste and debris."]
["6500BA","STOP TAP:RESITE AND RENEW WITH LEVER","PLUMBING","Plumbing Works","Taps","IT",53.75,{"$f":"SUMIF('Contractor##'!C:C,'Planned Maint v6.2 CSV File'!C:C,'Contractor##'!F:F)","v":-0.25890000000000002},39.834125,"Stop Tap:Resite position of internal stop tap including replace with lever operated stop tap, locate, turn water supply off/on, run supply pipe to convenient position for wheelchair access, install new stop tap and make all necessary connections, make good and test, and remove waste and debris."]
["6550AA","GATEVALVE:RENEW 15MM DIAMETER","PLUMBING","Stopcocks and Valves","Gatevalves","NO",25.04,{"$f":"SUMIF('Contractor##'!C:C,'Planned Maint v6.2 CSV File'!C:C,'Contractor##'!F:F)","v":-0.25890000000000002},18.557143999999997,"Gatevalve:Renew 15mm gatevalve connected to any type of pipework including locate supply and turn water off/on, drain down/refill, adjust pipework as necessary and test, and remove waste and debris."]
["6550AB","GATEVALVE:RENEW 22MM DIAMETER","PLUMBING","Stopcocks and Valves","Gatevalves","NO",26.16,{"$f":"SUMIF('Contractor##'!C:C,'Planned Maint v6.2 CSV File'!C:C,'Contractor##'!F:F)","v":-0.25890000000000002},19.387176,"Gatevalve:Renew 22mm gatevalve connected to any type of pipework including locate supply and turn water off/on, drain down/ refill, adjust pipework as necessary and test, and remove waste and debris."]
["6550AC","GATEVALVE:RENEW 28MM DIAMETER","PLUMBING","Stopcocks and Valves","Gatevalves","NO",27.19,{"$f":"SUMIF('Contractor##'!C:C,'Planned Maint v6.2 CSV File'!C:C,'Contractor##'!F:F)","v":-0.25890000000000002},20.150509,"Gatevalve:Renew 28mm gatevalve connected to any type of pipework including locate supply and turn water off/on, drain down/ refill, adjust pipework as necessary and test, and remove waste and debris."]
["6550AD","GATEVALVE:RENEW 32MM DIAMETER","PLUMBING","Stopcocks and Valves","Gatevalves","NO",35.33,{"$f":"SUMIF('Contractor##'!C:C,'Planned Maint v6.2 CSV File'!C:C,'Contractor##'!F:F)","v":-0.25890000000000002},26.183062999999997,"Gatevalve:Renew 32mm gatevalve connected to any type of pipework including locate supply and turn water off/on, drain down/ refill, adjust pipework as necessary and test, and remove waste and debris."]
["6550AE","GATEVALVE:RENEW 35MM DIAMETER","PLUMBING","Stopcocks and Valves","Gatevalves","NO",49.1,{"$f":"SUMIF('Contractor##'!C:C,'Planned Maint v6.2 CSV File'!C:C,'Contractor##'!F:F)","v":-0.25890000000000002},36.388010000000001,"Gatevalve:Renew 35mm gatevalve connected to any type of pipework including locate supply and turn water off/on, drain down/ refill, adjust pipework as necessary and test, and remove waste and debris."]
["6550AF","GATEVALVE:RENEW 42MM DIAMETER","PLUMBING","Stopcocks and Valves","Gatevalves","NO",55.72,{"$f":"SUMIF('Contractor##'!C:C,'Planned Maint v6.2 CSV File'!C:C,'Contractor##'!F:F)","v":-0.25890000000000002},41.294091999999999,"Gatevalve:Renew 42mm gatevalve connected to any type of pipework including locate supply and turn water off/on, drain down/ refill, adjust pipework as necessary and test, and remove waste and debris."]
["6550AG","GATEVALVE:RENEW 54MM DIAMETER","PLUMBING","Stopcocks and Valves","Gatevalves","NO",80.709999999999994,{"$f":"SUMIF('Contractor##'!C:C,'Planned Maint v6.2 CSV File'!C:C,'Contractor##'!F:F)","v":-0.25890000000000002},59.814180999999991,"Gatevalve:Renew 54mm gatevalve connected to any type of pipework including locate supply and turn water off/on, drain down/ refill, adjust pipework as necessary and test, and remove waste and debris."]
["6551AA","CHECK VALVE:RENEW OR INSTALL 15MM DIAMETER","PLUMBING","Stopcocks and Valves","Check Valves","NO",53.8,{"$f":"SUMIF('Contractor##'!C:C,'Planned Maint v6.2 CSV File'!C:C,'Contractor##'!F:F)","v":-0.25890000000000002},39.871179999999995,"Check Valve:Renew or install 15mm diameter check valve connected to any type of pipework, locate supply, turn water off/on, drain down/refill, adjust pipework, test, and remove waste and debris."]
["6560AA","SERVICE VALVE:RENEW OR INSTALL 15MM","PLUMBING","Stopcocks and Valves","Service Valves","NO",21.33,{"$f":"SUMIF('Contractor##'!C:C,'Planned Maint v6.2 CSV File'!C:C,'Contractor##'!F:F)","v":-0.25890000000000002},15.807662999999998,"Service Valve:Renew or install 15mm isolating/ slot/screw operated service valve connected to any type of pipework including locate supply and turn water off/on, drain down/refill, adjust pipework as necessary and test, and remove waste and debris."]
["6560AB","SERVICE VALVE:RENEW OR INSTALL 22MM ","PLUMBING","Stopcocks and Valves","Service Valves","NO",22.14,{"$f":"SUMIF('Contractor##'!C:C,'Planned Maint v6.2 CSV File'!C:C,'Contractor##'!F:F)","v":-0.25890000000000002},16.407954,"Service Valve:Renew or install 22mm isolating/ slot/screw operated service valve connected to any type of pipework including locate supply and turn water off/on, drain down/refill, adjust pipework as necessary and test, and remove waste and debris."]
["6570AA","BALLOFIX VALVE:RENEW OR INSTALL 15MM","PLUMBING","Stopcocks and Valves","Ballofix Valves","NO",26.8,{"$f":"SUMIF('Contractor##'!C:C,'Planned Maint v6.2 CSV File'!C:C,'Contractor##'!F:F)","v":-0.25890000000000002},19.86148,"Ballofix Valve:Renew or install 15mm Ballofix valve and handle connected to any type of pipework including locate supply, turn water off/on, drain down/refill, adjust pipework as necessary and and test, and remove waste and debris."]
["6570AB","BALLOFIX VALVE:RENEW OR INSTALL 22MM","PLUMBING","Stopcocks and Valves","Ballofix Valves","NO",27.47,{"$f":"SUMIF('Contractor##'!C:C,'Planned Maint v6.2 CSV File'!C:C,'Contractor##'!F:F)","v":-0.25890000000000002},20.358017,"Ballofix Valve:Renew or install 22mm Ballofix valve and handle connected to any type of pipework including locate supply, turn water off/on, drain down/refill, adjust pipework as necessary and and test, and remove waste and debris."]
["6570AC","BALLOFIX VALVE:RENEW OR INSTALL 28MM","PLUMBING","Stopcocks and Valves","Ballofix Valves","NO",69.08,{"$f":"SUMIF('Contractor##'!C:C,'Planned Maint v6.2 CSV File'!C:C,'Contractor##'!F:F)","v":-0.25890000000000002},51.195187999999995,"Ballofix Valve:Renew or install 28mm Ballofix valve and handle connected to any type of pipework including locate supply, turn water off/on, drain down/refill, adjust pipework as necessary and and test, and remove waste and debris."]
["6600AA","DRAINCOCK:RENEW NE 19MM DRAIN COCK","PLUMBING","Stopcocks and Valves","Draincocks","NO",10.38,{"$f":"SUMIF('Contractor##'!C:C,'Planned Maint v6.2 CSV File'!C:C,'Contractor##'!F:F)","v":-0.25890000000000002},7.6926180000000004,"Draincock:Renew ne 19mm copper to copper draincock on service pipework from tank or cylinder in conjunction with associated work or whilst system drained down."]
["6601AA","SURESTOP:INSTALL 15MM TO RISING MAIN","PLUMBING","Stopcocks and Valves","Surestops","IT",66.84,{"$f":"SUMIF('Contractor##'!C:C,'Planned Maint v6.2 CSV File'!C:C,'Contractor##'!F:F)","v":-0.25890000000000002},49.535124000000003,"Surestop:Install 15mm “surestop” or other equal and approved to rising main, isolate water supply, drain down, cut into pipe and joint surestop valve, plug and screw switch to any surface, cut opening etc for flexible tubing from switch to valve, tube maximum 2.00m long, turn water on, test operation of switch, make good, and remove waste and debris."]
["6601AB","SURESTOP:INSTALL 22MM TO RISING MAIN","PLUMBING","Stopcocks and Valves","Surestops","IT",81.08,{"$f":"SUMIF('Contractor##'!C:C,'Planned Maint v6.2 CSV File'!C:C,'Contractor##'!F:F)","v":-0.25890000000000002},60.088387999999995,"Surestop:Install 22mm “surestop” or other equal and approved to rising main, isolate water supply, drain down, cut into pipe and joint surestop valve, plug and screw switch to any surface, cut opening etc for flexible tubing from switch to valve, tube maximum 2.00m long, turn water on, test operation of switch, make good, and remove waste and debris."]
["6601BA","SURESTOP:INSTALL 15MM TO HOT OR COLD PIPE","PLUMBING","Stopcocks and Valves","Surestops","IT",64.599999999999994,{"$f":"SUMIF('Contractor##'!C:C,'Planned Maint v6.2 CSV File'!C:C,'Contractor##'!F:F)","v":-0.25890000000000002},47.875059999999998,"Surestop:Install 15mm “surestop” or other equal and approved to hot or cold pipe, isolate water supply, drain down, cut into pipe and joint surestop valve, plug and screw switch to any surface, cut opening etc for flexible tubing from switch to valve, tube maximum 2.00m long, turn water on, test operation of switch, make good, and remove waste and debris."]
["6601BB","SURESTOP:INSTALL 22MM TO HOT OR COLD PIPE","PLUMBING","Stopcocks and Valves","Surestops","IT",78.84,{"$f":"SUMIF('Contractor##'!C:C,'Planned Maint v6.2 CSV File'!C:C,'Contractor##'!F:F)","v":-0.25890000000000002},58.428324000000003,"Surestop:Install 22mm “surestop” or other equal and approved to hot or cold pipe, isolate water supply, drain down, cut into pipe and joint surestop valve, plug and screw switch to any surface, cut opening etc for flexible tubing from switch to valve, tube maximum 2.00m long, turn water on, test operation of switch, make good, and remove waste and debris."]
["6640AA","TANK:RENEW WITH NE 336 LITRE GALVANISED","PLUMBING","Tanks - Cold Water Storage","Tanks - Galvanised Steel","NO",503.13,{"$f":"SUMIF('Contractor##'!C:C,'Planned Maint v6.2 CSV File'!C:C,'Contractor##'!F:F)","v":-0.25890000000000002},372.869643,"Tank:Renew 336 litres galvanised cold water storage tank complete with Byelaw 30 kit, turn water off/on, drain/refill system, adjust, extend and connect all pipework with new fittings, fix new insulation jacket and lid, ballvalve and float, test on completion, and remove waste and debris including cutting down existing tank as necessary."]
["6640AB","TANK:RENEW WITH NE 491 LITRE GALVANISED","PLUMBING","Tanks - Cold Water Storage","Tanks - Galvanised Steel","NO",575.03,{"$f":"SUMIF('Contractor##'!C:C,'Planned Maint v6.2 CSV File'!C:C,'Contractor##'!F:F)","v":-0.25890000000000002},426.15473299999996,"Tank:Renew 491 litres galvanised cold water storage tank complete with Byelaw 30 kit, turn water off/on, drain/refill system, adjust, extend and connect all pipework with new fittings, fix new insulation jacket and lid, ballvalve and float, test on completion, and remove waste and debris including cutting down existing tank as necessary."]
["6640AC","TANK:RENEW WITH NE 709 LITRE GALVANISED","PLUMBING","Tanks - Cold Water Storage","Tanks - Galvanised Steel","NO",914.81,{"$f":"SUMIF('Contractor##'!C:C,'Planned Maint v6.2 CSV File'!C:C,'Contractor##'!F:F)","v":-0.25890000000000002},677.96569099999999,"Tank:Renew 709 litres galvanised cold water storage tank complete with Byelaw 30 kit, turn water off/on, drain/refill system, adjust, extend and connect all pipework with new fittings, fix new insulation jacket and lid, ballvalve and float, test on completion, and remove waste and debris including cutting down existing tank as necessary."]
["6640AD","TANK:RENEW WITH NE 1729 LITRE GALVANISED","PLUMBING","Tanks - Cold Water Storage","Tanks - Galvanised Steel","NO",1702.88,{"$f":"SUMIF('Contractor##'!C:C,'Planned Maint v6.2 CSV File'!C:C,'Contractor##'!F:F)","v":-0.25890000000000002},1262.0043680000001,"Tank:Renew 1729 litres galvanised cold water storage tank complete with Byelaw 30 kit, turn water off/on, drain/refill system, adjust, extend and connect all pipework with new fittings, fix new insulation jacket and lid, ballvalve and float, test on completion, and remove waste and debris including cutting down existing tank as necessary."]
["6640AE","TANK:RENEW WITH NE 3364 LITRE GALVANISED","PLUMBING","Tanks - Cold Water Storage","Tanks - Galvanised Steel","NO",3716.6,{"$f":"SUMIF('Contractor##'!C:C,'Planned Maint v6.2 CSV File'!C:C,'Contractor##'!F:F)","v":-0.25890000000000002},2754.3722599999996,"Tank:Renew 336 4litres galvanised cold water storage tank complete with Byelaw 30 kit, turn water off/on, drain/refill system, adjust, extend and connect all pipework with new fittings, fix new insulation jacket and lid, ballvalve and float, test on completion, and remove waste and debris including cutting down existing tank as necessary."]
["6650AA","TANK:RENEW WITH NE 113 LITRE PLASTIC","PLUMBING","Tanks - Cold Water Storage","Tanks - Plastic","IT",110.23,{"$f":"SUMIF('Contractor##'!C:C,'Planned Maint v6.2 CSV File'!C:C,'Contractor##'!F:F)","v":-0.25890000000000002},81.691452999999996,"Tank:Renew any type of tank with ne 113 litres plastic tank, lid, including Byelaw 30 kit, turn water off/on, drain/refill system, adjust and connect pipework, fix new insulation jacket, ballvalve and float and remove old tank, test on completion, and remove waste and debris."]
["6650AB","TANK:RENEW WITH NE 227 LITRE PLASTIC","PLUMBING","Tanks - Cold Water Storage","Tanks - Plastic","IT",124.5,{"$f":"SUMIF('Contractor##'!C:C,'Planned Maint v6.2 CSV File'!C:C,'Contractor##'!F:F)","v":-0.25890000000000002},92.266949999999994,"Tank:Renew any type of tank with over 113 and ne 227 litres plastic tank, lid, including Byelaw 30 kit, turn water off/on, drain/refill system, adjust and connect pipework, fix new insulation jacket, ballvalve and float and remove old tank, test on completion, and remove waste and debris."]
["6650BA","TANK:DRAIN CLEAN OUT AND REFILL","PLUMBING","Water Storage Tanks","Tanks - Repairs and Overhauls","NO",17.89,{"$f":"SUMIF('Contractor##'!C:C,'Planned Maint v6.2 CSV File'!C:C,'Contractor##'!F:F)","v":-0.25890000000000002},13.258279,"Tank:Isolate supply and drain down ne 227 litre cold water storage tank, thoroughly clean out, reinstate water supply, refill tank and test on completion, and remove waste and debris."]
["6650CA","TANK:RENEW 19MM OVERFLOW","PLUMBING","Water Storage Tanks","Tanks - Repairs and Overhauls","IT",35.65,{"$f":"SUMIF('Contractor##'!C:C,'Planned Maint v6.2 CSV File'!C:C,'Contractor##'!F:F)","v":-0.25890000000000002},26.420214999999999,"Tank:Renew tank overflow ne 6m long in roof space with 19mm plastic pipe and fittings including cut any holes in structure or finishes, make good and test, and remove waste and debris."]
["6650CB","TANK:RENEW 25MM OVERFLOW","PLUMBING","Water Storage Tanks","Tanks - Repairs and Overhauls","IT",42.73,{"$f":"SUMIF('Contractor##'!C:C,'Planned Maint v6.2 CSV File'!C:C,'Contractor##'!F:F)","v":-0.25890000000000002},31.667202999999997,"Tank:Renew tank overflow ne 6m long in roof space with 25mm plastic pipe and fittings including cut any holes in structure or finishes, make good and test, and remove waste and debris."]
["6650DA","TANK:RECOAT NE 454 LITRE","PLUMBING","Water Storage Tanks","Tanks - Recoat","NO",27.66,{"$f":"SUMIF('Contractor##'!C:C,'Planned Maint v6.2 CSV File'!C:C,'Contractor##'!F:F)","v":-0.25890000000000002},20.498826000000001,"Tank:Turn water off, drain down tank ne 454 litres and clean out and remove rust etc., prepare and apply 2 coats non toxic bituminous solution to inside of tank, refill and test on completion, and remove waste and debris."]
["6650DB","TANK:RECOAT NE 2273 LITRE","PLUMBING","Water Storage Tanks","Tanks - Recoat","NO",110.63,{"$f":"SUMIF('Contractor##'!C:C,'Planned Maint v6.2 CSV File'!C:C,'Contractor##'!F:F)","v":-0.25890000000000002},81.987893,"Tank:Turn water off, drain down tank ne 2273 litres and clean out and remove rust etc., prepare and apply 2 coats non toxic bituminous solution to inside of tank, refill and test on completion, and remove waste and debris."]
["6650DC","TANK:RECOAT NE 4546 LITRE","PLUMBING","Water Storage Tanks","Tanks - Recoat","NO",203.56,{"$f":"SUMIF('Contractor##'!C:C,'Planned Maint v6.2 CSV File'!C:C,'Contractor##'!F:F)","v":-0.25890000000000002},150.858316,"Tank:Turn water off, drain down tank ne 4546 litres and clean out and remove rust etc., prepare and apply 2 coats non toxic bituminous solution to inside of tank, refill and test on completion, and remove waste and debris."]
["6700AA","TANK:RENEW INSULATION NE 113 LITRE","PLUMBING","Water Storage Tanks","Insulation - Tanks","NO",9.8000000000000007,{"$f":"SUMIF('Contractor##'!C:C,'Planned Maint v6.2 CSV File'!C:C,'Contractor##'!F:F)","v":-0.25890000000000002},7.2627800000000002,"Tank:Renew insulating jacket set fixed securely to cold water storage tank, ne 113 litres, and remove waste and debris."]
["6700AB","TANK:RENEW INSULATION NE 227 LITRE","PLUMBING","Water Storage Tanks","Insulation - Tanks","NO",12.8,{"$f":"SUMIF('Contractor##'!C:C,'Planned Maint v6.2 CSV File'!C:C,'Contractor##'!F:F)","v":-0.25890000000000002},9.4860799999999994,"Tank:Renew insulating jacket set fixed securely to cold water storage tank, over 113 and ne 227 litres, and remove waste and debris."]
["6700AC","TANK:RENEW INSULATION NE 709 LITRE","PLUMBING","Water Storage Tanks","Insulation - Tanks","NO",63.97,{"$f":"SUMIF('Contractor##'!C:C,'Planned Maint v6.2 CSV File'!C:C,'Contractor##'!F:F)","v":-0.25890000000000002},47.408166999999999,"Tank:Renew insulating jacket set fixed securely to cold water storage tank, over 227 and ne 709 litres, and remove waste and debris.."]
["6700AD","TANK:RENEW INSULATION NE 3364 LITRE","PLUMBING","Water Storage Tanks","Insulation - Tanks","NO",210.16,{"$f":"SUMIF('Contractor##'!C:C,'Planned Maint v6.2 CSV File'!C:C,'Contractor##'!F:F)","v":-0.25890000000000002},155.74957599999999,"Tank:Renew insulating jacket set fixed securely to cold water storage tank, over 709 and ne 3364 litres, and remove waste and debris.."]
["6750AA","CYLINDER:RENEW DIRECT INSULATED NEW HEATER","PLUMBING","Hot Water Cylinders","Cylinders - Pre -Insulated Direct","NO",322.58999999999997,{"$f":"SUMIF('Contractor##'!C:C,'Planned Maint v6.2 CSV File'!C:C,'Contractor##'!F:F)","v":-0.25890000000000002},239.07144899999997,"Cylinder:Isolate supply, drain down, disconnect, clear away and renew with ne 144 litre direct copper pre-insulated cylinder, connect existing pipes, refill, vent and test system, including all newly made joints, install 3 kilowatt top entry immersion heater and thermostat, remake all bonding, remove/refix shelves etc., reconnect electricity supply and test on completion, and remove waste and debris."]
["6750AB","CYLINDER:RENEW DIRECT INSULATED REFIX HEATER","PLUMBING","Hot Water Cylinders","Cylinders - Pre -Insulated Direct","NO",308.87,{"$f":"SUMIF('Contractor##'!C:C,'Planned Maint v6.2 CSV File'!C:C,'Contractor##'!F:F)","v":-0.25890000000000002},228.90355700000001,"Cylinder:Isolate supply, drain down, disconnect, clear away and renew with ne 144 litre direct copper pre-insulated cylinder, connect existing pipes, refill, vent and test system, including all newly made joints, transfer and refix immersion, heater and thermostat, remake all bonding, remove/refix shelves etc., reconnect electricity supply and test on completion, and remove waste and debris."]
["6750AC","CYLINDER:RENEW INDIRECT INSULATED NEW HEATER","PLUMBING","Hot Water Cylinders","Cylinders - Pre -Insulated Indirect","NO",268.77999999999997,{"$f":"SUMIF('Contractor##'!C:C,'Planned Maint v6.2 CSV File'!C:C,'Contractor##'!F:F)","v":-0.25890000000000002},199.19285799999997,"Cylinder:Isolate supply, drain down, disconnect, clear away and renew with ne 140 litre indirect pre-insulated cylinder, connect existing pipes, refill, vent and test system, including all newly made joints, install 3 kilowatt top entry immersion heater and thermostat, remake all bonding, remove and refix shelves, reconnect electricity supply and test on completion, and remove waste and debris."]
["6750AD","CYLINDER:RENEW INDIRECT INSULATED REFIX HEATER","PLUMBING","Hot Water Cylinders","Cylinders - Pre -Insulated Indirect","NO",255.06,{"$f":"SUMIF('Contractor##'!C:C,'Planned Maint v6.2 CSV File'!C:C,'Contractor##'!F:F)","v":-0.25890000000000002},189.02496600000001,"Cylinder:Isolate supply, drain down, disconnect, clear away and renew with ne 140 litre indirect pre-insulated cylinder, connect existing pipes, refill, vent and test system, including all newly made joints, transfer and refix existing immersion heater and thermostat, remake all bonding, remove and refix shelves, reconnect electricity supply and test on completion, and remove waste and debris."]
["6750BA","CYLINDER:RENEW DIRECT JACKET NEW HEATER","PLUMBING","Hot Water Cylinders","Cylinders - Insulated Jacket Direct","NO",309.70999999999998,{"$f":"SUMIF('Contractor##'!C:C,'Planned Maint v6.2 CSV File'!C:C,'Contractor##'!F:F)","v":-0.25890000000000002},229.52608099999998,"Cylinder:Isolate supply, drain down, disconnect, clear away and renew with ne 144 litre direct copper cylinder, connect existing pipes, refill vent and test system, including all newly made joints, fix new insulating jacket, install 3kW top entry immersion heater and thermostat, remake all bonding, remove and refix all shelves etc. reconnect electricity supply and test on completion, and remove waste and debris."]
["6750BB","CYLINDER:RENEW DIRECT JACKET REFIX HEATER","PLUMBING","Hot Water Cylinders","Cylinders - Insulated Jacket Direct","NO",295.98,{"$f":"SUMIF('Contractor##'!C:C,'Planned Maint v6.2 CSV File'!C:C,'Contractor##'!F:F)","v":-0.25890000000000002},{"$f":"(1+H2628)*G2628","v":219.35077800000002},"Cylinder:Isolate supply, drain down, disconnect immersion heater and set aside, disconnect, clear away and renew with ne 144 litre direct copper cylinder, connect existing pipes, refill, refix immersion heater, vent and test system, including all newly made joints, fix new insulating jacket, remake all bonding, remove and refix any shelves etc. reconnect electricity supply and test on completion, and remove waste and debris."]
["6750CA","CYLINDER:RENEW INDIRECT JACKET NEW HEATER","PLUMBING","Hot Water Cylinders","Cylinders - Jacket Indirect","NO",261.73,{"$f":"SUMIF('Contractor##'!C:C,'Planned Maint v6.2 CSV File'!C:C,'Contractor##'!F:F)","v":-0.25890000000000002},193.96810300000001,"Cylinder:Isolate supply, drain down, disconnect, clear away and renew with ne 140 litre indirect copper cylinder, connect existing pipes, refill vent and test, including all newly made joints, fix new insulating jacket, install 3 kilowatt top entry immersion heater and thermostat, remake all bonding, remove/refix shelves etc., reconnect electricity supply and test on completion, and remove waste and debris."]
["6750CB","CYLINDER:RENEW INDIRECT JACKET REFIX HEATER","PLUMBING","Hot Water Cylinders","Cylinders - Jacket Indirect","NO",248,{"$f":"SUMIF('Contractor##'!C:C,'Planned Maint v6.2 CSV File'!C:C,'Contractor##'!F:F)","v":-0.25890000000000002},183.7928,"Cylinder:Isolate supply, drain down, disconnect immersion heater and set aside, disconnect, clear away and renew with ne 140 litre indirect copper cylinder, connect existing pipes, refill, refix immersion heater, vent and test system, including all newly made joints, fix new insulating jacket, remake all bonding, remove and refix any shelves etc. reconnect electricity supply and test on completion, and remove waste and debris."]
["6750DA","CYLINDER:RENEW PRIMATIC JACKET NEW HEATER","PLUMBING","Hot Water Cylinders","Cylinders - Jacket Primatic","NO",466.71,{"$f":"SUMIF('Contractor##'!C:C,'Planned Maint v6.2 CSV File'!C:C,'Contractor##'!F:F)","v":-0.25890000000000002},345.878781,"Cylinder:Isolate supply, drain down, disconnect, clear away and renew with 117 litre primatic copper cylinder, connect existing pipes, refill vent and test, including all newly made joints, fix new insulating jacket, install 3 kilowatt top entry immersion heater and thermostat, remake all bonding, remove and refix shelves etc., reconnect electricity supply and test on completion, and remove waste and debris."]
["6750DB","CYLINDER:RENEW PRIMATIC JACKET REFIX HEATER","PLUMBING","Hot Water Cylinders","Cylinders - Jacket Primatic","NO",452.98,{"$f":"SUMIF('Contractor##'!C:C,'Planned Maint v6.2 CSV File'!C:C,'Contractor##'!F:F)","v":-0.25890000000000002},335.70347800000002,"Cylinder:Isolate supply, drain down, disconnect, clear away and renew with 117 litre primatic copper cylinder, connect existing pipes, refill, vent and test system including all newly made joints, transfer and refix immersion heater, fix new insulating jacket, remake all bonding, reconnect electricity, remove and refix shelves etc., and test on completion, and remove waste and debris."]
["6750EA","CYLINDER:RENEW FORTIC DIRECT NEW HEATER","PLUMBING","Hot Water Cylinders","Cylinders - Pre-Insulated Fortic Direct","NO",417.46,{"$f":"SUMIF('Contractor##'!C:C,'Planned Maint v6.2 CSV File'!C:C,'Contractor##'!F:F)","v":-0.25890000000000002},309.37960599999997,"Cylinder:Isolate supply, drain down, disconnect, clear away and renew with ne 115 litre 'Fortic' direct pre-insulated combination tank, connect to existing pipes, vent and test system, including all newly made joints, install 3kW immersion heater and thermostat, remake all bonding, remove and refix all shelves etc. reconnect electricity supply and test on completion, and remove waste and debris."]
["6750EB","CYLINDER:RENEW FORTIC DIRECT REFIX HEATER","PLUMBING","Hot Water Cylinders","Cylinders - Pre-Insulated Fortic Direct","NO",402.49,{"$f":"SUMIF('Contractor##'!C:C,'Planned Maint v6.2 CSV File'!C:C,'Contractor##'!F:F)","v":-0.25890000000000002},298.28533900000002,"Cylinder:Isolate supply, drain down, disconnect immersion heater and set aside, disconnect, clear away and renew with ne 115 litre 'Fortic' direct pre-insulated combination tank, connect to existing pipes, refill, transfer and refix immersion heater, vent and test system including all newly made joints, remake all bonding, remove and refix any shelves etc. reconnect electricity supply and test on completion, and remove waste and debris."]
["6750FA","CYLINDER:RENEW FORTIC INDIRECT NEW HEATER","PLUMBING","Hot Water Cylinders","Cylinders - Pre-Insulated Fortic Indirect","NO",437.18,{"$f":"SUMIF('Contractor##'!C:C,'Planned Maint v6.2 CSV File'!C:C,'Contractor##'!F:F)","v":-0.25890000000000002},323.99409800000001,"Cylinder:Isolate supply, drain down, disconnect, clear away and renew with ne 115 litre 'Fortic' indirect pre-insulated combination tank, connect existing pipes, refill, vent and test, including made joints, install 3kW immersion heater and thermostat, remake all bonding, remove and refix shelves etc., reconnect electricity supply and test on completion, and remove waste and debris."]
["6750FB","CYLINDER:RENEW FORTIC INDIRECT REFIX HEATER","PLUMBING","Hot Water Cylinders","Cylinders - Pre-Insulated Fortic Indirect","NO",423.46,{"$f":"SUMIF('Contractor##'!C:C,'Planned Maint v6.2 CSV File'!C:C,'Contractor##'!F:F)","v":-0.25890000000000002},313.82620599999996,"Cylinder:Isolate supply, drain down, disconnect immersion heater and set aside, disconnect, clear away and renew with ne 115 litre 'Fortic' litre indirect pre-insulated combination tank, connect to existing pipes, refill, refix immersion heater, vent and test system including all newly made joints, remake all bonding, remove and refix any shelves etc, reconnect electricity supply and test on completion, and remove waste and debris."]
["6750GA","CYLINDER:RENEW ECONOMY 7 NEW HEATERS","PLUMBING","Hot Water Cylinders","Cylinders - Economy 7 Type","NO",384.27,{"$f":"SUMIF('Contractor##'!C:C,'Planned Maint v6.2 CSV File'!C:C,'Contractor##'!F:F)","v":-0.25890000000000002},284.78249699999998,"Cylinder:Isolate supply, drain down, disconnect, clear away and renew with Economy 7 hot water cylinder, connect existing pipes, refill vent and test system, including all newly made joints, install new top and bottom entry immersion heaters and thermostats, remake all bonding, remove and refix all shelves etc. reconnect electricity supply and test on completion, and remove waste and debris."]
["6750GB","CYLINDER:RENEW ECONOMY 7 REFIX HEATERS","PLUMBING","Hot Water Cylinders","Cylinders - Economy 7 Type","NO",357.56,{"$f":"SUMIF('Contractor##'!C:C,'Planned Maint v6.2 CSV File'!C:C,'Contractor##'!F:F)","v":-0.25890000000000002},264.98771599999998,"Cylinder:Isolate supply, drain down, disconnect, clear away and renew with Economy 7 hot water cylinder, connect existing pipes, refill vent and test system, including all newly made joints, transfer and refix top and bottom entry immersion heaters and thermostats, remake all bonding, remove and refix all shelves etc., reconnect electricity supply and test on completion, and remove waste and debris."]
["6750HA","CYLINDER:RENEW ELSON TANK NEW HEATERS","PLUMBING","Hot Water Cylinders","Cylinders - Elson Type Combination Tanks","NO",947.4,{"$f":"SUMIF('Contractor##'!C:C,'Planned Maint v6.2 CSV File'!C:C,'Contractor##'!F:F)","v":-0.25890000000000002},702.11813999999993,"Cylinder:Isolate supply, drain down, disconnect, clear away and renew with ne 144 litre 'Elson' combination tank, connect existing pipes, vent and test system, including all newly made joints, install new top and bottom entry immersion heaters and thermostats, remake all bonding, remove and refix all shelves etc, reconnect electricity supply and test on completion, and remove waste and debris."]
["6750HB","CYLINDER:RENEW ELSON TANK REFIX HEATERS","PLUMBING","Hot Water Cylinders","Cylinders - Elson Type Combination Tanks","NO",920.69,{"$f":"SUMIF('Contractor##'!C:C,'Planned Maint v6.2 CSV File'!C:C,'Contractor##'!F:F)","v":-0.25890000000000002},682.32335899999998,"Cylinder:Isolate supply, drain down, disconnect, clear away and renew with ne 144 litre 'Elson' combination tank, connect existing pipes vent and test system, including all newly made joints, transfer and refix topand bottom entry immersion heaters and thermostats, remake all bonding, remove and refix all shelves etc, reconnect electricity supply and test on completion, and remove waste and debris."]
["6750JA","CYLINDER:DRAIN DESCALE FLUSH OUT","PLUMBING","Hot Water Cylinders","Cylinders - Repairs","NO",47.23,{"$f":"SUMIF('Contractor##'!C:C,'Planned Maint v6.2 CSV File'!C:C,'Contractor##'!F:F)","v":-0.25890000000000002},35.002153,"Cylinder:Isolate electricity supply, drain down cylinder, remove jacket, shelves etc., remove, descale, flush out and securely refix cylinder, refill, vent and test system, including all newly made joints, reconnect electricity supply, refix jacket and test on completion, and remove waste and debris."]
["6750KA","CYLINDER:SUPPLY PAIR ISOLATING VALVES","PLUMBING","Hot Water Cylinders","Cylinders - Repairs","IT",50.52,{"$f":"SUMIF('Contractor##'!C:C,'Planned Maint v6.2 CSV File'!C:C,'Contractor##'!F:F)","v":-0.25890000000000002},37.440372000000004,"Cylinder:Isolate supply, drain down as necessary and insert pair of isolating valves to hot water cylinder circuit, reinstate supply, fill, vent and test, and remove waste and debris."]
["6750LA","CYLINDER:RENEW JACKET","PLUMBING","Hot Water Cylinders","Cylinders - Repairs","NO",13.5,{"$f":"SUMIF('Contractor##'!C:C,'Planned Maint v6.2 CSV File'!C:C,'Contractor##'!F:F)","v":-0.25890000000000002},10.004849999999999,"Cylinder:Renew insulating jacket set fixed securely to cylinder."]
["6770AA","PLUMBUNIT:RENEW STD DIR 227LTR COLD NE 144 LTR HOT","PLUMBING","Hot Water Cylinders","Proprietary Prefabricated Hot/Cold Plumbing Units","NO",522.82000000000005,{"$f":"SUMIF('Contractor##'!C:C,'Planned Maint v6.2 CSV File'!C:C,'Contractor##'!F:F)","v":-0.25890000000000002},387.46190200000001,"Plumbunit:Renew any size or type proprietary prefabricated plumbing unit with new unit comprising ne 227 ltr polythene cold water storage tank with lid, ballvalve, Bylaw 30 kit, ne 144 ltr direct pre-insulated copper grade 3 cylinder, two 3 kilowatt top/bottom entry immersion heaters and thermostats, copper pipework, fittings, connections and valves all pre-plumbed on vented baseboards within painted steel supporting bases and framework, including turn water supply on/off, drain down, disconnect, clear away, connect to existing supply/distribution and overflow pipes etc, adjust ballvalve and float, refill, vent and test system, including all newly made joints, remake all earth bonding, reconnect electricity supply and test on completion, and remove waste and debris.."]
["6770AB","PLUMBUNIT:RENEW STD DIR 227LTR COLD NE 210 LTR HOT","PLUMBING","Hot Water Cylinders","Proprietary Prefabricated Hot/Cold Plumbing Units","NO",655.35,{"$f":"SUMIF('Contractor##'!C:C,'Planned Maint v6.2 CSV File'!C:C,'Contractor##'!F:F)","v":-0.25890000000000002},485.67988500000001,"Plumbunit:Renew any size or type proprietary prefabricated plumbing unit with new unit comprising ne 227 ltr polythene cold water storage tank with lid, ballvalve, Bylaw 30 kit, over 144 ltr but ne 210 ltr direct pre-insulated copper grade 3 cylinder, two 3 kilowatt top/bottom entry immersion heaters and thermostats, copper pipework, fittings, connections and valves all pre-plumbed on vented baseboards within painted steel supporting bases and framework, including turn water supply on/off, drain down, disconnect, clear away, connect to existing supply/ distribution and overflow pipes etc, adjust ballvalve and float, refill, vent and test system, including all newly made joints, remake all earth bonding, reconnect electricity supply and test on completion, and remove waste and debris."]
["6770AC","PLUMBUNIT:RENEW STD IND 227LTR COLD NE 140 LTR HOT","PLUMBING","Hot Water Cylinders","Proprietary Prefabricated Hot/Cold Plumbing Units","NO",663.52,{"$f":"SUMIF('Contractor##'!C:C,'Planned Maint v6.2 CSV File'!C:C,'Contractor##'!F:F)","v":-0.25890000000000002},491.73467199999999,"Plumbunit:Renew any size or type proprietary prefabricated plumbing unit with new unit comprising ne 227 ltr polythene cold water storage tank and ne 18 ltr feed and expansion tank with lids, ballvalves, Bylaw 30 kits, ne 140 ltr indirect pre-insulated copper grade 3 cylinder, copper pipework, fittings, connections and valves all pre-plumbed on vented baseboards within painted steel supporting bases and framework, including turn water supply on/off, drain down, disconnect, clear away, connect to existing supply/distribution and overflow pipes etc, adjust ballvalve and float, refill, vent, balance and test systems, including all newly made joints, remake all earth bonding, reconnect electricity supply and test on completion, and remove waste and debris."]
["6770AD","PLUMBUNIT:RENEW STD IND 227LTR COLD NE 162 LTR HOT","PLUMBING","Hot Water Cylinders","Proprietary Prefabricated Hot/Cold Plumbing Units","NO",679.12,{"$f":"SUMIF('Contractor##'!C:C,'Planned Maint v6.2 CSV File'!C:C,'Contractor##'!F:F)","v":-0.25890000000000002},503.29583200000002,"Plumbunit:Renew any size or type proprietary prefabricated plumbing unit with new unit comprising ne 227 ltr polythene cold water storage tank and ne 18 ltr feed and expansion tank with lids, ballvalves, Bylaw 30 kits, over 140 ltr but ne 162 ltr indirect pre-insulated copper grade 3 cylinder, copper pipework, fittings, connections and valves all pre-plumbed on vented baseboards within painted steel supporting bases and framework, including turn water supply on/off, drain down, disconnect, clear away, connect to existing supply/distribution and overflow pipes etc, adjust ballvalve and float, refill, vent, balance and test systems, including all newly made joints, remake all earth bonding, reconnect electricity supply and test on completion, and remove waste and debris."]
["6770BA","PLUMBUNIT:ADAPTATION FOR SHOWER BOOSTER PUMP","PLUMBING","Hot Water Cylinders","Proprietary Prefabricated Hot/Cold Plumbing Units","NO",416.65,{"$f":"SUMIF('Contractor##'!C:C,'Planned Maint v6.2 CSV File'!C:C,'Contractor##'!F:F)","v":-0.25890000000000002},308.779315,"Plumbunit:Extra over new proprietary prefabricated plumbing unit any type or size for shower booster pump factory fitted."]
["6770CA","PLUMBUNIT:ADAPTATION FOR HEATING CONTROLS","PLUMBING","Hot Water Cylinders","Proprietary Prefabricated Hot/Cold Plumbing Units","NO",165.82,{"$f":"SUMIF('Contractor##'!C:C,'Planned Maint v6.2 CSV File'!C:C,'Contractor##'!F:F)","v":-0.25890000000000002},122.889202,"Plumbunit:Extra over new proprietary prefabricated plumbing unit any type or size with indirect cylinder for central heating controls including wiring centre, timer/programmer, cylinder sensor, three port valve, actuator, circulating pump, cabling etc. all factory fitted."]
["6770DA","PLUMBUNIT:ADAPTATION FOR SEALED HEATING SYSTEM","PLUMBING","Hot Water Cylinders","Proprietary Prefabricated Hot/Cold Plumbing Units","NO",153.13999999999999,{"$f":"SUMIF('Contractor##'!C:C,'Planned Maint v6.2 CSV File'!C:C,'Contractor##'!F:F)","v":-0.25890000000000002},113.49205399999998,"Plumbunit:Extra over new proprietary prefabricated plumbing unit any type or size with indirect cylinder for adaptation to sealed central heating system comprising ne 12 ltr expansion vessel in lieu of feed and expansion tank and including filling loop, pressure gauge, expansion valve etc. all factory fitted."]
["6790AA","CYLINDER:RENEW UNVENTED ECO 710 PRE-INSUL 190 LTR","PLUMBING","Hot Water Cylinders","Cylinders – Unvented Direct Pre-insulated","NO",612.79,{"$f":"SUMIF('Contractor##'!C:C,'Planned Maint v6.2 CSV File'!C:C,'Contractor##'!F:F)","v":-0.25890000000000002},454.13866899999994,"Cylinder:Isolate supply, drain down, disconnect, clear away and renew or install 190 litre unvented pre-insulated Economy 7 or 10 copper cylinder with temperature and relief valves, 18 litre expansion vessel, connect new and existing feed and supply pipes, refill, vent and test system, including all newly made joints, install 2 no. 3 kilowatt immersion heaters (lower and upper boost) and thermostat, remake all bonding, remove/refix shelves etc. reconnect electricity supply and test on completion and remove waste and debris. "]
["6790AB","CYLINDER:RENEW UNVENTED ECO 710 PRE-INSUL 210 LTR","PLUMBING","Hot Water Cylinders","Cylinders – Unvented Direct Pre-insulated","NO",654.03,{"$f":"SUMIF('Contractor##'!C:C,'Planned Maint v6.2 CSV File'!C:C,'Contractor##'!F:F)","v":-0.25890000000000002},484.70163299999996,"Cylinder:Isolate supply, drain down, disconnect, clear away and renew or install 210 litre unvented pre-insulated Economy 7 or 10 copper cylinder with temperature and relief valves, 24 litre expansion vessel, connect new and existing feed and supply pipes, refill, vent and test system, including all newly made joints, install 2 no. 3 kilowatt immersion heaters (lower and upper boost) and thermostat, remake all bonding, remove/refix shelves etc. reconnect electricity supply and test on completion and remove waste and debris. "]
["6790AC","CYLINDER:RENEW UNVENTED ECO 710 PRE-INSUL 250 LTR","PLUMBING","Hot Water Cylinders","Cylinders – Unvented Direct Pre-insulated","NO",714.86,{"$f":"SUMIF('Contractor##'!C:C,'Planned Maint v6.2 CSV File'!C:C,'Contractor##'!F:F)","v":-0.25890000000000002},529.78274599999997,"Cylinder:Isolate supply, drain down, disconnect, clear away and renew or install 250 litre unvented pre-insulated Economy 7 or 10 copper cylinder with temperature and relief valves, 24 litre expansion vessel, connect new and existing feed and supply pipes, refill, vent and test system, including all newly made joints, install 2 no. 3 kilowatt immersion heaters (lower and upper boost) and thermostat, remake all bonding, remove/refix shelves etc. reconnect electricity supply and test on completion and remove waste and debris. "]
["6790AD","CYLINDER:RENEW UNVENTED ECO 710 PRE-INSUL 300 LTR","PLUMBING","Hot Water Cylinders","Cylinders – Unvented Direct Pre-insulated","NO",796.61,{"$f":"SUMIF('Contractor##'!C:C,'Planned Maint v6.2 CSV File'!C:C,'Contractor##'!F:F)","v":-0.25890000000000002},590.36767099999997,"Cylinder:Isolate supply, drain down, disconnect, clear away and renew or install 300 litre unvented pre-insulated Economy 7 or 10 copper cylinder with temperature and relief valves, 40 litre expansion vessel, connect new and existing feed and supply pipes, refill, vent and test system, including all newly made joints, install 2 no. 3 kilowatt immersion heaters (lower and upper boost) and thermostat, remake all bonding, remove/refix shelves etc. reconnect electricity supply and test on completion and remove waste and debris. "]
["6790BA","CYLINDER:RENEW UNVENTED INDIRECT PRE-INSUL 190 LTR","PLUMBING","Hot Water Cylinders","Cylinders – Unvented Indirect Pre-insulated","NO",697.61,{"$f":"SUMIF('Contractor##'!C:C,'Planned Maint v6.2 CSV File'!C:C,'Contractor##'!F:F)","v":-0.25890000000000002},516.99877100000003,"Cylinder:Isolate supply, drain down, disconnect, clear away and renew or install 190 litre unvented pre-insulated cylinder complete with primary coil, dual thermostat, wiring centre 2 part zone valve, temperature and pressure relief valves, 18 litre expansion vessel, connect new and existing feed and supply pipes, refill, vent and test system, including all newly made joints, remake all bonding, remove/refix shelves etc. reconnect electricity supply and test on completion and remove waste and debris. "]
["6790BB","CYLINDER:RENEW UNVENTED INDIRECT PRE-INSUL 210 LTR","PLUMBING","Hot Water Cylinders","Cylinders – Unvented Indirect Pre-insulated","NO",746.18,{"$f":"SUMIF('Contractor##'!C:C,'Planned Maint v6.2 CSV File'!C:C,'Contractor##'!F:F)","v":-0.25890000000000002},552.99399799999992,"Cylinder:Isolate supply, drain down, disconnect, clear away and renew or install 210 litre unvented pre-insulated cylinder complete with primary coil, dual thermostat, wiring centre 2 part zone valve, temperature and pressure relief valves, 24 litre expansion vessel, connect new and existing feed and supply pipes, refill, vent and test system, including all newly made joints, remake all bonding, remove/refix shelves etc. reconnect electricity supply and test on completion and remove waste and debris. "]
["6790BC","CYLINDER:RENEW UNVENTED INDIRECT PRE-INSUL 250 LTR","PLUMBING","Hot Water Cylinders","Cylinders – Unvented Indirect Pre-insulated","NO",826.62,{"$f":"SUMIF('Contractor##'!C:C,'Planned Maint v6.2 CSV File'!C:C,'Contractor##'!F:F)","v":-0.25890000000000002},612.60808199999997,"Cylinder:Isolate supply, drain down, disconnect, clear away and renew or install 250 litre unvented pre-insulated cylinder complete with primary coil, dual thermostat, wiring centre 2 part zone valve, temperature and pressure relief valves, 24 litre expansion vessel, connect new and existing feed and supply pipes, refill, vent and test system, including all newly made joints, remake all bonding, remove/refix shelves etc. reconnect electricity supply and test on completion and remove waste and debris. "]
["6790BD","CYLINDER:RENEW UNVENTED INDIRECT PRE-INSUL 300 LTR","PLUMBING","Hot Water Cylinders","Cylinders – Unvented Indirect Pre-insulated","NO",880.82,{"$f":"SUMIF('Contractor##'!C:C,'Planned Maint v6.2 CSV File'!C:C,'Contractor##'!F:F)","v":-0.25890000000000002},652.77570200000002,"Cylinder:Isolate supply, drain down, disconnect, clear away and renew or install 300 litre unvented pre-insulated cylinder complete with primary coil, dual thermostat, wiring centre 2 part zone valve, temperature and pressure relief valves, 40 litre expansion vessel, connect new and existing feed and supply pipes, refill, vent and test system, including all newly made joints, remake all bonding, remove/refix shelves etc. reconnect electricity supply and test on completion and remove waste and debris. "]
["6791AA","CYLINDER:RENEW VENTED DIRECT INSULATED 100 LTR","PLUMBING","Hot Water Cylinders","Cylinders – Vented Direct – Water Heating","NO",734.55,{"$f":"SUMIF('Contractor##'!C:C,'Planned Maint v6.2 CSV File'!C:C,'Contractor##'!F:F)","v":-0.25890000000000002},544.37500499999999,"Cylinder:Isolate supply, drain down, disconnect, clear away and renew or install 100 litre vented pre-insulated Dimplex Quantum or other equal and approved electric water heating cylinder with temperature and relief valves, 18 litre expansion vessel, connect new and existing feed and supply pipes, refill, vent and test system, including all newly made joints, install 2 no. 3 kilowatt immersion heaters (lower and upper boost) and thermostat, remake all bonding, remove/refix shelves etc. reconnect electricity supply and test on completion and remove waste and debris. "]
["6791AB","CYLINDER:RENEW VENTED DIRECT INSULATED 125 LTR","PLUMBING","Hot Water Cylinders","Cylinders – Vented Direct – Water Heating","NO",795.38,{"$f":"SUMIF('Contractor##'!C:C,'Planned Maint v6.2 CSV File'!C:C,'Contractor##'!F:F)","v":-0.25890000000000002},589.45611799999995,"Cylinder:Isolate supply, drain down, disconnect, clear away and renew or install 125 litre vented pre-insulated Dimplex Quantum or other equal and approved electric water heating cylinder with temperature and relief valves, 18 litre expansion vessel, connect new and existing feed and supply pipes, refill, vent and test system, including all newly made joints, install 2 no. 3 kilowatt immersion heaters (lower and upper boost) and thermostat, remake all bonding, remove/refix shelves etc. reconnect electricity supply and test on completion and remove waste and debris. "]
["6791AC","CYLINDER:RENEW VENTED DIRECT PRE-INSULATED 150 LTR","PLUMBING","Hot Water Cylinders","Cylinders – Vented Direct – Water Heating","NO",877.13,{"$f":"SUMIF('Contractor##'!C:C,'Planned Maint v6.2 CSV File'!C:C,'Contractor##'!F:F)","v":-0.25890000000000002},650.04104299999995,"Cylinder:Isolate supply, drain down, disconnect, clear away and renew or install 150 litre vented pre-insulated Dimplex Quantum or other equal and approved electric water heating cylinder with temperature and relief valves, 18 litre expansion vessel, connect new and existing feed and supply pipes, refill, vent and test system, including all newly made joints, install 2 no. 3 kilowatt immersion heaters (lower and upper boost) and thermostat, remake all bonding, remove/refix shelves etc. reconnect electricity supply and test on completion and remove waste and debris. "]
["6791AD","CYLINDER:RENEW VENTED DIRECT INSULATED 175 LTR","PLUMBING","Hot Water Cylinders","Cylinders – Vented Direct – Water Heating","NO",778.13,{"$f":"SUMIF('Contractor##'!C:C,'Planned Maint v6.2 CSV File'!C:C,'Contractor##'!F:F)","v":-0.25890000000000002},576.67214300000001,"Cylinder:Isolate supply, drain down, disconnect, clear away and renew or install 175 litre vented pre-insulated Dimplex Quantum or other equal and approved electric water heating cylinder with temperature and relief valves, 18 litre expansion vessel, connect new and existing feed and supply pipes, refill, vent and test system, including all newly made joints, install 2 no. 3 kilowatt immersion heaters (lower and upper boost) and thermostat, remake all bonding, remove/refix shelves etc. reconnect electricity supply and test on completion and remove waste and debris. "]
["6791AE","CYLINDER:RENEW VENTED DIRECT INSULATED 210 LTR","PLUMBING","Hot Water Cylinders","Cylinders – Vented Direct – Water Heating","NO",826.7,{"$f":"SUMIF('Contractor##'!C:C,'Planned Maint v6.2 CSV File'!C:C,'Contractor##'!F:F)","v":-0.25890000000000002},612.66737000000001,"Cylinder:Isolate supply, drain down, disconnect, clear away and renew or install 210 litre vented pre-insulated Dimplex Quantum or other equal and approved electric water heating cylinder with temperature and relief valves, 18 litre expansion vessel, connect new and existing feed and supply pipes, refill, vent and test system, including all newly made joints, install 2 no. 3 kilowatt immersion heaters (lower and upper boost) and thermostat, remake all bonding, remove/refix shelves etc. reconnect electricity supply and test on completion and remove waste and debris. "]
["6791AF","CYLINDER:RENEW VENTED DIRECT INSULATED 250 LTR","PLUMBING","Hot Water Cylinders","Cylinders – Vented Direct – Water Heating","NO",907.14,{"$f":"SUMIF('Contractor##'!C:C,'Planned Maint v6.2 CSV File'!C:C,'Contractor##'!F:F)","v":-0.25890000000000002},672.28145399999994,"Cylinder:Isolate supply, drain down, disconnect, clear away and renew or install 250 litre vented pre-insulated Dimplex Quantum or other equal and approved electric water heating cylinder with temperature and relief valves, 18 litre expansion vessel, connect new and existing feed and supply pipes, refill, vent and test system, including all newly made joints, install 2 no. 3 kilowatt immersion heaters (lower and upper boost) and thermostat, remake all bonding, remove/refix shelves etc. reconnect electricity supply and test on completion and remove waste and debris. "]
["6792AA","CYLINDER:RENEW UNVENTED DIRECT INSULATED 100 LTR","PLUMBING","Hot Water Cylinders","Cylinders – Unvented Direct – Water Heating","NO",655.25,{"$f":"SUMIF('Contractor##'!C:C,'Planned Maint v6.2 CSV File'!C:C,'Contractor##'!F:F)","v":-0.25890000000000002},485.60577499999999,"Cylinder:Isolate supply, drain down, disconnect, clear away and renew or install 100 litre unvented pre-insulated electric water heating cylinder with temperature and relief valves, 18 litre expansion vessel, connect new and existing feed and supply pipes, refill, vent and test system, including all newly made joints, install 2 no. 3 kilowatt immersion heaters (lower and upper boost) and thermostat, remake all bonding, remove/refix shelves etc. reconnect electricity supply and test on completion and remove waste and debris. "]
["6792AB","CYLINDER:RENEW UNVENTED DIRECT INSULATED 125 LTR","PLUMBING","Hot Water Cylinders","Cylinders – Unvented Direct – Water Heating","NO",699.25,{"$f":"SUMIF('Contractor##'!C:C,'Planned Maint v6.2 CSV File'!C:C,'Contractor##'!F:F)","v":-0.25890000000000002},518.21417499999995,"Cylinder:Isolate supply, drain down, disconnect, clear away and renew or install 125 litre unvented pre-insulated electric water heating cylinder with temperature and relief valves, 18 litre expansion vessel, connect new and existing feed and supply pipes, refill, vent and test system, including all newly made joints, install 2 no. 3 kilowatt immersion heaters (lower and upper boost) and thermostat, remake all bonding, remove/refix shelves etc. reconnect electricity supply and test on completion and remove waste and debris. "]
["6792AC","CYLINDER:RENEW UNVENTED DIRECT INSULATED 150 LTR","PLUMBING","Hot Water Cylinders","Cylinders – Unvented Direct – Water Heating","NO",816.25,{"$f":"SUMIF('Contractor##'!C:C,'Planned Maint v6.2 CSV File'!C:C,'Contractor##'!F:F)","v":-0.25890000000000002},604.92287499999998,"Cylinder:Isolate supply, drain down, disconnect, clear away and renew or install 150 litre unvented pre-insulated electric water heating cylinder with temperature and relief valves, 18 litre expansion vessel, connect new and existing feed and supply pipes, refill, vent and test system, including all newly made joints, install 2 no. 3 kilowatt immersion heaters (lower and upper boost) and thermostat, remake all bonding, remove/refix shelves etc. reconnect electricity supply and test on completion and remove waste and debris. "]
["6792AD","CYLINDER:RENEW UNVENTED DIRECT PRE-INSUL 175 LTR","PLUMBING","Hot Water Cylinders","Cylinders – Unvented Direct – Water Heating","NO",877.25,{"$f":"SUMIF('Contractor##'!C:C,'Planned Maint v6.2 CSV File'!C:C,'Contractor##'!F:F)","v":-0.25890000000000002},650.12997499999994,"Cylinder:Isolate supply, drain down, disconnect, clear away and renew or install 175 litre unvented pre-insulated electric water heating cylinder with temperature and relief valves, 18 litre expansion vessel, connect new and existing feed and supply pipes, refill, vent and test system, including all newly made joints, install 2 no. 3 kilowatt immersion heaters (lower and upper boost) and thermostat, remake all bonding, remove/refix shelves etc. reconnect electricity supply and test on completion and remove waste and debris. "]
["6792AE","CYLINDER:RENEW UNVENTED DIRECT PRE-INSUL 210 LTR","PLUMBING","Hot Water Cylinders","Cylinders – Unvented Direct – Water Heating","NO",932.25,{"$f":"SUMIF('Contractor##'!C:C,'Planned Maint v6.2 CSV File'!C:C,'Contractor##'!F:F)","v":-0.25890000000000002},690.89047500000004,"Cylinder:Isolate supply, drain down, disconnect, clear away and renew or install 210 litre unvented pre-insulated electric water heating cylinder with temperature and relief valves, 18 litre expansion vessel, connect new and existing feed and supply pipes, refill, vent and test system, including all newly made joints, install 2 no. 3 kilowatt immersion heaters (lower and upper boost) and thermostat, remake all bonding, remove/refix shelves etc. reconnect electricity supply and test on completion and remove waste and debris. "]
["6792AF","CYLINDER:RENEW UNVENTED DIRECT PRE-INSUL 250 LTR","PLUMBING","Hot Water Cylinders","Cylinders – Unvented Direct – Water Heating","NO",1043.25,{"$f":"SUMIF('Contractor##'!C:C,'Planned Maint v6.2 CSV File'!C:C,'Contractor##'!F:F)","v":-0.25890000000000002},773.15257499999996,"Cylinder:Isolate supply, drain down, disconnect, clear away and renew or install 250 litre unvented pre-insulated electric water heating cylinder with temperature and relief valves, 18 litre expansion vessel, connect new and existing feed and supply pipes, refill, vent and test system, including all newly made joints, install 2 no. 3 kilowatt immersion heaters (lower and upper boost) and thermostat, remake all bonding, remove/refix shelves etc. reconnect electricity supply and test on completion and remove waste and debris. "]
["6800AA","SCALE REDUCER:SUPPLY MAGNETIC TYPE","PLUMBING","Hot Water Cylinders","Scale Reducers","IT",53.21,{"$f":"SUMIF('Contractor##'!C:C,'Planned Maint v6.2 CSV File'!C:C,'Contractor##'!F:F)","v":-0.25890000000000002},39.433931000000001,"Scale Reducer:Supply and install magnetic type scale reducer to cold water supply including locate and turn water off, drain down as necessary, cut into existing pipe and insert scale reducer unit including all necessary connections, reinstate water supply and test, and remove waste and debris."]
["6800AB","SCALE REDUCER:SUPPLY ELECTROLYTIC TYPE","PLUMBING","Hot Water Cylinders","Scale Reducers","IT",77.010000000000005,{"$f":"SUMIF('Contractor##'!C:C,'Planned Maint v6.2 CSV File'!C:C,'Contractor##'!F:F)","v":-0.25890000000000002},57.072111,"Scale Reducer:Supply and install electrolytic type scale reducer to cold water supply including locate and turn water off, drain down as necessary, cut into existing pipe and insert scale reducer unit including all necessary connections, reinstate water supply and test, and remove waste and debris."]
["6800AC","SCALE REDUCER:SUPPLY CHEMICAL TYPE","PLUMBING","Hot Water Cylinders","Scale Reducers","IT",111.95,{"$f":"SUMIF('Contractor##'!C:C,'Planned Maint v6.2 CSV File'!C:C,'Contractor##'!F:F)","v":-0.25890000000000002},82.966144999999997,"Scale Reducer:Supply and install chemical in line scale reducer to cold water supply including locate and turn water off, drain down as necessary, cut into existing pipe and insert scale reducer unit including fix two stop valves, make all necessary connections and test, and remove waste and debris."]
["6800AD","SCALE REDUCER:ELECTRO MAGNETIC NON INTRUSIVE TYPE","PLUMBING","Hot Water Cylinders","Scale Reducers","IT",108.85,{"$f":"SUMIF('Contractor##'!C:C,'Planned Maint v6.2 CSV File'!C:C,'Contractor##'!F:F)","v":-0.25890000000000002},80.668734999999998,"Scale Reducer:Supply and install electronic ‘Water King’ non intrusive type scale reducer to hot or cold water pipes complete, computerised control unit with internal transformer hardwired to fused electrical outlet, wire aerials coiled around pipework and secured, make all necessary connections and test, and remove waste and debris."]
["6950AA","PANEL:REMOVE AND REFIX FOR CLIENT INSPECTIONS","PLUMBING","Sundry Works","Duct Covers and Frames","NO",4.0599999999999996,{"$f":"SUMIF('Contractor##'!C:C,'Planned Maint v6.2 CSV File'!C:C,'Contractor##'!F:F)","v":-0.25890000000000002},3.0088659999999998,"Panel:Remove all panels and duct covers for access to concealed sanitary fittings and pipework to determine and carry out repairs and renewals and later securely refix on completion (generally deemed included within schedule items - only allowable on the specific instruction of the Client’s Representative)."]
["6960AA","TOILET ROLL HOLDER:RENEW CHROMIUM PLATED","CARPENTRY AND JOINERY","Miscellaneous Works","Bathroom Ancillaries","NO",21.24,{"$f":"SUMIF('Contractor##'!C:C,'Planned Maint v6.2 CSV File'!C:C,'Contractor##'!F:F)","v":-0.1135},18.829259999999998,"Toilet Roll Holder:Renew or supply and fix new chromium plated toilet roll holder securely fixed to structure including plugging as necessary."]
["6960AB","TOILET ROLL HOLDER:RENEW PLASTIC","CARPENTRY AND JOINERY","Miscellaneous Works","Bathroom Ancillaries","NO",12.2,{"$f":"SUMIF('Contractor##'!C:C,'Planned Maint v6.2 CSV File'!C:C,'Contractor##'!F:F)","v":-0.1135},10.815299999999999,"Toilet Roll Holder:Renew or supply and fix new plastic toilet roll holder securely fixed to structure including plugging as necessary."]
["6960BA","TOWEL RAIL:RENEW","CARPENTRY AND JOINERY","Miscellaneous Works","Bathroom Ancillaries","NO",35.799999999999997,{"$f":"SUMIF('Contractor##'!C:C,'Planned Maint v6.2 CSV File'!C:C,'Contractor##'!F:F)","v":-0.1135},31.736699999999995,"Towel Rail:Renew or supply and fix new chromium plated towel rail 610mm long securely fixed to structure including plugging as necessary."]
["6960BB","TOWEL HOLDER:RENEW","CARPENTRY AND JOINERY","Miscellaneous Works","Bathroom Ancillaries","NO",30.07,{"$f":"SUMIF('Contractor##'!C:C,'Planned Maint v6.2 CSV File'!C:C,'Contractor##'!F:F)","v":-0.1135},26.657055,"Towel Holder:Renew or supply and fix new chromium plated two arm towel holder securely fixed to structure including plugging as necessary."]
["6960CA","SOAP DISH:RENEW","CARPENTRY AND JOINERY","Miscellaneous Works","Bathroom Ancillaries","NO",15.43,{"$f":"SUMIF('Contractor##'!C:C,'Planned Maint v6.2 CSV File'!C:C,'Contractor##'!F:F)","v":-0.1135},13.678694999999999,"Soap Dish:Renew or supply and fix new chromium plated soap dish, with concealed fixing, securely fixed to structure including plugging as necessary."]
["6960DA","TOOTHBRUSH/TUMBLER HOLDER:RENEW","CARPENTRY AND JOINERY","Miscellaneous Works","Bathroom Ancillaries","NO",17.05,{"$f":"SUMIF('Contractor##'!C:C,'Planned Maint v6.2 CSV File'!C:C,'Contractor##'!F:F)","v":-0.1135},15.114825,"Toothbrush/Tumbler Holder:Renew or supply and fix new chromium plated toothbrush and tumbler holder with concealed fixing, securely fixed to structure including plugging as necessary."]
["6960EA","DRYER:RENEW INTERNAL TIDYDRY","CARPENTRY AND JOINERY","Miscellaneous Works","Bathroom Ancillaries","NO",52.17,{"$f":"SUMIF('Contractor##'!C:C,'Planned Maint v6.2 CSV File'!C:C,'Contractor##'!F:F)","v":-0.1135},46.248705000000001,"Dryer:Renew or supply and install 'Tidydry' or other equal and approved 5 line internal clothes dryer and hook, both plugged and screwed to any background and make good all finishes."]
["6960EB","DRYER:REFIX INTERNAL TIDYDRY","CARPENTRY AND JOINERY","Miscellaneous Works","Bathroom Ancillaries","NO",6.75,{"$f":"SUMIF('Contractor##'!C:C,'Planned Maint v6.2 CSV File'!C:C,'Contractor##'!F:F)","v":-0.1135},5.9838749999999994,"Dryer:Refix 'Tidydry' or similar 5 line internal clothes dryer and hook to any background and make good all finishes."]
["6960FA","BATHROOM CABINET:RENEW","CARPENTRY AND JOINERY","Miscellaneous Works","Bathroom Ancillaries","NO",44.5,{"$f":"SUMIF('Contractor##'!C:C,'Planned Maint v6.2 CSV File'!C:C,'Contractor##'!F:F)","v":-0.1135},39.449249999999999,"Bathroom Cabinet:Renew or supply fix new lockable double bathroom/first aid cabinet, of any type complete with shelves and two keys, remove existing cabinet and clear away if necessary, fix cabinet securely to structure including plugging, screwing and making good as necessary."]
["6960GA","GLASS SHELF:RENEW","CARPENTRY AND JOINERY","Miscellaneous Works","Bathroom Ancillaries","NO",8.58,{"$f":"SUMIF('Contractor##'!C:C,'Planned Maint v6.2 CSV File'!C:C,'Contractor##'!F:F)","v":-0.1135},7.6061699999999997,"Glass Shelf:Renew or supply and install new bathroom glass shelf ne 600mm long x 127mm wide to existing brackets."]
["6960GB","GLASS SHELF:RENEW INC BKTS","CARPENTRY AND JOINERY","Miscellaneous Works","Bathroom Ancillaries","NO",29.69,{"$f":"SUMIF('Contractor##'!C:C,'Planned Maint v6.2 CSV File'!C:C,'Contractor##'!F:F)","v":-0.1135},26.320184999999999,"Glass Shelf:Renew or supply and install new bathroom glass shelf ne 600mm long x 127mm wide complete with chromium plated glass shelf brackets, brackets securely fixed to structure including plugging as necessary."]
["6960HA","SEAT:SUPPLY/FIX SHOWER SEAT","PLUMBING","Showers/ Bath Aids","Shower Seat","NO",89.21,{"$f":"SUMIF('Contractor##'!C:C,'Planned Maint v6.2 CSV File'!C:C,'Contractor##'!F:F)","v":-0.25890000000000002},66.113530999999995,"Seat:Supply and fix proprietary shower seat including all necessary plugging and securely fixing to wall and floor as appropriate and all making good."]
["6980AA","FIRE EXTINGUISHER:RENEW 9LTR WATER","PLUMBING","Sundry Works","Fire Fighting Equipment","IT",57.45,{"$f":"SUMIF('Contractor##'!C:C,'Planned Maint v6.2 CSV File'!C:C,'Contractor##'!F:F)","v":-0.25890000000000002},42.576194999999998,"FireExtinguisher:Renew or supply and fix 9 litre water fire extinguisher (fire rating 13A) Class A fires, including supply and fix bracket fixed to any background, and dispose of existing extinguisher to approved disposal site."]
["6980AB","FIRE EXTINGUISHER:RENEW 9LTR FOAM","PLUMBING","Sundry Works","Fire Fighting Equipment","IT",86.56,{"$f":"SUMIF('Contractor##'!C:C,'Planned Maint v6.2 CSV File'!C:C,'Contractor##'!F:F)","v":-0.25890000000000002},64.149615999999995,"FireExtinguisher:Renew or supply and fix 9 litre foam fire extinguisher (fire rating 13A) Class A and B fires, including supply and fix bracket fixed to any background, and dispose of existing extinguisher to approved disposal site."]
["6980AC","FIRE EXTINGUISHER:RENEW DRY POWDER 1KG","PLUMBING","Sundry Works","Fire Fighting Equipment","IT",38.049999999999997,{"$f":"SUMIF('Contractor##'!C:C,'Planned Maint v6.2 CSV File'!C:C,'Contractor##'!F:F)","v":-0.25890000000000002},28.198854999999998,"Fire Extinguisher:Renew or supply and fix 1kg capacity 12gm CO2 cartridge, Class A, B and C fires (fire rating 5A:34B) including supply and fix bracket fixed to any background, and dispose of existing extinguisher to approved disposal site."]
["6980AD","FIRE EXTINGUISHER:RENEW DRY POWDER 2KG","PLUMBING","Sundry Works","Fire Fighting Equipment","IT",51.1,{"$f":"SUMIF('Contractor##'!C:C,'Planned Maint v6.2 CSV File'!C:C,'Contractor##'!F:F)","v":-0.25890000000000002},37.87021,"Fire Extinguisher:Renew or supply and fix 2kg capacity 28gm CO2 cartridge, Class A, B and C fires (fire rating 5A:34B) including supply and fix bracket fixed to any background, and dispose of existing extinguisher to approved disposal site."]
["6980AE","FIRE EXTINGUISHER:RENEW CARBON DIOXIDE","PLUMBING","Sundry Works","Fire Fighting Equipment","IT",77,{"$f":"SUMIF('Contractor##'!C:C,'Planned Maint v6.2 CSV File'!C:C,'Contractor##'!F:F)","v":-0.25890000000000002},{"$f":"(1+H2692)*G2692","v":57.064700000000002},"Fire Extinguisher:Renew or supply and fix 2kg capacity CO2 type with horn and hose, Class B fires (fire rating 34B) including supply and fix bracket fixed to any background, and dispose of existing extinguisher to approved disposal site."]
["6980BA","FIRE BLANKET:RENEW OR SUPPLY","PLUMBING","Sundry Works","Fire Fighting Equipment","IT",25.34,{"$f":"SUMIF('Contractor##'!C:C,'Planned Maint v6.2 CSV File'!C:C,'Contractor##'!F:F)","v":-0.25890000000000002},18.779474,"Fire Blanket:Renew or supply and fix 1100x1100mm glassfibre blanket in GRP container, including fixing to any background and dispose of existing blanket to approved disposal site."]
["7080AA","FIRE:RENEW ALL NIGHT BURNER","BRICKWORK","Fireplaces","Fire Parts","NO",216.85,{"$f":"SUMIF('Contractor##'!C:C,'Planned Maint v6.2 CSV File'!C:C,'Contractor##'!F:F)","v":-0.27500000000000002},157.21625,"Fire:Renew with BCC approved all night burner, seal joints with asbestos free rope and fire cement complete."]
["8100AA","HEATER:RENEW NE 1.7KW STORAGE HEATER","ELECTRICAL","Space Point and Water Heating Appliances","Storage Heaters","NO",219.55,{"$f":"SUMIF('Contractor##'!C:C,'Planned Maint v6.2 CSV File'!C:C,'Contractor##'!F:F)","v":-0.2},175.64000000000001,"Heater:Isolate supply, disconnect existing, clear away and renew ne 1.7 kilowatt storage heater, make all connections, including fixing securely to wall, electrical tests and leave in working order and remove waste and debris."]
["8100AB","HEATER:RENEW NE 2.6KW STORAGE HEATER","ELECTRICAL","Space Point and Water Heating Appliances","Storage Heaters","NO",277.56,{"$f":"SUMIF('Contractor##'!C:C,'Planned Maint v6.2 CSV File'!C:C,'Contractor##'!F:F)","v":-0.2},222.048,"Heater:Isolate supply, disconnect existing, clear away and renew ne 2.6 kilowatt storage heater, make all connections, including fixing securely to wall, electrical tests and leave in working order and remove waste and debris."]
["8100AC","HEATER:RENEW NE 3.4KW STORAGE HEATER","ELECTRICAL","Space Point and Water Heating Appliances","Storage Heaters","NO",324.27999999999997,{"$f":"SUMIF('Contractor##'!C:C,'Planned Maint v6.2 CSV File'!C:C,'Contractor##'!F:F)","v":-0.2},259.42399999999998,"Heater:Isolate supply, disconnect existing, clear away and renew ne 3.4 kilowatt storage heater, make all connections, including fixing securely to wall, electrical tests and leave in working order and remove waste and debris."]
["8100AD","HEATER:RENEW NE 0.6KW STORAGE TO BATHROOM","ELECTRICAL","Space Point and Water Heating Appliances","Storage Heaters","NO",199.55,{"$f":"SUMIF('Contractor##'!C:C,'Planned Maint v6.2 CSV File'!C:C,'Contractor##'!F:F)","v":-0.2},159.64000000000001,"Heater:Isolate supply, disconnect existing, clear away and renew ne 0.6 kilowatt storage heater to bathroom, make all connections, including fixing securely to wall, electrical tests and leave in working order and remove waste and debris."]
["8110AA","HEATER:RENEW 1.7 AND 1.0KW COMBINED STORAGE","ELECTRICAL","Space Point and Water Heating Appliances","Combination Storage/Convector Heaters","NO",283.43,{"$f":"SUMIF('Contractor##'!C:C,'Planned Maint v6.2 CSV File'!C:C,'Contractor##'!F:F)","v":-0.2},226.74400000000003,"Heater:Isolate supply, disconnect existing, clear away and renew storage heater with combination storage and convector heater, ne 1.7 kilowatt storage and ne 1.0 kilowatt convector, make all connections including fix securely to wall, electrical tests and leave in working order and remove waste and debris."]
["8110AB","HEATER:RENEW 2.6 AND 1.5KW COMBINED STORAGE","ELECTRICAL","Space Point and Water Heating Appliances","Combination Storage/Convector Heaters","NO",330.1,{"$f":"SUMIF('Contractor##'!C:C,'Planned Maint v6.2 CSV File'!C:C,'Contractor##'!F:F)","v":-0.2},264.08000000000004,"Heater:Isolate supply, disconnect existing, clear away and renew storage heater with combination storage and convector heater, ne 2.6 kilowatt storage and ne 1.5 kilowatt convector, make all connections including fix securely to wall, electrical tests and leave in working order and remove waste and debris."]
["8110AC","HEATER:RENEW 3.4 AND 2.0KW COMBINED STORAGE","ELECTRICAL","Space Point and Water Heating Appliances","Combination Storage/Convector Heaters","NO",418.25,{"$f":"SUMIF('Contractor##'!C:C,'Planned Maint v6.2 CSV File'!C:C,'Contractor##'!F:F)","v":-0.2},334.6,"Heater:Isolate supply, disconnect existing, clear away and renew storage heater with combination storage and convector heater, ne 3.4 kilowatt storage and ne 2.0 kilowatt convector, make all connections including fix securely to wall, electrical tests and leave in working order and remove waste and debris."]
["8111AA","DWELLING:INSTALL ELECTRIC HEATING 1 BED","ELECTRICAL","Space Point and Water Heating Appliances","Electric Central Heating","IT",2310,{"$f":"SUMIF('Contractor##'!C:C,'Planned Maint v6.2 CSV File'!C:C,'Contractor##'!F:F)","v":-0.2},1848,"Dwelling:Strip out any type of existing heating to including all pipework, radiators, heating appliances, backboilers, warm air units, pumps, controls, cylinder, feed and expansion tanks etc, clear away to tip, cap off gas supplies, remove fireplace surround and hearth, infill opening with blockwork and plaster, provide skirting to match, and supply and install electric storage heater heating system to dwelling to Client’s standard specification comprising approved storage heaters, each fitted with new fully insulated isolation switch, 122 litre Economy 7 cylinder complete with high and low side entry immersion heaters, low level immersion heater to be permanently wired to the off peak supply Super Tariff, complete with isolating switch outlet with neon indicator, top immersion heater to be wired to the unrestricted supply via electronic boost control 1-2 hour run back timer fitted in the kitchen , allow for all pipe connections and wiring amendments, supply and fit 144 litre polypropylene mains water storage tank, lid including Byelaw 30 kit, insulation jacket, ballvalve and float, and 22mm diameter overflow, supply and install 9 way surface mounted consumer control unit with 100mA RCD control switch and MCB’s to be fitted to storage heaters and water heater circuit using new Super Tariff , all new circuits to be installed and concealed wherever possible, surface wiring to be in pvc mini-trunking. upgrade roof space insulation to minimum of 150mm thickness, insulate exposed pipework, remake earth bonding, disconnect, reconnect, set aside and refixing as necessary associated with the installation, flush out, refill, test and commission the system and make good all works disturbed and remove waste and debris."]
["8111AB","DWELLING:INSTALL ELECTRIC HEATING 2 BED","ELECTRICAL","Space Point and Water Heating Appliances","Electric Central Heating","IT",2520,{"$f":"SUMIF('Contractor##'!C:C,'Planned Maint v6.2 CSV File'!C:C,'Contractor##'!F:F)","v":-0.2},2016,"Dwelling:Strip out any type of existing heating to including all pipework, radiators, heating appliances, backboilers, warm air units, pumps, controls, cylinder, feed and expansion tanks etc, clear away to tip, cap off gas supplies, remove fireplace surround and hearth, infill opening with blockwork and plaster, provide skirting to match, and supply and install electric storage heater heating system to dwelling to Client’s standard specification comprising approved storage heaters, each fitted with new fully insulated isolation switch, 122 litre Economy 7 cylinder complete with high and low side entry immersion heaters, low level immersion heater to be permanently wired to the off peak supply Super Tariff, complete with isolating switch outlet with neon indicator, top immersion heater to be wired to the unrestricted supply via electronic boost control 1-2 hour run back timer fitted in the kitchen , allow for all pipe connections and wiring amendments, supply and fit 144 litre polypropylene mains water storage tank, lid including Byelaw 30 kit, insulation jacket, ballvalve and float, and 22mm diameter overflow, supply and install 9 way surface mounted consumer control unit with 100mA RCD control switch and MCB’s to be fitted to storage heaters and water heater circuit using new Super Tariff , all new circuits to be installed and concealed wherever possible, surface wiring to be in pvc mini-trunking. upgrade roof space insulation to minimum of 150mm thickness, insulate exposed pipework, remake earth bonding, disconnect, reconnect, set aside and refixing as necessary associated with the installation, flush out, refill, test and commission the system and make good all works disturbed and remove waste and debris.. "]
["8111AC","DWELLING:INSTALL ELECTRIC HEATING 3 BED","ELECTRICAL","Space Point and Water Heating Appliances","Electric Central Heating","IT",2835,{"$f":"SUMIF('Contractor##'!C:C,'Planned Maint v6.2 CSV File'!C:C,'Contractor##'!F:F)","v":-0.2},2268,"Dwelling: Strip out any type of existing heating to including all pipework, radiators, heating appliances, backboilers, warm air units, pumps, controls, cylinder, feed and expansion tanks etc, clear away to tip, cap off gas supplies, remove fireplace surround and hearth, infill opening with blockwork and plaster, provide skirting to match, and supply and install electric storage heater heating system to dwelling to Client’s standard specification comprising approved storage heaters, each fitted with new fully insulated isolation switch, 122 litre Economy 7 cylinder complete with high and low side entry immersion heaters, low level immersion heater to be permanently wired to the off peak supply Super Tariff, complete with isolating switch outlet with neon indicator, top immersion heater to be wired to the unrestricted supply via electronic boost control 1-2 hour run back timer fitted in the kitchen , allow for all pipe connections and wiring amendments, supply and fit 144 litre polypropylene mains water storage tank, lid including Byelaw 30 kit, insulation jacket, ballvalve and float, and 22mm diameter overflow, supply and install 9 way surface mounted consumer control unit with 100mA RCD control switch and MCB’s to be fitted to storage heaters and water heater circuit using new Super Tariff , all new circuits to be installed and concealed wherever possible, surface wiring to be in pvc mini-trunking. upgrade roof space insulation to minimum of 150mm thickness, insulate exposed pipework, remake earth bonding, disconnect, reconnect, set aside and refixing as necessary associated with the installation, flush out, refill, test and commission the system and make good all works disturbed and remove waste and debris. "]
["8130AB","HEATER:RESITE AND RECONNECT","ELECTRICAL","Space Point and Water Heating Appliances","Storage Heater - Repairs","NO",24.98,{"$f":"SUMIF('Contractor##'!C:C,'Planned Maint v6.2 CSV File'!C:C,'Contractor##'!F:F)","v":-0.2},19.984000000000002,"Heater:Isolate supply, disconnect and resite night storage heater, including dismantle and reassemble, move to new site, secure to wall, and make all connections, reconnect electricity supply, electrical tests and leave in working order and remove waste and debris."]
["8130AC","HEATER:DISCONNECT AND REMOVE","ELECTRICAL","Space Point and Water Heating Appliances","Storage Heater - Repairs","NO",21.42,{"$f":"SUMIF('Contractor##'!C:C,'Planned Maint v6.2 CSV File'!C:C,'Contractor##'!F:F)","v":-0.2},17.136000000000003,"Heater:Isolate supply, disconnect and remove to secure store for subsequent re-use any night storage heater and make safe existing supply."]
["8130BA","THERMOSTAT:RENEW ROOM TYPE TO ELECTRIC HEATING","ELECTRICAL","Space Point and Water Heating Appliances","Storage Heater - Repairs","NO",19.63,{"$f":"SUMIF('Contractor##'!C:C,'Planned Maint v6.2 CSV File'!C:C,'Contractor##'!F:F)","v":-0.2},15.704000000000001,"Thermostat:Isolate supply, disconnect, clear away and renew high limit room thermostat, including make all connections and leave in working order and remove waste and debris."]
["8140AA","HEATER:RENEW NE 0.75KW SPACE HEATER","ELECTRICAL","Space Point and Water Heating Appliances","Space Heaters","NO",453.93,{"$f":"SUMIF('Contractor##'!C:C,'Planned Maint v6.2 CSV File'!C:C,'Contractor##'!F:F)","v":-0.2},363.14400000000001,"Heater:Isolate supply, disconnect existing, clear away and renew ne 0.75 kilowatt low carbon high efficient electric energy cell space heater, make all connections, including fixing securely to wall, electrical tests and leave in working order and remove waste and debris."]
["8140AB","HEATER:RENEW NE 1.0KW SPACE TO BATHROOM","ELECTRICAL","Space Point and Water Heating Appliances","Space Heaters","NO",594.75,{"$f":"SUMIF('Contractor##'!C:C,'Planned Maint v6.2 CSV File'!C:C,'Contractor##'!F:F)","v":-0.2},475.8,"Heater:Isolate supply, disconnect existing, clear away and renew ne 1.0 kilowatt low carbon high efficient electric energy cell space heater, make all connections, including fixing securely to wall, electrical tests and leave in working order and remove waste and debris."]
["8140AC","HEATER:RENEW NE 1.25KW SPACE HEATER","ELECTRICAL","Space Point and Water Heating Appliances","Space Heaters","NO",653.14,{"$f":"SUMIF('Contractor##'!C:C,'Planned Maint v6.2 CSV File'!C:C,'Contractor##'!F:F)","v":-0.2},522.51200000000006,"Heater:Isolate supply, disconnect existing, clear away and renew ne 1.25 kilowatt low carbon high efficient electric energy cell space heater, make all connections, including fixing securely to wall, electrical tests and leave in working order and remove waste and debris."]
["8140AD","HEATER:RENEW NE 1.5KW STORAGE HEATER","ELECTRICAL","Space Point and Water Heating Appliances","Space Heaters","NO",586.27,{"$f":"SUMIF('Contractor##'!C:C,'Planned Maint v6.2 CSV File'!C:C,'Contractor##'!F:F)","v":-0.2},469.01600000000002,"Heater:Isolate supply, disconnect existing, clear away and renew ne 1.5 kilowatt low carbon high efficient electric energy cell space heater, make all connections, including fixing securely to wall, electrical tests and leave in working order and remove waste and debris."]
["8150AA","FIRE:RENEW NE 2.5KW RADIANT FIRE","ELECTRICAL","Space Point and Water Heating Appliances","Electric Towel Rail","NO",114.88,{"$f":"SUMIF('Contractor##'!C:C,'Planned Maint v6.2 CSV File'!C:C,'Contractor##'!F:F)","v":-0.2},91.903999999999996,"Fire:Isolate supply, disconnect, clear away and renew with ne 2.5 kilowatt focalpoint radiant fire, make all necessary connections into spur box reconnect electricity supply, electrical tests and leave in working order and remove waste and debris."]
["8150BA","HEATER:RENEW 2.5KW FAN CONVECTOR HEATER","ELECTRICAL","Space Point and Water Heating Appliances","Electric Towel Rail","NO",67.7,{"$f":"SUMIF('Contractor##'!C:C,'Planned Maint v6.2 CSV File'!C:C,'Contractor##'!F:F)","v":-0.2},54.160000000000004,"Heater:Isolate supply, disconnect, clear away and renew or install ne 2.5 kilowatt fan-assisted convector heater, including plugging and screwing securely to wall, make all necessary connections into spur box, reconnect electricity supply, electrical tests and leave in working order and remove waste and debris."]
["8150CA","HEATER:RENEW 2.5KW FAN HEATER WITH TIMER","ELECTRICAL","Space Point and Water Heating Appliances","Electric Towel Rail","NO",81.319999999999993,{"$f":"SUMIF('Contractor##'!C:C,'Planned Maint v6.2 CSV File'!C:C,'Contractor##'!F:F)","v":-0.2},65.055999999999997,"Heater:Isolate supply, disconnect, clear away and renew or install ne 2.5 kilowatt fan-assisted convector heater including 24hr timer, plugging and screwing securely to wall, make all necessary connections into spur box, reconnect electricity supply, electrical tests and leave in working order and remove waste and debris."]
["8150DA","HEATER:RENEW NE 1KW PANEL HEATER","ELECTRICAL","Space Point and Water Heating Appliances","Electric Towel Rail","NO",83.72,{"$f":"SUMIF('Contractor##'!C:C,'Planned Maint v6.2 CSV File'!C:C,'Contractor##'!F:F)","v":-0.2},66.975999999999999,"Heater:Isolate supply, disconnect, clear away and renew ne 1 kilowatt panel heater including plugging and screwing securely to wall, make all necessary connections into spur box, reconnect electricity supply, electrical tests and leave in working order and remove waste and debris."]
["8150DB","HEATER:RENEW NE 2KW PANEL HEATER","ELECTRICAL","Space Point and Water Heating Appliances","Electric Towel Rail","NO",96.25,{"$f":"SUMIF('Contractor##'!C:C,'Planned Maint v6.2 CSV File'!C:C,'Contractor##'!F:F)","v":-0.2},77,"Heater:Isolate supply, disconnect, clear away and renew ne 2 kilowatt panel heater including plugging and screwing securely to wall, make all necessary connections into spur box, reconnect electricity supply, electrical tests and leave in working order and remove waste and debris."]
["8150DC","HEATER:RENEW NE 3KW PANEL HEATER","ELECTRICAL","Space Point and Water Heating Appliances","Electric Towel Rail","NO",114.02,{"$f":"SUMIF('Contractor##'!C:C,'Planned Maint v6.2 CSV File'!C:C,'Contractor##'!F:F)","v":-0.2},91.216000000000008,"Heater:Isolate supply, disconnect, clear away and renew ne 3 kilowatt panel heater including plugging and screwing securely to wall, make all necessary connections into spur box, reconnect electricity supply, electrical tests and leave in working order and remove waste and debris."]
["8150EA","HEATER:RENEW NE 1KW PANEL HEATER WITH TIMER","ELECTRICAL","Space Point and Water Heating Appliances","Electric Towel Rail","NO",100.4,{"$f":"SUMIF('Contractor##'!C:C,'Planned Maint v6.2 CSV File'!C:C,'Contractor##'!F:F)","v":-0.2},80.320000000000007,"Heater:Isolate supply, disconnect, clear away and renew ne 1 kilowatt panel heater with 24hr timer including plugging and screwing securely to wall, make all necessary connections into spur box reconnect electricity supply, electrical tests and leave in working order and remove waste and debris."]
["8150EB","HEATER:RENEW NE 2KW PANEL HEATER WITH TIMER","ELECTRICAL","Space Point and Water Heating Appliances","Electric Towel Rail","NO",114.8,{"$f":"SUMIF('Contractor##'!C:C,'Planned Maint v6.2 CSV File'!C:C,'Contractor##'!F:F)","v":-0.2},91.84,"Heater:Isolate supply, disconnect, clear away and renew ne 2 kilowatt panel heater with 24hr timer including plugging and screwing securely to wall, make all necessary connections into spur box reconnect electricity supply, electrical tests and leave in working order and remove waste and debris."]
["8150EC","HEATER:RENEW NE 3KW PANEL HEATER WITH TIMER","ELECTRICAL","Space Point and Water Heating Appliances","Electric Towel Rail","NO",131.63999999999999,{"$f":"SUMIF('Contractor##'!C:C,'Planned Maint v6.2 CSV File'!C:C,'Contractor##'!F:F)","v":-0.2},105.312,"Heater:Isolate supply, disconnect, clear away and renew ne 3 kilowatt panel heater with 24hr timer including plugging and screwing securely to wall, make all necessary connections into spur box reconnect electricity supply, electrical tests and leave in working order and remove waste and debris."]
["8150FA","FIRE:RENEW NE 1KW INFRA RED HEATER","ELECTRICAL","Space Point and Water Heating Appliances","Electric Towel Rail","NO",51.03,{"$f":"SUMIF('Contractor##'!C:C,'Planned Maint v6.2 CSV File'!C:C,'Contractor##'!F:F)","v":-0.2},40.824000000000005,"Fire:Isolate supply, disconnect, clear away and renew with ne 1 kilowatt infra red wall mounted heater with pull cord, fix securely to wall, make all necessary connections into spur box, reconnect electrical tests and leave in working order and remove waste and debris."]
["8150GA","FIRE:RENEW NE 2KW INFRA RED HEATER","ELECTRICAL","Space Point and Water Heating Appliances","Electric Towel Rail","NO",55.13,{"$f":"SUMIF('Contractor##'!C:C,'Planned Maint v6.2 CSV File'!C:C,'Contractor##'!F:F)","v":-0.2},44.104000000000006,"Fire:Isolate supply, disconnect, clear away and renew with ne 2 kilowatt infra red wall mounted heater with pull cord, fix securely to wall, make all necessary connections into spur box, reconnect electrical tests and leave in working order and remove waste and debris."]
["8150GB","HEATER:RENEW 2KW WALL FAN HEATER","ELECTRICAL","Space Point and Water Heating Appliances","Electric Towel Rail","NO",94.95,{"$f":"SUMIF('Contractor##'!C:C,'Planned Maint v6.2 CSV File'!C:C,'Contractor##'!F:F)","v":-0.2},75.960000000000008,"Heater:Isolate supply, disconnect, clear away and renew or install ne 2 kilowatt wall mounted fan heater, including plugging and screwing securely to wall, make all necessary connections into spur box, reconnect electricity supply, electrical tests and leave in working order and remove waste and debris."]
["8150HA","HEATER:RENEW 2KW WALL FAN WITH TIMER","ELECTRICAL","Space Point and Water Heating Appliances","Electric Towel Rail","NO",69.95,{"$f":"SUMIF('Contractor##'!C:C,'Planned Maint v6.2 CSV File'!C:C,'Contractor##'!F:F)","v":-0.2},55.960000000000008,"Heater:Isolate supply, disconnect, clear away and renew or install ne 2 kilowatt wall mounted fan heater with 24hr timer, including plugging and screwing to wall, make all necessary connections to spur box, reconnect electricity supply, electrical tests and leave in working order and remove waste and debris."]
["8150XA","FIRE:INSTALL NE 2.5KW RADIANT FOCAL FIRE","ELECTRICAL","Space Point and Water Heating Appliances","Electric Towel Rail","IT",194.32,{"$f":"SUMIF('Contractor##'!C:C,'Planned Maint v6.2 CSV File'!C:C,'Contractor##'!F:F)","v":-0.2},155.45600000000002,"Fire:Isolate supply, install ne 2.5 KW focal point radiant fire and surround, including provision of spur circuit including mini-trunking or rigid PVC conduit chased in wall etc, DP switch spur outlet and all adjustments to pipework and electrical supply as necessary, fill, test and undertake tests, provide certificate, make good to all finishes, and remove waste and debris., reconnect electrics, tests and leave in working order.[PC Sum of £150.00 for supply and delivery]"]
["8190AA","TOWEL RAIL:RENEW NE 175 WATT ","ELECTRICAL","Space Point and Water Heating Appliances","Electric Towel Rail","NO",103.78,{"$f":"SUMIF('Contractor##'!C:C,'Planned Maint v6.2 CSV File'!C:C,'Contractor##'!F:F)","v":-0.2},83.024000000000001,"Towel Rail:Isolate supply, disconnect, clear away and renew towel rail ne 175 watt, free standing or wall mounted including plug and screw to wall in accordance with manufacturers instructions, make all necessary connections into spur box, reconnect, electrical tests and leave in working order and remove waste and debris."]
["8200AA","IMMERSION HEATER:RENEW CIRCUIT AND SWITCH","ELECTRICAL","Space Point and Water Heating Appliances","Immersion Heaters","NO",114.49,{"$f":"SUMIF('Contractor##'!C:C,'Planned Maint v6.2 CSV File'!C:C,'Contractor##'!F:F)","v":-0.2},91.591999999999999,"Immersion Heater:Isolate supply, strip out, clear away and renew immersion heater circuit with cable run in mini-trunking or rigid PVC conduit chased into wall etc., including fitting of 20 amp double pole isolator switch, 20 amp double pole indicator switch and reconnection of existing heater flex, reconnect electricity supply, undertake electrical tests, provide certificate, make good on completion, and remove waste and debris."]
["8200BA","IMMERSION HEATER:RENEW FLEX CONNECTION","ELECTRICAL","Space Point and Water Heating Appliances","Immersion Heaters","NO",15.68,{"$f":"SUMIF('Contractor##'!C:C,'Planned Maint v6.2 CSV File'!C:C,'Contractor##'!F:F)","v":-0.2},12.544,"Immersion Heater:Isolate supply, strip out, clear away and renew 1.00m length of 2.5mm 3 core butyl rubber flex to immersion heater and make all necessary connections to 20 amp double pole switch and immersion heater, reconnect electricity supply, undertake electrical tests, provide certificate, make good on completion, and remove waste and debris."]
["8200CA","IMMERSION HEATER:RENEW 20A DP INDICATOR SWITCH","ELECTRICAL","Space Point and Water Heating Appliances","Immersion Heaters","NO",27.07,{"$f":"SUMIF('Contractor##'!C:C,'Planned Maint v6.2 CSV File'!C:C,'Contractor##'!F:F)","v":-0.2},21.656000000000002,"Immersion Heater:Isolate supply, disconnect, clear away and renew 20 amp moulded plastic double pole switch with neon indicator and moulded plastic mounting box, including plugging to walls as necessary, remake all necessary connections, reconnect electricity supply, undertake electrical tests and make good on completion, and remove waste and debris."]
["8200DA","IMMERSION HEATER:RENEW BOOSTER SWITCH","ELECTRICAL","Space Point and Water Heating Appliances","Immersion Heaters","NO",22.22,{"$f":"SUMIF('Contractor##'!C:C,'Planned Maint v6.2 CSV File'!C:C,'Contractor##'!F:F)","v":-0.2},17.776,"Immersion Heater:Isolate supply, disconnect, clear away and renew or supply and install immersion booster switch and and moulded plastic mounting box, including plugging to walls as necessary, remake all necessary connections, reconnect electricity supply, undertake electrical tests and make good on completion, and remove waste and debris."]
["8250AA","WATER HEATER:RENEW 3KW 7 LITRE","ELECTRICAL","Space Point and Water Heating Appliances","Water Storage Heaters","NO",124.96,{"$f":"SUMIF('Contractor##'!C:C,'Planned Maint v6.2 CSV File'!C:C,'Contractor##'!F:F)","v":-0.2},99.968000000000004,"Water Heater:Isolate water and electrical supplies, drain down, disconnect, clear away and renew 3kW 7 litre water storage heater, reconnect water supply, refill and test, remake all connections, reconnect electricity supply, electrical tests and leave in working order on completion, and remove waste and debris."]
["8250BA","WATER HEATER:RENEW 3KW 100 LITRE","ELECTRICAL","Space Point and Water Heating Appliances","Water Storage Heaters","NO",473.34,{"$f":"SUMIF('Contractor##'!C:C,'Planned Maint v6.2 CSV File'!C:C,'Contractor##'!F:F)","v":-0.2},378.67200000000003,"Water Heater:Isolate water and electrical supplies, drain down, disconnect, clear away and renew with 3kW, ne 100 litre water storage heater, reconnect water supply, refill and test, remake all connections, reconnect electricity supply, electrical tests and leave in working order on completion, and remove waste and debris."]
["8250CA","WATER HEATER:RENEW 3KW NE 30 LITRE","ELECTRICAL","Space Point and Water Heating Appliances","Water Storage Heaters","NO",316.95999999999998,{"$f":"SUMIF('Contractor##'!C:C,'Planned Maint v6.2 CSV File'!C:C,'Contractor##'!F:F)","v":-0.2},253.56799999999998,"Water Heater:Isolate water and electrical supplies, drain down, disconnect, clear away and renew with 3kW, ne 30 litre water storage heater, reconnect water supply, refill and test, remake all connections, reconnect electricity supply, electrical tests and leave in working order on completion, and remove waste and debris."]
["8250DA","WATER HEATER:RENEW SWITCH","ELECTRICAL","Space Point and Water Heating Appliances","Water Storage Heaters","NO",33.04,{"$f":"SUMIF('Contractor##'!C:C,'Planned Maint v6.2 CSV File'!C:C,'Contractor##'!F:F)","v":-0.2},26.432000000000002,"Water Heater:Isolate supply, disconnect, clear away and renew 20 amp double pole immersion heater switch marked ‘WATER HEATER’, 2-hr run-back timer, neon indicator, and moulded plastic mounting box, including plugging walls as necessary, remake all necessary connections, reconnect electricity supply, undertake electrical tests and make good on completion, and remove waste and debris."]
["8250DB","WATER HEATER:RENEW EC7 TIMER SWITCH","ELECTRICAL","Space Point and Water Heating Appliances","Water Storage Heaters","NO",29.92,{"$f":"SUMIF('Contractor##'!C:C,'Planned Maint v6.2 CSV File'!C:C,'Contractor##'!F:F)","v":-0.2},23.936000000000003,"Water Heater:Isolate supply, disconnect, clear away and renew EC7 micro 24hr timer switch to water heater, dismantle and reassemble access covers, reset, reconnect electricity supply, electrical tests, leave in working order and remove waste and debris."]
["8300AA","SHOWER:INSTALL NEW NE 8.5KW UNIT","ELECTRICAL","Electrical Appliances","Showers - Electric","NO",356.97,{"$f":"SUMIF('Contractor##'!C:C,'Planned Maint v6.2 CSV File'!C:C,'Contractor##'!F:F)","v":-0.2},285.57600000000002,"Shower:Supply and install new ne 8.5KW shower unit including plugging walls as necessary, connect to water and electrical supplies including provision of shower circuit including mini-trunking or rigid PVC conduit chased in wall etc, incorporating RCD protection, MCB 45amp, DP switch and all adjustments to pipework and electrical supply as necessary, fill, test and undertake tests, provide certificate, make good to all finishes, and remove waste and debris."]
["8300AB","SHOWER:INSTALL 8.7 KW COMPLETE","ELECTRICAL","Electrical Appliances","Showers - Electric","IT",511.97,{"$f":"SUMIF('Contractor##'!C:C,'Planned Maint v6.2 CSV File'!C:C,'Contractor##'!F:F)","v":-0.2},409.57600000000002,"Shower:Supply and fix new ne 8.7 kW electric shower unit complete incorporating advanced temperature stabiliser for constant temperature control, including plugging walls as necessary, connect to water and electrical supplies including provision of shower circuit including mini-trunking or rigid PVC conduit chased in wall etc, incorporating RCD protection, MCB 45amp, DP switch and all adjustments to pipework and electrical supply as necessary, fill, test and undertake tests, provide certificate, make good to all finishes, and remove waste and debris."]
["8300BA","SHOWER:RENEW NE 8.7KW UNIT","ELECTRICAL","Electrical Appliances","Showers - Electric","NO",322.76,{"$f":"SUMIF('Contractor##'!C:C,'Planned Maint v6.2 CSV File'!C:C,'Contractor##'!F:F)","v":-0.2},258.20800000000003,"Shower:Isolate and disconnect water/electricity supplies, disconnect and clear away existing and renew with ne 8.7KW shower unit including plug walls as necessary, adjust and reconnect water supply, fill, test all newly made joints and adjust, remake all connections to cables, install RCD protection to shower circuit if missing, MCB 45amp, reconnect electricity supply, and undertake tests, provide certificate, make good to all finishes, and remove waste and debris."]
["8300BB","SHOWER:RENEW 8.7 KW COMPLETE","ELECTRICAL","Electrical Appliances","Showers - Electric","IT",477.76,{"$f":"SUMIF('Contractor##'!C:C,'Planned Maint v6.2 CSV File'!C:C,'Contractor##'!F:F)","v":-0.2},382.20800000000003,"Shower:Renew shower unit with ne 8.7 kW electric shower unit complete incorporating advanced temperature stabiliser for constant temperature control, including plug walls as necessary, adjust and reconnect water supply, fill, test all newly made joints and adjust, remake all connections to cables, install RCD protection to shower circuit if missing, MCB 45amp, reconnect electricity supply, and undertake tests, provide certificate, make good to all finishes, and remove waste and debris."]
["8300CA","SHOWER:DISCONNECT SEAL AND MAKE SAFE","ELECTRICAL","Electrical Appliances","Showers - Electric","NO",18.7,{"$f":"SUMIF('Contractor##'!C:C,'Planned Maint v6.2 CSV File'!C:C,'Contractor##'!F:F)","v":-0.2},14.96,"Shower:Isolate supply and disconnect shower unit, fix temporary sealing box to exposed cable and leave safe."]
["8300DA","SHOWER:RECONNECT AND TEST","ELECTRICAL","Electrical Appliances","Showers - Electric","NO",24.44,{"$f":"SUMIF('Contractor##'!C:C,'Planned Maint v6.2 CSV File'!C:C,'Contractor##'!F:F)","v":-0.2},19.552000000000003,"Shower:Reconnect shower unit, test all supplies including carry out electrical tests and leave in working order and remove waste and debris."]
["8300EA","SHOWER:RENEW CIRCUIT","ELECTRICAL","Electrical Appliances","Showers - Electric","NO",126.56,{"$f":"SUMIF('Contractor##'!C:C,'Planned Maint v6.2 CSV File'!C:C,'Contractor##'!F:F)","v":-0.2},101.248,"Shower:Isolate supply, disconnect, strip out, clear away and renew shower circuit including mini-trunking or rigid PVC conduit chased into wall etc, incorporating RCD protection, 40 amp DP switch and make all necessary connections, reconnect electricity supply, undertake electrical tests, provide certificate, make good on completion, and remove waste and debris."]
["8300FA","SHOWER:RENEW 45A CEILING SWITCH","ELECTRICAL","Electrical Appliances","Showers - Electric","NO",31.27,{"$f":"SUMIF('Contractor##'!C:C,'Planned Maint v6.2 CSV File'!C:C,'Contractor##'!F:F)","v":-0.2},25.016000000000002,"Shower:Isolate supply, disconnect, clear away and renew 45 amp one way moulded plastic double pole ceiling switch, neon indicator, fitted with ceiling switch cord of 1.5m length, remake all necessary connections, reconnect electricity supply, undertake electrical tests and make good on completion, and remove waste and debris."]
["8300GA","PUMP:INSTALL SHOWER SYSTEM WITH CURTAIN","ELECTRICAL","Electrical Appliances","Showers - Electric","NO",563.30999999999995,{"$f":"SUMIF('Contractor##'!C:C,'Planned Maint v6.2 CSV File'!C:C,'Contractor##'!F:F)","v":-0.2},450.64799999999997,"Pump:Supply and install new proprietary pumped water system complete with shower head, hose, pipework and controls, including plugging walls as necessary, connect to water and electrical supplies including 200/240 V transformer as necessary, including provision of 45A DP switch located outside of bathroom and all adjustments to existing pipework including new service valve and in line scale reducer, and electrical supply as necessary, fill, test and undertake earth fault loop impedance test, all cabling in mini trunking, including curtain and rail, make good all finishes, and remove waste and debris. [PC Sum for supply and delivery of pumped water system £380.00 excluding VAT]"]
["8300GB","PUMP:RENEW SHOWER SYSTEM ","ELECTRICAL","Electrical Appliances","Showers - Electric","NO",520.5,{"$f":"SUMIF('Contractor##'!C:C,'Planned Maint v6.2 CSV File'!C:C,'Contractor##'!F:F)","v":-0.2},416.40000000000003,"Pump:Isolate and disconnect water/electricity supplies, disconnect and clear away existing and renew proprietary pumped shower reconnect to water and electrical supplies including 200/240 V transformer as necessary, including plug walls as necessary, adjust and reconnect water supply, fill, test all newly made joints and adjust, remake all connections to cables, install RCD protection to shower circuit if missing, MCB 45amp, reconnect electricity supply, reconnect shower hose and head and undertake tests, provide certificate, make good to all finishes, and remove waste and debris. [PC Sum for supply and delivery of pumped shower £380.00 excluding VAT]"]
["8300GC","PUMP:INSTALL SHOWER SYSTEM OVER BATH","ELECTRICAL","Electrical Appliances","Showers - Electric","NO",1052.5,{"$f":"SUMIF('Contractor##'!C:C,'Planned Maint v6.2 CSV File'!C:C,'Contractor##'!F:F)","v":-0.2},842,"Pump:Supply and install new thermostatic shower controller and Monsoon twin shower booster pump pumped water system complete with shower head, riser rail, hose, pipework and controls, including plugging walls as necessary, connect to water and electrical supplies including 200/240 V transformer as necessary, including provision of 45A DP switch located outside of bathroom and all adjustments to pipework and electrical supply as necessary, MCB and RCD protection, provision of pipework to cold water storage tank and hot water cylinder, stopcock and isolating valves, including in line scale reducer, fill, test and undertake earth fault loop impedance test, all cabling in mini trunking, including new full height glazed wall tiling to bath area, silicone sealant to bath, make good all finishes, and remove waste and debris. [PC Sum for supply and delivery of shower controller and pumped water system £650.00 excluding VAT]"]
["8300GD","PUMP:RENEW BOOSTED SHOWER CONTROLLER","ELECTRICAL","Electrical Appliances","Showers - Electric","NO",355.62,{"$f":"SUMIF('Contractor##'!C:C,'Planned Maint v6.2 CSV File'!C:C,'Contractor##'!F:F)","v":-0.2},284.49600000000004,"Pump:Isolate and disconnect water/electricity supplies, disconnect and clear away existing and renew thermostatic shower controller, to pumped shower ssystem including plugging walls as necessary, connect to water and electrical supplies including 200/240 V transformer as necessary, adjust and reconnect water supply, fill, test all newly made joints and adjust, remake all connections to cables, install RCD protection to shower circuit if missing, MCB 45amp, reconnect electricity supply, reconnect to pump and shower hose and head and undertake tests, provide certificate, make good to all finishes, and remove waste and debris [PC Sum for supply and delivery of shower controller £250.00 excluding VAT]"]
["8300GE","PUMP:RENEW BOOSTED SHOWER PUMP","ELECTRICAL","Electrical Appliances","Showers - Electric","NO",426.25,{"$f":"SUMIF('Contractor##'!C:C,'Planned Maint v6.2 CSV File'!C:C,'Contractor##'!F:F)","v":-0.2},341,"Pump:Isolate and disconnect water/electricity supplies, disconnect and clear away existing and renew Monsoon twin shower booster pump to pumped shower system including plugging walls as necessary, connect to water and electrical supplies including 200/240 V transformer as necessary, adjust and reconnect water supply, fill, test all newly made joints and adjust, remake all connections to cables, install RCD protection to shower circuit if missing, MCB 45amp, reconnect electricity supply, reconnect to shower and undertake tests, provide certificate, make good to all finishes, and remove waste and debris [PC Sum for supply and delivery of shower pump £300.00 excluding VAT]"]
["8350AA","ELECTRIC COOKER:DISCONNECT AND MAKE SAFE","ELECTRICAL","Electrical Appliances","Domestic Type Cookers","NO",5.9,{"$f":"SUMIF('Contractor##'!C:C,'Planned Maint v6.2 CSV File'!C:C,'Contractor##'!F:F)","v":-0.2},4.7200000000000006,"Electric Cooker:Isolate supply and disconnect electric cooker, fix temporary sealing box to exposed cable and leave safe."]
["8350BA","ELECTRIC COOKER:RECONNECT AND TEST","ELECTRICAL","Electrical Appliances","Domestic Type Cookers","NO",7.33,{"$f":"SUMIF('Contractor##'!C:C,'Planned Maint v6.2 CSV File'!C:C,'Contractor##'!F:F)","v":-0.2},5.8640000000000008,"Electric Cooker:Reconnect cooker, carry out electrical tests and leave in working order and remove waste and debris."]
["8350CA","COOKER:RENEW CIRCUIT","ELECTRICAL","Electrical Appliances","Cooker Control Units and Circuits","NO",101.24,{"$f":"SUMIF('Contractor##'!C:C,'Planned Maint v6.2 CSV File'!C:C,'Contractor##'!F:F)","v":-0.2},80.992000000000004,"Cooker:Isolate supply, strip out, clear away and renew cooker circuit including fitting of wall mounted control box, cable run in mini-trunking or rigid PVC conduit chased into walls or drawn through existing conduit and make all necessary connections to existing cooker, reconnect electric supply, undertake electrical tests, provide certificate, make good on completion, and remove waste and debris."]
["8350DA","COOKER:RENEW UNIT AND CIRCUIT","ELECTRICAL","Electrical Appliances","Cooker Control Units and Circuits","NO",53.58,{"$f":"SUMIF('Contractor##'!C:C,'Planned Maint v6.2 CSV File'!C:C,'Contractor##'!F:F)","v":-0.2},42.864000000000004,"Cooker:Isolate supply, strip out, clear away and renew link circuit from cooker control unit to cooker outlet plate, cable run in mini- trunking or rigid PVC conduit chased into existing walls or drawn through existing conduit and make all connections to cooker control unit, supply and fix new cooker outlet plate and make connection to cooker, undertake electrical tests, provide certificate, make good on completion, and remove waste and debris."]
["8350DB","COOKER:RENEW CONTROL UNIT AND SWITCH","ELECTRICAL","Electrical Appliances","Cooker Control Units and Circuits","NO",31.8,{"$f":"SUMIF('Contractor##'!C:C,'Planned Maint v6.2 CSV File'!C:C,'Contractor##'!F:F)","v":-0.2},25.44,"Cooker:Isolate supply, disconnect, clear away and renew 45/50 amp surface mounted plastic cooker unit, with plastic mounting-box, and double pole switch, including plugging to walls as necessary, remake all necessary connections to cables, reconnect electricity supply, undertake electrical tests and make good on completion, and remove waste and debris."]
["8350DC","COOKER:RENEW METAL CONTROL UNIT","ELECTRICAL","Electrical Appliances","Cooker Control Units and Circuits","NO",47.57,{"$f":"SUMIF('Contractor##'!C:C,'Planned Maint v6.2 CSV File'!C:C,'Contractor##'!F:F)","v":-0.2},38.056000000000004,"Cooker:Isolate supply, disconnect, clear away and renew 45/50 amp flush type metal cooker control unit and flush box, and double pole switch, including plugging to walls as necessary, remake all necessary connections to cables, reconnect electricity supply, undertake electrical tests and make good on completion, and remove waste and debris."]
["8350DD","COOKER:RENEW CONTROL PLATE","ELECTRICAL","Electrical Appliances","Cooker Control Units and Circuits","NO",31.62,{"$f":"SUMIF('Contractor##'!C:C,'Planned Maint v6.2 CSV File'!C:C,'Contractor##'!F:F)","v":-0.2},25.296000000000003,"Cooker:Isolate supply, disconnect, clear away and renew 45/50 amp surface mounted cooker control unit plate with double pole switch, including plugging to walls as necessary, remake all necessary connections to cables, reconnect electricity supply, undertake electrical tests and make good on completion, and remove waste and debris."]
["8350EA","COOKER:RENEW COOKER OUTLET PLATE","ELECTRICAL","Electrical Appliances","Cooker Control Units and Circuits","NO",9.15,{"$f":"SUMIF('Contractor##'!C:C,'Planned Maint v6.2 CSV File'!C:C,'Contractor##'!F:F)","v":-0.2},{"$f":"(1+H2756)*G2756","v":7.32},"Cooker:Isolate supply, disconnect, clear away and renew cooker outlet plate and make connections to cooker link circuit and to cooker cable, reconnect electricity supply, undertake electrical tests and make good on completion, and remove waste and debris."]
["8400AA","FAN:RENEW MINIMUM 60LTR PER SECOND","ELECTRICAL","Ventilation","Fans - Ventilating","NO",89.25,{"$f":"SUMIF('Contractor##'!C:C,'Planned Maint v6.2 CSV File'!C:C,'Contractor##'!F:F)","v":-0.2},71.400000000000006,"Fan:Isolate supply, disconnect, clear away and renew window/wall mounted plastic cased fan, single speed motor class 1, earthed, integral back draught shutter with trickle ventilation control facility, cord operated, plastic pipe duct extension, external wall grille, fan capable of handling min 60 litre/second and trickle ventilator with total area of 4000mm2, remake all necessary connections, reconnect electricity supply, undertake electrical tests and make good all finishes, and remove waste and debris."]
["8400AB","FAN:RENEW BUILT IN WALL FAN","ELECTRICAL","Ventilation","Fans - Ventilating","NO",91.65,{"$f":"SUMIF('Contractor##'!C:C,'Planned Maint v6.2 CSV File'!C:C,'Contractor##'!F:F)","v":-0.2},73.320000000000007,"Fan:Isolate supply, disconnect, clear away and renew built in wall fan, plastic cased, single speed motor class 1, earthed, integral back draught shutter with trickle ventilation control facility, electrically operated, external wall grille, inner grille size 289x273mm fan capable of handling min 60 litre/second and trickle vent with total area of 4000mm2, remake all necessary connections, reconnect electricity supply, undertake electrical tests and make good all finishes, and remove waste and debris."]
["8400AC","FAN:RENEW 2 SPEED WALL OR DUCT FAN","ELECTRICAL","Ventilation","Fans - Ventilating","NO",155.52000000000001,{"$f":"SUMIF('Contractor##'!C:C,'Planned Maint v6.2 CSV File'!C:C,'Contractor##'!F:F)","v":-0.2},124.41600000000001,"Fan:Isolate supply, disconnect, clear away and renew with plastic cased through-wall or ducted fan with two speed motor class 2, double insulated, air operated automatic back draught shutter with fan capable of handling 76 litre/second at high speed and 38 litre/ second at low speed, provide wall grille if necessary, remake all necessary connections, reconnect electricity supply, undertake electrical tests and make good all finishes, and remove waste and debris."]
["8400AD","FAN:RENEW SINGLE SPEED WALL OR DUCT FAN","ELECTRICAL","Ventilation","Fans - Ventilating","NO",103.25,{"$f":"SUMIF('Contractor##'!C:C,'Planned Maint v6.2 CSV File'!C:C,'Contractor##'!F:F)","v":-0.2},82.600000000000009,"Fan:Isolate supply, disconnect, clear away and renew with plastic cased through-wall or ducted fan with single speed motor class 2, double insulated complete with integral back draught automatic shutter, fan capable of handling min 26 litre/second, provide wall grille if necessary, remake all necessary connections, reconnect electricity supply, undertake electrical tests and make good all finishes, and remove waste and debris."]
["8400AE","FAN:RENEW IN LINE DUCT FAN","ELECTRICAL","Ventilation","Fans - Ventilating","NO",105.87,{"$f":"SUMIF('Contractor##'!C:C,'Planned Maint v6.2 CSV File'!C:C,'Contractor##'!F:F)","v":-0.2},84.696000000000012,"Fan:Isolate supply, disconnect, clear away and renew built in, in line duct fan comprising single speed motor class 1 earthed, fan capable of handling minimum 60 litre/second, remake all necessary connections, reconnect electricity supply, undertake electrical tests and make good all finishes, and remove waste and debris."]
["8400BA","FAN:RENEW CEILING OR DUCT FAN","ELECTRICAL","Ventilation","Fans - Ventilating","NO",124.1,{"$f":"SUMIF('Contractor##'!C:C,'Planned Maint v6.2 CSV File'!C:C,'Contractor##'!F:F)","v":-0.2},99.28,"Fan:Isolate supply, disconnect, clear away and renew ceiling or ceiling duct fan complete with single speed motor class 1, earthed, integral air operated back draught shutter with fan capable of handling ne 81 litre/second, remake all necessary connections, reconnect electricity supply, undertake electrical tests and make good all finishes, and remove waste and debris."]
["8400BB","FAN:RENEW FIRE DAMP CEILING OR DUCT FAN","ELECTRICAL","Ventilation","Fans - Ventilating","NO",123.7,{"$f":"SUMIF('Contractor##'!C:C,'Planned Maint v6.2 CSV File'!C:C,'Contractor##'!F:F)","v":-0.2},98.960000000000008,"Fan:Isolate supply, disconnect, clear away and renew ceiling or ceiling duct fan complete with opposed blade fire dampers, single speed motor class 1, earthed, back draught shutter with fan capable of handling ne 81 litre/second, remake all necessary connections, reconnect electricity supply, undertake electrical tests and make good all finishes, and remove waste and debris."]
["8400CA","FAN:RENEW TOILET OR BATHROOM FAN","ELECTRICAL","Ventilation","Fans - Ventilating","NO",76.849999999999994,{"$f":"SUMIF('Contractor##'!C:C,'Planned Maint v6.2 CSV File'!C:C,'Contractor##'!F:F)","v":-0.2},61.48,"Fan:Isolate supply, disconnect, clear away and renew toilet or bathroom fan complete with single speed motor class 2, double insulated, integral timer, back draught shutter if required with fan capable of handling 25 litre/second, remake all necessary connections, reconnect electricity supply, undertake electrical tests and make good all finishes, and remove waste and debris."]
["8400TA","FAN:RENEW CIRCUIT AND OUTLET","ELECTRICAL","Ventilation","Fans - Ventilating","NO",79.12,{"$f":"SUMIF('Contractor##'!C:C,'Planned Maint v6.2 CSV File'!C:C,'Contractor##'!F:F)","v":-0.2},63.296000000000006,"Fan:Isolate supply, strip out, clear away and renew fan spur with cable run in mini-trunking or rigid PVC conduit chased into wall etc., including fitting of 20 amp fused spur oulet and reconnection of existing fan flex, reconnect electricity supply, undertake electrical tests, provide certificate, make good on completion, and remove waste and debris."]
["8400TB","FAN:RENEW FLEX CONNECTION","ELECTRICAL","Ventilation","Fans - Ventilating","NO",15.84,{"$f":"SUMIF('Contractor##'!C:C,'Planned Maint v6.2 CSV File'!C:C,'Contractor##'!F:F)","v":-0.2},12.672000000000001,"Fan:Isolate supply, strip out, clear away and renew 1.00m length of 2.5mm 3 core butyl rubber flex to fan and make all necessary connections to 20 amp fused spur outlet and fan, reconnect electricity supply, undertake electrical tests, provide certificate, make good on completion, and remove waste and debris."]
["8410AA","FAN:RENEW 2 SPEED CONDENSATION CONTROL","ELECTRICAL","Ventilation","Fans - Condensation Control","NO",131.63999999999999,{"$f":"SUMIF('Contractor##'!C:C,'Planned Maint v6.2 CSV File'!C:C,'Contractor##'!F:F)","v":-0.2},105.312,"Fan:Isolate supply, disconnect, clear away and renew with plastic cased through-wall or ducted condensation control fan with 2 speed motor, class 2 double insulated, back draught shutter with fan capable of handling 61 litre/second at high speed and 41 litre/second at low speed, provide wall grille if necessary, remake all necessary connections, reconnect electricity supply, undertake electrical tests and make good all finishes, and remove waste and debris."]
["8410AB","FAN:RENEW VARIABLE SPEED CONDENSATION CONTROL","ELECTRICAL","Ventilation","Fans - Condensation Control","NO",142.41999999999999,{"$f":"SUMIF('Contractor##'!C:C,'Planned Maint v6.2 CSV File'!C:C,'Contractor##'!F:F)","v":-0.2},113.93599999999999,"Fan:Isolate supply, disconnect, clear away and renew with plastic cased through-wall or ducted condensation control fan with variable speed motor class 2 double insulated, back draught shutter, capable of handling 14-22 litre/second at variable speed, 26 litre/second man. boost, provide wall grille necessary, remake all necessary connections, reconnect electricity supply, undertake electrical tests and make good all finishes, and remove waste and debris."]
["8410AC","FAN:RENEW VARIABLE SPEED TIMER","ELECTRICAL","Ventilation","Fans - Condensation Control","NO",154.57,{"$f":"SUMIF('Contractor##'!C:C,'Planned Maint v6.2 CSV File'!C:C,'Contractor##'!F:F)","v":-0.2},123.65600000000001,"Fan:Isolate supply, disconnect, clear away and renew with plastic cased through-wall or ducted condensation control fan with variable speed motor and timer, class 2 double insulated, back draught shutter, fan capable of handling 14-22 litre/second at variable speed, 26 litre/second man. boost, provide wall grille if necessary, remake all necessary connections, reconnect electricity supply, undertake electrical tests and make good all finishes, and remove waste and debris."]
["8410XA","FAN:INSTALL 2 SPEED CONDENSATION CONTROL","ELECTRICAL","Ventilation","Fans - Condensation Control","NO",154.49,{"$f":"SUMIF('Contractor##'!C:C,'Planned Maint v6.2 CSV File'!C:C,'Contractor##'!F:F)","v":-0.2},123.59200000000001,"Fan:Install plastic cased through-wall or ducted condensation control fan with 2 speed motor, class 2 double insulated, back draught shutter with fan capable of handling 61 litre/second at high speed and 41 litre/second at low speed, install electrical circuit with fused spur outlet and external shutter, connect, test and adjust settings including cutting out through wall provision of sleeve and terminal and making good wall and finishes, provide wall grille if necessary, remake all necessary connections, undertake electrical tests and make good all finishes, and remove waste and debris."]
["8410XB","FAN:INSTALL LOW VOLTAGE TRANSFORMER TYPE","ELECTRICAL","Ventilation","Fans - Condensation Control","NO",120.22,{"$f":"SUMIF('Contractor##'!C:C,'Planned Maint v6.2 CSV File'!C:C,'Contractor##'!F:F)","v":-0.2},96.176000000000002,"Fan:Install plastic cased through-wall or ducted low voltage transformer condensation control fan, class 2 double insulated, back draught shutter, install electrical circuit with fused spur outlet and external shutter, connect, test and adjust settings including cutting out through wall provision of sleeve and terminal and making good wall and finishes, provide wall grille if necessary, remake all necessary connections, undertake electrical tests and make good all finishes, and remove waste and debris."]
["8410XC","FAN:RENEW WITH LOW VOLTAGE TRANSFORMER TYPE","ELECTRICAL","Ventilation","Fans - Condensation Control","NO",112.89,{"$f":"SUMIF('Contractor##'!C:C,'Planned Maint v6.2 CSV File'!C:C,'Contractor##'!F:F)","v":-0.2},90.312000000000012,"Fan:Isolate supply, disconnect, clear away and renew with plastic cased through-wall or ducted low voltage transformer condensation control fan, class 2 double insulated, back draught shutter, provide wall grille if necessary, remake all necessary connections, reconnect electricity supply, undertake electrical tests and make good all finishes, and remove waste and debris."]
["8411AA","VENT UNIT:INSTALL DRIMASTER 5","ELECTRICAL","Ventilation","Low Energy Positive Output, Whole House Ventilation","IT",336,{"$f":"SUMIF('Contractor##'!C:C,'Planned Maint v6.2 CSV File'!C:C,'Contractor##'!F:F)","v":-0.2},268.8,"Vent Unit:Install Home Ventilation Ltd’s Drimaster 5 ventilation unit or other equal and approved in loft space of dwelling, cut or form opening for diffuser in ceiling, supplied complete with ducting, diffuser and filters, unit to be screwed to and including battens spanning across and screwed to joists, connect unit to and including DP switched fuse spur, isolate supply, connect to existing ring main with cable run in mini trunking or rigid pvc conduit, reconnect electricity supply, adjust setting, undertake electrical tests and make good all finishes, and remove waste and debris."]
["8411BA","VENT UNIT:INSTALL FLATMASTER 5","ELECTRICAL","Ventilation","Low Energy Positive Output, Whole House Ventilation","IT",399,{"$f":"SUMIF('Contractor##'!C:C,'Planned Maint v6.2 CSV File'!C:C,'Contractor##'!F:F)","v":-0.2},319.20000000000005,"Vent Unit:Install Home Ventilation Ltd’s Flatmaster 5 ventilation system or other equal and approved, cut or form opening in external cavity wall for input grille, cut or form opening in internal wall for discharge grille, install unit, grilles, 100mm ducting, unit plugged and screwed to wall, connect unit to and including DP switched fuse spur, isolate supply, connect to existing ring main with cable run in mini trunking or rigid pvc conduit, reconnect electricity supply, adjust setting, undertake electrical tests and make good all finishes, and remove waste and debris.."]
["8412AA","RECOVERY UNIT:INSTALL ROOM MOUNTED","ELECTRICAL","Ventilation","Heat Recovery Units","NO",787.5,{"$f":"SUMIF('Contractor##'!C:C,'Planned Maint v6.2 CSV File'!C:C,'Contractor##'!F:F)","v":-0.2},630,"Recovery Unit:Install ‘Ductex’ HRV room mounted central air handling unit/system Ref 250R or other equal and approved to flat including all rigid plastic and flexible ducting, tees, bends etc., silencers, air valves, grilles and insulation, fixed louvred vent outlets, variable fan speed controls, winter/summer switch, connect unit to and including DP switched fuse spur, isolate supply, connect to existing consumer unit with cable run in mini trunking or rigid pvc conduit, MCB, reconnect electricity supply, adjust settings, undertake electrical tests, certificate, all builders work, make good all finishes, and remove waste and debris."]
["8412BA","RECOVERY UNIT:INSTALL LOFT MOUNTED","ELECTRICAL","Ventilation","Heat Recovery Units","NO",840,{"$f":"SUMIF('Contractor##'!C:C,'Planned Maint v6.2 CSV File'!C:C,'Contractor##'!F:F)","v":-0.2},672,"Recovery Unit:Install ‘Ductex’ HRV loft mounted central air handling unit/system Ref 275L or other equal and approved to house or bungalow including all rigid plastic and flexible ducting, tees, bends etc., silencers, air valves, grilles and insulation, fixed louvred vent outlets, variable fan speed controls, winter/summer switch, connect unit to and including DP switched fuse spur, isolate supply, connect to existing consumer unit with cable run in mini trunking or rigid pvc conduit, MCB, reconnect electricity supply, adjust settings, undertake electrical tests, certificate, all builders work, make good all finishes, and remove waste and debris."]
["8545AA","LIGHT:RENEW GROUND FLOOR CIRCUIT 1 WAY","ELECTRICAL","Final Circuits","Final Circuits - Lighting","NO",60.35,{"$f":"SUMIF('Contractor##'!C:C,'Planned Maint v6.2 CSV File'!C:C,'Contractor##'!F:F)","v":-0.2},48.28,"Light:Isolate supply, strip out, clear away and renew one-way lighting circuit, including installation of mini-trunking or rigid PVC conduit chased into wall etc., switch, pendant or similar to 1 No. ground floor lighting point, reconnect electricity supply, undertake electrical tests, provide certificate, make good on completion, and remove waste and debris."]
["8545BA","LIGHT:RENEW GROUND FLOOR CIRCUIT 2 WAY","ELECTRICAL","Final Circuits","Final Circuits - Lighting","NO",95.6,{"$f":"SUMIF('Contractor##'!C:C,'Planned Maint v6.2 CSV File'!C:C,'Contractor##'!F:F)","v":-0.2},76.48,"Light:Isolate supply, strip out, clear away and renew two-way lighting circuit, including installation of mini-trunking or rigid PVC conduit chased into wall etc., switch, pendant or similar to 1 No. ground floor lighting point, reconnect electricity supply, undertake electrical tests, provide certificate, make good on completion, and remove waste and debris."]
["8545CA","LIGHT:RENEW UPPER FLOOR CIRCUIT 1 WAY","ELECTRICAL","Final Circuits","Final Circuits - Lighting","NO",55.9,{"$f":"SUMIF('Contractor##'!C:C,'Planned Maint v6.2 CSV File'!C:C,'Contractor##'!F:F)","v":-0.2},44.72,"Light:Isolate supply, strip out, clear away and renew one-way lighting circuit, including installation of mini-trunking or rigid PVC conduit chased into wall etc., switch, pendant or similar to 1 No. upper floor lighting point, reconnect electricity supply, undertake electrical tests, provide certificate, make good on completion, and remove waste and debris."]
["8545DA","LIGHT:RENEW UPPER FLOOR CIRCUIT 2 WAY","ELECTRICAL","Final Circuits","Final Circuits - Lighting","NO",87.81,{"$f":"SUMIF('Contractor##'!C:C,'Planned Maint v6.2 CSV File'!C:C,'Contractor##'!F:F)","v":-0.2},70.248000000000005,"Light:Isolate supply, strip out, clear away and renew two-way lighting circuit including installation of mini-trunking or rigid PVC conduit making all necessary chasing into wall etc., switched pendant or similar to 1 No. upper floor lighting point, reconnect electricity supply, undertake electrical tests, provide certificate, make good on completion, and remove waste and debris."]
["8547EA","LIGHT:RENEW HALL/STAIRWAY CIRCUIT 2 WAY","ELECTRICAL","Final Circuits","Final Circuits - Lighting","NO",111.3,{"$f":"SUMIF('Contractor##'!C:C,'Planned Maint v6.2 CSV File'!C:C,'Contractor##'!F:F)","v":-0.2},89.04,"Light:Isolate supply, strip out, clear away and renew two-way lighting point to hall/stairway including installation of mini-trunking or rigid PVC conduit, chased into wall etc., switches, pendant or similar, reconnect electricity supply, undertake electrical tests, provide certificate, make good on completion, and remove waste and debris."]
["8550AA","POWER:RENEW RING MAIN GROUND NE 4 NO SOCKETS","ELECTRICAL","Final Circuits","Final Circuits - Power","NO",264.83999999999997,{"$f":"SUMIF('Contractor##'!C:C,'Planned Maint v6.2 CSV File'!C:C,'Contractor##'!F:F)","v":-0.2},211.87199999999999,"Power:Isolate supply, strip out, clear away and renew ring main circuit to ground floor of dwelling with ne 4 No. 13 amp double socket outlets including install mini-trunking or rigid PVC conduit chased into wall etc., reconnect electricity supply, undertake electrical tests, provide certificate, make good on completion, and remove waste and debris."]
["8550BA","POWER:RENEW RING MAIN GROUND 4-8 NO SOCKETS","ELECTRICAL","Final Circuits","Final Circuits - Power","NO",313.06,{"$f":"SUMIF('Contractor##'!C:C,'Planned Maint v6.2 CSV File'!C:C,'Contractor##'!F:F)","v":-0.2},250.44800000000001,"Power:Isolate supply, strip out, clear away and renew ring main circuit to ground floor of dwelling with over 4 No. and ne 8 No. 13 amp double socket outlets including install mini-trunking/PVC conduit chased into walls, reconnect electricity supply, undertake electrical tests, provide certificate, make good on completion, and remove waste and debris."]
["8550BB","POWER:RENEW RING MAIN GROUND 8-12 NO SOCKETS","ELECTRICAL","Final Circuits","Final Circuits - Power","NO",368.63,{"$f":"SUMIF('Contractor##'!C:C,'Planned Maint v6.2 CSV File'!C:C,'Contractor##'!F:F)","v":-0.2},294.904,"Power:Isolate supply, strip out, clear away and renew ring main circuit to ground floor of dwelling with over 8 No. and ne 12 No. 13 amp double socket outlets including install mini-trunking/PVC conduit chased into walls, reconnect electricity supply, undertake electrical tests, provide certificate, make good on completion, and remove waste and debris."]
["8550CA","POWER:RENEW UPPER RING MAIN NE 4 NO SOCKETS","ELECTRICAL","Final Circuits","Final Circuits - Power","NO",240.46,{"$f":"SUMIF('Contractor##'!C:C,'Planned Maint v6.2 CSV File'!C:C,'Contractor##'!F:F)","v":-0.2},192.36800000000002,"Power:Isolate supply, strip out, clear away and renew ring main circuit to upper floor of dwelling including installation of mini-trunking or rigid PVC conduit chased into wall etc., with ne 4 No. 13 amp double socket outlets, reconnect electric supply, undertake electrical tests, provide certificate, make good on completion, and remove waste and debris."]
["8550DA","POWER:RENEW UPPER RING MAIN 4-8 NO SOCKETS","ELECTRICAL","Final Circuits","Final Circuits - Power","NO",282.44,{"$f":"SUMIF('Contractor##'!C:C,'Planned Maint v6.2 CSV File'!C:C,'Contractor##'!F:F)","v":-0.2},225.952,"Power:Isolate supply, strip out, clear away and renew ring main circuit to upper floor of dwelling including installation of mini-trunking or rigid PVC conduit chased into wall etc., with over 4 No. ne 8 No. 13 amp double socket outlets, reconnect electricity supply, undertake electrical tests, provide certificate, make good on completion, and remove waste and debris."]
["8550DB","POWER:RENEW UPPER RING MAIN 8-12 NO SOCKETS","ELECTRICAL","Final Circuits","Final Circuits - Power","NO",355.16,{"$f":"SUMIF('Contractor##'!C:C,'Planned Maint v6.2 CSV File'!C:C,'Contractor##'!F:F)","v":-0.2},284.12800000000004,"Power:Isolate supply, strip out, clear away and renew ring main circuit to upper floor of dwelling including installation of mini-trunking or rigid PVC conduit chased into wall etc., with over 8 No. ne 12 No. 13 amp double socket outlets, reconnect electricity supply, undertake electrical tests, provide certificate, make good on completion, and remove waste and debris."]
["8550EA","POWER:RENEW SPUR OUTLET GROUND FLOOR NE 10M","ELECTRICAL","Final Circuits","Final Circuits - Power","NO",77.75,{"$f":"SUMIF('Contractor##'!C:C,'Planned Maint v6.2 CSV File'!C:C,'Contractor##'!F:F)","v":-0.2},62.2,"Power:Isolate supply, strip out, clear away and renew 13 amp spur outlet to ground floor, connect to existing ring main, with cable run in mini-trunking or rigid PVC conduit chased into wall ne 10.00m, make all necessary connections, reconnect electricity supply, undertake electrical tests, provide certificate, make good on completion, and remove waste and debris."]
["8550EB","POWER:NEW SPUR OUTLET GROUND FLOOR NE 10M","ELECTRICAL","Final Circuits","Final Circuits - Power","NO",90.28,{"$f":"SUMIF('Contractor##'!C:C,'Planned Maint v6.2 CSV File'!C:C,'Contractor##'!F:F)","v":-0.2},72.224000000000004,"Power:Isolate supply, provide new 13 amp spur single socket outlet to ground floor, connect to existing ring main with cable run in mini- trunking or rigid PVC conduit chased into wall ne 10.00m, all builders work in connection etc, make all necessary connections, reconnect electricity supply, undertake electrical tests, provide certificate, make good on completion, and remove waste and debris."]
["8550FA","POWER:RENEW SPUR OUTLET UPPER FLOOR NE 10M","ELECTRICAL","Final Circuits","Final Circuits - Power","NO",68.849999999999994,{"$f":"SUMIF('Contractor##'!C:C,'Planned Maint v6.2 CSV File'!C:C,'Contractor##'!F:F)","v":-0.2},55.08,"Power:Isolate supply, strip out, clear away and renew 13 amp spur outlet to upper floor, connect to existing ring main, with cable run in mini-trunking or rigid PVC conduit chased into wall ne 10m, make all necessary connections, reconnect electricity supply, undertake electrical tests, provide certificate, make good on completion, and remove waste and debris."]
["8550FB","POWER:NEW SPUR UPPER FLOOR NE 10M","ELECTRICAL","Final Circuits","Final Circuits - Power","NO",71.44,{"$f":"SUMIF('Contractor##'!C:C,'Planned Maint v6.2 CSV File'!C:C,'Contractor##'!F:F)","v":-0.2},57.152000000000001,"Power:Isolate supply, provide new 13 amp spur single socket outlet to upper floor, connect to existing ring main with cable run in mini- trunking or rigid PVC conduit chased into wall ne 10.00m, all builders work in connection etc, make all necessary connections, reconnect electricity supply, undertake electrical tests, provide certificate, make good on completion, and remove waste and debris."]
["8550GA","POWER:RENEW SOCKET OUTLET-GROUND FLOOR","ELECTRICAL","Final Circuits","Final Circuits - Power","NO",74.92,{"$f":"SUMIF('Contractor##'!C:C,'Planned Maint v6.2 CSV File'!C:C,'Contractor##'!F:F)","v":-0.2},59.936000000000007,"Power:Isolate supply, strip out, clear away and renew 13 amp double socket outlet to ground floor, connect to existing ring main, with cable run in mini-trunking or rigid PVC conduit chased into wall etc, ne 10.00m, make all necessary connections, reconnect electricity supply, undertake electrical tests, provide certificate, make good on completion, and remove waste and debris."]
["8550HA","POWER:RENEW SOCKET OUTLET-UPPER FLOOR","ELECTRICAL","Final Circuits","Final Circuits - Power","NO",64.17,{"$f":"SUMIF('Contractor##'!C:C,'Planned Maint v6.2 CSV File'!C:C,'Contractor##'!F:F)","v":-0.2},51.336000000000006,"Power:Isolate supply, strip out, clear away and renew 13 amp double socket outlet to upper floor, connect to existing ring main, with cable run in mini-trunking or rigid PVC conduit chased into wall etc, ne 10.00m, make all necessary connections, reconnect electricity supply, undertake electrical tests, provide certificate, make good on completion, and remove waste and debris."]
["8551AA","DWELLING:STRIP ELECTRICS 1 BED FLAT","ELECTRICAL","Rewiring to Dwellings","Strip Electrics","IT",120.55,{"$f":"SUMIF('Contractor##'!C:C,'Planned Maint v6.2 CSV File'!C:C,'Contractor##'!F:F)","v":-0.2},96.44,"Dwelling:Strip existing electrical installation from 1 bed flat, retain conduits as necessary and remove waste and debris."]
["8551AB","DWELLING:STRIP ELECTRICS 2 BED FLAT","ELECTRICAL","Rewiring to Dwellings","Strip Electrics","IT",180.82,{"$f":"SUMIF('Contractor##'!C:C,'Planned Maint v6.2 CSV File'!C:C,'Contractor##'!F:F)","v":-0.2},144.65600000000001,"Dwelling:Strip existing electrical installation from 2 bed flat, retain conduits as necessary and remove waste and debris."]
["8551AC","DWELLING:STRIP ELECTRICS 3 BED FLAT","ELECTRICAL","Rewiring to Dwellings","Strip Electrics","IT",241.1,{"$f":"SUMIF('Contractor##'!C:C,'Planned Maint v6.2 CSV File'!C:C,'Contractor##'!F:F)","v":-0.2},192.88,"Dwelling:Strip existing electrical installation from 3 bed flat, retain conduits as necessary and remove waste and debris."]
["8551AD","DWELLING:STRIP ELECTRICS BEDSIT FLAT","ELECTRICAL","Rewiring to Dwellings","Strip Electrics","IT",87.8,{"$f":"SUMIF('Contractor##'!C:C,'Planned Maint v6.2 CSV File'!C:C,'Contractor##'!F:F)","v":-0.2},70.239999999999995,"Dwelling:Strip existing electrical installation from bedsit flat, retain conduits as necessary and remove waste and debris."]
["8551BA","DWELLING:STRIP ELECTRICS 1 BED BUNG","ELECTRICAL","Rewiring to Dwellings","Strip Electrics","IT",120.55,{"$f":"SUMIF('Contractor##'!C:C,'Planned Maint v6.2 CSV File'!C:C,'Contractor##'!F:F)","v":-0.2},96.44,"Dwelling:Strip existing electrical installation from 1 bed bungalow, retain conduits as necessary and remove waste and debris."]
["8551BB","DWELLING:STRIP ELECTRICS 2 BED BUNG","ELECTRICAL","Rewiring to Dwellings","Strip Electrics","IT",180.82,{"$f":"SUMIF('Contractor##'!C:C,'Planned Maint v6.2 CSV File'!C:C,'Contractor##'!F:F)","v":-0.2},144.65600000000001,"Dwelling:Strip existing electrical installation from 2 bed bungalow, retain conduits as necessary and remove waste and debris"]
["8551CA","DWELLING:STRIP ELECTRICS 1 BED HOUSE","ELECTRICAL","Rewiring to Dwellings","Strip Electrics","IT",120.55,{"$f":"SUMIF('Contractor##'!C:C,'Planned Maint v6.2 CSV File'!C:C,'Contractor##'!F:F)","v":-0.2},96.44,"Dwelling:Strip existing electrical installation from 1 bed house/maisonette, retain conduits as necessary and remove waste and debris."]
["8551CB","DWELLING:STRIP ELECTRICS 2 BED HOUSE","ELECTRICAL","Rewiring to Dwellings","Strip Electrics","IT",180.82,{"$f":"SUMIF('Contractor##'!C:C,'Planned Maint v6.2 CSV File'!C:C,'Contractor##'!F:F)","v":-0.2},144.65600000000001,"Dwelling:Strip existing electrical installation from 2 bed house/maisonette, retain conduits as necessary and remove waste and debris."]
["8551CC","DWELLING:STRIP ELECTRICS 3 BED HOUSE","ELECTRICAL","Rewiring to Dwellings","Strip Electrics","IT",241.1,{"$f":"SUMIF('Contractor##'!C:C,'Planned Maint v6.2 CSV File'!C:C,'Contractor##'!F:F)","v":-0.2},192.88,"Dwelling:Strip existing electrical installation from 3 bed house/maisonette, retain conduits as necessary and remove waste and debris."]
["8551CD","DWELLING:STRIP ELECTRICS 4 BED HOUSE","ELECTRICAL","Rewiring to Dwellings","Strip Electrics","IT",313.91000000000003,{"$f":"SUMIF('Contractor##'!C:C,'Planned Maint v6.2 CSV File'!C:C,'Contractor##'!F:F)","v":-0.2},251.12800000000004,"Dwelling:Strip existing electrical installation from 4 bed house/maisonette, retain conduits as necessary and remove waste and debris."]
["8552AA","DWELLING:REWIRE COMPLETE 1 BED FLAT","ELECTRICAL","Rewiring to Dwellings","Rewire Dwellings","IT",1770.4,{"$f":"SUMIF('Contractor##'!C:C,'Planned Maint v6.2 CSV File'!C:C,'Contractor##'!F:F)","v":-0.2},1416.3200000000002,"Dwelling:Rewire power, lighting, fan and smoke detector installations complete to 1 bed flat all in accordance with Client’s Specification from new meter onwards including installing all ceiling pendants, switches, double switched socket outlets, 2 way switching, extractor fans with fused spurs, cooker point, fused spurs and connections for appliances, consumer unit and RCD, earth bonding and protection to latest IEE regulations, new meter tails, disconnecting, setting aside and refixing equipment for convenience of other trades, mini trunking etc, make good all works disturbed, electrical tests, provide certificate and remove waste and debris."]
["8552AB","DWELLING:REWIRE COMPLETE 2 BED FLAT","ELECTRICAL","Rewiring to Dwellings","Rewire Dwellings","IT",1807.27,{"$f":"SUMIF('Contractor##'!C:C,'Planned Maint v6.2 CSV File'!C:C,'Contractor##'!F:F)","v":-0.2},1445.816,"Dwelling:Rewire power, lighting, fan and smoke detector installations complete to 2 bed flat all in accordance with Client’s Specification from new meter onwards including installing all ceiling pendants, switches, double switched socket outlets, 2 way switching, extractor fans with fused spurs, cooker point, fused spurs and connections for appliances, consumer unit and RCD, earth bonding and protection to latest IEE regulations, new meter tails, disconnecting, setting aside and refixing equipment for convenience of other trades, mini trunking etc, make good all works disturbed, electrical tests, provide certificate and remove waste and debris."]
["8552AC","DWELLING:REWIRE COMPLETE 3 BED FLAT","ELECTRICAL","Rewiring to Dwellings","Rewire Dwellings","IT",2006.32,{"$f":"SUMIF('Contractor##'!C:C,'Planned Maint v6.2 CSV File'!C:C,'Contractor##'!F:F)","v":-0.2},1605.056,"Dwelling:Rewire power, lighting, fan and smoke detector installations complete to 3 bed flat all in accordance with Client’s Specification from new meter onwards including installing all ceiling pendants, switches, double switched socket outlets, 2 way switching, extractor fans with fused spurs, cooker point, fused spurs and connections for appliances, consumer unit and RCD, earth bonding and protection to latest IEE regulations, new meter tails, disconnecting, setting aside and refixing equipment for convenience of other trades, mini trunking etc, make good all works disturbed, electrical tests, provide certificate and remove waste and debris."]
["8552AD","DWELLING:REWIRE COMPLETE BEDSIT FLAT","ELECTRICAL","Rewiring to Dwellings","Rewire Dwellings","IT",1547.01,{"$f":"SUMIF('Contractor##'!C:C,'Planned Maint v6.2 CSV File'!C:C,'Contractor##'!F:F)","v":-0.2},1237.6080000000002,"Dwelling:Rewire power, lighting, fan and smoke detector installations complete to bedsit flat all in accordance with Client’s Specification from new meter onwards including installing all ceiling pendants, switches, double switched socket outlets, 2 way switching, extractor fans with fused spurs, cooker point, fused spurs and connections for appliances, consumer unit and RCD, earth bonding and protection to latest IEE regulations, new meter tails, disconnecting, setting aside and refixing equipment for convenience of other trades, mini trunking etc, make good all works disturbed, electrical tests, provide certificate and remove waste and debris."]
["8552BA","DWELLING:REWIRE COMPLETE 1 BED BUNG","ELECTRICAL","Rewiring to Dwellings","Rewire Dwellings","IT",1770.4,{"$f":"SUMIF('Contractor##'!C:C,'Planned Maint v6.2 CSV File'!C:C,'Contractor##'!F:F)","v":-0.2},1416.3200000000002,"Dwelling:Rewire power, lighting, fan and smoke detector installations complete to 1 bed bungalow all in accordance with Client’s Specification from new meter onwards including installing all ceiling pendants, switches, double switched socket outlets, 2 way switching, extractor fans with fused spurs, cooker point, fused spurs and connections for appliances, consumer unit and RCD, earth bonding and protection to latest IEE regulations, new meter tails, disconnecting, setting aside and refixing equipment for convenience of other trades, mini trunking etc, make good all works disturbed, electrical tests, provide certificate and remove waste and debris."]
["8552BB","DWELLING:REWIRE COMPLETE 2 BED BUNG","ELECTRICAL","Rewiring to Dwellings","Rewire Dwellings","IT",1807.27,{"$f":"SUMIF('Contractor##'!C:C,'Planned Maint v6.2 CSV File'!C:C,'Contractor##'!F:F)","v":-0.2},1445.816,"Dwelling:Rewire power, lighting, fan and smoke detector installations complete to 2 bed bungalow all in accordance with Client’s Specification from new meter onwards including installing all ceiling pendants, switches, double switched socket outlets, 2 way switching, extractor fans with fused spurs, cooker point, fused spurs and connections for appliances, consumer unit and RCD, earth bonding and protection to latest IEE regulations, new meter tails, disconnecting, setting aside and refixing equipment for convenience of other trades, mini trunking etc, make good all works disturbed, electrical tests, provide certificate and remove waste and debris."]
["8552CA","DWELLING:REWIRE COMPLETE 1 BED HOUSE","ELECTRICAL","Rewiring to Dwellings","Rewire Dwellings","IT",2049.9699999999998,{"$f":"SUMIF('Contractor##'!C:C,'Planned Maint v6.2 CSV File'!C:C,'Contractor##'!F:F)","v":-0.2},1639.9759999999999,"Dwelling:Rewire power, lighting, fan and smoke detector installations complete to 1 bed house/maisonnette all in accordance with Client’s Specification from new meter onwards including installing all ceiling pendants, switches, double switched socket outlets, 2 way switching, extractor fans with fused spurs, cooker point, fused spurs and connections for appliances, consumer unit and RCD, earth bonding and protection to latest IEE regulations, new meter tails, disconnecting, setting aside and refixing equipment for convenience of other trades, mini trunking etc, make good all works disturbed, electrical tests, provide certificate and remove waste and debris.."]
["8552CB","DWELLING:REWIRE COMPLETE 2 BED HOUSE","ELECTRICAL","Rewiring to Dwellings","Rewire Dwellings","IT",2105.89,{"$f":"SUMIF('Contractor##'!C:C,'Planned Maint v6.2 CSV File'!C:C,'Contractor##'!F:F)","v":-0.2},1684.712,"Dwelling:Rewire power, lighting, fan and smoke detector installations complete to 2 bed house/ maisonnette all in accordance with Client’s Specification from new meter onwards including installing all ceiling pendants, switches, double switched socket outlets, 2 way switching, extractor fans with fused spurs, cooker point, fused spurs and connections for appliances, consumer unit and RCD, earth bonding and protection to latest IEE regulations, new meter tails, disconnecting, setting aside and refixing equipment for convenience of other trades, mini trunking etc, make good all works disturbed, electrical tests, provide certificate and remove waste and debris."]
["8552CC","DWELLING:REWIRE COMPLETE 3 BED HOUSE","ELECTRICAL","Rewiring to Dwellings","Rewire Dwellings","IT",2308.85,{"$f":"SUMIF('Contractor##'!C:C,'Planned Maint v6.2 CSV File'!C:C,'Contractor##'!F:F)","v":-0.2},1847.08,"Dwelling:Rewire power, lighting, fan and smoke detector installations complete to 3 bed house/maisonnette all in accordance with Client’s Specification from new meter onwards including installing all ceiling pendants, switches, double switched socket outlets, 2 way switching, extractor fans with fused spurs, cooker point, fused spurs and connections for appliances, consumer unit and RCD, earth bonding and protection to latest IEE regulations, new meter tails, disconnecting, setting aside and refixing equipment for convenience of other trades, mini trunking etc, make good all works disturbed, electrical tests, provide certificate and remove waste and debris."]
["8552CD","DWELLING:REWIRE COMPLETE 4 BED HOUSE","ELECTRICAL","Rewiring to Dwellings","Rewire Dwellings","IT",2467.13,{"$f":"SUMIF('Contractor##'!C:C,'Planned Maint v6.2 CSV File'!C:C,'Contractor##'!F:F)","v":-0.2},1973.7040000000002,"Dwelling:Rewire power, lighting, fan and smoke detector installations complete to 4 bed house/ maisonnette all in accordance with Client’s Specification from new meter onwards including installing all ceiling pendants, switches, double switched socket outlets, 2 way switching, extractor fans with fused spurs, cooker point, fused spurs and connections for appliances, consumer unit and RCD, earth bonding and protection to latest IEE regulations, new meter tails, disconnecting, setting aside and refixing equipment for convenience of other trades, mini trunking etc, make good all works disturbed, electrical tests, provide certificate and remove waste and debris."]
["8552XA","DWELLING:REWIRE COMPLETE BUNGALOW/FLAT","ELECTRICAL","Rewiring to Dwellings","Rewire Dwellings","IT",1807.27,{"$f":"SUMIF('Contractor##'!C:C,'Planned Maint v6.2 CSV File'!C:C,'Contractor##'!F:F)","v":-0.2},1445.816,"Dwelling:Rewire power, lighting, fan and smoke detector installations complete to flat/bungalow all in accordance with Client’s Specification from new meter onwards including installing all ceiling pendants, switches, double switched socket outlets, 2 way switching, extractor fans with fused spurs, cooker point, fused spurs and connections for appliances, consumer unit and RCD, earth bonding and protection to latest IEE regulations, new meter tails, disconnecting, setting aside and refixing equipment for convenience of other trades, mini trunking etc, make good all works disturbed, electrical tests, provide certificate and remove waste and debris."]
["8552XB","DWELLING:REWIRE COMPLETE HOUSE/MAISONETTE","ELECTRICAL","Rewiring to Dwellings","Rewire Dwellings","IT",2308.85,{"$f":"SUMIF('Contractor##'!C:C,'Planned Maint v6.2 CSV File'!C:C,'Contractor##'!F:F)","v":-0.2},1847.08,"Dwelling:Rewire power, lighting, fan and smoke detector installations complete to any house/maisonnette all in accordance with Client’s Specification from new meter onwards including installing all ceiling pendants, switches, double switched socket outlets, 2 way switching, extractor fans with fused spurs, cooker point, fused spurs and connections for appliances, consumer unit and RCD, earth bonding and protection to latest IEE regulations, new meter tails, disconnecting, setting aside and refixing equipment for convenience of other trades, mini trunking etc, make good all works disturbed, electrical tests, provide certificate and remove waste and debris.."]
["8552XC","COMMUNAL ROOM:REWIRE COMPLETE","ELECTRICAL","Rewiring to Dwellings","Rewire Communal Rooms","IT",683.34,{"$f":"SUMIF('Contractor##'!C:C,'Planned Maint v6.2 CSV File'!C:C,'Contractor##'!F:F)","v":-0.2},546.67200000000003,"Communal Room:Rewire power, lighting, fan and smoke detector installations complete to communal room maisonnette all in accordance with Client’s Specification from new meter onwards including installing all ceiling pendants, switches, double switched socket outlets, 2 way switching, fused spurs and connections for appliances, earth bonding and protection to latest IEE regulations, new meter tails, disconnecting, setting aside and refixing equipment for convenience of other trades, mini trunking etc, make good all works disturbed, electrical tests, provide certificate and remove waste and debris."]
["8553AA","DWELLING:REPOSITION ELECTRIC METER","ELECTRICAL","Rewiring to Dwellings","Rewire Dwellings","IT",166.81,{"$f":"SUMIF('Contractor##'!C:C,'Planned Maint v6.2 CSV File'!C:C,'Contractor##'!F:F)","v":-0.2},133.44800000000001,"Dwelling:Repostion electric meter to new external meter position, attend upon local Electricity Company and pay all charges levied by Electricity Company."]
["8553AB","REWIRE:INSTALL NEW 8.7KW SHOWER","ELECTRICAL","Rewiring to Dwellings","Rewire Dwellings","NO",443.05,{"$f":"SUMIF('Contractor##'!C:C,'Planned Maint v6.2 CSV File'!C:C,'Contractor##'!F:F)","v":-0.2},354.44000000000005,"Shower:Supply and install new Mira 8.7kW shower unit complete with fittings, soap dish, adjustable pole and adjustable spray handset, including plugging walls as necessary, connect to water supply including all adjustments to pipework as necessary, wire in 1000 volt PVC insulated twin and earth cables in PVC mini- trunking 45A DP ceiling switch, provide MCB and RCCB of 30m/A tripping protection at CCU, earth bonding to 16th IEE regulations, fill, test and adjust and make good all works disturbed, electrical test and certificate."]
["8555AA","CCU:RENEW NE 6 WAY MOULDED UNIT","ELECTRICAL","Final Circuits","Consumer - Control Units","NO",129.19999999999999,{"$f":"SUMIF('Contractor##'!C:C,'Planned Maint v6.2 CSV File'!C:C,'Contractor##'!F:F)","v":-0.2},103.36,"CCU:Isolate supply, disconnect, clear away and renew any ne six-way moulded consumer control unit with MCB’s, RCD protection, 100 amp double pole switch, blank covers on spare ways, remove old unit, fix new unit, make all necessary connections to existing cables, reconnect electricity supply, undertake electrical tests, provide certificate, make good on completion, and remove waste and debris."]
["8555AB","CCU:RENEW 7 TO 12 WAY MOULDED UNIT","ELECTRICAL","Final Circuits","Consumer - Control Units","NO",166.36,{"$f":"SUMIF('Contractor##'!C:C,'Planned Maint v6.2 CSV File'!C:C,'Contractor##'!F:F)","v":-0.2},{"$f":"(1+H2820)*G2820","v":133.08800000000002},"CCU:Isolate supply, disconnect, clear away and renew any seven to twelve-way moulded consumer control unit with MCB’s, RCD protection, 100 amp double pole switch, blank covers on spare ways, remove old unit, fix new unit, make all necessary connections to existing cables, reconnect electricity supply, undertake electrical tests, provide certificate, make good on completion, and remove waste and debris."]
["8555AC","CCU:RENEW NE 10 WAY MOULDED SPLIT LOAD UNIT","ELECTRICAL","Final Circuits","Consumer - Control Units","NO",146.30000000000001,{"$f":"SUMIF('Contractor##'!C:C,'Planned Maint v6.2 CSV File'!C:C,'Contractor##'!F:F)","v":-0.2},117.04000000000002,"CCU:Isolate supply, disconnect, clear away and renew any type consumer control unit with ne ten-way moulded split load consumer control unit with MCB’s, RCD protection, 100 amp double pole switch, blank covers on spare ways, remove old unit, fix new unit, make all necessary connections to existing cables, reconnect electricity supply, undertake electrical tests, provide certificate, make good on completion, and remove waste and debris."]
["8555AD","CCU:RENEW 11 TO 14 WAY MOULDED SPLIT LOAD UNIT","ELECTRICAL","Final Circuits","Consumer - Control Units","NO",167.11,{"$f":"SUMIF('Contractor##'!C:C,'Planned Maint v6.2 CSV File'!C:C,'Contractor##'!F:F)","v":-0.2},133.68800000000002,"CCU:Isolate supply, disconnect, clear away and renew any type consumer control unit with new eleven to fourteen-way moulded split load consumer control unit with MCB’s, RCD protection, 100 amp double pole switch, blank covers on spare ways, remove old unit, fix new unit, make all necessary connections to existing cables, reconnect electricity supply, undertake electrical tests, provide certificate, make good on completion, and remove waste and debris."]
["8555CA","CCU:INSTALL ANY SIZE RCD NEW METER TAILS","ELECTRICAL","Final Circuits","Consumer - Control Units","NO",92,{"$f":"SUMIF('Contractor##'!C:C,'Planned Maint v6.2 CSV File'!C:C,'Contractor##'!F:F)","v":-0.2},73.600000000000009,"CCU:Isolate supply, remove existing mains switch and supply and fit new any size residual current device to existing consumer unit including new meter tails, reconnect electricity supply, undertake electrical tests, test operation of residual current device and make good on completion, and remove waste and debris."]
["8555CB","CCU:INSTALL ANY SIZE RCD","ELECTRICAL","Final Circuits","Consumer - Control Units","NO",76.91,{"$f":"SUMIF('Contractor##'!C:C,'Planned Maint v6.2 CSV File'!C:C,'Contractor##'!F:F)","v":-0.2},61.527999999999999,"CCU:Isolate supply and supply and fit any size RCD to existing consumer unit, reconnect supply, undertake electrical tests and test operation of RCD and make good on completion, and remove waste and debris."]
["8555CU","CCU:INSTALL RCBO/RCD TO BATHROOM CIRCUITS","ELECTRICAL","Final Circuits","Consumer - Control Units","NO",107.36,{"$f":"SUMIF('Contractor##'!C:C,'Planned Maint v6.2 CSV File'!C:C,'Contractor##'!F:F)","v":-0.2},85.888000000000005,"CCU:Isolate supply and supply and fit any size RCD to existing consumer unit to protect all circuits to bathroom, reconnect supply, undertake electrical tests, test operation of RCD, make good on completion, and remove waste and debris."]
["8555DA","CCU:RENEW MOUNTING BOARD","ELECTRICAL","Final Circuits","Consumer - Control Units","NO",62.19,{"$f":"SUMIF('Contractor##'!C:C,'Planned Maint v6.2 CSV File'!C:C,'Contractor##'!F:F)","v":-0.2},49.752000000000002,"CCU:Isolate supply and disconnect all switchgear and sub-circuits, liase with Local Electricity Company to disconnect supply, renew and securely fix new backboard, reconnect switch-gear and sub-circuits and modify bonding, reconnect electricity supply, electrical tests, test operation of residual current device, provide certificate, make good on completion, and remove waste and debris."]
["8555DB","CCU:MODIFY BACKBOARD","ELECTRICAL","Final Circuits","Consumer - Control Units","NO",30.57,{"$f":"SUMIF('Contractor##'!C:C,'Planned Maint v6.2 CSV File'!C:C,'Contractor##'!F:F)","v":-0.2},24.456000000000003,"CCU:Modify backboard to accept new cables, cut hole through brick or block wall to accommodate new cables, and make good on completion, and remove waste and debris."]
["8555EA","CONSUMER UNIT:REPOSITION","ELECTRICAL","Final Circuits","Consumer - Control Units","IT",42.89,{"$f":"SUMIF('Contractor##'!C:C,'Planned Maint v6.2 CSV File'!C:C,'Contractor##'!F:F)","v":-0.2},34.312000000000005,"Consumer Unit:Disconnect, remove and reposition any consumer unit to suit wheelchair access and reconnect, electrical tests and make good."]
["8555FA","CCU:RENEW ANY SIZE MCB","ELECTRICAL","Final Circuits","Consumer - Control Units","NO",14.86,{"$f":"SUMIF('Contractor##'!C:C,'Planned Maint v6.2 CSV File'!C:C,'Contractor##'!F:F)","v":-0.2},11.888,"CCU:Isolate supply and renew any size mini-circuit breaker, remove defective or unsuitable mini-circuit breaker, fit new, reconnect electricity supply, undertake electrical tests and make good on completion, and remove waste and debris."]
["8555FB","CCU:RENEW FUSE CARRIER OR SHIELD","ELECTRICAL","Final Circuits","Consumer - Control Units","NO",12.74,{"$f":"SUMIF('Contractor##'!C:C,'Planned Maint v6.2 CSV File'!C:C,'Contractor##'!F:F)","v":-0.2},10.192,"CCU:Isolate supply and renew fuse carrier or shield, remove defective or unsuitable fuse carrier or shield, fit new, reconnect electricity supply, undertake electrical tests and make good on completion, and remove waste and debris."]
["8555FC","CCU:RENEW HRC FUSE","ELECTRICAL","Final Circuits","Consumer - Control Units","NO",18.25,{"$f":"SUMIF('Contractor##'!C:C,'Planned Maint v6.2 CSV File'!C:C,'Contractor##'!F:F)","v":-0.2},14.600000000000001,"CCU:Isolate supply and renew any HRC fuse, reconnect electricity supply, undertake electrical tests, and make good on completion, and remove waste and debris."]
["8555GA","CCU:RENEW OR INSTALL 100AMP DP ISOLATOR","ELECTRICAL","Final Circuits","Consumer - Control Units","NO",24.77,{"$f":"SUMIF('Contractor##'!C:C,'Planned Maint v6.2 CSV File'!C:C,'Contractor##'!F:F)","v":-0.2},19.816000000000003,"CCU:Isolate supply and install or renew 100amp DP isolator, remove defective or unsuitable isolator, reconnect supply, undertake electrical tests and make good on completion and remove waste and debris."]
["8555MT","CCU:INSTALL NEW METER TAILS","ELECTRICAL","Final Circuits","Consumer - Control Units","IT",24.49,{"$f":"SUMIF('Contractor##'!C:C,'Planned Maint v6.2 CSV File'!C:C,'Contractor##'!F:F)","v":-0.2},19.591999999999999,"CCU:Isolate supply, install new meter tails not exceeding 1.00m in lengths, reconnect electricity supply, undertake electrical tests, test operation of residual current device and make good on completion, and remove waste and debris."]
["8561AB","LIGHT:RENEW FLEX LAMPHOLDER ROSE","ELECTRICAL","Pendants","Pendants and Lampholders","NO",13.97,{"$f":"SUMIF('Contractor##'!C:C,'Planned Maint v6.2 CSV File'!C:C,'Contractor##'!F:F)","v":-0.2},11.176000000000002,"Light:Isolate supply, disconnect, clear away and renew TRS cord pendant flex, moulded plastic lampholder with HO skirt and ceiling rose with holding joint ring, reconnect to existing cables, reconnect electricity supply, undertake electrical tests and make good on completion, and remove waste and debris."]
["8561BA","LIGHT:RENEW BATTEN HOLDER","ELECTRICAL","Pendants","Pendants and Lampholders","NO",9.81,{"$f":"SUMIF('Contractor##'!C:C,'Planned Maint v6.2 CSV File'!C:C,'Contractor##'!F:F)","v":-0.2},7.8480000000000008,"Light:Isolate supply, disconnect, clear away extg. and renew plastic batten lamp holder, connect to existing cables, reconnect electricity supply, undertake electrical tests and make good on completion, and remove waste and debris."]
["8566AA","LIGHT:RENEW 2X8W BULKHEAD FITTING","ELECTRICAL","Luminaries - Bulkheads","Bulkhead - Fittings","NO",41.53,{"$f":"SUMIF('Contractor##'!C:C,'Planned Maint v6.2 CSV File'!C:C,'Contractor##'!F:F)","v":-0.2},33.224000000000004,"Light:Isolate supply, disconnect, clear away and renew bulkhead light fitting with metal alloy clad body, polycarbonate light diffuser with screw fittings and twin 300mm 8 watt fluorescent lamps, connect to existing cables, reconnect electricity supply, undertake electrical tests and make good on completion, and remove waste and debris."]
["8566AB","LIGHT:RENEW 16W LV BULKHEAD FITTING","ELECTRICAL","Luminaries - Bulkheads","Bulkhead - Fittings","NO",38.99,{"$f":"SUMIF('Contractor##'!C:C,'Planned Maint v6.2 CSV File'!C:C,'Contractor##'!F:F)","v":-0.2},31.192000000000004,"Light:Isolate supply, disconnect, clear away and renew bulkhead light fitting with metal alloy clad body, polycarbonate diffuser with screw fitting and 16 watt 2D lamp, connect to existing cables, reconnect electricity supply, undertake electrical tests and make good on completion, and remove waste and debris."]
["8566AC","LIGHT:RENEW 28W LV BULKHEAD FITTING","ELECTRICAL","Luminaries - Bulkheads","Bulkhead - Fittings","NO",47.12,{"$f":"SUMIF('Contractor##'!C:C,'Planned Maint v6.2 CSV File'!C:C,'Contractor##'!F:F)","v":-0.2},37.695999999999998,"Light:Isolate supply, disconnect, clear away and renew bulkhead light fitting with metal alloy clad body, polycarbonate diffuser with screw fitting and 28 watt 2D lamp, connect to existing cables, reconnect electricity supply, undertake electrical tests and make good on completion, and remove waste and debris."]
["8566CA","LIGHT:RENEW 1000W SECURITY FITTING","ELECTRICAL","Luminaries - Bulkheads","Bulkhead - Fittings","NO",28.57,{"$f":"SUMIF('Contractor##'!C:C,'Planned Maint v6.2 CSV File'!C:C,'Contractor##'!F:F)","v":-0.2},22.856000000000002,"Light:Isolate supply, disconnect, clear away and renew 1000 watt amenity light fitting with metal alloy body, borosilicate glass prismatic front cover and wire guard, complete with ne 1000 watt halogen lamp, connect to existing cables, reconnect electricity supply, undertake electrical tests and make good on completion, and remove waste and debris."]
["8566XA","BATHROOM LIGHT FITTING:RENEW WITH SEALED UNIT","ELECTRICAL","Luminaries - Bulkheads","Bathroom Light","NO",42.77,{"$f":"SUMIF('Contractor##'!C:C,'Planned Maint v6.2 CSV File'!C:C,'Contractor##'!F:F)","v":-0.2},34.216000000000001,"Bathroom Light Fitting:Isolate supply, disconnect, clear away and renew existing with or install sealed bathroom light fittingcomplete with lamp and diffuser, connect to existing cables, reconnect electricity supply, undertake electrical tests and make good on completion, and remove waste and debris."]
["8581AA","LIGHT:RENEW SINGLE FLUORESCENT FITTING WITH TUBE","ELECTRICAL","Luminaries - Fluorescent Lights","Fluorescent - Fittings","NO",22.73,{"$f":"SUMIF('Contractor##'!C:C,'Planned Maint v6.2 CSV File'!C:C,'Contractor##'!F:F)","v":-0.2},18.184000000000001,"Light:Isolate supply, take down clear away and renew any size fluorescent single tube fitting, including tube, connect to existing cables, reconnect electricity supply, undertake electrical tests and make good on completion, and remove waste and debris."]
["8581AB","LIGHT:RENEW DOUBLE FLUORESCENT FITTING WITH TUBES","ELECTRICAL","Luminaries - Fluorescent Lights","Fluorescent - Fittings","NO",38.799999999999997,{"$f":"SUMIF('Contractor##'!C:C,'Planned Maint v6.2 CSV File'!C:C,'Contractor##'!F:F)","v":-0.2},31.04,"Light:Isolate supply, take down, clear away and renew any size fluorescent double tube fitting including tubes, connect to existing cables, reconnect electricity supply, undertake electrical tests and make good on completion, and remove waste and debris."]
["8605AA","SWITCH OR OUTLET:REMOVE AND REFIX","ELECTRICAL","Accessories","Accessories- Generally","NO",8.93,{"$f":"SUMIF('Contractor##'!C:C,'Planned Maint v6.2 CSV File'!C:C,'Contractor##'!F:F)","v":-0.2},7.1440000000000001,"Switch or Outlet:Isolate supply, remove any type of switch, outlet and the like including any box, securely refix loose box, prepare cable ends and make all necessary connections and refix switch/outlet etc., reconnect electric supply, undertake electrical tests and make good on completion, and remove waste and debris."]
["8605AB","SWITCH OR OUTLET:FIX BLANK PLATE","ELECTRICAL","Accessories","Accessories- Generally","NO",9.19,{"$f":"SUMIF('Contractor##'!C:C,'Planned Maint v6.2 CSV File'!C:C,'Contractor##'!F:F)","v":-0.2},7.3520000000000003,"Switch or Outlet:Isolate supply and remove any switch outlet etc., terminate cable ends and supply and fix plastic blank plate cover to switch/outlet box reconnect electricity supply, undertake electrical tests and make good on completion, and remove waste and debris."]
["8605AC","SWITCH OR OUTLET:RENEW DRY LINING BOX","ELECTRICAL","Accessories","Accessories- Generally","NO",15.58,{"$f":"SUMIF('Contractor##'!C:C,'Planned Maint v6.2 CSV File'!C:C,'Contractor##'!F:F)","v":-0.2},12.464,"Switch or Outlet:Isolate supply, remove and set aside disconnect, clear away and renew plastic single or double flush box to suit dry lining installations, remove and refit plate, remake all necessary connections, reconnect electricity supply, undertake electrical tests and make good on completion, and remove waste and debris."]
["8610AA","SWITCH:RENEW 5 AMP NE 3 GANG PLATE","ELECTRICAL","Accessories","Accessories - Light Switches","NO",8.16,{"$f":"SUMIF('Contractor##'!C:C,'Planned Maint v6.2 CSV File'!C:C,'Contractor##'!F:F)","v":-0.2},6.5280000000000005,"Switch:Isolate supply, disconnect, clear away and renew 5 amp ne 3 gang single pole moulded plastic plate switch, remake all necessary connections, reconnect electricity supply, undertake electrical tests and make good on completion, and remove waste and debris."]
["8610AB","SWITCH:RENEW 5 AMP NE 3 GANG 2 WAY PLATE","ELECTRICAL","Accessories","Accessories - Light Switches","NO",12.14,{"$f":"SUMIF('Contractor##'!C:C,'Planned Maint v6.2 CSV File'!C:C,'Contractor##'!F:F)","v":-0.2},9.7120000000000015,"Switch:Isolate supply, disconnect, clear away and renew 5 amp ne 3 gang, 2 way single pole moulded plastic plate switch, remake all necessary connections, reconnect electricity supply, undertake electrical tests and make good on completion, and remove waste and debris."]
["8610BA","SWITCH:RENEW 5 AMP NE 3 GANG PLATE AND BOX","ELECTRICAL","Accessories","Accessories - Light Switches","NO",16.57,{"$f":"SUMIF('Contractor##'!C:C,'Planned Maint v6.2 CSV File'!C:C,'Contractor##'!F:F)","v":-0.2},13.256,"Switch:Isolate supply, disconnect, clear away and renew 5 amp ne 3-gang single pole moulded plastic plate switch and galvanised steel or plastic plaster depth box, plug wall as necessary, remake all necessary connections, reconnect electricity supply, undertake electrical tests and make good on completion, and remove waste and debris."]
["8610BB","SWITCH:RENEW 5 AMP NE 3 GANG 2 WAY PLATE AND BOX","ELECTRICAL","Accessories","Accessories - Light Switches","NO",20.27,{"$f":"SUMIF('Contractor##'!C:C,'Planned Maint v6.2 CSV File'!C:C,'Contractor##'!F:F)","v":-0.2},16.216000000000001,"Switch:Isolate supply, disconnect, clear away and renew 5 amp ne 3 gang, 2 way single pole moulded plastic plate switch and galvanised steel or plastic plaster depth, box, plug wall as necessary, remake all necessary connections, reconnect electricity supply, undertake electrical tests and make good on completion, and remove waste and debris."]
["8610CA","SWITCH:RENEW CEILING PULL SWITCH","ELECTRICAL","Accessories","Accessories - Light Switches","NO",14.29,{"$f":"SUMIF('Contractor##'!C:C,'Planned Maint v6.2 CSV File'!C:C,'Contractor##'!F:F)","v":-0.2},11.432,"Switch:Isolate supply, disconnect, clear away and renew 5 amp one-way or two-way single pole surface pattern moulded plastic ceiling pull switch with matching break joint ring and make all necessary connections to existing cables, reconnect electricity supply, undertake electrical tests and make good on completion, and remove waste and debris."]
["8610DA","SWITCH:REPLACE WITH WIDE ROCKER","ELECTRICAL","Electrical Works","Switch Plate","NO",7.96,{"$f":"SUMIF('Contractor##'!C:C,'Planned Maint v6.2 CSV File'!C:C,'Contractor##'!F:F)","v":-0.2},6.3680000000000003,"Switch:Replace any switch plate with wide rocker switch plate including make all connections and electrical tests and remove waste and debris."]
["8610DB","SWITCH:LOWER ANY SWITCH","ELECTRICAL","Electrical Works","Switch Plate","IT",35.9,{"$f":"SUMIF('Contractor##'!C:C,'Planned Maint v6.2 CSV File'!C:C,'Contractor##'!F:F)","v":-0.2},28.72,"Switch:Lower height of any existing switch plate with wiring run in plastic mini-trunking including blanking plate to existing switch and new surface mounted switch plate and box, make all connections, electrical tests and make good finishes, and remove waste and debris."]
["8615AA","SOCKET:RENEW 13A SINGLE PLATE","ELECTRICAL","Accessories","Accessories - Socket Outlets","NO",9.25,{"$f":"SUMIF('Contractor##'!C:C,'Planned Maint v6.2 CSV File'!C:C,'Contractor##'!F:F)","v":-0.2},7.4,"Socket:Isolate supply, disconnect, clear away and renew 13 amp single moulded plastic switch socket outlet plate, remake all necessary connections, reconnect electricity supply, undertake electrical tests and make good on completion, and remove waste and debris."]
["8615AB","SOCKET:RENEW 13A DOUBLE PLATE","ELECTRICAL","Accessories","Accessories - Socket Outlets","NO",10.220000000000001,{"$f":"SUMIF('Contractor##'!C:C,'Planned Maint v6.2 CSV File'!C:C,'Contractor##'!F:F)","v":-0.2},8.1760000000000002,"Socket:Isolate supply, disconnect, clear away and renew 13 amp double moulded plastic switch socket outlet plate, remake all necessary connections, reconnect electricity supply, undertake electrical tests and make good on completion, and remove waste and debris."]
["8615BA","SOCKET:RENEW SINGLE OUTLET PLATE AND BOX","ELECTRICAL","Accessories","Accessories - Socket Outlets","NO",17.66,{"$f":"SUMIF('Contractor##'!C:C,'Planned Maint v6.2 CSV File'!C:C,'Contractor##'!F:F)","v":-0.2},14.128,"Socket:Isolate supply, disconnect, clear away and renew 13 amp single moulded plastic switch socket outlet and galvanised steel flush box, including plugging to walls as necessary, remake all necessary connections, reconnect electricity supply, undertake electrical tests and make good on completion, and remove waste and debris."]
["8615BB","SOCKET:RENEW DOUBLE OUTLET PLATE AND BOX","ELECTRICAL","Accessories","Accessories - Socket Outlets","NO",25.97,{"$f":"SUMIF('Contractor##'!C:C,'Planned Maint v6.2 CSV File'!C:C,'Contractor##'!F:F)","v":-0.2},20.776,"Socket:Isolate supply, disconnect, clear away and renew 13 amp double moulded plastic switch socket outlet and galvanised steel flush box including plugging walls as necessary, remake all necessary connections, reconnect electricity supply, undertake electrical tests and make good on completion, and remove waste and debris."]
["8615CA","SOCKET:RENEW 13A RCD OUTLET","ELECTRICAL","Accessories","Accessories - Socket Outlets","NO",63.44,{"$f":"SUMIF('Contractor##'!C:C,'Planned Maint v6.2 CSV File'!C:C,'Contractor##'!F:F)","v":-0.2},50.752000000000002,"Socket:Isolate supply, disconnect, clear away and renew 13 amp single moulded plastic switch socket outlet, integral RCD, 30mA sensitivity, and galvanised steel flush box, plug walls as necessary, remake all necessary connections, reconnect electricity supply, undertake electrical tests and make good on completion, and remove waste and debris."]
["8615DA","SOCKET:SINGLE SURFACE OUTLET PLATE AND BOX","ELECTRICAL","Accessories","Accessories - Socket Outlets","NO",17.420000000000002,{"$f":"SUMIF('Contractor##'!C:C,'Planned Maint v6.2 CSV File'!C:C,'Contractor##'!F:F)","v":-0.2},13.936000000000002,"Socket:Supply and fix 13 amp single moulded plastic switch socket outlet and moulded plastic surface mounted box, including plugging to walls as necessary, make all necessary connections to cables, undertake electrical tests and make good on completion, and remove waste and debris."]
["8615DB","SOCKET:INSTALL 13A DOUBLE OUTLET PLATE AND BOX","ELECTRICAL","Accessories","Accessories - Socket Outlets","NO",26.47,{"$f":"SUMIF('Contractor##'!C:C,'Planned Maint v6.2 CSV File'!C:C,'Contractor##'!F:F)","v":-0.2},21.176000000000002,"Socket:Supply and fix 13 amp double moulded plastic switch socket outlet and moulded plastic surface mounted box, including plugging to walls as necessary, make all necessary connections to cables, undertake electrical tests and make good on completion, and remove waste and debris."]
["8620AA","SWITCH:RENEW 20A DP SWITCH","ELECTRICAL","Accessories","Accessories - DP Switches","NO",19.12,{"$f":"SUMIF('Contractor##'!C:C,'Planned Maint v6.2 CSV File'!C:C,'Contractor##'!F:F)","v":-0.2},15.296000000000001,"Switch:Isolate supply, disconnect, clear away and renew 20 amp moulded plastic double pole switch and moulded plastic mounting box, including plugging to walls as necessary, remake all necessary connections, reconnect electricity supply, undertake electrical tests and make good on completion, and remove waste and debris."]
["8620BA","SWITCH:RENEW 20A DP CEILING SWITCH","ELECTRICAL","Accessories","Accessories - DP Switches","NO",24.78,{"$f":"SUMIF('Contractor##'!C:C,'Planned Maint v6.2 CSV File'!C:C,'Contractor##'!F:F)","v":-0.2},19.824000000000002,"Switch:Isolate supply, disconnect, clear away and renew 20 amp moulded plastic double pole ceiling pull cord switch complete with neon indicator, remake all necessary connections, reconnect electricity supply, undertake electrical tests and make good on completion, and remove waste and debris."]
["8620CA","SOCKET:RENEW 13A DP PLATE WITH OUTLET","ELECTRICAL","Accessories","Accessories - DP Switches","NO",13.35,{"$f":"SUMIF('Contractor##'!C:C,'Planned Maint v6.2 CSV File'!C:C,'Contractor##'!F:F)","v":-0.2},10.68,"Socket:Isolate supply, disconnect, clear away and renew 13 amp moulded plastic double pole fused switch plate with outlet, reconnect electricity supply, undertake electrical tests and make good on completion, and remove waste and debris."]
["8620DA","SOCKET:RENEW 13A DP PLATE WITH INDICATOR","ELECTRICAL","Accessories","Accessories - DP Switches","NO",16.82,{"$f":"SUMIF('Contractor##'!C:C,'Planned Maint v6.2 CSV File'!C:C,'Contractor##'!F:F)","v":-0.2},13.456000000000001,"Socket:Isolate supply, disconnect, clear away and renew 13 amp moulded plastic double pole fused switch plate with outlet and neon indicator, remake all necessary connections, reconnect electricity supply, undertake electrical tests and make good on completion, and remove waste and debris."]
["8630AA","SHAVER:RENEW SHAVER SUPPLY UNIT","ELECTRICAL","Accessories","Shaver Points","NO",32.28,{"$f":"SUMIF('Contractor##'!C:C,'Planned Maint v6.2 CSV File'!C:C,'Contractor##'!F:F)","v":-0.2},25.824000000000002,"Shaver:Isolate supply, disconnect, clear away and renew dual- voltage output shaver supply unit, reconnect electricity supply, undertake electrical tests and make good on completion, and remove waste and debris."]
["8630BA","SHAVER LIGHT:INSTALL COMPLETE","ELECTRICAL","Accessories","Shaver Points","NO",78.72,{"$f":"SUMIF('Contractor##'!C:C,'Planned Maint v6.2 CSV File'!C:C,'Contractor##'!F:F)","v":-0.2},62.975999999999999,"Shaver Light:Isolate supply and install approved shaver point incorporating strip light including cut out and make good for all concealed conduit and wiring, make all connections, reconnect, electrical tests and make good on completion, and remove waste and debris."]
["8630CA","SHAVER LIGHT:RENEW COMPLETE","ELECTRICAL","Accessories","Shaver Points","NO",38.22,{"$f":"SUMIF('Contractor##'!C:C,'Planned Maint v6.2 CSV File'!C:C,'Contractor##'!F:F)","v":-0.2},30.576000000000001,"Shaver Light:Isolate supply and renew approved shaver point incorporating strip light including make all connections, reconnect, electrical tests and make good on completion, and remove waste and debris."]
["8705AA","DOOR BELL:RENEW COMPLETE","ELECTRICAL","Special Installations","Door Bell Installation","IT",42.7,{"$f":"SUMIF('Contractor##'!C:C,'Planned Maint v6.2 CSV File'!C:C,'Contractor##'!F:F)","v":-0.2},34.160000000000004,"Door Bell:Renew or supply and install door bell installation complete, comprising 1 A,1 gang door bell push and moulded plastic mounting box, 220/ 240V AC primary supply 3-4-8V secondary output transformer and 3-4-8V AC supply underdome bell and all necessary 0.5mm pvc trim bell wire, make all connections to bells, bell units, transformers and bell push, electrical tests and make good on completion, and remove waste and debris."]
["8705BA","DOOR BELL:RENEW BATTERY TYPE","ELECTRICAL","Special Installations","Door Bell Installation","NO",23.33,{"$f":"SUMIF('Contractor##'!C:C,'Planned Maint v6.2 CSV File'!C:C,'Contractor##'!F:F)","v":-0.2},18.663999999999998,"Door Bell:Renew battery operated door bell or chime of any type, complete with batteries, to match existing, fixing to any background and connection to bell push wire, remove existing fitting, test, make good and leave in working order and remove waste and debris."]
["8705BB","DOOR BELL:RENEW WIRELESS TYPE","ELECTRICAL","Special Installations","Door Bell Installation","NO",56.14,{"$f":"SUMIF('Contractor##'!C:C,'Planned Maint v6.2 CSV File'!C:C,'Contractor##'!F:F)","v":-0.2},44.912000000000006,"Door Bell:Renew battery operated wireless controlled door bell of any type, complete with batteries, to match existing, fixing to any background, remove existing fitting, test, make good and leave in working order and remove waste and debris."]
["8710BA","DOOR ENTRY:RENEW INTERCOM KIT","ELECTRICAL","Special Installations","Door Entry Installation","NO",108.94,{"$f":"SUMIF('Contractor##'!C:C,'Planned Maint v6.2 CSV File'!C:C,'Contractor##'!F:F)","v":-0.2},87.152000000000001,"Door Entry:Disconnect, clear away and renew intercom kit complete, make all necessary connections, leave in working order on completion, and remove waste and debris."]
["8710DA","DOOR ENTRY:INSTALL EXTRA PHONE","ELECTRICAL","Special Installations","Door Entry Installation","NO",42.01,{"$f":"SUMIF('Contractor##'!C:C,'Planned Maint v6.2 CSV File'!C:C,'Contractor##'!F:F)","v":-0.2},33.607999999999997,"Door Entry:Supply and install extra door phone complete, make all connections, leave in working order on completion, and remove waste and debris."]
["8710EA","DOOR ENTRY:RENEW ELECTRIC LATCH","ELECTRICAL","Special Installations","Door Entry Installation","NO",32.020000000000003,{"$f":"SUMIF('Contractor##'!C:C,'Planned Maint v6.2 CSV File'!C:C,'Contractor##'!F:F)","v":-0.2},25.616000000000003,"Door Entry:Disconnect, clear away and renew electric door latch complete, make all necessary connections, leave in working order on completion, and remove waste and debris."]
["8710FA","DOOR ENTRY:RENEW 6 CORE CABLING","ELECTRICAL","Special Installations","Door Entry Installation","LM",2.31,{"$f":"SUMIF('Contractor##'!C:C,'Planned Maint v6.2 CSV File'!C:C,'Contractor##'!F:F)","v":-0.2},1.8480000000000001,"Door Entry:Strip out, clear away and renew 6 core cabling to door entry installation, clipped to wall or soffit, make all necessary connections, test and make good, and remove waste and debris."]
["8710GA","DOOR ENTRY:REMOTE LOCK SYSTEM","ELECTRICAL","Special Installations","Door Entry Installation","IT",153.62,{"$f":"SUMIF('Contractor##'!C:C,'Planned Maint v6.2 CSV File'!C:C,'Contractor##'!F:F)","v":-0.2},122.89600000000002,"Door Entry:Supply and install proprietary door entry system comprising remote lock control, internal/external speaker system including all necessary wiring, connections, test and make good, and remove waste and debris."]
["8710HA","DOOR ENTRY:SUPPLY AND FIX VISUAL AID","ELECTRICAL","Communications System","Door Entry","IT",147.47,{"$f":"SUMIF('Contractor##'!C:C,'Planned Maint v6.2 CSV File'!C:C,'Contractor##'!F:F)","v":-0.2},117.976,"Door Entry:Supply and fix proprietary strobe type visual indicator to any door bell/door entry system including all necessary wiring, connections, test and make good, and remove waste and debris."]
["8710XA","DOOR ENTRY:INSTALL","ELECTRICAL","Special Installations","Door Entry Installation","IT",275.63,{"$f":"SUMIF('Contractor##'!C:C,'Planned Maint v6.2 CSV File'!C:C,'Contractor##'!F:F)","v":-0.2},220.50400000000002,"Door Entry:Install controlled door entry system to block of flats including stainless steel anti- vandal entrance panel with bezelled back box, system controllers, distribution boxes, circuit boards telephone handsets within flats, firemans over-ride switch, cabling, galvanised steel trunking or conduit externally or in common parts, plastic mini-trunking within flats, all door ironmongery and hardware including electronic releases, all builders work including fitting new door locks etc., adapting and extending the Landlords electrical installation and controls to suit the controlled door entry system, decorating exposed trunking and conduit and make good all works disturbed, test and (Per Dwelling on the System)"]
["8710XB","DOOR ENTRY:RENEW","ELECTRICAL","Special Installations","Door Entry Installation","IT",242.55,{"$f":"SUMIF('Contractor##'!C:C,'Planned Maint v6.2 CSV File'!C:C,'Contractor##'!F:F)","v":-0.2},194.04000000000002,"Door Entry:Strip out existing cabling and equipment and install new controlled door entry system to block of flats including stainless steel anti-vandal entrance panel with bezelled back box, system controllers, distribution boxes, circuit boards telephone handsets within flats, firemans over-ride switch, cabling, any additional galvanised steel trunking or conduit externally or in common parts and plastic mini-trunking within flats, all door ironmongery and hardware including electronic releases, all additional builders work including fitting new door locks etc., adapting and extending the Landlords electrical installation and controls to suit the new controlled door entry system redecorating exposed trunking and make good all works disturbed, test and commission, and remove waste and debris. (Per Dwelling on the System)"]
["8711AA","FIRE ALARM:RENEW BREAK GLASS UNIT","ELECTRICAL","Special Installations","Fire Alarm Installations","NO",23.65,{"$f":"SUMIF('Contractor##'!C:C,'Planned Maint v6.2 CSV File'!C:C,'Contractor##'!F:F)","v":-0.2},18.919999999999998,"Fire Alarm:Renew or supply and install break glass unit complete with hammer and chain, flush or surface mounted, plugged and screwed to structure, including making all connections to existing wiring, test operation and make good on completion, and remove waste and debris."]
["8711BA","FIRE ALARM:RENEW XENON FLASHER","ELECTRICAL","Special Installations","Fire Alarm Installations","NO",42.21,{"$f":"SUMIF('Contractor##'!C:C,'Planned Maint v6.2 CSV File'!C:C,'Contractor##'!F:F)","v":-0.2},33.768000000000001,"Fire Alarm:Renew or supply and install Xenon flasher 24 volt, with conduit box plugged and screwed to structure, including making all connections to existing wiring, test operation and make good on completion, and remove waste and debris."]
["8711CA","FIRE ALARM:RENEW 150MM BELL","ELECTRICAL","Special Installations","Fire Alarm Installations","NO",32.590000000000003,{"$f":"SUMIF('Contractor##'!C:C,'Planned Maint v6.2 CSV File'!C:C,'Contractor##'!F:F)","v":-0.2},26.072000000000003,"Fire Alarm:Renew or supply and install 150mm bell unit, with conduit box plugged and screwed to structure, including making all connections to existing wiring, test operation and make good on completion, and remove waste and debris."]
["8711CB","FIRE ALARM:RENEW 225MM BELL","ELECTRICAL","Special Installations","Fire Alarm Installations","NO",50.53,{"$f":"SUMIF('Contractor##'!C:C,'Planned Maint v6.2 CSV File'!C:C,'Contractor##'!F:F)","v":-0.2},40.424000000000007,"Fire Alarm:Renew or supply and install 225mm bell unit, with conduit box plugged and screwed to structure, including making all connections to existing wiring, test operation and make good on completion, and remove waste and debris."]
["8711DA","FIRE ALARM:RENEW BUZZER","ELECTRICAL","Special Installations","Fire Alarm Installations","NO",33.89,{"$f":"SUMIF('Contractor##'!C:C,'Planned Maint v6.2 CSV File'!C:C,'Contractor##'!F:F)","v":-0.2},27.112000000000002,"Fire Alarm:Renew or supply and install buzzer unit, with conduit box plugged and screwed to structure, including making all connections to existing wiring, test operation and make good on completion, and remove waste and debris."]
["8711DB","FIRE ALARM:RENEW SIREN","ELECTRICAL","Special Installations","Fire Alarm Installations","NO",53.64,{"$f":"SUMIF('Contractor##'!C:C,'Planned Maint v6.2 CSV File'!C:C,'Contractor##'!F:F)","v":-0.2},42.912000000000006,"Fire Alarm:Renew or supply and install siren unit, with conduit box plugged and screwed to structure, including making all connections to existing wiring, test operation and make good on completion, and remove waste and debris."]
["8711DC","FIRE ALARM:RENEW WARBLER","ELECTRICAL","Special Installations","Fire Alarm Installations","NO",57.8,{"$f":"SUMIF('Contractor##'!C:C,'Planned Maint v6.2 CSV File'!C:C,'Contractor##'!F:F)","v":-0.2},{"$f":"(1+H2884)*G2884","v":46.24},"Fire Alarm:Renew or supply and install warbler unit, with conduit box plugged and screwed to structure, including making all connections to existing wiring, test operation and make good on completion, and remove waste and debris."]
["8711EA","FIRE ALARM:RENEW DOOR RELEASE UNIT","ELECTRICAL","Special Installations","Fire Alarm Installations","NO",80.41,{"$f":"SUMIF('Contractor##'!C:C,'Planned Maint v6.2 CSV File'!C:C,'Contractor##'!F:F)","v":-0.2},64.328000000000003,"Fire Alarm:Renew or supply and install door release unit, surface or recessed type, secure to background, including making all connections to existing wiring, test operation and make good on completion, and remove waste and debris."]
["8711FA","FIRE ALARM:RENEW 6 ZONES PANEL","ELECTRICAL","Special Installations","Fire Alarm Installations","IT",385.93,{"$f":"SUMIF('Contractor##'!C:C,'Planned Maint v6.2 CSV File'!C:C,'Contractor##'!F:F)","v":-0.2},308.74400000000003,"Fire Alarm:Renew fire alarm panel upto six zones, isolate supply, disconnect circuits, remove existing panel, reconnect circuits, test system, include connection to off site warning system, clean up and remove waste and debris."]
["8711GA","FIRE ALARM:INSTALL L2 TYPE","ELECTRICAL","Special Installations","Fire Alarm Installations","IT",550,{"$f":"SUMIF('Contractor##'!C:C,'Planned Maint v6.2 CSV File'!C:C,'Contractor##'!F:F)","v":-0.2},440,"Fire Alarm:Install L2 type fire alarm installation complete to BS5839:Part6 1995, control panel, circuits, call points, automatic detectors and sounders, builders work, make good, test, commission, and remove waste and debris."]
["8711HA","BREAK GLASS KEY BOX:PROVIDE","ELECTRICAL","Special Installations","Fire Alarm Installations","NO",16.75,{"$f":"SUMIF('Contractor##'!C:C,'Planned Maint v6.2 CSV File'!C:C,'Contractor##'!F:F)","v":-0.2},13.4,"Break Glass Key Box:Supply and fix break glass key box complete with perspex cover, mounted adjacent window and containing window keys."]
["8711XA","FIRE ALARM:INSTALL","ELECTRICAL","Special Installations","Fire Alarm Installations","IT",310,{"$f":"SUMIF('Contractor##'!C:C,'Planned Maint v6.2 CSV File'!C:C,'Contractor##'!F:F)","v":-0.2},248,"Fire Alarm:Install fire alarm installation complete to block of dwellings or scheme including control panel complete with alarm input and ouput circuits, sounder circuits detection/activation loops, integral batteries and charger unit, and indicator lights, sound alarm switch, alarms silence switch, reset push button and lamp test, the system is to be installed complete with manual call points, automatic detectors and sounders, all wiring is to be MICC CCm 2L1.5 including all builders adaptingand extending the Landlords electrical installation and controls to suit the charger for the fire alarm and make good all works disturbed, test and commission, and remove waste and debris. (Per Dwelling on the System)"]
["8711XB","FIRE ALARM:RENEW","ELECTRICAL","Special Installations","Fire Alarm Installations","IT",305,{"$f":"SUMIF('Contractor##'!C:C,'Planned Maint v6.2 CSV File'!C:C,'Contractor##'!F:F)","v":-0.2},244,"Fire Alarm:Strip out existing wiring and equipment and install fire alarm installation complete to block of dwellings or scheme including control panel complete with alarm input and ouput circuits, sounder circuits detection/activation loops, integral batteries and charger unit, and indicator lights, sound alarm switch, alarms silence switch, reset push button and lamp test, the system is to be installed complete with manual call points, automatic detectors and sounders, all wiring is to be MICC CCM 2L1.5 red, including all builders adapting and extending the Landlords electrical installation and controls to suit the charger for the fire alarm and make good all works disturbed, test and commission, and remove waste and debris.  (Per Dwelling on the System)"]
["8711XC","FIRE ALARM:ELECTRONIC DOOR CLOSERS","ELECTRICAL","Special Installations","Fire Alarm Installations","NO",350,{"$f":"SUMIF('Contractor##'!C:C,'Planned Maint v6.2 CSV File'!C:C,'Contractor##'!F:F)","v":-0.2},280,"Fire Alarm:Install electronic door closers in conjunction with installation or renewal of fire alarm installation to communal doors of block of dwellings or scheme, all wiring to be MICC CCM 2L 1.5 red, including all builders work, and make good all works disturbed, test and commission, and remove waste and debris."]
["8712AA","TELEPHONE:SUPPLY/FIX VISUAL AID","ELECTRICAL","Communications System","Door Entry","IT",28.86,{"$f":"SUMIF('Contractor##'!C:C,'Planned Maint v6.2 CSV File'!C:C,'Contractor##'!F:F)","v":-0.2},23.088000000000001,"Telephone:Supply and fix proprietary strobe type visual indicator to telephone installation including all necessary wiring, connections and make good finishes, test and commission, and remove waste and debris."]
["8713AA","THERMOSTAT:LOWER POSITION","ELECTRICAL","Electrical Works","Thermostat","IT",23.99,{"$f":"SUMIF('Contractor##'!C:C,'Planned Maint v6.2 CSV File'!C:C,'Contractor##'!F:F)","v":-0.2},19.192,"Thermostat:Lower height of room thermostat with wiring run in plastic mini-trunking including blanking plate to existing thermostat outlet and refix existing thermostat in lower position including make all connections, test and make good finishes, test and commission, and remove waste and debris."]
["8714AA","BURGLAR ALARM:INSTALL ANY TYPE","ELECTRICAL","Special Installations","Burglar Alarm Installation","IT",498.75,{"$f":"SUMIF('Contractor##'!C:C,'Planned Maint v6.2 CSV File'!C:C,'Contractor##'!F:F)","v":-0.2},399,"Burglar Alarm:Install burglar alarm installation complete to common parts of block of dwellings or scheme including control panel complete with alarm input and ouput circuits, sounder circuits detection/activation loops, integral batteries and charger unit, and indicator lights, sound alarm switch, alarms silence switch, reset push button and lamp test, complete with automatic detectors and sounders including all builders work, and make good all works disturbed, test and commission, and remove waste and debris."]
["8715AA","TV OUTLET:REMOVE, RECONNECT, REFIX","ELECTRICAL","Special Installations","TV Aerial Installation","NO",4.8899999999999997,{"$f":"SUMIF('Contractor##'!C:C,'Planned Maint v6.2 CSV File'!C:C,'Contractor##'!F:F)","v":-0.2},3.9119999999999999,"TV Outlet:Take off any type of existing flush or surface mounted outlet box, remake connections and refix and test, make good on completion, and remove waste and debris."]
["8715BA","TV OUTLET:RENEW FLUSH OR SURFACE BOX","ELECTRICAL","Special Installations","TV Aerial Installation","NO",11.92,{"$f":"SUMIF('Contractor##'!C:C,'Planned Maint v6.2 CSV File'!C:C,'Contractor##'!F:F)","v":-0.2},9.5359999999999996,"TV Outlet:Take off any type of existing flush or surface mounted outlet box, supply and fix new remake all connections, test, make good on completion, and remove waste and debris."]
["8715CA","TV AERIAL:REWIRE COAXIAL NE 10M","ELECTRICAL","Special Installations","TV Aerial Installation","IT",25.12,{"$f":"SUMIF('Contractor##'!C:C,'Planned Maint v6.2 CSV File'!C:C,'Contractor##'!F:F)","v":-0.2},20.096000000000004,"TV Aerial:Take out existing and or supply and fix new TV coaxial cabling from existing outlet to aerial in length ne 10.00m, run in existing conduit or surface fixed including remake all joints, test and make good on completion, and remove waste and debris."]
["8715CB","TV AERIAL:REWIRE COAXIAL 10-20M","ELECTRICAL","Special Installations","TV Aerial Installation","IT",40.46,{"$f":"SUMIF('Contractor##'!C:C,'Planned Maint v6.2 CSV File'!C:C,'Contractor##'!F:F)","v":-0.2},32.368000000000002,"TV Aerial:Take out existing and or supply and fix new TV coaxial cabling from existing outlet to aerial in length over 10.00 and ne 20.00m, run in existing conduit or surface fixed including remake all joints and make good on completion, and remove waste and debris."]
["8715CD","TV AERIAL:REWIRE COAXIAL OVER 20M","ELECTRICAL","Special Installations","TV Aerial Installation","IT",57.53,{"$f":"SUMIF('Contractor##'!C:C,'Planned Maint v6.2 CSV File'!C:C,'Contractor##'!F:F)","v":-0.2},46.024000000000001,"TV Aerial:Take out existing and or supply and fix new TV coaxial cabling from existing outlet to aerial in length over 20.00m, run in existing conduit or surface fixed including remake all joints and make good on completion, and remove waste and debris."]
["8720BB","SMOKE DETECTOR:INSTALL BATTERY OPERATED TYPE","ELECTRICAL","Special Installations","Smoke Detectors","NO",15.71,{"$f":"SUMIF('Contractor##'!C:C,'Planned Maint v6.2 CSV File'!C:C,'Contractor##'!F:F)","v":-0.2},12.568000000000001,"Smoke Detector:Supply and install battery operated smoke detector including test, make good and leave in working order and remove waste and debris."]
["8720CA","SMOKE DETECTOR:INSTALL MAINS OPTICAL TYPE","ELECTRICAL","Special Installations","Smoke Detectors","NO",70.11,{"$f":"SUMIF('Contractor##'!C:C,'Planned Maint v6.2 CSV File'!C:C,'Contractor##'!F:F)","v":-0.2},56.088000000000001,"Smoke Detector:Isolate, supply and install mains operated optical smoke detector with rechargeable DC battery or condensor back up self contained type to BS 5446 kitemark certified with hush button including make all necessary connections to supply including junction box, reconnect test and make good on completion, and remove waste and debris."]
["8720DA","SMOKE DETECTOR:INSTALL MAINS IONISATION TYPE","ELECTRICAL","Special Installations","Smoke Detectors","NO",64.12,{"$f":"SUMIF('Contractor##'!C:C,'Planned Maint v6.2 CSV File'!C:C,'Contractor##'!F:F)","v":-0.2},51.296000000000006,"Smoke Detector:Isolate, supply and install mains operated ionisation smoke detector with rechargeable DC battery or condensor back up self contained to BS 5446 kitemark certified with hush button including make all necessary connections to supply including junction box, reconnect test and make good on completion, and remove waste and debris."]
["8720EA","SMOKE DETECTORS:INSTALL OPTICAL IONISATION SYSTEM","ELECTRICAL","Special Installations","Smoke Detectors","NO",90,{"$f":"SUMIF('Contractor##'!C:C,'Planned Maint v6.2 CSV File'!C:C,'Contractor##'!F:F)","v":-0.2},72,"Smoke Detectors:Isolate, supply and install 2 mains operated smoke detectors with rechargeable DC battery or condensor back up on two separate floors in a single house or maisonette, one ionisation and one optical smoke detector self contained type to BS 5446 kitemark certified with hush button, make all necessary connections to supply including junction box and interlink the two detectors including mini trunking, reconnect, test and make good on completion, and remove waste and debris."]
["8720EB","SMOKE DETECTOR:INSTALL ADDITIONAL DETECTOR","ELECTRICAL","Special Installations","Smoke Detectors","NO",66.62,{"$f":"SUMIF('Contractor##'!C:C,'Planned Maint v6.2 CSV File'!C:C,'Contractor##'!F:F)","v":-0.2},53.296000000000006,"Smoke Detector:Extra to supply and install 2 mains operated smoke detectors for additional interlinked ionisation smoke detector with rechargeable DC battery or condensor backup self contained type to BS 5446 certified with hush button on additional floors, including make all necessary connections to supply including junction box and interlink the three detectors including mini trunking, reconnect, test and make good on completion, and remove waste and debris."]
["8720FA","SMOKE DETECTOR:RENEW WITH OPTICAL TYPE","ELECTRICAL","Special Installations","Smoke Detectors","NO",70.11,{"$f":"SUMIF('Contractor##'!C:C,'Planned Maint v6.2 CSV File'!C:C,'Contractor##'!F:F)","v":-0.2},56.088000000000001,"Smoke Detector:Renew existing with mains operated optical smoke detector with rechargeable DC battery or condensor back up self contained type to BS 5446 kitemark certified with hush button, including back plate and all necessary connections to existing wiring, test and make good on completion, where interlinked detectors are replaced new detectors must be compatible with existing, and remove waste and debris."]
["8720FB","SMOKE DETECTOR:RENEW WITH IONISATION TYPE","ELECTRICAL","Special Installations","Smoke Detectors","NO",64.12,{"$f":"SUMIF('Contractor##'!C:C,'Planned Maint v6.2 CSV File'!C:C,'Contractor##'!F:F)","v":-0.2},51.296000000000006,"Smoke Detector:Renew existing with mains operated ionisation smoke detector with rechargeable DC battery or condensor back up self contained type to BS 5446 kitemark certified with hush button including back plate and all necessary connections to existing wiring, test and make good on completion, where interlinked detectors are replaced new detectors must be compatible with existing, and remove waste and debris."]
["8720GA","SMOKE DETECTOR:VISUAL AID TYPE","ELECTRICAL","Special Installations","Smoke Detectors","IT",89.75,{"$f":"SUMIF('Contractor##'!C:C,'Planned Maint v6.2 CSV File'!C:C,'Contractor##'!F:F)","v":-0.2},71.8,"Smoke Detector:Supply and install smoke detector incorporating strobe type visual aid including all wiring an connection to electrical supply and make good all finishes, and remove waste and debris."]
["8720HA","SMOKE DETECTOR:INSTALL WIRELESS OPTICAL TYPE","ELECTRICAL","Special Installations","Smoke Detectors","NO",67.44,{"$f":"SUMIF('Contractor##'!C:C,'Planned Maint v6.2 CSV File'!C:C,'Contractor##'!F:F)","v":-0.2},53.951999999999998,"Smoke Detector:Install wireless optical smoke detector with built in test/hush button, large optical chamber sensor, radio transmitter and receiver, built in auto test alarm, 9v battery, low battery warning to BS EN 14604:2005, indicators etc., test and make good on completion and remove waste and debris."]
["8720HB","SMOKE DETECTOR:INSTALL WIRELESS IONISATION TYPE","ELECTRICAL","Special Installations","Smoke Detectors","NO",59.2,{"$f":"SUMIF('Contractor##'!C:C,'Planned Maint v6.2 CSV File'!C:C,'Contractor##'!F:F)","v":-0.2},47.360000000000007,"Smoke Detector:Install wireless ionisation smoke detector with built in test button, dual ionisation chamber sensor, radio transmitter and receiver, built in auto test alarm, 9v battery, low battery warning to BS EN 14604:2005, indicators etc., test and make good on completion and remove waste and debris."]
["8720HC","SMOKE DETECTOR:INSTALL WIRELESS SYSTEM","ELECTRICAL","Special Installations","Smoke Detectors","NO",97.06,{"$f":"SUMIF('Contractor##'!C:C,'Planned Maint v6.2 CSV File'!C:C,'Contractor##'!F:F)","v":-0.2},77.64800000000001,"Smoke Detector:Install one wireless optical and one ionisation smoke detector system, detectors with built in test buttons, radio transmitters and receivers, built in auto test alarms, 9v batteries, low battery warning, both detectors to BS EN 14604:2005, indicators etc., test and make good on completion and remove waste and debris."]
["8720HD","SMOKE DETECTOR:INSTALL ADDITIONAL WIRELESS","ELECTRICAL","Special Installations","Smoke Detectors","NO",40.950000000000003,{"$f":"SUMIF('Contractor##'!C:C,'Planned Maint v6.2 CSV File'!C:C,'Contractor##'!F:F)","v":-0.2},32.760000000000005,"Smoke Detector:Extra to supply and install two wireless smoke detectors for additional wireless ionisation detectors to match, detector to BS EN 14604:2005, test and make good on completion and remove waste and debris."]
["8720JA","SMOKE DETECTOR:RENEW WITH WIRELESS OPTICAL","ELECTRICAL","Special Installations","Smoke Detectors","NO",67.44,{"$f":"SUMIF('Contractor##'!C:C,'Planned Maint v6.2 CSV File'!C:C,'Contractor##'!F:F)","v":-0.2},53.951999999999998,"Smoke Detector:Renew existing with wireless optical smoke detector with built in test/hush button, large optical chamber sensor, radio transmitter and receiver, built in auto test alarm, 9v battery, low battery warning, to BS EN 14604:2005 indicators, disconnect, remove detector, wiring and trunking as necessary and make good ceiling finishes, test and make good on completion and remove waste and debris."]
["8720JB","SMOKE DETECTOR:RENEW WITH WIRELESS IONISATION","ELECTRICAL","Special Installations","Smoke Detectors","NO",59.2,{"$f":"SUMIF('Contractor##'!C:C,'Planned Maint v6.2 CSV File'!C:C,'Contractor##'!F:F)","v":-0.2},47.360000000000007,"Smoke Detector:Renew existing with wireless ionisation smoke detector with built in test buttons, radio transmitter and receiver, built in auto test alarm, 9v battery, low battery warning, to BS EN 14604:2005 indicators, disconnect, remove detector, wiring and trunking as necessary and make good ceiling finishes, test and make good on completion and remove waste and debris."]
["8721AA","HEAT DETECTOR:INSTALL","ELECTRICAL","Special Installations","Heat Detectors","NO",81.81,{"$f":"SUMIF('Contractor##'!C:C,'Planned Maint v6.2 CSV File'!C:C,'Contractor##'!F:F)","v":-0.2},65.448000000000008,"Heat Detector:Isolate, supply and install mains operated rate of rise or fixed temperature heat detector including make all necessary connections to supply including junction box, reconnect, test and make good on completion, and remove waste and debris."]
["8721CA","HEAT DETECTOR:INSTALL WIRELESS","ELECTRICAL","Special Installations","Heat Detectors","NO",68.599999999999994,{"$f":"SUMIF('Contractor##'!C:C,'Planned Maint v6.2 CSV File'!C:C,'Contractor##'!F:F)","v":-0.2},54.879999999999995,"Heat Detector:Install wireless heat detector, fixed temperature fast response thermistor type sensor, range 58oC +/- 4oC, built in test button, radio transmitter and receiver, built in auto self test, 9v battery, low battery warning to BS EN 14604:2005, indicator, test and make good oncompletion, remove waste and debris. "]
["8722AA","CARBON MONOXIDE DETECTOR:INSTALL MAINS OPERATED","ELECTRICAL","Special Installations","Carbon Monoxide Detectors","NO",89.37,{"$f":"SUMIF('Contractor##'!C:C,'Planned Maint v6.2 CSV File'!C:C,'Contractor##'!F:F)","v":-0.2},71.496000000000009,"CM Detector:Isolate, supply and install mains operated carbon monoxide detector including make all necessary connections to supply and make good on completion, and remove waste and debris."]
["8722BA","CARBON MONOXIDE DETECTOR:INSTALL BATTERY TYPE","ELECTRICAL","Special Installations","Carbon Monoxide Detectors","NO",28.51,{"$f":"SUMIF('Contractor##'!C:C,'Planned Maint v6.2 CSV File'!C:C,'Contractor##'!F:F)","v":-0.2},22.808000000000003,"CM Detector:Supply and install battery operated carbon monoxide detector to BS7860 AICO E1205A or equal and approved including fix to structure in accordance with the manufacturer’s instructions test and make good on completion, and remove waste and debris."]
["8722CA","CARBON MONOXIDE DETECTOR:INSTALL WIRELESS","ELECTRICAL","Special Installations","Carbon Monoxide Detectors","NO",97.32,{"$f":"SUMIF('Contractor##'!C:C,'Planned Maint v6.2 CSV File'!C:C,'Contractor##'!F:F)","v":-0.2},77.855999999999995,"Carbon Monoxide Detector:Install wireless carbon monoxide detector, with sealed lithium battery, electrochemical sensor, test/hush button, end of life indicator, power, alarm and fault indicators, interconnectivity, to BS EN 50291:2010, test and make good on completion, remove waste and debris."]
["8723AA","GAS DETECTOR:INSTALL","ELECTRICAL","Special Installations","Gas Detectors","NO",65.760000000000005,{"$f":"SUMIF('Contractor##'!C:C,'Planned Maint v6.2 CSV File'!C:C,'Contractor##'!F:F)","v":-0.2},52.608000000000004,"Gas Detector:Isolate, supply and install mains operated gas detector including make all necessary connections to supply including junction box, reconnect, test and make good on completion, and remove waste and debris."]
["8723BA","GAS DETECTOR:INSTALL WIRELESS","ELECTRICAL","Special Installations","Gas Detectors","NO",42.21,{"$f":"SUMIF('Contractor##'!C:C,'Planned Maint v6.2 CSV File'!C:C,'Contractor##'!F:F)","v":-0.2},33.768000000000001,"Gas Detector:Install wireless natural gas detector complete with self cleaning sensor, self test button, mute button, internal buzzer, internal battery, test and make good on completion, remove waste and debris."]
["8801AA","TIME SWITCH:RENEW SWITCH CLOCK","ELECTRICAL","Landlords Lighting etc","Time Switches","NO",30.02,{"$f":"SUMIF('Contractor##'!C:C,'Planned Maint v6.2 CSV File'!C:C,'Contractor##'!F:F)","v":-0.2},24.016000000000002,"Time Switch:Isolate supply, disconnect, clear away and renew time switch clock, remake all necessary connections, reconnect electricity supply, undertake electrical tests, make good and leave in working order and remove waste and debris."]
["8801BA","TIME SWITCH:RENEW PHOTO ELECTRIC TYPE","ELECTRICAL","Landlords Lighting etc","Time Switches","NO",36.119999999999997,{"$f":"SUMIF('Contractor##'!C:C,'Planned Maint v6.2 CSV File'!C:C,'Contractor##'!F:F)","v":-0.2},28.896000000000001,"Time Switch:Isolate supply, disconnect, clear away and renew photo electric dusk/dawn switch, remake all necessary connections, reconnect electricity supply, test, make good and leave in working order and remove waste and debris."]
["8801CA","TIME SWITCH:RENEW WITH PHOTO ELECTRIC ","ELECTRICAL","Landlords Lighting etc","Time Switches","NO",55.83,{"$f":"SUMIF('Contractor##'!C:C,'Planned Maint v6.2 CSV File'!C:C,'Contractor##'!F:F)","v":-0.2},44.664000000000001,"Time Switch:Isolate supply, disconnect, clear away any existing time clock and renew with photo electric dusk/dawn switch including all additional wiring, remake all connections, reconnect electricity supply, test, make good and leave in working order and remove waste and debris."]
["8801DA","TIME SWITCH:RENEW PASSIVE INFRA RED","ELECTRICAL","Landlords Lighting etc","Time Switches","NO",38.32,{"$f":"SUMIF('Contractor##'!C:C,'Planned Maint v6.2 CSV File'!C:C,'Contractor##'!F:F)","v":-0.2},30.656000000000002,"Time Switch:Isolate supply, disconnect, clear away and renew passive infra red detector switch, remake all necessary connections, reconnect electricity supply, test, make good and leave in working order and remove waste and debris."]
["8801EA","LIGHT:INSTALL PIR UNIT COMPLETE","ELECTRICAL","Landlords Lighting etc","PIR Units","NO",68.12,{"$f":"SUMIF('Contractor##'!C:C,'Planned Maint v6.2 CSV File'!C:C,'Contractor##'!F:F)","v":-0.2},54.496000000000009,"Light:Supply and install in approved location passive infra red detector unit with 1000w lamp, PIR switch, all necessary wiring and control switch and connection to electrical supply, test, set, make good and leave in working order and remove waste and debris."]
["8801FA","SWITCH:RENEW WITH TIME LAG SWITCH","ELECTRICAL","Landlords Lighting etc","Time Switches","NO",47.69,{"$f":"SUMIF('Contractor##'!C:C,'Planned Maint v6.2 CSV File'!C:C,'Contractor##'!F:F)","v":-0.2},38.152000000000001,"Switch:Isolate supply, disconnect, clear away and renew any plate switch with time delay switch disconnect, clear away and renew, remake all connections, reconnect to electricity supply, undertake electrical tests, set switch, make good and leave in working order and remove waste and debris."]
["8801XA","LANDLORDS LIGHTING:RENEW EXTERNAL","ELECTRICAL","Landlords Lighting etc","Renew installation","IT",250,{"$f":"SUMIF('Contractor##'!C:C,'Planned Maint v6.2 CSV File'!C:C,'Contractor##'!F:F)","v":-0.2},200,"Landlords Lighting:Strip out existing wiring, fittings and controls, rewire in MICC cable in external or exposed locations from incoming electrical supply, provide and install light fittings as specified complete with long life lamps, controls to be PIR, photelectric cell or time lag switches, including all builders work and make good all works disturbed, test and commission, and remove waste and debris. (Per Dwelling in Scheme)."]
["8801XB","LANDLORDS LIGHTING:RENEW INTERNAL","ELECTRICAL","Landlords Lighting etc","Renew installation","IT",250,{"$f":"SUMIF('Contractor##'!C:C,'Planned Maint v6.2 CSV File'!C:C,'Contractor##'!F:F)","v":-0.2},200,"Landlords Lighting:Strip out existing wiring, fittings and controls, rewire in pvc cable to internal or non-exposed locations from incoming electrical supply, provide and install light fittings as specified complete with long life lamps, all necessary switches including 2 way, and all builders work and make good all works disturbed, test and commission, and remove waste and debris. (Per Dwelling on Scheme)"]
["8810AA","EMERGENCY LIGHTING:RENEW SELF CONTAINED FITTING","ELECTRICAL","Landlords Lighting etc","Emergency Lighting Fittings","NO",59.37,{"$f":"SUMIF('Contractor##'!C:C,'Planned Maint v6.2 CSV File'!C:C,'Contractor##'!F:F)","v":-0.2},47.496000000000002,"Emergency Lighting:Renew or supply and install self contained non-maintained 3hr duration completion with glass diffuser, plugged and screwed to structure, including making all connections to existing wiring, test and make good on completion, and remove waste and debris."]
["8810BA","EMERGENCY LIGHTING:RENEW EXIT SIGN","ELECTRICAL","Landlords Lighting etc","Emergency Lighting Fittings","NO",82.82,{"$f":"SUMIF('Contractor##'!C:C,'Planned Maint v6.2 CSV File'!C:C,'Contractor##'!F:F)","v":-0.2},66.256,"Emergency Lighting:Renew or supply and install exit sign 515x190x58mm maintained type 3hr duration complete with tube to BS 5266 surface mounted, plugged and screwed to structure, including making all connections to existing wiring, test and make good on completion, and remove waste and debris."]
["8810XA","EMERGENCY LIGHTING:INSTALL/RENEW","ELECTRICAL","Landlords Lighting etc","Emergency Lighting Fittings","IT",300,{"$f":"SUMIF('Contractor##'!C:C,'Planned Maint v6.2 CSV File'!C:C,'Contractor##'!F:F)","v":-0.2},240,"Emergency Lighting:Install emergency lighting installation to block of dwellings or scheme, strip out any existing installation and equipment, supply and install self contained non-maintained emergency uminaries and emergency exit signs, connect by specified cable to local lighting circuit, all builders work and make good all works disturbed, test and commission, and remove waste and debris (Per Dwelling in Scheme)"]
["8812XA","WARDEN CALL SYSTEM:INSTALL","ELECTRICAL","Warden/OAP Alarms","Installation","IT",350,{"$f":"SUMIF('Contractor##'!C:C,'Planned Maint v6.2 CSV File'!C:C,'Contractor##'!F:F)","v":-0.2},280,"Warden Call System:Install warden call system to group of dwellings or scheme, provide and install control panel, individual call points and pull cords, repeaters and cabling, all builders work and make good all works disturbed, test and commission, and remove waste and debris. (Per Dwelling in Scheme)"]
["8820AA","ELECTRIC COOKER:RENEWAL 4 PLATE TYPE","ELECTRICAL","Electrical Appliances","Domestic Type Electric Cookers - Renewals","NO",433.02,{"$f":"SUMIF('Contractor##'!C:C,'Planned Maint v6.2 CSV File'!C:C,'Contractor##'!F:F)","v":-0.2},346.416,"Electric Cooker:Isolate supply, disconnect existing, clear away, supply and install new 4 plate domestic type electrical cooker complete, reconnect, undertake electrical tests, test operation and leave in working order and remove waste and debris."]
["8820AB","ELECTRIC COOKER:RENEW 2 PLATE TYPE HOB UNIT","ELECTRICAL","Electrical Appliances","Domestic Type Electric Cookers - Renewals","NO",133.82,{"$f":"SUMIF('Contractor##'!C:C,'Planned Maint v6.2 CSV File'!C:C,'Contractor##'!F:F)","v":-0.2},107.056,"Electric Cooker Unit:Isolate supply, disconnect existing, clear away, supply and install new 2 plate domestic type electric hob unit complete, reconnect, undertake electrical tests, test operation and leave in working order and remove waste and debris."]
["8820ZB","ELECTRIC COOKER:RENEW BUILT IN HOB UNIT","ELECTRICAL","Electrical Appliances","Domestic Type Electric Cookers - Renewals","NO",249.32,{"$f":"SUMIF('Contractor##'!C:C,'Planned Maint v6.2 CSV File'!C:C,'Contractor##'!F:F)","v":-0.2},199.45600000000002,"Electric Cooker:Isolate supply, disconnect existing, clear away, supply and install domestic type built in/inset electric hob unit complete [PC Sum £100.00 supplied and delivered ready for installation], reconnect, undertake electrical tests, test operation and leave in working order and remove waste and debris."]
["8820ZC","ELECTRIC COOKER:RENEW BUILT IN OVEN UNIT","ELECTRICAL","Electrical Appliances","Domestic Type Electric Cookers - Renewals","NO",433.02,{"$f":"SUMIF('Contractor##'!C:C,'Planned Maint v6.2 CSV File'!C:C,'Contractor##'!F:F)","v":-0.2},346.416,"Electric Cooker:Isolate supply, disconnect existing, clear away, supply and install domestic type built in electric oven unit complete [PC Sum £220.00 supplied and delivered ready for installation], reconnect, undertake electrical tests, test operation and leave in working order and remove waste and debris."]
["8821AA","WASHING MACHINE:RENEW","ELECTRICAL","Electrical Appliances","Domestic Type Electric Laundry Equipment","NO",296.62,{"$f":"SUMIF('Contractor##'!C:C,'Planned Maint v6.2 CSV File'!C:C,'Contractor##'!F:F)","v":-0.2},237.29600000000002,"Washing Machine:Isolate supply, disconnect existing, clear away, supply and install new domestic type electric washing machine, reconnect electric supply, water supply and waste pipework, electrical test, make good on completion and leave in working order and remove waste and debris."]
["8821BA","TUMBLE DRYER:RENEW","ELECTRICAL","Electrical Appliances","Domestic Type Electric Laundry Equipment","NO",238.32,{"$f":"SUMIF('Contractor##'!C:C,'Planned Maint v6.2 CSV File'!C:C,'Contractor##'!F:F)","v":-0.2},190.65600000000001,"Tumble Dryer:Isolate supply, disconnect existing, clear away, supply and install new domestic type electric tumble dryer, reconnect electric supply, electrical test, make good on completion and leave in working order and remove waste and debris."]
["8822AA","REFRIGERATOR:RENEW NE 150 LITRE","ELECTRICAL","Electrical Appliances","Domestic Type Electric Refrigerator","NO",202.02,{"$f":"SUMIF('Contractor##'!C:C,'Planned Maint v6.2 CSV File'!C:C,'Contractor##'!F:F)","v":-0.2},161.61600000000001,"Refrigerator:Disconnect existing, clear away, supply and install new ne 150 litre domestic type electric refrigerator complete, reconnect and leave in working order and remove waste and debris."]
["8822AB","REFRIGERATOR:RENEW NE 200 LITRE","ELECTRICAL","Electrical Appliances","Domestic Type Electric Refrigerator","NO",265.82,{"$f":"SUMIF('Contractor##'!C:C,'Planned Maint v6.2 CSV File'!C:C,'Contractor##'!F:F)","v":-0.2},212.65600000000001,"Refrigerator:Disconnect existing, clear away, supply and install new over 150 and ne 200 litre domestic type electric refrigerator complete, reconnect and leave in working order and remove waste and debris."]
["8822AC","REFRIGERATOR:RENEW NE 300 LITRE","ELECTRICAL","Electrical Appliances","Domestic Type Electric Refrigerator","NO",397.82,{"$f":"SUMIF('Contractor##'!C:C,'Planned Maint v6.2 CSV File'!C:C,'Contractor##'!F:F)","v":-0.2},318.25600000000003,"Refrigerator:Disconnect existing, clear away, supply and install new over 200 and ne 300 litre domestic type electric refrigerator complete, reconnect and leave in working order and remove waste and debris."]
["8823AA","DEEP FREEZE:RENEW 200 LITRE","ELECTRICAL","Electrical Appliances","Domestic Type Electric Deep Freeze","NO",306.52,{"$f":"SUMIF('Contractor##'!C:C,'Planned Maint v6.2 CSV File'!C:C,'Contractor##'!F:F)","v":-0.2},245.21600000000001,"Deep Freeze:Disconnect existing, clear away, supply and install new ne 200 litre domestic type electric deep freeze complete, reconnect and leave in working order and remove waste and debris."]
["8823AB","DEEP FREEZE:RENEW 350 LITRE","ELECTRICAL","Electrical Appliances","Domestic Type Electric Deep Freeze","NO",367.02,{"$f":"SUMIF('Contractor##'!C:C,'Planned Maint v6.2 CSV File'!C:C,'Contractor##'!F:F)","v":-0.2},293.61599999999999,"Deep Freeze:Disconnect existing, clear away, supply and install new over 200 and ne 350 litre domestic type electric deep freeze complete, reconnect and leave in working order and remove waste and debris."]
["8826AA","DISHWASHING MACHINE:RENEW FREESTANDING","ELECTRICAL","Electrical Appliances","Domestic Type Dishwashing Equipment","NO",492.02,{"$f":"SUMIF('Contractor##'!C:C,'Planned Maint v6.2 CSV File'!C:C,'Contractor##'!F:F)","v":-0.2},393.61599999999999,"Dishwashing Machine:Isolate supply, disconnect existing, clear away, supply and install new domestic type electric dishwashing machine, reconnect electric supply, water supply and waste pipework, electrical test, make good on completion and leave in working order and remove waste and debris."]
["8826AB","DISHWASHING MACHINE:RENEW INTEGRATED","ELECTRICAL","Electrical Appliances","Domestic Type Dishwashing Equipment","NO",640.52,{"$f":"SUMIF('Contractor##'!C:C,'Planned Maint v6.2 CSV File'!C:C,'Contractor##'!F:F)","v":-0.2},512.41600000000005,"Dishwashing Machine:Isolate supply, disconnect existing, clear away, supply and install new domestic type integrated electric dishwashing machine, reconnect electric supply, water supply and waste pipework, electrical test, make good on completion and leave in working order and remove waste and debris."]
["8920AA","EARTH:INSTALL EARTHBOND COMPLETE","ELECTRICAL","Earthing","Earthing - Plumbing Installations","NO",289.37,{"$f":"SUMIF('Contractor##'!C:C,'Planned Maint v6.2 CSV File'!C:C,'Contractor##'!F:F)","v":-0.2},231.49600000000001,"Earth:Install complete earthbonding system to dwelling, all as current regulations and remove waste and debris."]
["8920AB","EARTH:CROSS BOND PLUMBING","ELECTRICAL","Earthing","Earthing - Plumbing Installations","IT",18.14,{"$f":"SUMIF('Contractor##'!C:C,'Planned Maint v6.2 CSV File'!C:C,'Contractor##'!F:F)","v":-0.2},14.512,"Earth:Install and connect earth strips and wire to cross bond pipes to any pipes, appliance or tank, connect to earth source and earth clip, with earth tags and cable clips and remove waste and debris. [per item crossbonded]"]
["8920AC","EARTH:RENEW MAIN EQUIPOTENTIAL BONDING ","ELECTRICAL","Earthing","Earthing - Plumbing Installations","IT",24.08,{"$f":"SUMIF('Contractor##'!C:C,'Planned Maint v6.2 CSV File'!C:C,'Contractor##'!F:F)","v":-0.2},{"$f":"(1+H2948)*G2948","v":19.263999999999999},"Earth:Disconnect, strip out, clear away and renew earthing cable of suitable size, clamps and accessories from main switch gear and consumer units to incoming water, gas or electric supply and remove waste and debris..[per item]"]
["8920AD","EARTH:CROSS BOND BATHROOM","ELECTRICAL","Earthing","Earthing - Plumbing Installations","IT",44.95,{"$f":"SUMIF('Contractor##'!C:C,'Planned Maint v6.2 CSV File'!C:C,'Contractor##'!F:F)","v":-0.2},35.96,"Earth:Supplemental equipotential bonding all circuits [heater, lighting, shower, fan] in bathroom, to the nearest earth point in accordance with current regulations with cable, clips and tags, and remove waste and debris."]
["8920AE","EARTH:SUPPLEMENTARY EQUIPOTENTIAL BONDING ANY ITEM","ELECTRICAL","Earthing","Earthing - Plumbing Installations","IT",12.63,{"$f":"SUMIF('Contractor##'!C:C,'Planned Maint v6.2 CSV File'!C:C,'Contractor##'!F:F)","v":-0.2},10.104000000000001,"Earth:Supplemental equipotential bonding to any isolated metal item or pipe to the nearest earth point in accordance with current regulations with cable, clips and tags, and remove waste and debris."]
["8950AA","TEST:OCCUPIED PROPERTY CERTIFICATE","ELECTRICAL","Testing","Testing - Occupied Property","IT",86.88,{"$f":"SUMIF('Contractor##'!C:C,'Planned Maint v6.2 CSV File'!C:C,'Contractor##'!F:F)","v":-0.2},69.504000000000005,"Test:Carry out test of domestic installation to occupied property complete comprising continuity, insulation resistance, polarity, earth fault loop impedance and operation of residual current operated device, disconnect, repair and renew as necessary after removal of illegal wiring and components, and provide report and NICEIC/ECA test certificate to the Client’s Representative, and remove waste and debris."]
["8950BA","TEST:OCCUPIED PROPERTY POST REPAIRS CERTIFICATE","ELECTRICAL","Testing","Testing - Occupied Property","IT",48.87,{"$f":"SUMIF('Contractor##'!C:C,'Planned Maint v6.2 CSV File'!C:C,'Contractor##'!F:F)","v":-0.2},39.096000000000004,"Test:Carry out test of domestic installation to occupied property complete comprising continuity, insulation resistance, polarity, earth fault loop impedance and operation of residual current operated device, following any repair or alteration works and provide NICEIC test certificate to Client’s Representative."]
["8950CA","TEST:OCCUPIED PROPERTY AND REPORT","ELECTRICAL","Testing","Testing - Occupied Property","IT",64.89,{"$f":"SUMIF('Contractor##'!C:C,'Planned Maint v6.2 CSV File'!C:C,'Contractor##'!F:F)","v":-0.2},51.912000000000006,"Test:Carry out test of domestic installation to occupied property complete comprising continuity, insulation resistance, polarity, earth fault loop impedance and operation of residual current operated device, disconnect, repair and renew as necessary after removal of illegal wiring and components and report to the Client’s Representative and remove waste and debris, (any repairs required to be ordered separately by Client’s Representative)."]
["8955AA","PORTABLE APPLIANCE:ANNUAL TEST - ONLY ITEM","ELECTRICAL","Testing","Portable Appliance Electrical Equipment - Annual Testing","NO",14.66,{"$f":"SUMIF('Contractor##'!C:C,'Planned Maint v6.2 CSV File'!C:C,'Contractor##'!F:F)","v":-0.2},11.728000000000002,"Portable Appliance:Annual inspection, electrical testing, certification and labelling of Client owned portable appliance of any type, under the Electricity at Work Regulations 1989 and provide written report to Client’s Representative (to be claimed for each item tested and certified). (only one item tested at any one location]"]
["8955AB","PORTABLE APPLIANCE:ANNUAL TEST - 1-3 ITEMS","ELECTRICAL","Testing","Portable Appliance Electrical Equipment - Annual Testing","NO",5.86,{"$f":"SUMIF('Contractor##'!C:C,'Planned Maint v6.2 CSV File'!C:C,'Contractor##'!F:F)","v":-0.2},4.6880000000000006,"Portable Appliance:Annual inspection, electrical testing, certification and labelling of Client owned portable appliance of any type, under the Electricity at Work Regulations 1989 and provide written report to Client’s Representative (to be claimed for each item tested and certified). (2-3 items tested at one location)."]
["8955AC","PORTABLE APPLIANCE:ANNUAL TEST - 4-10 ITEMS","ELECTRICAL","Testing","Portable Appliance Electrical Equipment - Annual Testing","NO",4.4000000000000004,{"$f":"SUMIF('Contractor##'!C:C,'Planned Maint v6.2 CSV File'!C:C,'Contractor##'!F:F)","v":-0.2},3.5200000000000005,"Portable Appliance:Annual inspection, electrical testing, certification and labelling of Client owned portable appliance of any type, under the Electricity at Work Regulations 1989 and provide written report to Client’s Representative (to be claimed for each item tested and certified). (4-10 items tested at one location)."]
["8955AD","PORTABLE APPLIANCE:ANNUAL TEST - OVER 10 ITEMS","ELECTRICAL","Testing","Portable Appliance Electrical Equipment - Annual Testing","NO",3.42,{"$f":"SUMIF('Contractor##'!C:C,'Planned Maint v6.2 CSV File'!C:C,'Contractor##'!F:F)","v":-0.2},2.7360000000000002,"Portable Appliance:Annual inspection, electrical testing, certification and labelling of Client owned portable appliance of any type, under the Electricity at Work Regulations 1989 and provide written report to Client’s Representative (to be claimed for each item tested and certified). (over 10 items tested at one location)."]
["8960AA","TEST:UNOCCUPIED PROPERTY CERTIFICATE","ELECTRICAL","Testing","Testing - Unoccupied Property","IT",100.45,{"$f":"SUMIF('Contractor##'!C:C,'Planned Maint v6.2 CSV File'!C:C,'Contractor##'!F:F)","v":-0.2},80.360000000000014,"Test:Carry out test of domestic installation to unoccupied property complete comprising continuity insulation resistance, polarity, earth fault loop impedance and operation of residual current operated device, disconnect, repair and renew as necessary after removal of illegal wiring and components, and provide report and NICEIC/ECA test certificate to the Client’s Representative, and remove waste and debris."]
["8960BA","TEST:UNOCCUPIED PROPERTY REPORT","ELECTRICAL","Testing","Testing - Unoccupied Property","IT",71.12,{"$f":"SUMIF('Contractor##'!C:C,'Planned Maint v6.2 CSV File'!C:C,'Contractor##'!F:F)","v":-0.2},56.896000000000008,"Test:Carry out test of domestic installation to unoccupied property complete comprising continuity insulation resistance, polarity, earth fault loop impedance and operation of residual current operated device, disconnect, repair and renew as necessary after removal of illegal wiring and components and report to the Client’s Representative and remove waste and debris, (any repairs required to be ordered separately by Client’s Representative)."]
["9220EA","SOCKET:RAISE HEIGHT-MINI TRUNK OR KIT","ELECTRICAL","Electrical Works","Socket Outlets","IT",42.46,{"$f":"SUMIF('Contractor##'!C:C,'Planned Maint v6.2 CSV File'!C:C,'Contractor##'!F:F)","v":-0.2},33.968000000000004,"Socket:Raise height of any existing single or double socket outlet, ne 1.5m with wiring run in plastic mini trunking including all fittings and switched single or double outlets or proprietary extended plug kit including fix to wall, make all connections, electrical tests and make good finishes, and remove waste and debris."]
["9520AA","TAPS:INSTALL BASIN LEVERS - PAIR","PLUMBING","Plumbing Works","Taps","IT",114.87,{"$f":"SUMIF('Contractor##'!C:C,'Planned Maint v6.2 CSV File'!C:C,'Contractor##'!F:F)","v":-0.25890000000000002},85.130156999999997,"Taps:Install pair of 15mm chromium plated ceramic disc quarter action lever taps to wash hand basin in lieu of pillar taps"]
["9610AB","SEAT:SUPPLY AND FIX HINGED WITH LEG","PLUMBING","Showers/ Bath Aids","Shower Seat","NO",279.86,{"$f":"SUMIF('Contractor##'!C:C,'Planned Maint v6.2 CSV File'!C:C,'Contractor##'!F:F)","v":-0.25890000000000002},207.404246,"Seat:Supply and fix proprietary heavy duty hinged shower seat with support leg including  plugging and securely fixing to wall and floor as appropriate and all make good. [PC Sum of £145.00]"]
["9620AA","SOAP DISH:SUPPLY AND FIX WHEELCHAIR HEIGHT","PLUMBING","Showers/ Bath Aids","Soap Dish","NO",34.07,{"$f":"SUMIF('Contractor##'!C:C,'Planned Maint v6.2 CSV File'!C:C,'Contractor##'!F:F)","v":-0.25890000000000002},25.249276999999999,"Soap Dish:Supply and fix soap dish to suit wheelchair height including all make good."]
["9700AA","UNIT:REMOVE ANY UNIT AND CLEAR AWAY","CARPENTRY AND JOINERY","Kitchen Units","Kitchen Units -  Adjustable Specification for Special Needs","NO",4.6900000000000004,{"$f":"SUMIF('Contractor##'!C:C,'Planned Maint v6.2 CSV File'!C:C,'Contractor##'!F:F)","v":-0.1135},4.1576849999999999,"Unit:Remove any size of existing base unit and worktop over or any size of wall unit and remove waste and debris.."]
["9700BA","BASE UNIT:SUPPLY 300MM LONG ADJUSTABLE HEIGHT","CARPENTRY AND JOINERY","Kitchen Units","Kitchen Units -  Adjustable Specification for Special Needs","NO",165.13,{"$f":"SUMIF('Contractor##'!C:C,'Planned Maint v6.2 CSV File'!C:C,'Contractor##'!F:F)","v":-0.1135},146.387745,"Base Unit:Supply and fix 300mm long adjustable height base unit and worktop over complete, make good walls and floors including where any existing units removed, seal junction of worktop/walls with silicone sealant and remove waste and debris."]
["9700BB","BASE UNIT:SUPPLY 400MM LONG ADJUSTABLE HEIGHT","CARPENTRY AND JOINERY","Kitchen Units","Kitchen Units -  Adjustable Specification for Special Needs","NO",214.63,{"$f":"SUMIF('Contractor##'!C:C,'Planned Maint v6.2 CSV File'!C:C,'Contractor##'!F:F)","v":-0.1135},190.26949499999998,"Base Unit:Supply and fix 400mm long adjustable height base unit and worktop over complete, make good walls and floors including where any existing units removed, seal junction of worktop/walls with silicone sealant and remove waste and debris."]
["9700BC","BASE UNIT:SUPPLY 500MM LONG ADJUSTABLE HEIGHT","CARPENTRY AND JOINERY","Kitchen Units","Kitchen Units -  Adjustable Specification for Special Needs","NO",234.25,{"$f":"SUMIF('Contractor##'!C:C,'Planned Maint v6.2 CSV File'!C:C,'Contractor##'!F:F)","v":-0.1135},207.66262499999999,"Base Unit:Supply and fix 500mm long adjustable height base unit and worktop over complete, make good walls and floors including where any existing units removed, seal junction of worktop/walls with silicone sealant and remove waste and debris."]
["9700BD","BASE UNIT:SUPPLY 600MM LONG ADJUSTABLE HEIGHT","CARPENTRY AND JOINERY","Kitchen Units","Kitchen Units -  Adjustable Specification for Special Needs","NO",248.38,{"$f":"SUMIF('Contractor##'!C:C,'Planned Maint v6.2 CSV File'!C:C,'Contractor##'!F:F)","v":-0.1135},220.18886999999998,"Base Unit:Supply and fix 600mm long adjustable height base unit and worktop over complete, make good walls and floors including where any existing units removed, seal junction of worktop/walls with silicone sealant and remove waste and debris."]
["9700BE","BASE UNIT:SUPPLY 1000MM LONG ADJUSTABLE HEIGHT","CARPENTRY AND JOINERY","Kitchen Units","Kitchen Units -  Adjustable Specification for Special Needs","NO",377.19,{"$f":"SUMIF('Contractor##'!C:C,'Planned Maint v6.2 CSV File'!C:C,'Contractor##'!F:F)","v":-0.1135},334.37893499999996,"Base Unit:Supply and fix 1000mm long adjustable height base unit and worktop over complete, make good walls and floors including where any existing units removed, seal junction of worktop/walls with silicone sealant and remove waste and debris."]
["9700CA","SINK TOP:RENEW ADJUSTABLE HEIGHT COMPLETE","CARPENTRY AND JOINERY","Kitchen Units","Kitchen Units -  Adjustable Specification for Special Needs","NO",429.38,{"$f":"SUMIF('Contractor##'!C:C,'Planned Maint v6.2 CSV File'!C:C,'Contractor##'!F:F)","v":-0.1135},380.64536999999996,"Sink Unit:Renew any sink unit with adjustable height proprietary inset sink top, worktop and fascia includingturn water off/on, disconnect existing and clear away, fix new including pair of ceramic disc lever taps with flexible connections and make all connections to existing pipework, provide new service valves if not already installed, fix new waste, trap and conect to existing pipework including all adjustments necessary, fit plug/chain, make good all finishes including where existing unit removed seal junction to wall with silicone sealant, crossbond and test, and remove waste and debris."]
["9700DA","WALL UNIT:SUPPLY 300MM LONG ADJUSTABLE HEIGHT","CARPENTRY AND JOINERY","Kitchen Units","Kitchen Units -  Adjustable Specification for Special Needs","NO",119.5,{"$f":"SUMIF('Contractor##'!C:C,'Planned Maint v6.2 CSV File'!C:C,'Contractor##'!F:F)","v":-0.1135},105.93674999999999,"Wall Unit:Supply and fix 300mm long adjustable height wall unit complete, make good walls including where any existing units removed, and remove waste and debris."]
["9700DB","WALL UNIT:SUPPLY 400MM LONG ADJUSTABLE HEIGHT","CARPENTRY AND JOINERY","Kitchen Units","Kitchen Units -  Adjustable Specification for Special Needs","NO",125,{"$f":"SUMIF('Contractor##'!C:C,'Planned Maint v6.2 CSV File'!C:C,'Contractor##'!F:F)","v":-0.1135},110.8125,"Wall Unit:Supply and fix 400mm long adjustable height wall unit complete, make good walls including where any existing units removed, and remove waste and debris."]
["9700DC","WALL UNIT:SUPPLY 500MM LONG ADJUSTABLE HEIGHT","CARPENTRY AND JOINERY","Kitchen Units","Kitchen Units -  Adjustable Specification for Special Needs","NO",139.13,{"$f":"SUMIF('Contractor##'!C:C,'Planned Maint v6.2 CSV File'!C:C,'Contractor##'!F:F)","v":-0.1135},123.33874499999999,"Wall Unit:Supply and fix 500mm long adjustable height wall unit complete, make good walls including where any existing units removed, and remove waste and debris."]
["9700DD","WALL UNIT:SUPPLY 600MM LONG ADJUSTABLE HEIGHT","CARPENTRY AND JOINERY","Kitchen Units","Kitchen Units -  Adjustable Specification for Special Needs","NO",147.75,{"$f":"SUMIF('Contractor##'!C:C,'Planned Maint v6.2 CSV File'!C:C,'Contractor##'!F:F)","v":-0.1135},130.98037499999998,"Wall Unit:Supply and fix 600mm long adjustable height wall unit complete, make good walls including where any existing units removed, and remove waste and debris."]
["9700DE","WALL UNIT:SUPPLY 1000MM LONG ADJUSTABLE HEIGHT","CARPENTRY AND JOINERY","Kitchen Units","Kitchen Units -  Adjustable Specification for Special Needs","NO",229.44,{"$f":"SUMIF('Contractor##'!C:C,'Planned Maint v6.2 CSV File'!C:C,'Contractor##'!F:F)","v":-0.1135},203.39855999999997,"Wall Unit:Supply and fix 1000mm long adjustable height wall unit complete, make good walls including where any existing units removed, and remove waste and debris."]
["SC001",null,"Scaffolding",null,null,"M2",12.92,{"$f":"SUMIF('Contractor##'!C:C,'Planned Maint v6.2 CSV File'!C:C,'Contractor##'!F:F)","v":0.27},16.4084,"Standard Scaffold item: erect; dismantle; basic independent tied working scaffolding; 5 boards wide, including hire period; completely accessible; debris netting to all elevations; double boarded and polythene included as necessary, any fan(s) included as required; rope plus wheel for lifting operations; 3rd handrail included whenever necessary; as per applicable regulations (applies to up to 5 storeys). Measured up to second handrail and by the middle of the scaffold (equidistant from the inside/outside face) including design when required. Rate to include for 12 week hire"]
["SC001A",null,"Scaffolding",null,null,"%",null,{"$f":"SUMIF('Contractor##'!C:C,'Planned Maint v6.2 CSV File'!C:C,'Contractor##'!F:F)","v":0.27},0,"% increase on M2 rate in SC001 for scaffold above 5 storeys and not exceeding 10 storeys"]
["SC001B",null,"Scaffolding",null,null,"%",null,{"$f":"SUMIF('Contractor##'!C:C,'Planned Maint v6.2 CSV File'!C:C,'Contractor##'!F:F)","v":0.27},0,"% increase on M2 rate in SC001 for scaffold above 10 storeys and not exceeding 15 storeys"]
["SC001C",null,"Scaffolding",null,null,"%",null,{"$f":"SUMIF('Contractor##'!C:C,'Planned Maint v6.2 CSV File'!C:C,'Contractor##'!F:F)","v":0.27},0,"% increase on M2 rate in SC001 for scaffold above 15 storeys and not exceeding 20 storeys"]
["SC005",null,"Scaffolding",null,null,"unit",420,{"$f":"SUMIF('Contractor##'!C:C,'Planned Maint v6.2 CSV File'!C:C,'Contractor##'!F:F)","v":0.27},533.4,"Scaffold alarm - 1 x sounder, 2 x PIR 1 X key pad (Divided by Number of properties if continuous scaffolds)"]
["SC007",null,"Scaffolding",null,null,"unit",50,{"$f":"SUMIF('Contractor##'!C:C,'Planned Maint v6.2 CSV File'!C:C,'Contractor##'!F:F)","v":0.27},63.5,"E/O for additional PIRS"]
["SC008",null,"Scaffolding",null,null,"unit",383.72,{"$f":"SUMIF('Contractor##'!C:C,'Planned Maint v6.2 CSV File'!C:C,'Contractor##'!F:F)","v":0.27},487.32440000000003,"Scaffold to chimney stack n.e. 3.00 girth, n.e. 2.00m high to gable, verge or edge"]
["SC009",null,"Scaffolding",null,null,"unit",569.82000000000005,{"$f":"SUMIF('Contractor##'!C:C,'Planned Maint v6.2 CSV File'!C:C,'Contractor##'!F:F)","v":0.27},723.67140000000006,"Scaffold to chimney stack n.e. 3.00 girth, n.e. 2.00m - 4.00m high to gable, verge or edge"]
["SC010",null,"Scaffolding",null,null,"unit",513.05999999999995,{"$f":"SUMIF('Contractor##'!C:C,'Planned Maint v6.2 CSV File'!C:C,'Contractor##'!F:F)","v":0.27},651.58619999999996,"Scaffold to chimney stack exceeding 3.00 girth, n.e. 2.00m high to gable, verge or edge"]
["SC011",null,"Scaffolding",null,null,"unit",606.04999999999995,{"$f":"SUMIF('Contractor##'!C:C,'Planned Maint v6.2 CSV File'!C:C,'Contractor##'!F:F)","v":0.27},769.68349999999998,"Scaffold to chimney stack exceeding 3.00 girth, n.e. 2.00m - 4.00m high to gable, verge or edge"]
["SC012",null,"Scaffolding",null,null,"unit",628.54999999999995,{"$f":"SUMIF('Contractor##'!C:C,'Planned Maint v6.2 CSV File'!C:C,'Contractor##'!F:F)","v":0.27},798.25849999999991,"Scaffold to chimney stack n.e. 3.00 girth, n.e. 2.00m high along ridge or centre"]
["SC013",null,"Scaffolding",null,null,"unit",702.92,{"$f":"SUMIF('Contractor##'!C:C,'Planned Maint v6.2 CSV File'!C:C,'Contractor##'!F:F)","v":0.27},892.70839999999998,"Scaffold to chimney stack n.e. 3.00 girth, n.e. 2.00m - 4.00m high along ridge or centre"]
["SC014",null,"Scaffolding",null,null,"unit",752.64,{"$f":"SUMIF('Contractor##'!C:C,'Planned Maint v6.2 CSV File'!C:C,'Contractor##'!F:F)","v":0.27},955.8528,"Scaffold to chimney stack exceeding 3.00 girth, n.e. 2.00m high along ridge or centre"]
["SC014",null,"Scaffolding",null,null,"unit",817.99,{"$f":"SUMIF('Contractor##'!C:C,'Planned Maint v6.2 CSV File'!C:C,'Contractor##'!F:F)","v":0.27},1038.8473000000001,"Scaffold to chimney stack exceeding 3.00 girth, n.e. 2.00m - 4.00m high along ridge or centre"]
["SC015",null,"Scaffolding",null,null,"unit",1310,{"$f":"SUMIF('Contractor##'!C:C,'Planned Maint v6.2 CSV File'!C:C,'Contractor##'!F:F)","v":0.27},1663.7,"Up&over boarded walkway bridge (over the roof) boarded and handrails included"]
["SC016",null,"Scaffolding",null,null,"unit",379.8,{"$f":"SUMIF('Contractor##'!C:C,'Planned Maint v6.2 CSV File'!C:C,'Contractor##'!F:F)","v":0.27},482.346,"Scaffold taken through property (protection to surfaces included)"]
["SC017",null,"Scaffolding",null,null,"unit",842,{"$f":"SUMIF('Contractor##'!C:C,'Planned Maint v6.2 CSV File'!C:C,'Contractor##'!F:F)","v":0.27},1069.3399999999999,"Scaffold taken up&over the roof"]
["SC018",null,"Scaffolding",null,null,"lm",45,{"$f":"SUMIF('Contractor##'!C:C,'Planned Maint v6.2 CSV File'!C:C,'Contractor##'!F:F)","v":0.27},57.15,"Installation of rubbish chute"]
["SC019",null,"Scaffolding",null,null,"lm",31.75,{"$f":"SUMIF('Contractor##'!C:C,'Planned Maint v6.2 CSV File'!C:C,'Contractor##'!F:F)","v":0.27},40.322499999999998,"Modular Beams (Measured as lm include inside/outside face of scaffold- 1 beam included)"]
["SC020",null,"Scaffolding",null,null,"lm",59.92,{"$f":"SUMIF('Contractor##'!C:C,'Planned Maint v6.2 CSV File'!C:C,'Contractor##'!F:F)","v":0.27},76.098399999999998,"Modular Beams (Measured as lm include inside/outside face of scaffold- 2 beams included)"]
["SC021",null,"Scaffolding",null,null,"lm",16.25,{"$f":"SUMIF('Contractor##'!C:C,'Planned Maint v6.2 CSV File'!C:C,'Contractor##'!F:F)","v":0.27},20.637499999999999,"Double handrail as edge protection to party walls on mid-terraced property "]
["SC022",null,"Scaffolding",null,null,"Nr",82.5,{"$f":"SUMIF('Contractor##'!C:C,'Planned Maint v6.2 CSV File'!C:C,'Contractor##'!F:F)","v":0.27},104.77500000000001,"Satellite Dish, reposition"]
["SC023",null,"Scaffolding",null,null,"Nr",79.5,{"$f":"SUMIF('Contractor##'!C:C,'Planned Maint v6.2 CSV File'!C:C,'Contractor##'!F:F)","v":0.27},100.965,"Television aerial, remove and refix."]
["SC024",null,"Scaffolding",null,null,"%",4.8300000000000003E-2,0,4.8300000000000003E-2,"Additional Hire if required - % per week of total scaffolding costs.  This is to be applied in the event an agreed programme exceeding the duration set out above. An example would be large low level blocks of 4 storeys requiring a large programme duration"]
["SC025",null,"Scaffolding",null,null,"storey",185.64,{"$f":"SUMIF('Contractor##'!C:C,'Planned Maint v6.2 CSV File'!C:C,'Contractor##'!F:F)","v":0.27},235.7628,"Construction hoist tower- per storey"]
["SC026",null,"Scaffolding",null,null,"unit",1127.5,{"$f":"SUMIF('Contractor##'!C:C,'Planned Maint v6.2 CSV File'!C:C,'Contractor##'!F:F)","v":0.27},1431.925,"Erecting hoist mast- per unit- up to 5 storeys (including delivery, dismantle and gates) "]
["SC027",null,"Scaffolding",null,null,"week",179,{"$f":"SUMIF('Contractor##'!C:C,'Planned Maint v6.2 CSV File'!C:C,'Contractor##'!F:F)","v":0.27},227.33,"Weekly hire (in event of programme extension in line with NEC opt A compensation event agreed). Hoist hire"]
["SC028",null,"Scaffolding",null,null,"day",77.260000000000005,{"$f":"SUMIF('Contractor##'!C:C,'Planned Maint v6.2 CSV File'!C:C,'Contractor##'!F:F)","v":0.27},98.120200000000011,"Parking bay suspensions per 2 bays fee."]
["SC029",null,"Scaffolding",null,null,"item",61.29,{"$f":"SUMIF('Contractor##'!C:C,'Planned Maint v6.2 CSV File'!C:C,'Contractor##'!F:F)","v":0.27},77.838300000000004,"Suspension of Parking Bays administration Fee"]
["SC030",null,"Scaffolding",null,null,"day",695,{"$f":"SUMIF('Contractor##'!C:C,'Planned Maint v6.2 CSV File'!C:C,'Contractor##'!F:F)","v":0.27},882.65,"supply cherry picker per day incl delivery and driver"]
["SC031",null,"Scaffolding",null,null,"M2",45,{"$f":"SUMIF('Contractor##'!C:C,'Planned Maint v6.2 CSV File'!C:C,'Contractor##'!F:F)","v":0.27},57.15,"Construct temporary scaffolding roof - inclusive of design / construction of sides to all elevations, roofing spands, corrugated roofing sheeting and 1000gauge monoflex to all open sides. Measured on plan "]
["WIND001",null,"Window repairs addendum",null,null,"Nr",17.5,{"$f":"SUMIF('Contractor##'!C:C,'Planned Maint v6.2 CSV File'!C:C,'Contractor##'!F:F)","v":-0.05},16.625,"Cut out decayed timber from windows and frames. Remove old and loose paint as necessary. Repair using Dry Fix/Dry Flex RP resin (Window Care Systems Ltd or similare approved), leave ready to decorate. Timber 100cm3"]
["WIND002",null,"Window repairs addendum",null,null,"Nr",26.754000000000001,{"$f":"SUMIF('Contractor##'!C:C,'Planned Maint v6.2 CSV File'!C:C,'Contractor##'!F:F)","v":-0.05},25.4163,"Cut out decayed timber from windows and frames. Remove old and loose paint as necessary. Repair using Dry Fix/Dry Flex RP resin (Window Care Systems Ltd or similare approved), leave ready to decorate. Timber up to 200cm3"]
["WIND003",null,"Window repairs addendum",null,null,"Nr",36.75,{"$f":"SUMIF('Contractor##'!C:C,'Planned Maint v6.2 CSV File'!C:C,'Contractor##'!F:F)","v":-0.05},34.912500000000001,"Cut out decayed timber from windows and frames. Remove old and loose paint as necessary. Repair using Dry Fix/Dry Flex RP resin (Window Care Systems Ltd or similare approved), leave ready to decorate. Timber 300cm3"]
["WIND004",null,"Window repairs addendum",null,null,"Nr",46.75,{"$f":"SUMIF('Contractor##'!C:C,'Planned Maint v6.2 CSV File'!C:C,'Contractor##'!F:F)","v":-0.05},44.412500000000001,"Cut out decayed timber from windows and frames. Remove old and loose paint as necessary. Repair using Dry Fix/Dry Flex RP resin (Window Care Systems Ltd or similare approved), leave ready to decorate. Timber 400cm3"]
["WIND005",null,"Window repairs addendum",null,null,"Nr",62,{"$f":"SUMIF('Contractor##'!C:C,'Planned Maint v6.2 CSV File'!C:C,'Contractor##'!F:F)","v":-0.05},58.9,"Cut out decayed timber from windows and frames. Remove old and loose paint as necessary. Repair using Dry Fix/Dry Flex RP resin (Window Care Systems Ltd or similare approved), leave ready to decorate. Timber 500cm3"]
["WIND011",null,"Window repairs addendum",null,null,"Nr",49.5,{"$f":"SUMIF('Contractor##'!C:C,'Planned Maint v6.2 CSV File'!C:C,'Contractor##'!F:F)","v":-0.05},{"$f":"(1+H3012)*G3012","v":47.024999999999999},"Cut out decayed timber from windows and frames. Remove old and loose paint as necessary. Repair using Dry Fix/Dry Flex RP resin (Window Care Systems Ltd or similare approved), leave ready to decorate. Timber - hard wood timber splice with resin 100 x 75mm; renew cill front (repair method 5)"]
["WIND013",null,"Window repairs addendum",null,null,"Nr",19.5,{"$f":"SUMIF('Contractor##'!C:C,'Planned Maint v6.2 CSV File'!C:C,'Contractor##'!F:F)","v":-0.05},18.524999999999999,"Remove old and loose paint as necessary. Cut out decayed timber from windows and frames, piecing in or frame in new wrought softwood with resin to match existing. Leave ready to decorate. Soft wood timber splice with resin; face splice repair method no. 5 Splice not exc 200mm"]
["WIND014",null,"Window repairs addendum",null,null,"Nr",31.5,{"$f":"SUMIF('Contractor##'!C:C,'Planned Maint v6.2 CSV File'!C:C,'Contractor##'!F:F)","v":-0.05},29.924999999999997,"Remove old and loose paint as necessary. Cut out decayed timber from windows and frames, piecing in or frame in new wrought softwood with resin to match existing. Leave ready to decorate. Soft wood timber splice with resin; face splice repair method no. 5, 75 x 50 x 500mm"]
["WIND015",null,"Window repairs addendum",null,null,"Nr",36.75,{"$f":"SUMIF('Contractor##'!C:C,'Planned Maint v6.2 CSV File'!C:C,'Contractor##'!F:F)","v":-0.05},34.912500000000001,"Remove old and loose paint as necessary. Cut out decayed timber from windows and frames, piecing in or frame in new wrought softwood with resin to match existing. Leave ready to decorate. Soft wood timber splice with resin; face splice repair method no. 5, 75 x 50 x 1000mm"]
["WIND016",null,"Window repairs addendum",null,null,"Nr",31,{"$f":"SUMIF('Contractor##'!C:C,'Planned Maint v6.2 CSV File'!C:C,'Contractor##'!F:F)","v":-0.05},29.45,"Remove old and loose paint as necessary. Cut out decayed timber from windows and frames, piecing in or frame in new wrought softwood with resin to match existing. Leave ready to decorate. Soft wood timber splice with resin; face splice repair method no. 5, Splice 200 to 500mm"]
["WIND017",null,"Window repairs addendum",null,null,"Nr",36.75,{"$f":"SUMIF('Contractor##'!C:C,'Planned Maint v6.2 CSV File'!C:C,'Contractor##'!F:F)","v":-0.05},34.912500000000001,"Remove old and loose paint as necessary. Cut out decayed timber from windows and frames, piecing in or frame in new wrought softwood with resin to match existing. Leave ready to decorate. Soft wood timber splice with resin; face splice repair method no. 5, Splice 500 to 1000mm"]
["WIND018",null,"Window repairs addendum",null,null,"l/m",4.5,{"$f":"SUMIF('Contractor##'!C:C,'Planned Maint v6.2 CSV File'!C:C,'Contractor##'!F:F)","v":-0.05},4.2749999999999995,"Remove old and loose paint as necessary. Cut out decayed timber from windows and frames, piecing in or frame in new wrought softwood with resin to match existing. Leave ready to decorate. Soft wood timber splice with resin; face splice repair method no. 5. Renew silicone mastic; pointing frames; perimeter seal."]
["WIND019",null,"Window repairs addendum",null,null,"l/m",5.25,{"$f":"SUMIF('Contractor##'!C:C,'Planned Maint v6.2 CSV File'!C:C,'Contractor##'!F:F)","v":-0.05},4.9874999999999998,"Remove old and loose paint as necessary. Cut out decayed timber from windows and frames, piecing in or frame in new wrought softwood with resin to match existing. Leave ready to decorate. Timber repair system; using window care dry fix/dry flex RP; rake out putty; apply dry seal; renew putties 10 x 10 (repair method no. 9 and 10)."]
["WIND022",null,"Window repairs addendum",null,null,"Nr",4.25,{"$f":"SUMIF('Contractor##'!C:C,'Planned Maint v6.2 CSV File'!C:C,'Contractor##'!F:F)","v":-0.05},4.0374999999999996,"Timber repair system; using window care dry fix/dry flex RP; Conservation Joint, up to 50mm "]
["WIND023",null,"Window repairs addendum",null,null,"Nr",6.75,{"$f":"SUMIF('Contractor##'!C:C,'Planned Maint v6.2 CSV File'!C:C,'Contractor##'!F:F)","v":-0.05},6.4124999999999996,"Timber repair system; using window care dry fix/dry flex RP; Conservation Joint; up to 100mm "]
["WIND024",null,"Window repairs addendum",null,null,"Nr",6.75,{"$f":"SUMIF('Contractor##'!C:C,'Planned Maint v6.2 CSV File'!C:C,'Contractor##'!F:F)","v":-0.05},6.4124999999999996,"Timber repair system; using window care dry fix/dry flex RP; Conservation Joint;100mm to 200mm "]
["FAB061",null,"Fabric Repairs addendum",null,null,"no",9.75,{"$f":"SUMIF('Contractor##'!C:C,'Planned Maint v6.2 CSV File'!C:C,'Contractor##'!F:F)","v":-0.2},7.8000000000000007,"Brick Repair using renderoc or equivalent with colour addiitives to match existing, allowing to match existing brick pattern up to 10 bricks"]
["FAB062",null,"Fabric Repairs addendum",null,null,"no",9.75,{"$f":"SUMIF('Contractor##'!C:C,'Planned Maint v6.2 CSV File'!C:C,'Contractor##'!F:F)","v":-0.2},7.8000000000000007,"Brick Repair using sand cement mix with colour additives to match existing, allowing to match existing brick pattern - up to 10 bricks"]
["FAB063",null,"Fabric Repairs addendum",null,null,"no",9.75,{"$f":"SUMIF('Contractor##'!C:C,'Planned Maint v6.2 CSV File'!C:C,'Contractor##'!F:F)","v":-0.2},7.8000000000000007,"Brick Repair using renderoc or equivalent with colour addiitives to match existing, allowing to match existing brick pattern up to 10 + bricks"]
["FAB064",null,"Fabric Repairs addendum",null,null,"no",9.75,{"$f":"SUMIF('Contractor##'!C:C,'Planned Maint v6.2 CSV File'!C:C,'Contractor##'!F:F)","v":-0.2},7.8000000000000007,"Brick Repair using sand cement mix with colour addiitives to match existing, allowing to match existing brick pattern - up to 10 + bricks"]
["FAB065",null,"Fabric Repairs addendum",null,null,"no",4.5,{"$f":"SUMIF('Contractor##'!C:C,'Planned Maint v6.2 CSV File'!C:C,'Contractor##'!F:F)","v":-0.2},3.6,"Brick Repair using renderoc or similar appproved with colour addiitives to match existing, allowing to match existing brick pattern up to 100 + bricks"]
["FAB066",null,"Fabric Repairs addendum",null,null,"no",4.5,{"$f":"SUMIF('Contractor##'!C:C,'Planned Maint v6.2 CSV File'!C:C,'Contractor##'!F:F)","v":-0.2},3.6,"Brick Repair using sand cement mix with colour addiitives to match existing, allowing to match existing brick pattern - up to 100 + bricks"]
["FAB067",null,"Fabric Repairs addendum",null,null,"lm",39.9,{"$f":"SUMIF('Contractor##'!C:C,'Planned Maint v6.2 CSV File'!C:C,'Contractor##'!F:F)","v":-0.2},31.92,"Supply and install stainless steel helfix bars, include for rake out of joint / chemicall fix bars and re-point joint"]
["FAB068",null,"Fabric Repairs addendum",null,null,"lm",9,{"$f":"SUMIF('Contractor##'!C:C,'Planned Maint v6.2 CSV File'!C:C,'Contractor##'!F:F)","v":-0.2},7.2,"Movement Joint - Prepare Joint, 2 part polysuphride joint tooled finish"]
["FAB071",null,"Fabric Repairs addendum",null,null,"no",79.14,{"$f":"SUMIF('Contractor##'!C:C,'Planned Maint v6.2 CSV File'!C:C,'Contractor##'!F:F)","v":-0.2},63.312000000000005,"Insitu repairs using straight edge to form moulding repair. (Girth NE300mm Length NE300mm)"]
["FAB072",null,"Fabric Repairs addendum",null,null,"no",102.47,{"$f":"SUMIF('Contractor##'!C:C,'Planned Maint v6.2 CSV File'!C:C,'Contractor##'!F:F)","v":-0.2},81.975999999999999,"Insitu repairs using straight edge to form moulding repair. (Girth NE300mm Length NE500mm)"]
["FAB073",null,"Fabric Repairs addendum",null,null,"no",134.97,{"$f":"SUMIF('Contractor##'!C:C,'Planned Maint v6.2 CSV File'!C:C,'Contractor##'!F:F)","v":-0.2},107.976,"Insitu repairs using straight edge to form moulding repair. (Girth NE300mm Length EX 500mm)"]
["FAB074",null,"Fabric Repairs addendum",null,null,"no",99.13,{"$f":"SUMIF('Contractor##'!C:C,'Planned Maint v6.2 CSV File'!C:C,'Contractor##'!F:F)","v":-0.2},79.304000000000002,"Insitu repairs using straight edge to form moulding repair. (Girth NE500mm Length NE300mm)"]
["FAB075",null,"Fabric Repairs addendum",null,null,"no",131.21,{"$f":"SUMIF('Contractor##'!C:C,'Planned Maint v6.2 CSV File'!C:C,'Contractor##'!F:F)","v":-0.2},104.96800000000002,"Insitu repairs using straight edge to form moulding repair. (Girth NE500mm Length NE500mm)"]
["FAB076",null,"Fabric Repairs addendum",null,null,"no",173.28,{"$f":"SUMIF('Contractor##'!C:C,'Planned Maint v6.2 CSV File'!C:C,'Contractor##'!F:F)","v":-0.2},138.624,"Insitu repairs using straight edge to form moulding repair. (Girth NE500mm Length EX 500mm)"]
["FAB077",null,"Fabric Repairs addendum",null,null,"no",62.5,{"$f":"SUMIF('Contractor##'!C:C,'Planned Maint v6.2 CSV File'!C:C,'Contractor##'!F:F)","v":-0.2},50,"Mouldings run insitu using timber or moisture resistant particle boards. Girth NE300mm Length NE500mm"]
["FAB078",null,"Fabric Repairs addendum",null,null,"no.",92.5,{"$f":"SUMIF('Contractor##'!C:C,'Planned Maint v6.2 CSV File'!C:C,'Contractor##'!F:F)","v":-0.2},74,"Mouldings run insitu using timber or moisture resistant particle boards. Girth NE300mm Length NE500mm"]
["FAB079",null,"Fabric Repairs addendum",null,null,"m",137.5,{"$f":"SUMIF('Contractor##'!C:C,'Planned Maint v6.2 CSV File'!C:C,'Contractor##'!F:F)","v":-0.2},110,"Mouldings run insitu using timber or moisture resistant particle boards. Girth NE300mm Length EX 500mm"]
["FAB080",null,"Fabric Repairs addendum",null,null,"no",85,{"$f":"SUMIF('Contractor##'!C:C,'Planned Maint v6.2 CSV File'!C:C,'Contractor##'!F:F)","v":-0.2},68,"Mouldings run insitu using timber or moisture resistant particle boards. Girth NE500mm Length NE300mm"]
["FAB081",null,"Fabric Repairs addendum",null,null,"no",130,{"$f":"SUMIF('Contractor##'!C:C,'Planned Maint v6.2 CSV File'!C:C,'Contractor##'!F:F)","v":-0.2},104,"Mouldings run insitu using timber or moisture resistant particle boards. Girth NE500mm Length NE500mm"]
["FAB082",null,"Fabric Repairs addendum",null,null,"m",180,{"$f":"SUMIF('Contractor##'!C:C,'Planned Maint v6.2 CSV File'!C:C,'Contractor##'!F:F)","v":-0.2},144,"Mouldings run insitu using timber or moisture resistant particle boards.Girth NE500mm Length EX 500mm"]
["FAB083",null,"Fabric Repairs addendum",null,null,"no",97.04,{"$f":"SUMIF('Contractor##'!C:C,'Planned Maint v6.2 CSV File'!C:C,'Contractor##'!F:F)","v":-0.2},77.632000000000005,"Decorative Mouldings (Multifaceted) using the Fosroc HB and Fosroc FC repair mortar systems. Girth NE150mm Length NE300mm"]
["FAB084",null,"Fabric Repairs addendum",null,null,"no",143.69999999999999,{"$f":"SUMIF('Contractor##'!C:C,'Planned Maint v6.2 CSV File'!C:C,'Contractor##'!F:F)","v":-0.2},114.96,"Decorative Mouldings (Multifaceted) using the Fosroc HB and Fosroc FC repair mortar systems. Girth NE150mm Length NE500mm"]
["FAB085",null,"Fabric Repairs addendum",null,null,"m",191.6,{"$f":"SUMIF('Contractor##'!C:C,'Planned Maint v6.2 CSV File'!C:C,'Contractor##'!F:F)","v":-0.2},153.28,"Decorative Mouldings (Multifaceted) using the Fosroc HB and Fosroc FC repair mortar systems. Girth NE150mm Length EX 500mm"]
["FAB086",null,"Fabric Repairs addendum",null,null,"no",151.74,{"$f":"SUMIF('Contractor##'!C:C,'Planned Maint v6.2 CSV File'!C:C,'Contractor##'!F:F)","v":-0.2},121.39200000000001,"Decorative Mouldings (Multifaceted) using the Fosroc HB and Fosroc FC repair mortar systems. Girth NE300mm Length NE300mm"]
["FAB087",null,"Fabric Repairs addendum",null,null,"no",216.55,{"$f":"SUMIF('Contractor##'!C:C,'Planned Maint v6.2 CSV File'!C:C,'Contractor##'!F:F)","v":-0.2},173.24,"Decorative Mouldings (Multifaceted) using the Fosroc HB and Fosroc FC repair mortar systems. Girth NE300mm Length NE500mm"]
["FAB088",null,"Fabric Repairs addendum",null,null,"m",288.61,{"$f":"SUMIF('Contractor##'!C:C,'Planned Maint v6.2 CSV File'!C:C,'Contractor##'!F:F)","v":-0.2},230.88800000000003,"Decorative Mouldings (Multifaceted) using the Fosroc HB and Fosroc FC repair mortar systems. Girth NE300mm Length EX 500mm"]
["FAB089",null,"Fabric Repairs addendum",null,null,"no",235.3,{"$f":"SUMIF('Contractor##'!C:C,'Planned Maint v6.2 CSV File'!C:C,'Contractor##'!F:F)","v":-0.2},188.24,"Decorative Mouldings (Multifaceted) using the Fosroc HB and Fosroc FC repair mortar systems. Girth NE500mm Length NE300mm"]
["FAB090",null,"Fabric Repairs addendum",null,null,"no",312.36,{"$f":"SUMIF('Contractor##'!C:C,'Planned Maint v6.2 CSV File'!C:C,'Contractor##'!F:F)","v":-0.2},249.88800000000003,"Decorative Mouldings (Multifaceted) using the Fosroc HB and Fosroc FC repair mortar systems. Girth NE500mm Length NE500mm"]
["FAB091",null,"Fabric Repairs addendum",null,null,"m",413.58,{"$f":"SUMIF('Contractor##'!C:C,'Planned Maint v6.2 CSV File'!C:C,'Contractor##'!F:F)","v":-0.2},330.86400000000003,"Decorative Mouldings (Multifaceted) using the Fosroc HB and Fosroc FC repair mortar systems. Girth NE500mm Length EX 500mm"]
["FAB071A",null,"Fabric Repairs addendum",null,null,"no",71.56,{"$f":"SUMIF('Contractor##'!C:C,'Planned Maint v6.2 CSV File'!C:C,'Contractor##'!F:F)","v":-0.2},57.248000000000005,"Insitu repairs using straight edge to form moulding repair. (Girth NE300mm Length NE300mm)"]
["FAB072A",null,"Fabric Repairs addendum",null,null,"no",94.59,{"$f":"SUMIF('Contractor##'!C:C,'Planned Maint v6.2 CSV File'!C:C,'Contractor##'!F:F)","v":-0.2},75.672000000000011,"Insitu repairs using straight edge to form moulding repair. (Girth NE300mm Length NE500mm)"]
["FAB073A",null,"Fabric Repairs addendum",null,null,"no",126.84,{"$f":"SUMIF('Contractor##'!C:C,'Planned Maint v6.2 CSV File'!C:C,'Contractor##'!F:F)","v":-0.2},101.47200000000001,"Insitu repairs using straight edge to form moulding repair. (Girth NE300mm Length EX 500mm)"]
["FAB074A",null,"Fabric Repairs addendum",null,null,"no",66.040000000000006,{"$f":"SUMIF('Contractor##'!C:C,'Planned Maint v6.2 CSV File'!C:C,'Contractor##'!F:F)","v":-0.2},52.832000000000008,"Insitu repairs using straight edge to form moulding repair. (Girth NE500mm Length NE300mm)"]
["FAB075A",null,"Fabric Repairs addendum",null,null,"no",107.75,{"$f":"SUMIF('Contractor##'!C:C,'Planned Maint v6.2 CSV File'!C:C,'Contractor##'!F:F)","v":-0.2},86.2,"Insitu repairs using straight edge to form moulding repair. (Girth NE500mm Length NE500mm)"]
["FAB076A",null,"Fabric Repairs addendum",null,null,"no",151.78,{"$f":"SUMIF('Contractor##'!C:C,'Planned Maint v6.2 CSV File'!C:C,'Contractor##'!F:F)","v":-0.2},121.42400000000001,"Insitu repairs using straight edge to form moulding repair. (Girth NE500mm Length EX 500mm)"]
["FAB077A",null,"Fabric Repairs addendum",null,null,"no",54.13,{"$f":"SUMIF('Contractor##'!C:C,'Planned Maint v6.2 CSV File'!C:C,'Contractor##'!F:F)","v":-0.2},43.304000000000002,"Mouldings run insitu using timber or moisture resistant particle boards. Girth NE300mm Length NE300mm"]
["FAB078A",null,"Fabric Repairs addendum",null,null,"no.",73.75,{"$f":"SUMIF('Contractor##'!C:C,'Planned Maint v6.2 CSV File'!C:C,'Contractor##'!F:F)","v":-0.2},59,"Mouldings run insitu using timber or moisture resistant particle boards. Girth NE300mm Length NE500mm"]
["FAB079A",null,"Fabric Repairs addendum",null,null,"m",118.13,{"$f":"SUMIF('Contractor##'!C:C,'Planned Maint v6.2 CSV File'!C:C,'Contractor##'!F:F)","v":-0.2},94.504000000000005,"Mouldings run insitu using timber or moisture resistant particle boards. Girth NE300mm Length EX 500mm"]
["FAB080A",null,"Fabric Repairs addendum",null,null,"no",77.5,{"$f":"SUMIF('Contractor##'!C:C,'Planned Maint v6.2 CSV File'!C:C,'Contractor##'!F:F)","v":-0.2},62,"Mouldings run insitu using timber or moisture resistant particle boards. Girth NE500mm Length NE300mm"]
["FAB081A",null,"Fabric Repairs addendum",null,null,"no",108,{"$f":"SUMIF('Contractor##'!C:C,'Planned Maint v6.2 CSV File'!C:C,'Contractor##'!F:F)","v":-0.2},86.4,"Mouldings run insitu using timber or moisture resistant particle boards. Girth NE500mm Length NE500mm"]
["FAB082A",null,"Fabric Repairs addendum",null,null,"m",160,{"$f":"SUMIF('Contractor##'!C:C,'Planned Maint v6.2 CSV File'!C:C,'Contractor##'!F:F)","v":-0.2},128,"Mouldings run insitu using timber or moisture resistant particle boards. Girth NE500mm Length EX 500mm"]
["FAB083A",null,"Fabric Repairs addendum",null,null,"no",81.430000000000007,{"$f":"SUMIF('Contractor##'!C:C,'Planned Maint v6.2 CSV File'!C:C,'Contractor##'!F:F)","v":-0.2},65.144000000000005,"Decorative Mouldings (Multifaceted) using the Fosroc HB and Fosroc FC repair mortar systems. Girth NE150mm Length NE300mm"]
["FAB084A",null,"Fabric Repairs addendum",null,null,"no",127.1,{"$f":"SUMIF('Contractor##'!C:C,'Planned Maint v6.2 CSV File'!C:C,'Contractor##'!F:F)","v":-0.2},101.68,"Decorative Mouldings (Multifaceted) using the Fosroc HB and Fosroc FC repair mortar systems. Girth NE150mm Length NE500mm"]
["FAB085A",null,"Fabric Repairs addendum",null,null,"m",161.21,{"$f":"SUMIF('Contractor##'!C:C,'Planned Maint v6.2 CSV File'!C:C,'Contractor##'!F:F)","v":-0.2},128.96800000000002,"Decorative Mouldings (Multifaceted) using the Fosroc HB and Fosroc FC repair mortar systems. Girth NE150mm Length EX 500mm"]
["FAB086A",null,"Fabric Repairs addendum",null,null,"no",132.6,{"$f":"SUMIF('Contractor##'!C:C,'Planned Maint v6.2 CSV File'!C:C,'Contractor##'!F:F)","v":-0.2},106.08,"Decorative Mouldings (Multifaceted) using the Fosroc HB and Fosroc FC repair mortar systems. Girth NE300mm Length NE300mm"]
["FAB087A",null,"Fabric Repairs addendum",null,null,"no",195.5,{"$f":"SUMIF('Contractor##'!C:C,'Planned Maint v6.2 CSV File'!C:C,'Contractor##'!F:F)","v":-0.2},156.4,"Decorative Mouldings (Multifaceted) using the Fosroc HB and Fosroc FC repair mortar systems. Girth NE300mm Length NE500mm"]
["FAB088A",null,"Fabric Repairs addendum",null,null,"m",252.73,{"$f":"SUMIF('Contractor##'!C:C,'Planned Maint v6.2 CSV File'!C:C,'Contractor##'!F:F)","v":-0.2},202.184,"Decorative Mouldings (Multifaceted) using the Fosroc HB and Fosroc FC repair mortar systems. Girth NE300mm Length EX 500mm"]
["FAB089A",null,"Fabric Repairs addendum",null,null,"no",226.13,{"$f":"SUMIF('Contractor##'!C:C,'Planned Maint v6.2 CSV File'!C:C,'Contractor##'!F:F)","v":-0.2},180.904,"Decorative Mouldings (Multifaceted) using the Fosroc HB and Fosroc FC repair mortar systems. Girth NE500mm Length NE300mm"]
["FAB090A",null,"Fabric Repairs addendum",null,null,"no",251.66,{"$f":"SUMIF('Contractor##'!C:C,'Planned Maint v6.2 CSV File'!C:C,'Contractor##'!F:F)","v":-0.2},201.328,"Decorative Mouldings (Multifaceted) using the Fosroc HB and Fosroc FC repair mortar systems. Girth NE500mm Length NE500mm"]
["FAB091A",null,"Fabric Repairs addendum",null,null,"m",375.38,{"$f":"SUMIF('Contractor##'!C:C,'Planned Maint v6.2 CSV File'!C:C,'Contractor##'!F:F)","v":-0.2},300.30400000000003,"Decorative Mouldings (Multifaceted) using the Fosroc HB and Fosroc FC repair mortar systems. Girth NE500mm Length EX 500mm"]
["FAB071B",null,"Fabric Repairs addendum",null,null,"no",61.78,{"$f":"SUMIF('Contractor##'!C:C,'Planned Maint v6.2 CSV File'!C:C,'Contractor##'!F:F)","v":-0.2},49.424000000000007,"Insitu repairs using straight edge to form moulding repair. (Girth NE300mm Length NE300mm)"]
["FAB072B",null,"Fabric Repairs addendum",null,null,"no",76.84,{"$f":"SUMIF('Contractor##'!C:C,'Planned Maint v6.2 CSV File'!C:C,'Contractor##'!F:F)","v":-0.2},61.472000000000008,"Insitu repairs using straight edge to form moulding repair. (Girth NE300mm Length NE500mm)"]
["FAB073B",null,"Fabric Repairs addendum",null,null,"no",103.6,{"$f":"SUMIF('Contractor##'!C:C,'Planned Maint v6.2 CSV File'!C:C,'Contractor##'!F:F)","v":-0.2},82.88,"Insitu repairs using straight edge to form moulding repair. (Girth NE300mm Length EX 500mm)"]
["FAB074B",null,"Fabric Repairs addendum",null,null,"no",83.09,{"$f":"SUMIF('Contractor##'!C:C,'Planned Maint v6.2 CSV File'!C:C,'Contractor##'!F:F)","v":-0.2},{"$f":"(1+H3076)*G3076","v":66.472000000000008},"Insitu repairs using straight edge to form moulding repair. (Girth NE500mm Length NE300mm)"]
["FAB075B",null,"Fabric Repairs addendum",null,null,"no",104.19,{"$f":"SUMIF('Contractor##'!C:C,'Planned Maint v6.2 CSV File'!C:C,'Contractor##'!F:F)","v":-0.2},83.352000000000004,"Insitu repairs using straight edge to form moulding repair. (Girth NE500mm Length NE500mm)"]
["FAB076B",null,"Fabric Repairs addendum",null,null,"no",139.77000000000001,{"$f":"SUMIF('Contractor##'!C:C,'Planned Maint v6.2 CSV File'!C:C,'Contractor##'!F:F)","v":-0.2},111.81600000000002,"Insitu repairs using straight edge to form moulding repair. (Girth NE500mm Length EX 500mm)"]
["FAB077B",null,"Fabric Repairs addendum",null,null,"no",48.21,{"$f":"SUMIF('Contractor##'!C:C,'Planned Maint v6.2 CSV File'!C:C,'Contractor##'!F:F)","v":-0.2},38.568000000000005,"Mouldings run insitu using timber or moisture resistant particle boards. Girth NE300mm Length NE300mm"]
["FAB078B",null,"Fabric Repairs addendum",null,null,"no.",69.91,{"$f":"SUMIF('Contractor##'!C:C,'Planned Maint v6.2 CSV File'!C:C,'Contractor##'!F:F)","v":-0.2},55.927999999999997,"Mouldings run insitu using timber or moisture resistant particle boards. Girth NE300mm Length NE500mm"]
["FAB079B",null,"Fabric Repairs addendum",null,null,"m",108.48,{"$f":"SUMIF('Contractor##'!C:C,'Planned Maint v6.2 CSV File'!C:C,'Contractor##'!F:F)","v":-0.2},86.784000000000006,"Mouldings run insitu using timber or moisture resistant particle boards. Girth NE300mm Length EX 500mm"]
["FAB080B",null,"Fabric Repairs addendum",null,null,"no",72.41,{"$f":"SUMIF('Contractor##'!C:C,'Planned Maint v6.2 CSV File'!C:C,'Contractor##'!F:F)","v":-0.2},57.927999999999997,"Mouldings run insitu using timber or moisture resistant particle boards. Girth NE500mm Length NE300mm"]
["FAB081B",null,"Fabric Repairs addendum",null,null,"no",105.93,{"$f":"SUMIF('Contractor##'!C:C,'Planned Maint v6.2 CSV File'!C:C,'Contractor##'!F:F)","v":-0.2},84.744000000000014,"Mouldings run insitu using timber or moisture resistant particle boards. Girth NE500mm Length NE500mm"]
["FAB082B",null,"Fabric Repairs addendum",null,null,"m",149.44,{"$f":"SUMIF('Contractor##'!C:C,'Planned Maint v6.2 CSV File'!C:C,'Contractor##'!F:F)","v":-0.2},119.55200000000001,"Mouldings run insitu using timber or moisture resistant particle boards. Girth NE500mm Length EX 500mm"]
["FAB083B",null,"Fabric Repairs addendum",null,null,"no",78.62,{"$f":"SUMIF('Contractor##'!C:C,'Planned Maint v6.2 CSV File'!C:C,'Contractor##'!F:F)","v":-0.2},62.896000000000008,"Decorative Mouldings (Multifaceted) using the Fosroc HB and Fosroc FC repair mortar systems. Girth NE150mm Length NE300mm"]
["FAB084B",null,"Fabric Repairs addendum",null,null,"no",123.38,{"$f":"SUMIF('Contractor##'!C:C,'Planned Maint v6.2 CSV File'!C:C,'Contractor##'!F:F)","v":-0.2},98.704000000000008,"Decorative Mouldings (Multifaceted) using the Fosroc HB and Fosroc FC repair mortar systems. Girth NE150mm Length NE500mm"]
["FAB085B",null,"Fabric Repairs addendum",null,null,"m",156.24,{"$f":"SUMIF('Contractor##'!C:C,'Planned Maint v6.2 CSV File'!C:C,'Contractor##'!F:F)","v":-0.2},124.99200000000002,"Decorative Mouldings (Multifaceted) using the Fosroc HB and Fosroc FC repair mortar systems. Girth NE150mm Length EX 500mm"]
["FAB086B",null,"Fabric Repairs addendum",null,null,"no",126.72,{"$f":"SUMIF('Contractor##'!C:C,'Planned Maint v6.2 CSV File'!C:C,'Contractor##'!F:F)","v":-0.2},101.376,"Decorative Mouldings (Multifaceted) using the Fosroc HB and Fosroc FC repair mortar systems. Girth NE300mm Length NE300mm"]
["FAB087B",null,"Fabric Repairs addendum",null,null,"no",187.88,{"$f":"SUMIF('Contractor##'!C:C,'Planned Maint v6.2 CSV File'!C:C,'Contractor##'!F:F)","v":-0.2},150.304,"Decorative Mouldings (Multifaceted) using the Fosroc HB and Fosroc FC repair mortar systems. Girth NE300mm Length NE500mm"]
["FAB088B",null,"Fabric Repairs addendum",null,null,"m",242.87,{"$f":"SUMIF('Contractor##'!C:C,'Planned Maint v6.2 CSV File'!C:C,'Contractor##'!F:F)","v":-0.2},194.29600000000002,"Decorative Mouldings (Multifaceted) using the Fosroc HB and Fosroc FC repair mortar systems. Girth NE300mm Length EX 500mm"]
["FAB089B",null,"Fabric Repairs addendum",null,null,"no",217.73,{"$f":"SUMIF('Contractor##'!C:C,'Planned Maint v6.2 CSV File'!C:C,'Contractor##'!F:F)","v":-0.2},174.184,"Decorative Mouldings (Multifaceted) using the Fosroc HB and Fosroc FC repair mortar systems. Girth NE500mm Length NE300mm"]
["FAB090B",null,"Fabric Repairs addendum",null,null,"no",241.84,{"$f":"SUMIF('Contractor##'!C:C,'Planned Maint v6.2 CSV File'!C:C,'Contractor##'!F:F)","v":-0.2},193.47200000000001,"Decorative Mouldings (Multifaceted) using the Fosroc HB and Fosroc FC repair mortar systems. Girth NE500mm Length NE500mm"]
["FAB091B",null,"Fabric Repairs addendum",null,null,"m",362.51,{"$f":"SUMIF('Contractor##'!C:C,'Planned Maint v6.2 CSV File'!C:C,'Contractor##'!F:F)","v":-0.2},290.00799999999998,"Decorative Mouldings (Multifaceted) using the Fosroc HB and Fosroc FC repair mortar systems. Girth NE500mm Length EX 500mm"]
["RF153",null,"Roofing addendum",null,null,"M2",55.65,{"$f":"SUMIF('Contractor##'!C:C,'Planned Maint v6.2 CSV File'!C:C,'Contractor##'!F:F)","v":-0.22700000000000001},43.017449999999997,"Overlay with BAUDER Bauderflex System or equivalent inclusive of 15 year guarantee. Voids 1m2 to be deducted Overlay existing mineral surfaced felt with 2 layer torch-on built up felt roofing (including preparation). Up to 100 m2*"]
["RF154",null,"Roofing addendum",null,null,"M2",52,{"$f":"SUMIF('Contractor##'!C:C,'Planned Maint v6.2 CSV File'!C:C,'Contractor##'!F:F)","v":-0.22700000000000001},40.195999999999998,"Overlay with BAUDER Bauderflex System or equivalent inclusive of 15 year guarantee. Voids 1m2 to be deducted. Overlay existing mineral surfaced felt with 2 layer torch-on built up felt roofing (including preparation). Up to 200 m2*"]
["RF156",null,"Roofing addendum",null,null,"M2",55.65,{"$f":"SUMIF('Contractor##'!C:C,'Planned Maint v6.2 CSV File'!C:C,'Contractor##'!F:F)","v":-0.22700000000000001},43.017449999999997,"Overlay existing felt details with 2 layer torch-on built up felt roofing"]
["RF157",null,"Roofing addendum",null,null,"Nr",15.75,{"$f":"SUMIF('Contractor##'!C:C,'Planned Maint v6.2 CSV File'!C:C,'Contractor##'!F:F)","v":-0.22700000000000001},12.17475,"Dress to Rainwater Outlet and Pipe etc"]
["RF158",null,"Roofing addendum",null,null,"Nr",15.75,{"$f":"SUMIF('Contractor##'!C:C,'Planned Maint v6.2 CSV File'!C:C,'Contractor##'!F:F)","v":-0.22700000000000001},12.17475,"Refurbishment Outlet"]
["RF161",null,"Roofing addendum",null,null,"M2",9.25,{"$f":"SUMIF('Contractor##'!C:C,'Planned Maint v6.2 CSV File'!C:C,'Contractor##'!F:F)","v":-0.22700000000000001},7.1502499999999998,"Renew with BAUDER Total Roof System or equivalent inclusive of 20 year guarantee. Voids 1m2 to be deducted. Strip existing felt roofing and clear from site to approved tip Up to 100 m2*"]
["RF162",null,"Roofing addendum",null,null,"M2",9.25,{"$f":"SUMIF('Contractor##'!C:C,'Planned Maint v6.2 CSV File'!C:C,'Contractor##'!F:F)","v":-0.22700000000000001},7.1502499999999998,"Renew with BAUDER Total Roof System or equivalent inclusive of 20 year guarantee. Voids 1m2 to be deducted. Strip existing felt roofing and clear from site to approved tip Up to 200 m2*"]
["RF164",null,"Roofing addendum",null,null,"l/m",3.75,{"$f":"SUMIF('Contractor##'!C:C,'Planned Maint v6.2 CSV File'!C:C,'Contractor##'!F:F)","v":-0.22700000000000001},2.8987500000000002,"Strip details and clear from site."]
["RF166",null,"Roofing addendum",null,null,"M2",1.95,{"$f":"SUMIF('Contractor##'!C:C,'Planned Maint v6.2 CSV File'!C:C,'Contractor##'!F:F)","v":-0.22700000000000001},1.50735,"Prepare & prime existing surfaces Up to 100 m2*"]
["RF167",null,"Roofing addendum",null,null,"M2",1.95,{"$f":"SUMIF('Contractor##'!C:C,'Planned Maint v6.2 CSV File'!C:C,'Contractor##'!F:F)","v":-0.22700000000000001},1.50735,"Prepare & prime existing surfaces Up to 200 m2*"]
["RF170",null,"Roofing addendum",null,null,"M2",17,{"$f":"SUMIF('Contractor##'!C:C,'Planned Maint v6.2 CSV File'!C:C,'Contractor##'!F:F)","v":-0.22700000000000001},13.141,"Supply & lay vapour barrier felt incl enveloping insulation board Up to 100 m2*"]
["RF171",null,"Roofing addendum",null,null,"M2",17,{"$f":"SUMIF('Contractor##'!C:C,'Planned Maint v6.2 CSV File'!C:C,'Contractor##'!F:F)","v":-0.22700000000000001},13.141,"Supply & lay vapour barrier felt incl enveloping insulation board Up to 200 m2*"]
["RF174",null,"Roofing addendum",null,null,"M2",32,{"$f":"SUMIF('Contractor##'!C:C,'Planned Maint v6.2 CSV File'!C:C,'Contractor##'!F:F)","v":-0.22700000000000001},24.736000000000001,"Supply & lay 120mm thick PIR insulation bonded to vapour barrier (in line with current building regulations) Up to 100 m2*"]
["RF175",null,"Roofing addendum",null,null,"M2",32,{"$f":"SUMIF('Contractor##'!C:C,'Planned Maint v6.2 CSV File'!C:C,'Contractor##'!F:F)","v":-0.22700000000000001},24.736000000000001,"Supply & lay 120mm thick PIR insulation bonded to vapour barrier (in line with current building regulations) Up to 200 m2*"]
["RF178",null,"Roofing addendum",null,null,"m2",34.5,{"$f":"SUMIF('Contractor##'!C:C,'Planned Maint v6.2 CSV File'!C:C,'Contractor##'!F:F)","v":-0.22700000000000001},26.668500000000002,"Supply & lay 2 lay built up felt roofing to insulation board (to BR standards) Up to 100 m2*"]
["RF179",null,"Roofing addendum",null,null,"m2",34.5,{"$f":"SUMIF('Contractor##'!C:C,'Planned Maint v6.2 CSV File'!C:C,'Contractor##'!F:F)","v":-0.22700000000000001},26.668500000000002,"Supply & lay 2 lay built up felt roofing to insulation board (to BR standards) Up to 200 m2*"]
["RF181",null,"Roofing addendum",null,null,"Nr",35,{"$f":"SUMIF('Contractor##'!C:C,'Planned Maint v6.2 CSV File'!C:C,'Contractor##'!F:F)","v":-0.22700000000000001},27.055,"Prepare & clean existing Rainwater Outlet and dress to same"]
["RF182",null,"Roofing addendum",null,null,"Nr",47,{"$f":"SUMIF('Contractor##'!C:C,'Planned Maint v6.2 CSV File'!C:C,'Contractor##'!F:F)","v":-0.22700000000000001},36.331000000000003,"Ditto SV Pipe or similar n/e 100mm diameter"]
["RF183",null,"Roofing addendum",null,null,"l/m",2.5,{"$f":"SUMIF('Contractor##'!C:C,'Planned Maint v6.2 CSV File'!C:C,'Contractor##'!F:F)","v":-0.22700000000000001},1.9325000000000001,"Supply & fix angle fillet to base of all upstands"]
["RF184",null,"Roofing addendum",null,null,"l/m",19.75,{"$f":"SUMIF('Contractor##'!C:C,'Planned Maint v6.2 CSV File'!C:C,'Contractor##'!F:F)","v":-0.22700000000000001},15.26675,"Supply & lay 2 layer felt to detail n/e 225mm girth"]
["RF185",null,"Roofing addendum",null,null,"l/m",20.75,{"$f":"SUMIF('Contractor##'!C:C,'Planned Maint v6.2 CSV File'!C:C,'Contractor##'!F:F)","v":-0.22700000000000001},16.039750000000002,"Supply & lay 2 layer felt to detail n/e 300mm girth"]
["RF186",null,"Roofing addendum",null,null,"l/m",27.5,{"$f":"SUMIF('Contractor##'!C:C,'Planned Maint v6.2 CSV File'!C:C,'Contractor##'!F:F)","v":-0.22700000000000001},21.2575,"Supply & lay 2 layer felt to detail n/e 450mm girth"]
["RF187",null,"Roofing addendum",null,null,"l/m",33,{"$f":"SUMIF('Contractor##'!C:C,'Planned Maint v6.2 CSV File'!C:C,'Contractor##'!F:F)","v":-0.22700000000000001},25.509,"Supply & lay 2 layer felt to detail n/e 600mm girth"]
["RF188",null,"Roofing addendum",null,null,"l/m",13,{"$f":"SUMIF('Contractor##'!C:C,'Planned Maint v6.2 CSV File'!C:C,'Contractor##'!F:F)","v":-0.22700000000000001},10.048999999999999,"Supply & fix Timber hard edge stop batten to open edge of insulation board."]
["RF189",null,"Roofing addendum",null,null,"l/m",14.8995,{"$f":"SUMIF('Contractor##'!C:C,'Planned Maint v6.2 CSV File'!C:C,'Contractor##'!F:F)","v":-0.22700000000000001},11.5173135,"Supply & fix GRP edge trim including all corners and deviations"]
["RF190",null,"Roofing addendum",null,null,"Nr",9.5,{"$f":"SUMIF('Contractor##'!C:C,'Planned Maint v6.2 CSV File'!C:C,'Contractor##'!F:F)","v":-0.22700000000000001},7.3435000000000006,"Supply & fix GRP edge trim int/ext angle"]
["RF191",null,"Roofing addendum",null,null,"l/m",10,{"$f":"SUMIF('Contractor##'!C:C,'Planned Maint v6.2 CSV File'!C:C,'Contractor##'!F:F)","v":-0.22700000000000001},7.73,"Flat Roofing Walkways Supply and install cap sheet walkway bond to new covering."]
["RF192",null,"Roofing addendum",null,null,"l/m",8.5,{"$f":"SUMIF('Contractor##'!C:C,'Planned Maint v6.2 CSV File'!C:C,'Contractor##'!F:F)","v":-0.22700000000000001},6.5705,"Flat Roofing Handrail Carefully remove the existing handrail and stanchions fixed to the deck. Make deck to receive new roof coverings."]
["RF193",null,"Roofing addendum",null,null,"l/m",47.5,{"$f":"SUMIF('Contractor##'!C:C,'Planned Maint v6.2 CSV File'!C:C,'Contractor##'!F:F)","v":-0.22700000000000001},36.717500000000001,"Flat Roofing Handrail Install new freestanding handrail system, with stanchion feet set on a sacrificial layer of cap sheet loose laid beneath."]
["RF194",null,"Roofing addendum",null,null,"l/m",21,{"$f":"SUMIF('Contractor##'!C:C,'Planned Maint v6.2 CSV File'!C:C,'Contractor##'!F:F)","v":-0.22700000000000001},16.233000000000001,"Remove existing cable tray, lower to ground level and dispose. Supply and install new 0 - 150mm cable tray including cable ties. Including elecrical work."]
["RF195",null,"Roofing addendum",null,null,"l/m",247,{"$f":"SUMIF('Contractor##'!C:C,'Planned Maint v6.2 CSV File'!C:C,'Contractor##'!F:F)","v":-0.22700000000000001},190.93100000000001,"Valley or parapet Gutter to london roof - Code 5, N/e1000mm Girth fixed to plywood timber boards, with T-Pren plus expansion joints fixed at 2m c/cs or equivalent"]
["A001",null,"Asbestos internal/external",null,null,"Item",190,{"$f":"SUMIF('Contractor##'!C:C,'Planned Maint v6.2 CSV File'!C:C,'Contractor##'!F:F)","v":-0.05},180.5,"Management Survey (with upto 5 Nr samples) flat or house any size"]
["A002",null,"Asbestos internal/external",null,null,"Item",212,{"$f":"SUMIF('Contractor##'!C:C,'Planned Maint v6.2 CSV File'!C:C,'Contractor##'!F:F)","v":-0.05},201.39999999999998,"Management Survey of property including Refurbishment and Demolition Survey to Kitchen or Bathroom (with upto 5 Nr samples), flat or house any size"]
["A003",null,"Asbestos internal/external",null,null,"Item",234,{"$f":"SUMIF('Contractor##'!C:C,'Planned Maint v6.2 CSV File'!C:C,'Contractor##'!F:F)","v":-0.05},222.29999999999998,"Refurbishment and Demolition  Survey to Full Property (with upto 5 Nr samples) , flat or house any size"]
["A004",null,"Asbestos internal/external",null,null,"Item",210,{"$f":"SUMIF('Contractor##'!C:C,'Planned Maint v6.2 CSV File'!C:C,'Contractor##'!F:F)","v":-0.05},199.5,"Bulk Samples to Communal Areas (upto 5 Nr Samples)"]
["A005",null,"Asbestos internal/external",null,null,"Item",120,{"$f":"SUMIF('Contractor##'!C:C,'Planned Maint v6.2 CSV File'!C:C,'Contractor##'!F:F)","v":-0.05},114,"Refurbishment and Demolition survey (including 3 Nr samples) to an individual room"]
["A006",null,"Asbestos internal/external",null,null,"Item",95,{"$f":"SUMIF('Contractor##'!C:C,'Planned Maint v6.2 CSV File'!C:C,'Contractor##'!F:F)","v":-0.05},90.25,"Survey (including 2 Nr samples) to a specific suspect panel/area within one room"]
["A007",null,"Asbestos internal/external",null,null,"Item",150,{"$f":"SUMIF('Contractor##'!C:C,'Planned Maint v6.2 CSV File'!C:C,'Contractor##'!F:F)","v":-0.05},142.5,"24/7 Emergency call out service - attend property within two hours of notification, make safe, take upto 2 Nr samples."]
["A008",null,"Asbestos internal/external",null,null,"nr",8.8000000000000007,{"$f":"SUMIF('Contractor##'!C:C,'Planned Maint v6.2 CSV File'!C:C,'Contractor##'!F:F)","v":-0.05},8.36,"Price per bulk sample"]
["A009",null,"Asbestos internal/external",null,null,"item",280,{"$f":"SUMIF('Contractor##'!C:C,'Planned Maint v6.2 CSV File'!C:C,'Contractor##'!F:F)","v":-0.05},266,"Asbestos Insulation Boards under 1m2"]
["A010",null,"Asbestos internal/external",null,null,"item",300,{"$f":"SUMIF('Contractor##'!C:C,'Planned Maint v6.2 CSV File'!C:C,'Contractor##'!F:F)","v":-0.05},285,"Asbestos Insulation Boards  1 - 5m2"]
["A011",null,"Asbestos internal/external",null,null,"m2",30,{"$f":"SUMIF('Contractor##'!C:C,'Planned Maint v6.2 CSV File'!C:C,'Contractor##'!F:F)","v":-0.05},28.5,"Asbestos Insulation Boards  exceeding 5m2"]
["A012",null,"Asbestos internal/external",null,null,"nr",75,{"$f":"SUMIF('Contractor##'!C:C,'Planned Maint v6.2 CSV File'!C:C,'Contractor##'!F:F)","v":-0.05},71.25,"Door containing Asbestos/with Asbestos Insulation Board Panel"]
["A013",null,"Asbestos internal/external",null,null,"nr",50,{"$f":"SUMIF('Contractor##'!C:C,'Planned Maint v6.2 CSV File'!C:C,'Contractor##'!F:F)","v":-0.05},47.5,"Loft hatch containing Asbestos/with Asbestos Insulation Board Panel"]
["A014",null,"Asbestos internal/external",null,null,"nr",30,{"$f":"SUMIF('Contractor##'!C:C,'Planned Maint v6.2 CSV File'!C:C,'Contractor##'!F:F)","v":-0.05},28.5,"Asbestos Insulation Board Shelf"]
["A015",null,"Asbestos internal/external",null,null,"m",50,{"$f":"SUMIF('Contractor##'!C:C,'Planned Maint v6.2 CSV File'!C:C,'Contractor##'!F:F)","v":-0.05},47.5,"Remove any type of asbestos insulation board soffit including all fittings"]
["A016",null,"Asbestos internal/external",null,null,"m2",10,{"$f":"SUMIF('Contractor##'!C:C,'Planned Maint v6.2 CSV File'!C:C,'Contractor##'!F:F)","v":-0.05},{"$f":"(1+H3140)*G3140","v":9.5},"Remove asbestos containing Floor Tiles in Kitchen & WC "]
["A017",null,"Asbestos internal/external",null,null,"item",440,{"$f":"SUMIF('Contractor##'!C:C,'Planned Maint v6.2 CSV File'!C:C,'Contractor##'!F:F)","v":-0.05},418,"Remove sprayed asbestos from wall or ceiling surfaces under 1m2"]
["A018",null,"Asbestos internal/external",null,null,"item",470,{"$f":"SUMIF('Contractor##'!C:C,'Planned Maint v6.2 CSV File'!C:C,'Contractor##'!F:F)","v":-0.05},446.5,"Remove sprayed asbestos from wall or ceiling surfaces under 1 - 5m2"]
["A019",null,"Asbestos internal/external",null,null,"m2",45,{"$f":"SUMIF('Contractor##'!C:C,'Planned Maint v6.2 CSV File'!C:C,'Contractor##'!F:F)","v":-0.05},42.75,"Remove sprayed asbestos from wall or ceiling surfaces exceeding 5m2"]
["A020",null,"Asbestos internal/external",null,null,"m",40,{"$f":"SUMIF('Contractor##'!C:C,'Planned Maint v6.2 CSV File'!C:C,'Contractor##'!F:F)","v":-0.05},38,"Remove Pipe Insulation not exceeding 15mm diameter"]
["A021",null,"Asbestos internal/external",null,null,"m",45,{"$f":"SUMIF('Contractor##'!C:C,'Planned Maint v6.2 CSV File'!C:C,'Contractor##'!F:F)","v":-0.05},42.75,"Remove Pipe Insulation not exceeding 15 - 50mm diameter"]
["A022",null,"Asbestos internal/external",null,null,"m",50,{"$f":"SUMIF('Contractor##'!C:C,'Planned Maint v6.2 CSV File'!C:C,'Contractor##'!F:F)","v":-0.05},47.5,"Remove Pipe Insulation not exceeding 50 -200mm diameter"]
["A023",null,"Asbestos internal/external",null,null,"m",60,{"$f":"SUMIF('Contractor##'!C:C,'Planned Maint v6.2 CSV File'!C:C,'Contractor##'!F:F)","v":-0.05},57,"Remove Pipe Insulation  exceeding 200mm diameter"]
["A024",null,"Asbestos internal/external",null,null,"item",280,{"$f":"SUMIF('Contractor##'!C:C,'Planned Maint v6.2 CSV File'!C:C,'Contractor##'!F:F)","v":-0.05},266,"Remove Artex from Walls/ceiling under 1m2"]
["A025",null,"Asbestos internal/external",null,null,"item",300,{"$f":"SUMIF('Contractor##'!C:C,'Planned Maint v6.2 CSV File'!C:C,'Contractor##'!F:F)","v":-0.05},285,"Remove Artex from walls/ceiling 1 - 5m2"]
["A026",null,"Asbestos internal/external",null,null,"m2",30,{"$f":"SUMIF('Contractor##'!C:C,'Planned Maint v6.2 CSV File'!C:C,'Contractor##'!F:F)","v":-0.05},28.5,"Remove Artex from walls/ceiling exceeding  5m2"]
["A027",null,"Asbestos internal/external",null,null,"Item",40,{"$f":"SUMIF('Contractor##'!C:C,'Planned Maint v6.2 CSV File'!C:C,'Contractor##'!F:F)","v":-0.05},38,"Remove asbestos containing Sink Pads"]
["A028",null,"Asbestos internal/external",null,null,"Item",70,{"$f":"SUMIF('Contractor##'!C:C,'Planned Maint v6.2 CSV File'!C:C,'Contractor##'!F:F)","v":-0.05},66.5,"Remove  insulations to any size or type of hot water cylinder"]
["A029",null,"Asbestos internal/external",null,null,"Item",20,{"$f":"SUMIF('Contractor##'!C:C,'Planned Maint v6.2 CSV File'!C:C,'Contractor##'!F:F)","v":-0.05},19,"Remove asbestos cement toilet cistern "]
["A030",null,"Asbestos internal/external",null,null,"Item",70,{"$f":"SUMIF('Contractor##'!C:C,'Planned Maint v6.2 CSV File'!C:C,'Contractor##'!F:F)","v":-0.05},66.5,"Remove any size asbestos cement cold water storage tank, cistern or similar"]
["A031",null,"Asbestos internal/external",null,null,"Item",12,{"$f":"SUMIF('Contractor##'!C:C,'Planned Maint v6.2 CSV File'!C:C,'Contractor##'!F:F)","v":-0.05},11.399999999999999,"Remove any size asbestos cement bath panel"]
["A032",null,"Asbestos internal/external",null,null,"Item",13,{"$f":"SUMIF('Contractor##'!C:C,'Planned Maint v6.2 CSV File'!C:C,'Contractor##'!F:F)","v":-0.05},12.35,"Remove any size asbestos cement access panel not exceeding 1m2"]
["A033",null,"Asbestos internal/external",null,null,"Item",20,{"$f":"SUMIF('Contractor##'!C:C,'Planned Maint v6.2 CSV File'!C:C,'Contractor##'!F:F)","v":-0.05},19,"Remove asbestos cement door panel."]
["A034",null,"Asbestos internal/external",null,null,"Item",75,{"$f":"SUMIF('Contractor##'!C:C,'Planned Maint v6.2 CSV File'!C:C,'Contractor##'!F:F)","v":-0.05},71.25,"Extra over standard boiler for removal of boiler containing asbestos casing/components"]
["A035",null,"Asbestos internal/external",null,null,"Item",120,{"$f":"SUMIF('Contractor##'!C:C,'Planned Maint v6.2 CSV File'!C:C,'Contractor##'!F:F)","v":-0.05},114,"Remove electric storage heater: small"]
["A036",null,"Asbestos internal/external",null,null,"Item",130,{"$f":"SUMIF('Contractor##'!C:C,'Planned Maint v6.2 CSV File'!C:C,'Contractor##'!F:F)","v":-0.05},123.5,"Remove electric storage heater: medium"]
["A037",null,"Asbestos internal/external",null,null,"Item",140,{"$f":"SUMIF('Contractor##'!C:C,'Planned Maint v6.2 CSV File'!C:C,'Contractor##'!F:F)","v":-0.05},133,"Remove electric storage heater: large"]
["A038",null,"Asbestos internal/external",null,null,"m",17,{"$f":"SUMIF('Contractor##'!C:C,'Planned Maint v6.2 CSV File'!C:C,'Contractor##'!F:F)","v":-0.05},16.149999999999999,"Removed any size asbestos cement gutters including all fittings."]
["A039",null,"Asbestos internal/external",null,null,"m",23,{"$f":"SUMIF('Contractor##'!C:C,'Planned Maint v6.2 CSV File'!C:C,'Contractor##'!F:F)","v":-0.05},21.849999999999998,"Remove any size asbestos cement downpipe including all fittings"]
["A040",null,"Asbestos internal/external",null,null,"m2",12,{"$f":"SUMIF('Contractor##'!C:C,'Planned Maint v6.2 CSV File'!C:C,'Contractor##'!F:F)","v":-0.05},11.399999999999999,"Remove any type of asbestos cement sheet roofing including all fittings"]
["A041",null,"Asbestos internal/external",null,null,"m",25,{"$f":"SUMIF('Contractor##'!C:C,'Planned Maint v6.2 CSV File'!C:C,'Contractor##'!F:F)","v":-0.05},23.75,"Remove any type of asbestos cement soffit including all fittings"]
["A042",null,"Asbestos internal/external",null,null,"m2",65,{"$f":"SUMIF('Contractor##'!C:C,'Planned Maint v6.2 CSV File'!C:C,'Contractor##'!F:F)","v":-0.05},61.75,"Remove any type of asbestos cement roof slates including all fittings "]
["A043",null,"Asbestos internal/external",null,null,"m",105,{"$f":"SUMIF('Contractor##'!C:C,'Planned Maint v6.2 CSV File'!C:C,'Contractor##'!F:F)","v":-0.05},99.75,"Remove any type of asbestos cement flue pipe including all fittings"]
["A044",null,"Asbestos internal/external",null,null,"nr",15,{"$f":"SUMIF('Contractor##'!C:C,'Planned Maint v6.2 CSV File'!C:C,'Contractor##'!F:F)","v":-0.05},14.25,"Works associated with drilling into Crysotile containing materials in order to facilitate works for other trades - (per hole)"]
["A045",null,"Asbestos internal/external",null,null,"item",200,{"$f":"SUMIF('Contractor##'!C:C,'Planned Maint v6.2 CSV File'!C:C,'Contractor##'!F:F)","v":-0.05},190,"Carry out air test and provide certification in accordance with ISO17025."]
["A046",null,"Asbestos internal/external",null,null,"Item",30,{"$f":"SUMIF('Contractor##'!C:C,'Planned Maint v6.2 CSV File'!C:C,'Contractor##'!F:F)","v":-0.05},28.5,"Make good surface defects and apply appropriate seal to encapsulate boarded or panelled surface - price per room complete"]
[1.01,null,"Project Overhead Schedule",null,null,"Monthly",6098.2456140350878,{"$f":"SUMIF('Contractor##'!C:C,'Planned Maint v6.2 CSV File'!C:C,'Contractor##'!F:F)","v":0},6098.2456140350878,"Project Manager"]
[1.02,null,"Project Overhead Schedule",null,null,"Monthly",7355,{"$f":"SUMIF('Contractor##'!C:C,'Planned Maint v6.2 CSV File'!C:C,'Contractor##'!F:F)","v":0},7355,"Senior Contract Manager"]
[1.03,null,"Project Overhead Schedule",null,null,"Monthly",5427.2,{"$f":"SUMIF('Contractor##'!C:C,'Planned Maint v6.2 CSV File'!C:C,'Contractor##'!F:F)","v":0},5427.2,"Contract Manager"]
[1.04,null,"Project Overhead Schedule",null,null,"Monthly",4996.75,{"$f":"SUMIF('Contractor##'!C:C,'Planned Maint v6.2 CSV File'!C:C,'Contractor##'!F:F)","v":0},4996.75,"Senior Site Manager"]
[1.05,null,"Project Overhead Schedule",null,null,"Monthly",4471.5,{"$f":"SUMIF('Contractor##'!C:C,'Planned Maint v6.2 CSV File'!C:C,'Contractor##'!F:F)","v":0},4471.5,"Site Manager"]
[1.06,null,"Project Overhead Schedule",null,null,"Monthly",3910.5,{"$f":"SUMIF('Contractor##'!C:C,'Planned Maint v6.2 CSV File'!C:C,'Contractor##'!F:F)","v":0},3910.5,"Assistant Site Manager"]
[1.07,null,"Project Overhead Schedule",null,null,"Monthly",2903.8,{"$f":"SUMIF('Contractor##'!C:C,'Planned Maint v6.2 CSV File'!C:C,'Contractor##'!F:F)","v":0},2903.8,"Site Supervisor"]
[1.08,null,"Project Overhead Schedule",null,null,"Monthly",3693.5,{"$f":"SUMIF('Contractor##'!C:C,'Planned Maint v6.2 CSV File'!C:C,'Contractor##'!F:F)","v":0},3693.5,"Technical (lifts, electrical, etc) Supervisor"]
[1.0900000000000001,null,"Project Overhead Schedule",null,null,"Monthly",2479.4,{"$f":"SUMIF('Contractor##'!C:C,'Planned Maint v6.2 CSV File'!C:C,'Contractor##'!F:F)","v":0},2479.4,"Co-ordinator / RLO / TLO"]
[1.1000000000000001,null,"Project Overhead Schedule",null,null,"Monthly",6388,{"$f":"SUMIF('Contractor##'!C:C,'Planned Maint v6.2 CSV File'!C:C,'Contractor##'!F:F)","v":0},6388,"Senior QS"]
[1.1100000000000001,null,"Project Overhead Schedule",null,null,"Monthly",5935.5,{"$f":"SUMIF('Contractor##'!C:C,'Planned Maint v6.2 CSV File'!C:C,'Contractor##'!F:F)","v":0},5935.5,"QS"]
[1.1200000000000001,null,"Project Overhead Schedule",null,null,"Monthly",2389.75,{"$f":"SUMIF('Contractor##'!C:C,'Planned Maint v6.2 CSV File'!C:C,'Contractor##'!F:F)","v":0},2389.75,"Assistant QS"]
[1.1299999999999999,null,"Project Overhead Schedule",null,null,"Monthly",1694.55,{"$f":"SUMIF('Contractor##'!C:C,'Planned Maint v6.2 CSV File'!C:C,'Contractor##'!F:F)","v":0},1694.55,"Ad Hoc Site Administrator"]
[2.0099999999999998,null,"Project Overhead Schedule",null,null,"Monthly",142.56,{"$f":"SUMIF('Contractor##'!C:C,'Planned Maint v6.2 CSV File'!C:C,'Contractor##'!F:F)","v":0},142.56,"Site office Cabin (At site office location, with furniture) (drop off, pick up included)"]
[2.02,null,"Project Overhead Schedule",null,null,"Monthly",39.096000000000004,{"$f":"SUMIF('Contractor##'!C:C,'Planned Maint v6.2 CSV File'!C:C,'Contractor##'!F:F)","v":0},39.096000000000004,"Site stores cabin (At site office location) (drop off, pick up included)"]
[2.0299999999999998,null,"Project Overhead Schedule",null,null,"Monthly",928.8,{"$f":"SUMIF('Contractor##'!C:C,'Planned Maint v6.2 CSV File'!C:C,'Contractor##'!F:F)","v":0},928.8,"Site portable toilet and shower block (drop off, pick up included)"]
[2.04,null,"Project Overhead Schedule",null,null,"Monthly",928.8,{"$f":"SUMIF('Contractor##'!C:C,'Planned Maint v6.2 CSV File'!C:C,'Contractor##'!F:F)","v":0},928.8,"Site portable toilet 3+1 (drop off, pick up included)"]
[2.0499999999999998,null,"Project Overhead Schedule",null,null,"Monthly",129.60000000000002,{"$f":"SUMIF('Contractor##'!C:C,'Planned Maint v6.2 CSV File'!C:C,'Contractor##'!F:F)","v":0},129.60000000000002,"Site portable changing/canteen/drying (drop off, pick up included)"]
[2.06,null,"Project Overhead Schedule",null,null,"Monthly",86.4,{"$f":"SUMIF('Contractor##'!C:C,'Planned Maint v6.2 CSV File'!C:C,'Contractor##'!F:F)","v":0},86.4,"Portaloo (drop off, pick up included)"]
[2.0699999999999998,null,"Project Overhead Schedule",null,null,"Monthly",250,{"$f":"SUMIF('Contractor##'!C:C,'Planned Maint v6.2 CSV File'!C:C,'Contractor##'!F:F)","v":0},250,"Site accommodation general waste per site set up"]
[2.08,null,"Project Overhead Schedule",null,null,"Monthly",129.60000000000002,{"$f":"SUMIF('Contractor##'!C:C,'Planned Maint v6.2 CSV File'!C:C,'Contractor##'!F:F)","v":0},129.60000000000002,"Fencing/hoarding per site set up"]
[2.09,null,"Project Overhead Schedule",null,null,"Monthly",90,{"$f":"SUMIF('Contractor##'!C:C,'Planned Maint v6.2 CSV File'!C:C,'Contractor##'!F:F)","v":0},90,"Power per site set up"]
[2.1,null,"Project Overhead Schedule",null,null,"Monthly",80,{"$f":"SUMIF('Contractor##'!C:C,'Planned Maint v6.2 CSV File'!C:C,'Contractor##'!F:F)","v":0},80,"Telephone, communications for remote Office Etc… per site set up"]
[2.11,null,"Project Overhead Schedule",null,null,"Item",200,{"$f":"SUMIF('Contractor##'!C:C,'Planned Maint v6.2 CSV File'!C:C,'Contractor##'!F:F)","v":0},200,"Site set up safety (health & safety pack, first aid pack, fire extinguishers, etc.) per site set up"]
[2.12,null,"Project Overhead Schedule",null,null,"Item",300,{"$f":"SUMIF('Contractor##'!C:C,'Planned Maint v6.2 CSV File'!C:C,'Contractor##'!F:F)","v":0},300,"Set up signage"]
[2.13,null,"Project Overhead Schedule",null,null,"Monthly",301,{"$f":"SUMIF('Contractor##'!C:C,'Planned Maint v6.2 CSV File'!C:C,'Contractor##'!F:F)","v":0},301,"Cleaning per site set up"]
[2.14,null,"Project Overhead Schedule",null,null,"Monthly",129,{"$f":"SUMIF('Contractor##'!C:C,'Planned Maint v6.2 CSV File'!C:C,'Contractor##'!F:F)","v":0},129,"Sundries (office stationery, printers, water, etc) per site set up"]
["ADD001",null,null,null,null,"IT",null,null,{"$f":"'Project Overheads & Scaffold'!L60","v":0},"Contractor to access and undertake survey of loft space in accordance with the Project Brief in order to assess level of current loft insulation. Including submittion of a survey report supported by photographic evidance to CM/PM. Where insulation levels are less then 200mm, Contractor to provide cost proposal to upgrade insulation in accordance with NHF SoR Planned Maintenance Version 6.2."]

{"sheet":"Contractor##","index":1,"n_rows":64,"n_cols":12,"rows_kept":64,"cut":false,"hidden":false,"merged":[]}
[null,null,null,null,null,null,null,null,null,null,"Rate Packet Order"]
[null,null,null,null,null,null,null,null,null,null,"Details","Order"]
[null,null,"Camden Better Homes Construction Framework",null,null,null,null,null,null,null,"SCAFFOLD",1]
[null,null,"Lot 2: Internals & Externals",null,null,null,null,null,null,null,"ROOF",2]
[null,null,"Schedule 4: Pricing Document",null,null,null,null,null,null,null,"WINDOWS",3]
[null,null,null,null,null,null,null,null,null,null,"EXTREP",4]
[null,null,"Mulalley",null,null,null,null,null,null,null,"COMMUNAL WORKS",5]
[null,null,null,null,null,null,null,null,null,null,"ASBESTOS",6]
[null,null,null,"Works total (exc Central Overhead and Profit)",null,null,142064000,null,null,null,"ESTATE WORKS",7]
[null,null,null,null,null,null,null,null,null,null,"FRA WORKS",8]
[null,null,"Category","Weighting","Score share","(-) Discount/ (+) Increase","Score",null,null,null,"ENERGY EFFICIENY",9]
[null,null,"NHF Schedule - Planned Maintenance and Property Reinvestment Works - Version 6.2 - Volume 2 - Schedule of Rates"]
[]
[null,null,"Foundations",1.1000000000000001E-3,{"$f":"G$9*D14","v":156270.40000000002},-0.2702,{"$f":"(1+F14)*E14","v":114046.13792000002}]
[null,null,"Groundworks",1.1000000000000001E-3,{"$f":"G$9*D15","v":156270.40000000002},-0.1777,{"$f":"(1+F15)*E15","v":128501.14992000003}]
[null,null,"Fencing and gates",1.1000000000000001E-3,156270.40000000002,-0.17899999999999999,128297.99840000001]
[null,null,"Drainage",1.1000000000000001E-3,156270.40000000002,-0.1714,129485.65344000002]
[null,null,"Brickwork",1.6199999999999999E-2,2301436.7999999998,-0.27500000000000002,1668541.6799999997]
[null,null,"Masonry",1.1000000000000001E-3,156270.40000000002,-0.27500000000000002,113296.04000000001]
[null,null,"Roofing",0.1135,16124264,-0.2,12899411.200000001]
[null,null,"CARPENTRY AND JOINERY",0.22359999999999999,31765510.399999999,-0.1135,28160124.969599996]
[null,null,"Plasterwork and other finishes",1.14E-2,1619529.6,-0.27500000000000002,1174158.96]
[null,null,"WALL AND FLOOR TILE AND SHEET FINISHES",4.1000000000000003E-3,582462.4,-0.15759999999999999,490666.32576000004]
[null,null,"Painting and decorating",9.8599999999999993E-2,14007510.399999999,-0.15,11906383.839999998]
[null,null,"Cleaning and clearances",8.9999999999999998E-4,127857.59999999999,-0.23300000000000001,98066.77919999999]
[null,null,"Glazing",1.9400000000000001E-2,2756041.6,-0.17860000000000001,2263812.5702400003]
[null,null,"Plumbing",7.3000000000000001E-3,1037067.2,-0.25890000000000002,768570.50191999995]
[null,null,"Electrical",4.1000000000000003E-3,582462.4,-0.2,465969.92000000004]
[null,null,"Specialist treatments",1.1000000000000001E-3,156270.40000000002,-0.27500000000000002,113296.04000000001]
[]
[null,null,"Addendums"]
[]
[null,null,"Scaffolding",0.17810000000000001,{"$f":"G$9*D33","v":25301598.400000002},0.27,{"$f":"(1+F33)*E33","v":32133029.968000002}]
[null,null,"Window repairs addendum",0.13220000000000001,18780860.800000001,-0.05,17841817.760000002]
[null,null,"Fabric Repairs addendum",1.8499999999999999E-2,2628184,-0.2,2102547.2000000002]
[null,null,"Roofing addendum",1.17E-2,1662148.8,-0.22700000000000001,1284841.0224000001]
[null,null,"Asbestos internal/external",8.8999999999999999E-3,1264369.6000000001,-0.05,1201151.1200000001]
[]
[null,null,"Internal Baskets"]
[]
[null,null,"Kitchens ",2.0400000000000001E-2,{"$f":"G$9*D41","v":2898105.6},1.4E-3,{"$f":"(1+F41)*E41","v":2902162.9478400005}]
[null,null,"Bathrooms",5.8999999999999999E-3,838177.6,0.12590000000000001,943704.15984000009]
[null,null,"Electrical Internals",1.49E-2,2116753.6,-0.1,1905078.2400000002]
[null,null,"Heating",3.7000000000000002E-3,525636.80000000005,-0.1,473073.12000000005]
[]
[null,null,"Project Overhead Schedule"]
[null,null,"Category","Weighting","Estimated Spend","% Increase or Decrease on Schedule","Score"]
[]
[null,null,"Project Overhead Schedule",0.1,{"$f":"G$9*D49","v":14206400},0,{"$f":"(1+F49)*E49","v":14206400}]
[]
[]
[null,null,null,"Works Tender Score",null,null,{"$f":"(SUM(G13:G30))+(SUM(G33:G37))+(SUM(G40:G45))+G49","v":135616435.30448002}]
[]
[null,null,"Percentage for Central Overhead & Profit"]
[null,null,"Category",null,null,"Percentage","Amount"]
[]
[null,null,"Percentage for Central Overhead & Profit",null,null,0.04,{"$f":"G52*F57","v":5424657.4121792009}]
[]
[]
[null,null,null,"Tender Price Score",null,null,{"$f":"G52+G57","v":141041092.71665922}]
[]
[null,null,null,{"$f":"(SUM(D14:D44))+D49","v":1},{"$f":"SUM(E14:E49)","v":142063999.99999997}]
[]
[null,null,"* It is anticipated that most of the works done under this heading will be window renewals and repairs"]

{"sheet":"Project Overheads & Scaffold","index":2,"n_rows":60,"n_cols":43,"rows_kept":60,"cut":false,"hidden":false,"merged":[[56,0,56,4]]}
[]
[null,null,null,null,null,null,null,null,null,null,null,null,null,null,null,null,null,null,null,null,null,null,null,null,null,null,null,null,null,null,null,null,null,null,null,null,"May not need this section"]
[]
[]
[]
["Requirement",null,"Requirement Type","Rowtype (H=Header, D=Detail)","Description","Works Order Commencement Date","Works Order Completion Date","Specification  Ref. Item No.'s","Works Order Delivery Date","SOR Code","SOR Unit","No units","Allocation","No Months","Tendered rate","Improved rate","Total Cost",null,null,null,null,"Property","Code","Requirement Type","Rowtype (H=Header, D=Detail)","Description","Works Order Commencement Date","Works Order Completion Date","Specification  Ref. Item No.'s","Works Order Delivery Date","SOR Code","SOR Unit","SOR Qty","SOR Cost","Total Cost",null,"Rate (max)","Cost (max)","Modified price","Tendered rate","Tendered total"]
[null,null,null,null,null,null,null,null,null,null,null,null,null,null,null,null,null,null,null,null,0,{"$f":"OFFSET(PropertyStart,0,U7)","v":"1-44 Denyer House "},{"$f":"INDIRECT(\"'\"&V7&\"'!B6\")","v":"REPB14020"},"SCAFFOLD","D","Additional Hire if required - % per week of total scaffolding costs.  This is to be applied in the event an agreed programme exceeding the duration set out above. An example would be large low level blocks of 4 storeys requiring a large programme duration",null,null,null,null,"SC024","unit",null,{"$f":"IF($AP$10=\"\",$AP$8,$AP$10)","v":4.8300000000000003E-2},{"$f":"AG7*AH7*SUMIFS(INDIRECT(\"'\"&V7 &\"'!T:T\"),INDIRECT(\"'\"&V7 &\"'!j:j\"),\"<>SC024\",INDIRECT(\"'\"&V7 &\"'!j:j\"),\"<>SC017\",INDIRECT(\"'\"&V7 &\"'!j:j\"),\"<>SC026\",INDIRECT(\"'\"&V7 &\"'!j:j\"),\"<>SC027\",INDIRECT(\"'\"&V7 &\"'!j:j\"),\"<>SC030\",INDIRECT(\"'\"&V7 &\"'!C:C\"),\"SCAFFOLD\")","v":0},null,{"$f":"SUMIF('Planned Maint v6.2 CSV File'!A:A,AE7,'Planned Maint v6.2 CSV File'!I:I)","v":4.8300000000000003E-2},{"$f":"IF(AE7=\"PROV SUM\",AI7,#REF!*AK7)","v":{"$error":"#REF!"}},{"$f":"IF(AE7=\"Prov Sum\",\"\",IF(MATCH(AE7,'Packet Rate Library'!J:J,0),VLOOKUP(AE7,'Packet Rate Library'!J:T,9,FALSE),\"\"))","v":{"$error":"#N/A"}},{"$f":"AK7","v":4.8300000000000003E-2},{"$f":"IF(AE7=\"PROV SUM\",AI7,AG7*AN7)","v":0}]
[null,null,"PROJECT OVERHEADS- Staffing","H",null,null,null,null,null,null,null,null,null,null,null,null,null,null,null,null,1,"1-10 Lissenden Mansions ",{"$f":"INDIRECT(\"'\"&V8&\"'!B6\")","v":"REPB04223"},"SCAFFOLD","D","Additional Hire if required - % per week of total scaffolding costs.  This is to be applied in the event an agreed programme exceeding the duration set out above. An example would be large low level blocks of 4 storeys requiring a large programme duration",null,null,null,null,"SC024","unit",null,{"$f":"IF($AP$10=\"\",$AP$8,$AP$10)","v":4.8300000000000003E-2},{"$f":"AG8*AH8*SUMIFS(INDIRECT(\"'\"&V8 &\"'!T:T\"),INDIRECT(\"'\"&V8 &\"'!j:j\"),\"<>SC024\",INDIRECT(\"'\"&V8 &\"'!j:j\"),\"<>SC017\",INDIRECT(\"'\"&V8 &\"'!j:j\"),\"<>SC026\",INDIRECT(\"'\"&V8 &\"'!j:j\"),\"<>SC027\",INDIRECT(\"'\"&V8 &\"'!j:j\"),\"<>SC030\",INDIRECT(\"'\"&V8 &\"'!C:C\"),\"<>SC028\",INDIRECT(\"'\"&V8 &\"'!C:C\"),\"<>SC029\",INDIRECT(\"'\"&V8 &\"'!C:C\"),\"SCAFFOLD\")","v":0},null,{"$f":"SUMIF('Planned Maint v6.2 CSV File'!A:A,AE8,'Planned Maint v6.2 CSV File'!I:I)","v":4.8300000000000003E-2},{"$f":"IF(AE8=\"PROV SUM\",AI8,#REF!*AK8)","v":{"$error":"#REF!"}},{"$f":"IF(AE8=\"Prov Sum\",\"\",IF(MATCH(AE8,'Packet Rate Library'!J:J,0),VLOOKUP(AE8,'Packet Rate Library'!J:T,9,FALSE),\"\"))","v":{"$error":"#N/A"}},{"$f":"AK8","v":4.8300000000000003E-2},{"$f":"IF(AE8=\"PROV SUM\",AI8,AG8*AN8)","v":0},{"$f":"'Planned Maint v6.2 CSV File'!I2999","v":4.8300000000000003E-2},"Additional Hire if required - % per week of total scaffolding costs.  This is to be applied in the event an agreed programme exceeding 12 weeks"]
[null,null,"PROJECT OVERHEADS- Staffing","D","Project Manager",null,null,null,null,1.01,"Unit/Month",null,null,null,{"$f":"SUMIF('Planned Maint v6.2 CSV File'!A:A,J9,'Planned Maint v6.2 CSV File'!I:I)","v":6098.2456140350878},null,{"$f":"IF(NOT(ISBLANK(P9)),P9*N9*M9*L9,O9*N9*M9*L9)","v":0},null,null,null,2,"25 Troyes House ","REPB11024","SCAFFOLD","D","Additional Hire if required - % per week of total scaffolding costs.  This is to be applied in the event an agreed programme exceeding the duration set out above. An example would be large low level blocks of 4 storeys requiring a large programme duration",null,null,null,null,"SC024","unit",null,4.8300000000000003E-2,{"$f":"AG9*AH9*SUMIFS(INDIRECT(\"'\"&V9 &\"'!T:T\"),INDIRECT(\"'\"&V9 &\"'!j:j\"),\"<>SC024\",INDIRECT(\"'\"&V9 &\"'!j:j\"),\"<>SC017\",INDIRECT(\"'\"&V9 &\"'!j:j\"),\"<>SC026\",INDIRECT(\"'\"&V9 &\"'!j:j\"),\"<>SC027\",INDIRECT(\"'\"&V9 &\"'!j:j\"),\"<>SC030\",INDIRECT(\"'\"&V9 &\"'!C:C\"),\"SCAFFOLD\")","v":0},null,{"$f":"SUMIF('Planned Maint v6.2 CSV File'!A:A,AE9,'Planned Maint v6.2 CSV File'!I:I)","v":4.8300000000000003E-2},{"$f":"IF(AE9=\"PROV SUM\",AI9,#REF!*AK9)","v":{"$error":"#REF!"}},{"$f":"IF(AE9=\"Prov Sum\",\"\",IF(MATCH(AE9,'Packet Rate Library'!J:J,0),VLOOKUP(AE9,'Packet Rate Library'!J:T,9,FALSE),\"\"))","v":{"$error":"#N/A"}},4.8300000000000003E-2,0]
[null,null,"PROJECT OVERHEADS- Staffing","D","Senior Contract Manager",null,null,null,null,1.02,"Unit/Month",null,null,null,{"$f":"SUMIF('Planned Maint v6.2 CSV File'!A:A,J10,'Planned Maint v6.2 CSV File'!I:I)","v":7355},null,{"$f":"IF(NOT(ISBLANK(P10)),P10*N10*M10*L10,O10*N10*M10*L10)","v":0},null,null,null,3,"11-20 Lissenden Mansions-","REPB04224","SCAFFOLD","D","Additional Hire if required - % per week of total scaffolding costs.  This is to be applied in the event an agreed programme exceeding the duration set out above. An example would be large low level blocks of 4 storeys requiring a large programme duration",null,null,null,null,"SC024","unit",null,4.8300000000000003E-2,0,null,{"$f":"SUMIF('Planned Maint v6.2 CSV File'!A:A,AE10,'Planned Maint v6.2 CSV File'!I:I)","v":4.8300000000000003E-2},{"$f":"IF(AE10=\"PROV SUM\",AI10,#REF!*AK10)","v":{"$error":"#REF!"}},{"$f":"IF(AE10=\"Prov Sum\",\"\",IF(MATCH(AE10,'Packet Rate Library'!J:J,0),VLOOKUP(AE10,'Packet Rate Library'!J:T,9,FALSE),\"\"))","v":{"$error":"#N/A"}},4.8300000000000003E-2,0,null,"Additional Hire if required - % per week of total scaffolding costs.  This is to be applied in the event an agreed programme exceeding 12 weeks (modified)"]
[null,null,"PROJECT OVERHEADS- Staffing","D","Contract Manager",null,null,null,null,1.03,"Unit/Month",1,0.4,3.25,{"$f":"SUMIF('Planned Maint v6.2 CSV File'!A:A,J11,'Planned Maint v6.2 CSV File'!I:I)","v":5427.2},null,7055.36,null,null,null,4,"5 Gillies Street","REPB42150","SCAFFOLD","D","Additional Hire if required - % per week of total scaffolding costs.  This is to be applied in the event an agreed programme exceeding the duration set out above. An example would be large low level blocks of 4 storeys requiring a large programme duration",null,null,null,null,"SC024","unit",null,4.8300000000000003E-2,0,null,{"$f":"SUMIF('Planned Maint v6.2 CSV File'!A:A,AE11,'Planned Maint v6.2 CSV File'!I:I)","v":4.8300000000000003E-2},{"$f":"IF(AE11=\"PROV SUM\",AI11,#REF!*AK11)","v":{"$error":"#REF!"}},{"$f":"IF(AE11=\"Prov Sum\",\"\",IF(MATCH(AE11,'Packet Rate Library'!J:J,0),VLOOKUP(AE11,'Packet Rate Library'!J:T,9,FALSE),\"\"))","v":{"$error":"#N/A"}},4.8300000000000003E-2,0]
[null,null,"PROJECT OVERHEADS- Staffing","D","Senior Site Manager",null,null,null,null,1.04,"Unit/Month",null,null,null,{"$f":"SUMIF('Planned Maint v6.2 CSV File'!A:A,J12,'Planned Maint v6.2 CSV File'!I:I)","v":4996.75},null,0,null,null,null,5,"8 Dale Road","REPB42122","SCAFFOLD","D","Additional Hire if required - % per week of total scaffolding costs.  This is to be applied in the event an agreed programme exceeding the duration set out above. An example would be large low level blocks of 4 storeys requiring a large programme duration",null,null,null,null,"SC024","unit",null,4.8300000000000003E-2,0,null,{"$f":"SUMIF('Planned Maint v6.2 CSV File'!A:A,AE12,'Planned Maint v6.2 CSV File'!I:I)","v":4.8300000000000003E-2},{"$f":"IF(AE12=\"PROV SUM\",AI12,#REF!*AK12)","v":{"$error":"#REF!"}},{"$f":"IF(AE12=\"Prov Sum\",\"\",IF(MATCH(AE12,'Packet Rate Library'!J:J,0),VLOOKUP(AE12,'Packet Rate Library'!J:T,9,FALSE),\"\"))","v":{"$error":"#N/A"}},4.8300000000000003E-2,0,{"$f":"'[2]Planned Maint v6.2 CSV File'!I3002","v":236.28},"Weekly hire (in event of programme extension in line with NEC opt A compensation event agreed). Hoist hire (total number of weeks)"]
[null,null,"PROJECT OVERHEADS- Staffing","D","Site Manager",null,null,null,null,1.05,"Unit/Month",2,1,3.25,{"$f":"SUMIF('Planned Maint v6.2 CSV File'!A:A,J13,'Planned Maint v6.2 CSV File'!I:I)","v":4471.5},null,29064.75,null,null,null,6,"11 Gillies Street A-B","REPB42154","SCAFFOLD","D","Additional Hire if required - % per week of total scaffolding costs.  This is to be applied in the event an agreed programme exceeding the duration set out above. An example would be large low level blocks of 4 storeys requiring a large programme duration",null,null,null,null,"SC024","unit",null,4.8300000000000003E-2,0,null,{"$f":"SUMIF('Planned Maint v6.2 CSV File'!A:A,AE13,'Planned Maint v6.2 CSV File'!I:I)","v":4.8300000000000003E-2},{"$f":"IF(AE13=\"PROV SUM\",AI13,#REF!*AK13)","v":{"$error":"#REF!"}},{"$f":"IF(AE13=\"Prov Sum\",\"\",IF(MATCH(AE13,'Packet Rate Library'!J:J,0),VLOOKUP(AE13,'Packet Rate Library'!J:T,9,FALSE),\"\"))","v":{"$error":"#N/A"}},4.8300000000000003E-2,0]
[null,null,"PROJECT OVERHEADS- Staffing","D","Assistant Site Manager",null,null,null,null,1.06,"Unit/Month",null,null,null,{"$f":"SUMIF('Planned Maint v6.2 CSV File'!A:A,J14,'Planned Maint v6.2 CSV File'!I:I)","v":3910.5},null,0,null,null,null,7,"30 Grove Terrace Flats A-C","REPB47495","SCAFFOLD","D","Additional Hire if required - % per week of total scaffolding costs.  This is to be applied in the event an agreed programme exceeding the duration set out above. An example would be large low level blocks of 4 storeys requiring a large programme duration",null,null,null,null,"SC024","unit",null,4.8300000000000003E-2,0,null,{"$f":"SUMIF('Planned Maint v6.2 CSV File'!A:A,AE14,'Planned Maint v6.2 CSV File'!I:I)","v":4.8300000000000003E-2},{"$f":"IF(AE14=\"PROV SUM\",AI14,#REF!*AK14)","v":{"$error":"#REF!"}},{"$f":"IF(AE14=\"Prov Sum\",\"\",IF(MATCH(AE14,'Packet Rate Library'!J:J,0),VLOOKUP(AE14,'Packet Rate Library'!J:T,9,FALSE),\"\"))","v":{"$error":"#N/A"}},4.8300000000000003E-2,0,179,"Weekly hire (in event of programme extension in line with NEC opt A compensation event agreed). Hoist hire (total number of weeks) (modified)"]
[null,null,"PROJECT OVERHEADS- Staffing","D","Site Supervisor",null,null,null,null,1.07,"Unit/Month",null,null,null,{"$f":"SUMIF('Planned Maint v6.2 CSV File'!A:A,J15,'Planned Maint v6.2 CSV File'!I:I)","v":2903.8},null,0,null,null,null,8,"25 Elaine Grove","REPB42129","SCAFFOLD","D","Additional Hire if required - % per week of total scaffolding costs.  This is to be applied in the event an agreed programme exceeding the duration set out above. An example would be large low level blocks of 4 storeys requiring a large programme duration",null,null,null,null,"SC024","unit",null,4.8300000000000003E-2,0,null,{"$f":"SUMIF('Planned Maint v6.2 CSV File'!A:A,AE15,'Planned Maint v6.2 CSV File'!I:I)","v":4.8300000000000003E-2},{"$f":"IF(AE15=\"PROV SUM\",AI15,#REF!*AK15)","v":{"$error":"#REF!"}},{"$f":"IF(AE15=\"Prov Sum\",\"\",IF(MATCH(AE15,'Packet Rate Library'!J:J,0),VLOOKUP(AE15,'Packet Rate Library'!J:T,9,FALSE),\"\"))","v":{"$error":"#N/A"}},4.8300000000000003E-2,0]
[null,null,"PROJECT OVERHEADS- Staffing","D","Technical (lifts, electrical, etc) Supervisor",null,null,null,null,1.08,"Unit/Month",null,null,null,{"$f":"SUMIF('Planned Maint v6.2 CSV File'!A:A,J16,'Planned Maint v6.2 CSV File'!I:I)","v":3693.5},null,0,null,null,null,9,"130 Prince of Wales Road","REPB42458","SCAFFOLD","D","Additional Hire if required - % per week of total scaffolding costs.  This is to be applied in the event an agreed programme exceeding the duration set out above. An example would be large low level blocks of 4 storeys requiring a large programme duration",null,null,null,null,"SC024","unit",null,4.8300000000000003E-2,0,null,{"$f":"SUMIF('Planned Maint v6.2 CSV File'!A:A,AE16,'Planned Maint v6.2 CSV File'!I:I)","v":4.8300000000000003E-2},{"$f":"IF(AE16=\"PROV SUM\",AI16,#REF!*AK16)","v":{"$error":"#REF!"}},{"$f":"IF(AE16=\"Prov Sum\",\"\",IF(MATCH(AE16,'Packet Rate Library'!J:J,0),VLOOKUP(AE16,'Packet Rate Library'!J:T,9,FALSE),\"\"))","v":{"$error":"#N/A"}},4.8300000000000003E-2,0]
[null,null,"PROJECT OVERHEADS- Staffing","D","Co-ordinator / RLO / TLO",null,null,null,null,1.0900000000000001,"Unit/Month",2,1,3.25,{"$f":"SUMIF('Planned Maint v6.2 CSV File'!A:A,J17,'Planned Maint v6.2 CSV File'!I:I)","v":2479.4},null,16116.1,null,null,null,10,"25 Herbert Street Flats A-B","REPB42313","SCAFFOLD","D","Additional Hire if required - % per week of total scaffolding costs.  This is to be applied in the event an agreed programme exceeding the duration set out above. An example would be large low level blocks of 4 storeys requiring a large programme duration",null,null,null,null,"SC024","unit",null,4.8300000000000003E-2,0,null,{"$f":"SUMIF('Planned Maint v6.2 CSV File'!A:A,AE17,'Planned Maint v6.2 CSV File'!I:I)","v":4.8300000000000003E-2},{"$f":"IF(AE17=\"PROV SUM\",AI17,#REF!*AK17)","v":{"$error":"#REF!"}},{"$f":"IF(AE17=\"Prov Sum\",\"\",IF(MATCH(AE17,'Packet Rate Library'!J:J,0),VLOOKUP(AE17,'Packet Rate Library'!J:T,9,FALSE),\"\"))","v":{"$error":"#N/A"}},4.8300000000000003E-2,0]
[null,null,"PROJECT OVERHEADS- Staffing","D","Senior QS",null,null,null,null,1.1000000000000001,"Unit/Month",null,null,null,{"$f":"SUMIF('Planned Maint v6.2 CSV File'!A:A,J18,'Planned Maint v6.2 CSV File'!I:I)","v":6388},null,0,null,null,null,11,"128 Prince of Wales","REPB42457","SCAFFOLD","D","Additional Hire if required - % per week of total scaffolding costs.  This is to be applied in the event an agreed programme exceeding the duration set out above. An example would be large low level blocks of 4 storeys requiring a large programme duration",null,null,null,null,"SC024","unit",null,4.8300000000000003E-2,0,null,{"$f":"SUMIF('Planned Maint v6.2 CSV File'!A:A,AE18,'Planned Maint v6.2 CSV File'!I:I)","v":4.8300000000000003E-2},{"$f":"IF(AE18=\"PROV SUM\",AI18,#REF!*AK18)","v":{"$error":"#REF!"}},{"$f":"IF(AE18=\"Prov Sum\",\"\",IF(MATCH(AE18,'Packet Rate Library'!J:J,0),VLOOKUP(AE18,'Packet Rate Library'!J:T,9,FALSE),\"\"))","v":{"$error":"#N/A"}},4.8300000000000003E-2,0]
[null,null,"PROJECT OVERHEADS- Staffing","D","QS",null,null,null,null,1.1100000000000001,"Unit/Month",1,0.5,3.25,{"$f":"SUMIF('Planned Maint v6.2 CSV File'!A:A,J19,'Planned Maint v6.2 CSV File'!I:I)","v":5935.5},null,9645.1875,null,null,null,12,"10 Gillies Street","REPB42153","SCAFFOLD","D","Additional Hire if required - % per week of total scaffolding costs.  This is to be applied in the event an agreed programme exceeding the duration set out above. An example would be large low level blocks of 4 storeys requiring a large programme duration",null,null,null,null,"SC024","unit",null,4.8300000000000003E-2,0,null,{"$f":"SUMIF('Planned Maint v6.2 CSV File'!A:A,AE19,'Planned Maint v6.2 CSV File'!I:I)","v":4.8300000000000003E-2},{"$f":"IF(AE19=\"PROV SUM\",AI19,#REF!*AK19)","v":{"$error":"#REF!"}},{"$f":"IF(AE19=\"Prov Sum\",\"\",IF(MATCH(AE19,'Packet Rate Library'!J:J,0),VLOOKUP(AE19,'Packet Rate Library'!J:T,9,FALSE),\"\"))","v":{"$error":"#N/A"}},4.8300000000000003E-2,0]
[null,null,"PROJECT OVERHEADS- Staffing","D","Assistant QS",null,null,null,null,1.1200000000000001,"Unit/Month",null,null,null,{"$f":"SUMIF('Planned Maint v6.2 CSV File'!A:A,J20,'Planned Maint v6.2 CSV File'!I:I)","v":2389.75},null,0,null,null,null,13,"17 Ascham Street","REPB47024","SCAFFOLD","D","Additional Hire if required - % per week of total scaffolding costs.  This is to be applied in the event an agreed programme exceeding the duration set out above. An example would be large low level blocks of 4 storeys requiring a large programme duration",null,null,null,null,"SC024","unit",null,4.8300000000000003E-2,0,null,{"$f":"SUMIF('Planned Maint v6.2 CSV File'!A:A,AE20,'Planned Maint v6.2 CSV File'!I:I)","v":4.8300000000000003E-2},{"$f":"IF(AE20=\"PROV SUM\",AI20,#REF!*AK20)","v":{"$error":"#REF!"}},{"$f":"IF(AE20=\"Prov Sum\",\"\",IF(MATCH(AE20,'Packet Rate Library'!J:J,0),VLOOKUP(AE20,'Packet Rate Library'!J:T,9,FALSE),\"\"))","v":{"$error":"#N/A"}},4.8300000000000003E-2,0]
[null,null,"PROJECT OVERHEADS- Staffing","D","Ad Hoc Site Administrator",null,null,null,null,1.1299999999999999,"Unit/Month",null,null,null,{"$f":"SUMIF('Planned Maint v6.2 CSV File'!A:A,J21,'Planned Maint v6.2 CSV File'!I:I)","v":1694.55},null,0,null,null,null,14,"13 Doynton Street","REPB47344","SCAFFOLD","D","Additional Hire if required - % per week of total scaffolding costs.  This is to be applied in the event an agreed programme exceeding the duration set out above. An example would be large low level blocks of 4 storeys requiring a large programme duration",null,null,null,null,"SC024","unit",null,4.8300000000000003E-2,0,null,{"$f":"SUMIF('Planned Maint v6.2 CSV File'!A:A,AE21,'Planned Maint v6.2 CSV File'!I:I)","v":4.8300000000000003E-2},{"$f":"IF(AE21=\"PROV SUM\",AI21,#REF!*AK21)","v":{"$error":"#REF!"}},{"$f":"IF(AE21=\"Prov Sum\",\"\",IF(MATCH(AE21,'Packet Rate Library'!J:J,0),VLOOKUP(AE21,'Packet Rate Library'!J:T,9,FALSE),\"\"))","v":{"$error":"#N/A"}},4.8300000000000003E-2,0]
[null,null,"PROJECT OVERHEADS- Other","H",null,null,null,null,null,null,null,null,null,null,null,null,null,null,null,null,15,"111 Chetwynd Road","REPB47293","SCAFFOLD","D","Additional Hire if required - % per week of total scaffolding costs.  This is to be applied in the event an agreed programme exceeding the duration set out above. An example would be large low level blocks of 4 storeys requiring a large programme duration",null,null,null,null,"SC024","unit",null,4.8300000000000003E-2,0,null,{"$f":"SUMIF('Planned Maint v6.2 CSV File'!A:A,AE22,'Planned Maint v6.2 CSV File'!I:I)","v":4.8300000000000003E-2},{"$f":"IF(AE22=\"PROV SUM\",AI22,#REF!*AK22)","v":{"$error":"#REF!"}},{"$f":"IF(AE22=\"Prov Sum\",\"\",IF(MATCH(AE22,'Packet Rate Library'!J:J,0),VLOOKUP(AE22,'Packet Rate Library'!J:T,9,FALSE),\"\"))","v":{"$error":"#N/A"}},4.8300000000000003E-2,0]
[null,null,"PROJECT OVERHEADS- Other","D","Site office Cabin (At site office location, with furniture) (drop off, pick up included)",null,null,null,null,2.0099999999999998,"Unit/Month",1,1,3.25,{"$f":"SUMIF('Planned Maint v6.2 CSV File'!A:A,J23,'Planned Maint v6.2 CSV File'!I:I)","v":142.56},null,{"$f":"IF(NOT(ISBLANK(P23)),P23*N23*M23*L23,O23*N23*M23*L23)","v":463.32},null,null,null,16,"19 Ascham Street Flats A-B","REPB47025","SCAFFOLD","D","Additional Hire if required - % per week of total scaffolding costs.  This is to be applied in the event an agreed programme exceeding the duration set out above. An example would be large low level blocks of 4 storeys requiring a large programme duration",null,null,null,null,"SC024","unit",null,4.8300000000000003E-2,0,null,{"$f":"SUMIF('Planned Maint v6.2 CSV File'!A:A,AE23,'Planned Maint v6.2 CSV File'!I:I)","v":4.8300000000000003E-2},{"$f":"IF(AE23=\"PROV SUM\",AI23,#REF!*AK23)","v":{"$error":"#REF!"}},{"$f":"IF(AE23=\"Prov Sum\",\"\",IF(MATCH(AE23,'Packet Rate Library'!J:J,0),VLOOKUP(AE23,'Packet Rate Library'!J:T,9,FALSE),\"\"))","v":{"$error":"#N/A"}},4.8300000000000003E-2,0]
[null,null,"PROJECT OVERHEADS- Other","D","Site stores cabin (At site office location) (drop off, pick up included)",null,null,null,null,2.02,"Unit/Month",2,1,3.25,{"$f":"SUMIF('Planned Maint v6.2 CSV File'!A:A,J24,'Planned Maint v6.2 CSV File'!I:I)","v":39.096000000000004},null,254.12400000000002,null,null,null,17,"66LevertonStreet(Flats A-B) ","REPB47684","SCAFFOLD","D","Additional Hire if required - % per week of total scaffolding costs.  This is to be applied in the event an agreed programme exceeding the duration set out above. An example would be large low level blocks of 4 storeys requiring a large programme duration",null,null,null,null,"SC024","unit",null,4.8300000000000003E-2,0,null,{"$f":"SUMIF('Planned Maint v6.2 CSV File'!A:A,AE24,'Planned Maint v6.2 CSV File'!I:I)","v":4.8300000000000003E-2},{"$f":"IF(AE24=\"PROV SUM\",AI24,#REF!*AK24)","v":{"$error":"#REF!"}},{"$f":"IF(AE24=\"Prov Sum\",\"\",IF(MATCH(AE24,'Packet Rate Library'!J:J,0),VLOOKUP(AE24,'Packet Rate Library'!J:T,9,FALSE),\"\"))","v":{"$error":"#N/A"}},4.8300000000000003E-2,0]
[null,null,"PROJECT OVERHEADS- Other","D","Site portable toilet and shower block (drop off, pick up included)",null,null,null,null,2.0299999999999998,"Unit/Month",null,null,null,{"$f":"SUMIF('Planned Maint v6.2 CSV File'!A:A,J25,'Planned Maint v6.2 CSV File'!I:I)","v":928.8},null,0,null,null,null,18,"13 Oseney Crescent ","REPB47732","SCAFFOLD","D","Additional Hire if required - % per week of total scaffolding costs.  This is to be applied in the event an agreed programme exceeding the duration set out above. An example would be large low level blocks of 4 storeys requiring a large programme duration",null,null,null,null,"SC024","unit",null,4.8300000000000003E-2,0,null,{"$f":"SUMIF('Planned Maint v6.2 CSV File'!A:A,AE25,'Planned Maint v6.2 CSV File'!I:I)","v":4.8300000000000003E-2},{"$f":"IF(AE25=\"PROV SUM\",AI25,#REF!*AK25)","v":{"$error":"#REF!"}},{"$f":"IF(AE25=\"Prov Sum\",\"\",IF(MATCH(AE25,'Packet Rate Library'!J:J,0),VLOOKUP(AE25,'Packet Rate Library'!J:T,9,FALSE),\"\"))","v":{"$error":"#N/A"}},4.8300000000000003E-2,0]
[null,null,"PROJECT OVERHEADS- Other","D","Site portable toilet 3+1 (drop off, pick up included)",null,null,null,null,2.04,"Unit/Month",1,1,3.25,{"$f":"SUMIF('Planned Maint v6.2 CSV File'!A:A,J26,'Planned Maint v6.2 CSV File'!I:I)","v":928.8},null,3018.6,null,null,null,19,"29 Grove TerraceFlatsA-C-","REPB47494","SCAFFOLD","D","Additional Hire if required - % per week of total scaffolding costs.  This is to be applied in the event an agreed programme exceeding the duration set out above. An example would be large low level blocks of 4 storeys requiring a large programme duration",null,null,null,null,"SC024","unit",null,4.8300000000000003E-2,0]
[null,null,"PROJECT OVERHEADS- Other","D","Site portable changing/canteen/drying (drop off, pick up included)",null,null,null,null,2.0499999999999998,"Unit/Month",null,null,null,{"$f":"SUMIF('Planned Maint v6.2 CSV File'!A:A,J27,'Planned Maint v6.2 CSV File'!I:I)","v":129.60000000000002},null,0,null,null,null,20,"28 Leighton Road Flats A-B","REPB47660","SCAFFOLD","D","Additional Hire if required - % per week of total scaffolding costs.  This is to be applied in the event an agreed programme exceeding the duration set out above. An example would be large low level blocks of 4 storeys requiring a large programme duration",null,null,null,null,"SC024","unit",null,4.8300000000000003E-2,0]
[null,null,"PROJECT OVERHEADS- Other","D","Portaloo (drop off, pick up included)",null,null,null,null,2.06,"Unit/Month",6,1,3.25,{"$f":"SUMIF('Planned Maint v6.2 CSV File'!A:A,J28,'Planned Maint v6.2 CSV File'!I:I)","v":86.4},null,1684.8000000000002,null,null,null,21,"13 Mortimer Terrace","REPB47715","SCAFFOLD","D","Additional Hire if required - % per week of total scaffolding costs.  This is to be applied in the event an agreed programme exceeding the duration set out above. An example would be large low level blocks of 4 storeys requiring a large programme duration",null,null,null,null,"SC024","unit",null,4.8300000000000003E-2,0]
[null,null,"PROJECT OVERHEADS- Other","D","Site accommodation general waste per site set up",null,null,null,null,2.0699999999999998,"Unit/Month",1,1,3.25,{"$f":"SUMIF('Planned Maint v6.2 CSV File'!A:A,J29,'Planned Maint v6.2 CSV File'!I:I)","v":250},null,812.5,null,null,null,22,"13 Winscombe Terrace","REPB47886","SCAFFOLD","D","Additional Hire if required - % per week of total scaffolding costs.  This is to be applied in the event an agreed programme exceeding the duration set out above. An example would be large low level blocks of 4 storeys requiring a large programme duration",null,null,null,null,"SC024","unit",null,4.8300000000000003E-2,0]
[null,null,"PROJECT OVERHEADS- Other","D","Fencing/hoarding per site set up",null,null,null,null,2.08,"Unit/Month",23,1,3.25,{"$f":"SUMIF('Planned Maint v6.2 CSV File'!A:A,J30,'Planned Maint v6.2 CSV File'!I:I)","v":129.60000000000002},null,9687.6,null,null,null,null,"1-10 Lissenden Mansions ","REPB04223","SCAFFOLD","D","Weekly hire. Hoist hire (total number of weeks)",null,null,null,null,"SC027","weeks",8,{"$f":"IF($AP$14=\"\",$AP$12,$AP$14)","v":179},{"$f":"AG30*AH30","v":1432}]
[null,null,"PROJECT OVERHEADS- Other","D","Power per site set up",null,null,null,null,2.09,"Unit/Month",1,1,3.25,{"$f":"SUMIF('Planned Maint v6.2 CSV File'!A:A,J31,'Planned Maint v6.2 CSV File'!I:I)","v":90},null,292.5,null,null,null,null,"25 Troyes House ","REPB11024","SCAFFOLD","D","Weekly hire. Hoist hire (total number of weeks)",null,null,null,null,"SC027","weeks",8,{"$f":"IF($AP$14=\"\",$AP$12,$AP$14)","v":179},{"$f":"AG31*AH31","v":1432}]
[null,null,"PROJECT OVERHEADS- Other","D","Telephone, communications for remote Office Etc… per site set up",null,null,null,null,2.1,"Unit/Month",1,1,3.25,{"$f":"SUMIF('Planned Maint v6.2 CSV File'!A:A,J32,'Planned Maint v6.2 CSV File'!I:I)","v":80},null,260,null,null,null,null,"11-20 Lissenden Mansions-","REPB04224","SCAFFOLD","D","Weekly hire. Hoist hire (total number of weeks)",null,null,null,null,"SC027","weeks",null,179,0]
[null,null,"PROJECT OVERHEADS- Other","D","Site set up safety (health & safety pack, first aid pack, fire extinguishers, etc.) per site set up",null,null,null,null,2.11,"Item",1,1,3.25,{"$f":"SUMIF('Planned Maint v6.2 CSV File'!A:A,J33,'Planned Maint v6.2 CSV File'!I:I)","v":200},null,650]
[null,null,"PROJECT OVERHEADS- Other","D","Set up signage",null,null,null,null,2.12,"Item",1,1,3.25,{"$f":"SUMIF('Planned Maint v6.2 CSV File'!A:A,J34,'Planned Maint v6.2 CSV File'!I:I)","v":300},null,975]
[null,null,"PROJECT OVERHEADS- Other","D","Cleaning per site set up",null,null,null,null,2.13,"Unit/Month",1,1,3.25,{"$f":"SUMIF('Planned Maint v6.2 CSV File'!A:A,J35,'Planned Maint v6.2 CSV File'!I:I)","v":301},null,978.25]
[null,null,"PROJECT OVERHEADS- Other","D","Sundries (office stationery, printers, water, etc) per site set up",null,null,null,null,2.14,"Unit/Month",1,1,3.25,{"$f":"SUMIF('Planned Maint v6.2 CSV File'!A:A,J36,'Planned Maint v6.2 CSV File'!I:I)","v":129},null,419.25]
[null,null,null,null,"The Contractor is to set out below costs for any items such a  site security; watching the works; lifting, access or debris removal equipment, car parking suspension bay costs, licences hoarding; fencing, power, water, additional staff, resources, etc. and all matters covered by the Works Information Scope of Works and Section A Employers Requirements not allowed for elsewhere.  The Contractor is instructed to use the priced rates for builders works as submitted with the framework tender to price for items covered in that schedule"]
[null,null,"ADDITIONAL COSTs","D","Site Labourer",null,null,null,null,null,null,2,1,3.25,1760,null,11440]
[null,null,"ADDITIONAL COSTs","D","Building Control",null,null,null,null,null,null,1,1,1,6000,null,6000]
[null,null,"ADDITIONAL COSTs","D","Safety Officer",null,null,null,null,null,null,1,1,1,5720,null,5720]
[null,null,"ADDITIONAL COSTs","D","Considerate Constructor",null,null,null,null,null,null,1,1,1,425,null,425]
[null,null,"ADDITIONAL COSTs","D","Nameboard/signage",null,null,null,null,null,null,1,1,1,1000,null,1000]
[null,null,"ADDITIONAL COSTs","D","Hoist 1-44 Denyer House",null,null,null,null,null,null,null,1,1,3275.5,null,0]
[null,null,"ADDITIONAL COSTs","D","Transport",null,null,null,null,null,null,1,1,1,3000,null,3000]
[null,null,"ADDITIONAL COSTs","D","Parking permits and skip licences",null,null,null,null,null,null,1,1,1,7432.47,null,7432.47]
[null,null,"ADDITIONAL COSTs","D","Additional Scaffold and safety costs associated with wide spread isolated properties",null,null,null,null,null,null,1,1,1,72716.009999999995,null,72716.009999999995]
[null,null,"ADDITIONAL COSTs","D","Uneconomical Working",null,null,null,null,null,null,1,1,1,18547.2,null,18547.2]
[null,null,"ADDITIONAL COSTs","D",null,null,null,null,null,null,null,null,null,null,null,null,0]
[null,null,"ADDITIONAL COSTs","D",null,null,null,null,null,null,null,null,null,null,null,null,0]
[null,null,"ADDITIONAL COSTs","D",null,null,null,null,null,null,null,null,null,null,null,null,0]
[null,null,"ADDITIONAL COSTs","D",null,null,null,null,null,null,null,null,null,null,null,null,0]
[null,null,"ADDITIONAL COSTs","D",null,null,null,null,null,null,null,null,null,null,null,null,0]
[null,null,"ADDITIONAL COSTs","D",null,null,null,null,null,null,null,null,null,null,null,null,0]
[]
[null,null,null,null,null,null,null,null,null,null,null,null,null,null,null,"TOTAL",{"$f":"SUM(Q9:Q54)","v":207658.02150000003}]
[]
["ADDITIONAL RATES (please insert price)"]
[]
[null,null,null,null,"Description",null,null,null,null,"SOR Code","SOR Unit","Rate"]
[null,null,null,null,"Contractor to access and undertake survey of loft space in accordance with the Project Brief in order to assess level of current loft insulation. Including submittion of a survey report supported by photographic evidance to CM/PM. Where insulation levels are less then 200mm, Contractor to provide cost proposal to upgrade insulation in accordance with NHF SoR Planned Maintenance Version 6.2.",null,null,null,null,"ADD001","ITEM"]

{"sheet":"Summary","index":3,"n_rows":67,"n_cols":11,"rows_kept":67,"cut":false,"hidden":false,"merged":[]}
[]
[]
[null,null,"Percentage for Central Overhead & Profit",{"$f":"'Contractor##'!F57","v":0.04}]
[]
[null,null,"Percentage for Central Overhead & Profit (modified)"]
[]
[null,null,null,null,null,null,null,null,null,"Check for text containing Provisional sum"]
[null,"Property Order","Property","Cost of Activities","Provisional Sums","Project Overheads","Central Overheads and Profit","TOTAL",null,"Provisional sums","Check property sheet for difference"]
[null,0,{"$f":"OFFSET(PropertyStart,0,B9)","v":"1-44 Denyer House "},{"$f":"IF(C9=0,\"\",SUM(INDIRECT(\"'\"&C9&\"'!T:T\")))","v":181652.97072399998},{"$f":"IF(C9=0,\"\",SUMIF(INDIRECT(\"'\"&C9&\"'!J:J\"),\"PROV SUM\",INDIRECT(\"'\"&C9&\"'!T:T\")))","v":4000},{"$f":"IF(D9=\"\",\"\",D9/$D$60*$F$60)","v":56865.033872080712},{"$f":"IF(F9=\"\",\"\",(D9+F9)*IF(NOT(ISBLANK($D$5)),$D$5,$D$3))","v":9540.7201838432284},{"$f":"IF(D9=\"\",\"\",D9+F9+G9)","v":248058.72477992391},null,{"$f":"IF(C9=0,\"\",SUMIF(INDIRECT(\"'\"&C9&\"'!E:E\"),\"*PROVISIONAL SUM*\",INDIRECT(\"'\"&C9&\"'!T:T\")))","v":4000},{"$f":"IF(J9=\"\",\"\",J9-E9)","v":0}]
[null,1,"1-10 Lissenden Mansions ",{"$f":"IF(C10=0,\"\",SUM(INDIRECT(\"'\"&C10&\"'!T:T\")))","v":75420.793435000014},{"$f":"IF(C10=0,\"\",SUMIF(INDIRECT(\"'\"&C10&\"'!J:J\"),\"PROV SUM\",INDIRECT(\"'\"&C10&\"'!T:T\")))","v":30235.16},23609.886236635281,{"$f":"IF(F10=\"\",\"\",(D10+F10)*IF(NOT(ISBLANK($D$5)),$D$5,$D$3))","v":3961.227186865412},{"$f":"IF(D10=\"\",\"\",D10+F10+G10)","v":102991.9068585007},null,{"$f":"IF(C10=0,\"\",SUMIF(INDIRECT(\"'\"&C10&\"'!E:E\"),\"*PROVISIONAL SUM*\",INDIRECT(\"'\"&C10&\"'!T:T\")))","v":650},{"$f":"IF(J10=\"\",\"\",J10-E10)","v":-29585.16}]
[null,2,"25 Troyes House ",85991.809319999986,68200,26919.059623489262,4516.4347577395702,{"$f":"IF(D11=\"\",\"\",D11+F11+G11)","v":117427.30370122881},null,68200,0]
[null,3,"11-20 Lissenden Mansions-",75381.307449999993,0,23597.525459569264,3959.1533163827703,102937.98622595203,null,0,0]
[null,4,"5 Gillies Street",7001.8316509999995,1050,2191.8683323141327,367.74799933256531,9561.4479826466977,null,1050,0]
[null,5,"8 Dale Road",10788.96679,2150,3377.4012035854166,566.65471974341665,14733.022713328834,null,2150,0]
[null,6,"11 Gillies Street A-B",17176.160334,3650,5376.8619103356878,902.12088977342751,23455.143134109116,null,3650,0]
[null,7,"30 Grove Terrace Flats A-C",14003.534678000002,1700,4383.6963998966321,735.48924311586541,19122.720321012501,null,1700,0]
[null,8,{"$f":"OFFSET(PropertyStart,0,B17)","v":"25 Elaine Grove"},15466.562183000002,2150,4841.6856543306576,812.3299134932264,21120.577750823886,null,2150,0]
[null,9,"130 Prince of Wales Road",16297.967547,8390,5101.9505649283637,855.99672447713453,22255.9148364055,null,8390,0]
[null,10,"25 Herbert Street Flats A-B",8164.8633579999996,2550,2555.9462615066277,428.83238478026516,11149.642004286894,null,2550,0]
[null,11,"128 Prince of Wales",8106.5147470000011,2150,2537.6806877167828,425.7678173886714,11069.963252105455,null,2150,0]
[null,12,"10 Gillies Street",6106.8111509999999,0,1911.6892036940121,320.74001418776049,8339.2403688817722,null,0,0]
[null,13,"17 Ascham Street",12170.914517000001,2550,3810.0090711699208,639.23694352679695,16620.160531696718,null,2550,0]
[null,14,"13 Doynton Street",7669.4020049999999,3066.8,2400.845981514733,402.8099194605893,10473.057905975322,null,2150,-916.80000000000018]
[null,15,"111 Chetwynd Road",29788.850418999995,3530,9325.1653487160766,1564.560630708643,40678.576398424717,null,3050,-480]
[null,16,"19 Ascham Street Flats A-B",13016.509659000001,5100,4074.7159801747616,683.64902556699042,17774.87466474175,null,5100,0]
[null,17,"66LevertonStreet(Flats A-B) ",17284.392635999997,500,5410.7431812818932,907.80543269127566,23602.941249973166,null,500,0]
[null,18,"13 Oseney Crescent ",13331.414815,6720,4173.294562683277,700.18837510733113,18204.89775279061,null,6720,0]
[null,19,"29 Grove TerraceFlatsA-C-",{"$f":"IF(C28=0,\"\",SUM(INDIRECT(\"'\"&C28&\"'!T:T\")))","v":13952.164913000002},2100,{"$f":"IF(D28=\"\",\"\",D28/$D$60*$F$60)","v":4367.6154989618262},{"$f":"IF(F28=\"\",\"\",(D28+F28)*IF(NOT(ISBLANK($D$5)),$D$5,$D$3))","v":732.79121647847319},19052.571628440302,null,2100,0]
[null,20,"28 Leighton Road Flats A-B",{"$f":"IF(C29=0,\"\",SUM(INDIRECT(\"'\"&C29&\"'!T:T\")))","v":17108.690870999999},2750,{"$f":"IF(D29=\"\",\"\",D29/$D$60*$F$60)","v":5355.7411255583465},{"$f":"IF(F29=\"\",\"\",(D29+F29)*IF(NOT(ISBLANK($D$5)),$D$5,$D$3))","v":898.57727986233385},23363.009276420678,null,2750,0]
[null,21,"13 Mortimer Terrace",9517.274093,2150,2979.3078060397384,499.86327596158952,12996.445175001329,null,2150,0]
[null,22,"13 Winscombe Terrace",7955.151245,2150,2490.2975338166762,417.81795115266709,10863.266729969344,null,2150,0]
[null,23,0,{"$f":"IF(C32=0,\"\",SUM(INDIRECT(\"'\"&C32&\"'!T:T\"))+E32)","v":""},null,"","","",null,"",""]
[null,24,0,"",null,"","","",null,"",""]
[null,25,0,"",null,"","","",null,"",""]
[null,26,0,"",null,"","","",null,"",""]
[null,27,0,"",null,"","","",null,"",""]
[null,28,0,"",null,"","","",null,"",""]
[null,29,0,"",null,"","","",null,"",""]
[null,30,0,"",null,"","","",null,"",""]
[null,31,0,"",null,"","","",null,"",""]
[null,32,0,"",null,"","","",null,"",""]
[null,33,0,"",null,"","","",null,"",""]
[null,34,0,"",null,"","","",null,"",""]
[null,35,0,"",null,"","","",null,"",""]
[null,36,0,"",null,"","","",null,"",""]
[null,37,0,"",null,"","","",null,"",""]
[null,38,0,"",null,"","","",null,"",""]
[null,39,0,"",null,"","","",null,"",""]
[null,40,0,"",null,"","","",null,"",""]
[null,41,0,"",null,"","","",null,"",""]
[null,42,0,"",null,"","","",null,"",""]
[null,43,0,"",null,"","","",null,"",""]
[null,44,0,"",null,"","","",null,"",""]
[null,45,0,"",null,"","","",null,"",""]
[null,46,0,"",null,"","","",null,"",""]
[null,47,0,"",null,"","","",null,"",""]
[null,48,0,"",null,"","","",null,"",""]
[null,49,0,"",null,"","","",null,"",""]
[null,50,0,"",null,"","","",null,"",""]
[null,null,"TOTAL",{"$f":"SUM(D9:D59)","v":663354.85854099982},{"$f":"SUM(E9:E59)","v":156841.96},{"$f":"'Project Overheads & Scaffold'!Q55","v":207658.02150000003},{"$f":"SUM(G9:G59)","v":34840.515201640002},{"$f":"D60+F60+G60","v":905853.39524263982},null,{"$f":"SUM(J9:J59)","v":125860},{"$f":"SUM(K9:K59)","v":-30981.96}]
[]
[]
[null,null,"Value of Rate Library (excl. prov sums, excl. scaffold )",{"$f":"SUM('Packet Rate Library'!T:T)","v":503648.12854100001}]
[]
[null,null,{"$f":"IF(D65<>0,\"ERROR\",\"\")","v":"ERROR"},{"$f":"D60-D63-E60-SUM('Project Overheads & Scaffold'!AI:AI)","v":0.76999999981489964}]
[]
[null,null,{"$f":"J7","v":"Check for text containing Provisional sum"},{"$f":"J60-E60","v":-30981.959999999992}]

{"sheet":"Packet Rate Library","index":4,"n_rows":171,"n_cols":71,"rows_kept":171,"cut":false,"hidden":false,"merged":[[5,15,5,19]]}
[{"$f":"LEFT(E1,100)&J1","v":""},"Template row",null,null,null,null,null,null,null,null,null,{"$f":"SUM(V1:BS1)","v":0},null,{"$f":"L1*M1","v":0},{"$f":"VLOOKUP(C1,RateOrderTable,2,FALSE)","v":{"$error":"#N/A"}},{"$f":"SUMIF('Planned Maint v6.2 CSV File'!A:A,J1,'Planned Maint v6.2 CSV File'!I:I)","v":0},{"$f":"IF(J1=\"PROV SUM\",N1,L1*P1)","v":0},null,{"$f":"IF(R1>0,R1,P1)","v":0},{"$f":"IF(J1=\"PROV SUM\",N1,L1*S1)","v":0},null,{"$f":"IF(ISERROR(VLOOKUP($J1,INDIRECT(\"'\"&V$7&\"'!J:J\"),1,FALSE)),\"\",SUMIF(INDIRECT(\"'\"&V$7&\"'!J:J\"),$J1,INDIRECT(\"'\"&V$7&\"'!L:L\")))","v":""},{"$f":"IF(ISERROR(VLOOKUP($J1,INDIRECT(\"'\"&W$7&\"'!J:J\"),1,FALSE)),\"\",SUMIF(INDIRECT(\"'\"&W$7&\"'!J:J\"),$J1,INDIRECT(\"'\"&W$7&\"'!L:L\")))","v":""},"","","","","","","","","","","","","","","","","","","","","","","","","","","","","","","","","","","","","","","","","","","","","","","",""]
[]
["BILL OF QUANTITIES - RAPID LOADER"]
[]
[]
[null,null,null,null,null,null,null,null,null,null,null,null,null,null,null,null,null,null,null,null,null,"SOR Qtys"]
["Requirement","REPB","Requirement Type","Rowtype (H=Header, D=Detail)","Description","Works Order Commencement Date","Works Order Completion Date","Specification  Ref. Item No.'s","Works Order Delivery Date","SOR Code","SOR Unit","SOR Qty","SOR Cost","Total Cost",null,"Rate (max)","Cost (max)","Modified price","Tendered rate","Tendered total",null,"1-44 Denyer House ","1-10 Lissenden Mansions ","25 Troyes House ","11-20 Lissenden Mansions-","5 Gillies Street","8 Dale Road","11 Gillies Street A-B","30 Grove Terrace Flats A-C","25 Elaine Grove","130 Prince of Wales Road","25 Herbert Street Flats A-B","128 Prince of Wales","10 Gillies Street","17 Ascham Street","13 Doynton Street","111 Chetwynd Road","19 Ascham Street Flats A-B","66LevertonStreet(Flats A-B) ","13 Oseney Crescent ","29 Grove TerraceFlatsA-C-","28 Leighton Road Flats A-B","13 Mortimer Terrace","13 Winscombe Terrace"]
[]
[null,"REPB14020","SCAFFOLD","D","Standard Scaffold item: erect; dismantle; basic independent tied working scaffolding; 5 boards wide, including hire period; completely accessible; debris netting to all elevations; double boarded and polythene included as necessary, any fan(s) included as required; rope plus wheel for lifting operations; 3rd handrail included whenever necessary; as per applicable regulations (applies to up to 5 storeys). Measured up to second handrail and by the middle of the scaffold (equidistant from the inside/outside face) including design when required. Rate to include for 12 week hire",null,null,2.1,null,"SC001","M2",{"$f":"SUM(V9:BS9)","v":13478},12.92,{"$f":"L9*M9","v":174135.76},null,{"$f":"SUMIF('Planned Maint v6.2 CSV File'!A:A,J9,'Planned Maint v6.2 CSV File'!I:I)","v":16.4084},{"$f":"IF(J9=\"PROV SUM\",N9,L9*P9)","v":221152.41520000002},null,{"$f":"IF(R9>0,R9,P9)","v":16.4084},{"$f":"IF(J9=\"PROV SUM\",N9,L9*S9)","v":221152.41520000002},null,{"$f":"IF(ISERROR(VLOOKUP($J9,INDIRECT(\"'\"&V$7&\"'!J:J\"),1,FALSE)),\"\",SUMIF(INDIRECT(\"'\"&V$7&\"'!J:J\"),$J9,INDIRECT(\"'\"&V$7&\"'!L:L\")))","v":8850},1124,40,750,90,140,151,256,170,120,{"$f":"IF(ISERROR(VLOOKUP($J9,INDIRECT(\"'\"&AF$7&\"'!J:J\"),1,FALSE)),\"\",SUMIF(INDIRECT(\"'\"&AF$7&\"'!J:J\"),$J9,INDIRECT(\"'\"&AF$7&\"'!L:L\")))","v":99},140,100,106,70,245,100,117,160,256,{"$f":"IF(ISERROR(VLOOKUP($J9,INDIRECT(\"'\"&AP$7&\"'!J:J\"),1,FALSE)),\"\",SUMIF(INDIRECT(\"'\"&AP$7&\"'!J:J\"),$J9,INDIRECT(\"'\"&AP$7&\"'!L:L\")))","v":84},170,140,"","","","","","","",{"$f":"IF(ISERROR(VLOOKUP($J9,INDIRECT(\"'\"&AZ$7&\"'!J:J\"),1,FALSE)),\"\",SUMIF(INDIRECT(\"'\"&AZ$7&\"'!J:J\"),$J9,INDIRECT(\"'\"&AZ$7&\"'!L:L\")))","v":""},"","","","","","","","","",{"$f":"IF(ISERROR(VLOOKUP($J9,INDIRECT(\"'\"&BJ$7&\"'!J:J\"),1,FALSE)),\"\",SUMIF(INDIRECT(\"'\"&BJ$7&\"'!J:J\"),$J9,INDIRECT(\"'\"&BJ$7&\"'!L:L\")))","v":""},"","","","","","","","",""]
[null,"REPB14020","SCAFFOLD","D","Scaffold alarm - 1 x sounder, 2 x PIR 1 X key pad (Divided by Number of properties if continuous scaffolds)",null,null,2.5,null,"SC005","unit",22,420,9240,null,{"$f":"SUMIF('Planned Maint v6.2 CSV File'!A:A,J10,'Planned Maint v6.2 CSV File'!I:I)","v":533.4},11734.8,null,533.4,11734.8,null,1,1,1,1,1,"",1,1,1,1,1,1,1,1,1,1,1,1,1,1,1,1,1,"","","","","","","","","","","","","","","","","","","","","","","","","","",""]
[null,"REPB14020","SCAFFOLD","D","E/O for additional PIRS",null,null,2.6,null,"SC007","unit",29,50,1450,null,{"$f":"SUMIF('Planned Maint v6.2 CSV File'!A:A,J11,'Planned Maint v6.2 CSV File'!I:I)","v":63.5},1841.5,null,63.5,1841.5,null,3,3,"",1,1,1,1,2,1,1,1,1,1,1,"",2,1,1,1,2,2,1,1,"","","","","","","","","","","","","","","","","","","","","","","","","","",""]
[null,"REPB42122","SCAFFOLD","D","Scaffold to chimney stack n.e. 3.00 girth, n.e. 2.00m high to gable, verge or edge",null,null,2.7,null,"SC008","unit",2,383.72,767.44,null,{"$f":"SUMIF('Planned Maint v6.2 CSV File'!A:A,J12,'Planned Maint v6.2 CSV File'!I:I)","v":487.32440000000003},974.64880000000005,null,487.32440000000003,974.64880000000005,null,"","","","","",1,"","","","","","","","","","","","","","",1,"","","","","","","","","","","","","","","","","","","","","","","","","","","","",""]
[null,"REPB47024","SCAFFOLD","D","Up&over boarded walkway bridge (over the roof) boarded and handrails included",null,null,2.15,null,"SC015","unit",1,1310,1310,null,{"$f":"SUMIF('Planned Maint v6.2 CSV File'!A:A,J13,'Planned Maint v6.2 CSV File'!I:I)","v":1663.7},1663.7,null,1663.7,1663.7,null,"","","","","","","","","","","","","",1,"","","","","","","","","","","","","","","","","","","","","","","","","","","","","","","","","","","",""]
[null,"REPB42150","SCAFFOLD","D","Scaffold taken through property (protection to surfaces included)",null,null,2.16,null,"SC016","unit",10,379.8,3798,null,{"$f":"SUMIF('Planned Maint v6.2 CSV File'!A:A,J14,'Planned Maint v6.2 CSV File'!I:I)","v":482.346},4823.46,null,482.346,4823.46,null,"","","","",1,"",1,1,"","",1,"","","","",1,1,"",1,1,1,"",1,"","","","","","","","","","","","","","","","","","","","","","","","","","",""]
[null,"REPB42122","SCAFFOLD","D","Scaffold taken up&over the roof",null,null,2.17,null,"SC017","unit",6,842,5052,null,{"$f":"SUMIF('Planned Maint v6.2 CSV File'!A:A,J15,'Planned Maint v6.2 CSV File'!I:I)","v":1069.3399999999999},6416.0399999999991,null,1069.3399999999999,6416.0399999999991,null,"","","","","",1,"","",1,1,"","",1,"","","","",1,1,"","","","","","","","","","","","","","","","","","","","","","","","","","","","","","",""]
[null,"REPB04223","SCAFFOLD","D","Installation of rubbish chute",null,null,2.1800000000000002,null,"SC018","lm",17,45,765,null,{"$f":"SUMIF('Planned Maint v6.2 CSV File'!A:A,J16,'Planned Maint v6.2 CSV File'!I:I)","v":57.15},971.55,null,57.15,971.55,null,"",1,1,15,"","","","","","","","","","","","","","","","","","","","","","","","","","","","","","","","","","","","","","","","","","","","","",""]
[null,"REPB42129","SCAFFOLD","D","Modular Beams (Measured as lm include inside/outside face of scaffold- 1 beam included)",null,null,2.19,null,"SC019","lm",10,31.75,317.5,null,{"$f":"SUMIF('Planned Maint v6.2 CSV File'!A:A,J17,'Planned Maint v6.2 CSV File'!I:I)","v":40.322499999999998},403.22499999999997,null,40.322499999999998,403.22499999999997,null,"","","","","","","","",10,"","","","","","","","","","","","","","","","","","","","","","","","","","","","","","","","","","","","","","","","",""]
[null,"REPB11024","SCAFFOLD","D","Double handrail as edge protection to party walls on mid-terraced property ",null,null,2.21,null,"SC021","lm",150,16.25,2437.5,null,{"$f":"SUMIF('Planned Maint v6.2 CSV File'!A:A,J18,'Planned Maint v6.2 CSV File'!I:I)","v":20.637499999999999},3095.625,null,20.637499999999999,3095.625,null,"","",150,"","","","","","","","","","","","","","","","","","","","","","","","","","","","","","","","","","","","","","","","","","","","","","",""]
[null,"REPB14020","SCAFFOLD","D","Satellite Dish, reposition",null,null,2.2200000000000002,null,"SC022","Nr",14,82.5,1155,null,{"$f":"SUMIF('Planned Maint v6.2 CSV File'!A:A,J19,'Planned Maint v6.2 CSV File'!I:I)","v":104.77500000000001},1466.8500000000001,null,104.77500000000001,1466.8500000000001,null,{"$f":"IF(ISERROR(VLOOKUP($J19,INDIRECT(\"'\"&V$7&\"'!J:J\"),1,FALSE)),\"\",SUMIF(INDIRECT(\"'\"&V$7&\"'!J:J\"),$J19,INDIRECT(\"'\"&V$7&\"'!L:L\")))","v":14},"","","","","","","","","",{"$f":"IF(ISERROR(VLOOKUP($J19,INDIRECT(\"'\"&AF$7&\"'!J:J\"),1,FALSE)),\"\",SUMIF(INDIRECT(\"'\"&AF$7&\"'!J:J\"),$J19,INDIRECT(\"'\"&AF$7&\"'!L:L\")))","v":""},"","","","","","","","","",{"$f":"IF(ISERROR(VLOOKUP($J19,INDIRECT(\"'\"&AP$7&\"'!J:J\"),1,FALSE)),\"\",SUMIF(INDIRECT(\"'\"&AP$7&\"'!J:J\"),$J19,INDIRECT(\"'\"&AP$7&\"'!L:L\")))","v":""},"","","","","","","","","",{"$f":"IF(ISERROR(VLOOKUP($J19,INDIRECT(\"'\"&AZ$7&\"'!J:J\"),1,FALSE)),\"\",SUMIF(INDIRECT(\"'\"&AZ$7&\"'!J:J\"),$J19,INDIRECT(\"'\"&AZ$7&\"'!L:L\")))","v":""},"","","","","","","","","",{"$f":"IF(ISERROR(VLOOKUP($J19,INDIRECT(\"'\"&BJ$7&\"'!J:J\"),1,FALSE)),\"\",SUMIF(INDIRECT(\"'\"&BJ$7&\"'!J:J\"),$J19,INDIRECT(\"'\"&BJ$7&\"'!L:L\")))","v":""},"","","","","","","","",""]
[null,"REPB11024","SCAFFOLD","D","Construction hoist tower- per storey",null,null,2.25,null,"SC025","storey",6,185.64,1113.8399999999999,null,{"$f":"SUMIF('Planned Maint v6.2 CSV File'!A:A,J20,'Planned Maint v6.2 CSV File'!I:I)","v":235.7628},1414.5768,null,235.7628,1414.5768,null,"","",1,5,"","","","","","","","","","","","","","","","","","","","","","","","","","","","","","","","","","","","","","","","","","","","","",""]
[null,"REPB04223","SCAFFOLD","D","Erecting hoist mast- per unit- up to 5 storeys (including delivery, dismantle and gates) ",null,null,2.2599999999999998,null,"SC026","unit",2,1127.5,2255,null,{"$f":"SUMIF('Planned Maint v6.2 CSV File'!A:A,J21,'Planned Maint v6.2 CSV File'!I:I)","v":1431.925},2863.85,null,1431.925,2863.85,null,"",1,"",1,"","","","","","","","","","","","","","","","","","","","","","","","","","","","","","","","","","","","","","","","","","","","","",""]
[null,"REPB04223","SCAFFOLD","D","Parking bay suspensions per 2 bays fee.",null,null,2.2799999999999998,null,"SC028","day",120,77.260000000000005,9271.2000000000007,null,{"$f":"SUMIF('Planned Maint v6.2 CSV File'!A:A,J22,'Planned Maint v6.2 CSV File'!I:I)","v":98.120200000000011},11774.424000000001,null,98.120200000000011,11774.424000000001,null,"",120,"","","","","","","","","","","","","","","","","","","","","","","","","","","","","","","","","","","","","","","","","","","","","","","",""]
[null,"REPB04223","SCAFFOLD","D","Suspension of Parking Bays administration Fee",null,null,2.29,null,"SC029","item",1,61.29,61.29,null,{"$f":"SUMIF('Planned Maint v6.2 CSV File'!A:A,J23,'Planned Maint v6.2 CSV File'!I:I)","v":77.838300000000004},77.838300000000004,null,77.838300000000004,77.838300000000004,null,"",1,"","","","","","","","","","","","","","","","","","","","","","","","","","","","","","","","","","","","","","","","","","","","","","","",""]
[null,"REPB14020","SCAFFOLD","D","supply cherry picker per day incl delivery and driver",null,null,2.2999999999999998,null,"SC030",null,11,695,7645,null,{"$f":"SUMIF('Planned Maint v6.2 CSV File'!A:A,J24,'Planned Maint v6.2 CSV File'!I:I)","v":882.65},9709.15,null,882.65,9709.15,null,1,"",10,"","","","","","","","","","","","","","","","","","","","","","","","","","","","","","","","","","","","","","","","","","","","","","",""]
[null,"REPB47293","ROOF","D","Chimney: Renew facing bricks in chimney stack in area ne 0.50sm, cut out defective bricks, lay new facing bricks bedded and pointed in mortar to match existing and remove waste and debris.",null,null,3.4220000000000201,null,"1200AN","NO",1,66.790000000000006,66.790000000000006,null,{"$f":"SUMIF('Planned Maint v6.2 CSV File'!A:A,J25,'Planned Maint v6.2 CSV File'!I:I)","v":48.422750000000001},48.422750000000001,null,48.422750000000001,48.422750000000001,null,"","","","","","","","","","","","","","","",1,"","","","","","","","","","","","","","","","","","","","","","","","","","","","","","","","","",""]
[null,"REPB04224","ROOF","D","Chimney: Rake out joints to brickwork to chimney stack, min 12mm, and repoint in cement lime mortar (1:1:6) to match existing and remove waste and debris.",null,null,3.42300000000002,null,"1200AO","SM",30,22.29,668.69999999999993,null,{"$f":"SUMIF('Planned Maint v6.2 CSV File'!A:A,J26,'Planned Maint v6.2 CSV File'!I:I)","v":16.160249999999998},484.80749999999995,null,16.160249999999998,484.80749999999995,null,"","","",30,"","","","","","","","","","","","","","","","","","","","","","","","","","","","","","","","","","","","","","","","","","","","","",""]
[null,"REPB47660","ROOF","D","Chimney:Renew any thickness of render to chimney, hack off, rake out, prepare and apply 18mm thick two coats cement and sand render trowelled smooth including all labours, and remove waste and debris.",null,null,3.4240000000000199,null,"1200BA","SM",4,33.68,134.72,null,{"$f":"SUMIF('Planned Maint v6.2 CSV File'!A:A,J27,'Planned Maint v6.2 CSV File'!I:I)","v":24.417999999999999},97.671999999999997,null,24.417999999999999,97.671999999999997,null,"","","","","","","","","","","","","","","","","","","","",4,"","","","","","","","","","","","","","","","","","","","","","","","","","","","",""]
[null,"REPB04224","ROOF","D","Tile: Remove plain tiles and carefully stack, renew roofing felt and battens and refix tiles (exc 10 No. in one location) and cart away debris to tip.",null,null,3.8700000000000099,null,"2013DA","SM",90,108.19,9737.1,null,{"$f":"SUMIF('Planned Maint v6.2 CSV File'!A:A,J28,'Planned Maint v6.2 CSV File'!I:I)","v":86.552000000000007},7789.68,null,86.552000000000007,7789.68,null,"","","",90,"","","","","","","","","","","","","","","","","","","","","","","","","","","","","","","","","","","","","","","","","","","","","",""]
[null,"REPB14020","ROOF","D","Tile: Overhaul clay plain tile roof, refix loose tiles, renew broken or missing tiles to match existing, redress, rewedge and repoint all flashings, aprons, chimney gutters etc., cut out and make good cement weather fillets, repoint in cement mortar (1:3) to all hips, ridges and verges, make good, clear away debris.",null,null,3.8800000000000101,null,"2013EA","SM",670,30.56,20475.2,null,{"$f":"SUMIF('Planned Maint v6.2 CSV File'!A:A,J29,'Planned Maint v6.2 CSV File'!I:I)","v":24.448},16380.16,null,24.448,16380.16,null,{"$f":"IF(ISERROR(VLOOKUP($J29,INDIRECT(\"'\"&V$7&\"'!J:J\"),1,FALSE)),\"\",SUMIF(INDIRECT(\"'\"&V$7&\"'!J:J\"),$J29,INDIRECT(\"'\"&V$7&\"'!L:L\")))","v":580},"","",90,"","","","","","",{"$f":"IF(ISERROR(VLOOKUP($J29,INDIRECT(\"'\"&AF$7&\"'!J:J\"),1,FALSE)),\"\",SUMIF(INDIRECT(\"'\"&AF$7&\"'!J:J\"),$J29,INDIRECT(\"'\"&AF$7&\"'!L:L\")))","v":""},"","","","","","","","","",{"$f":"IF(ISERROR(VLOOKUP($J29,INDIRECT(\"'\"&AP$7&\"'!J:J\"),1,FALSE)),\"\",SUMIF(INDIRECT(\"'\"&AP$7&\"'!J:J\"),$J29,INDIRECT(\"'\"&AP$7&\"'!L:L\")))","v":""},"","","","","","","","","",{"$f":"IF(ISERROR(VLOOKUP($J29,INDIRECT(\"'\"&AZ$7&\"'!J:J\"),1,FALSE)),\"\",SUMIF(INDIRECT(\"'\"&AZ$7&\"'!J:J\"),$J29,INDIRECT(\"'\"&AZ$7&\"'!L:L\")))","v":""},"","","","","","","","","",{"$f":"IF(ISERROR(VLOOKUP($J29,INDIRECT(\"'\"&BJ$7&\"'!J:J\"),1,FALSE)),\"\",SUMIF(INDIRECT(\"'\"&BJ$7&\"'!J:J\"),$J29,INDIRECT(\"'\"&BJ$7&\"'!L:L\")))","v":""},"","","","","","","","",""]
[null,"REPB04223","ROOF","D","PROVISIONAL SUM: Roof Covering: Extra over any renewal or refixing of plain concrete roof tiles for renew roofing felt and battens.",null,null,3.44,null,"2013RR","SM",90,21.88,1969.1999999999998,null,{"$f":"SUMIF('Planned Maint v6.2 CSV File'!A:A,J30,'Planned Maint v6.2 CSV File'!I:I)","v":17.504000000000001},1575.3600000000001,null,17.504000000000001,1575.3600000000001,null,"","","",90,"","","","","","","","","","","","","","","","","","","","","","","","","","","","","","","","","","","","","","","","","","","","","",""]
[null,"REPB47495","ROOF","D","Slate: Overhaul fibre cement slate roof, refix loose slates, renew broken or missing slates to match existing, redress, rewedge and repoint all flashings, aprons, chimney gutters etc, cut out and make good cement weather fillets, repoint in cement mortar (1:3) to all hips, ridges and verges, make good, and remove waste and debris.",null,null,3.2069999999999901,null,"2031CA","SM",6,30.56,183.35999999999999,null,{"$f":"SUMIF('Planned Maint v6.2 CSV File'!A:A,J31,'Planned Maint v6.2 CSV File'!I:I)","v":24.448},146.68799999999999,null,24.448,146.68799999999999,null,"","","","","","","",3,"","","","","","","","","","","",3,"","","","","","","","","","","","","","","","","","","","","","","","","","","","","",""]
[null,"REPB04223","ROOF","D","PROVISIONAL SUM: Slate: Renew any size natural slates to roof fixed with clips or copper nails including double courses at eaves, verges cuttings, all labours renewing roofing felt and battens, and remove waste and debris.",null,null,3.4409999999999998,null,"2033AA","SM",0,119.76,0,null,{"$f":"SUMIF('Planned Maint v6.2 CSV File'!A:A,J32,'Planned Maint v6.2 CSV File'!I:I)","v":95.808000000000007},0,null,95.808000000000007,0,null,"","","","","","","","","","","","","","","","","","","","","","","","","","","","","","","","","","","","","","","","","","","","","","","","","",""]
[null,"REPB42313","ROOF","D","Slate: Overhaul natural slate roof, refix loose slates, renew broken or missing slates to match existing, redress, rewedge and repoint all flashings, aprons, chimney gutters etc, cut out and make good cement weather fillets, repoint in cement mortar (1:3) to all hips, ridges and verges, make good, and remove waste and debris.",null,null,3.2149999999999901,null,"2033CA","SM",55,30.56,1680.8,null,{"$f":"SUMIF('Planned Maint v6.2 CSV File'!A:A,J33,'Planned Maint v6.2 CSV File'!I:I)","v":24.448},1344.64,null,24.448,1344.64,null,"","","","","","","","","","",5,"","",50,"","","","","","","","","","","","","","","","","","","","","","","","","","","","","","","","","","","",""]
[null,"REPB42154","ROOF","D","Slate: Renew any size and type of fibre cement roof slates including double course at eaves cloaked verges, ridge, hips and valley tiles, supply and install proprietary ventilation units in roof, renew all code 6 lead flashings, aprons chimney gutters and the like wedged and pointed, renew valley gutter and valley board as necessary including all labours, cutting etc including renew roofing felt and battens, install ‘glidevale’ secret gutter to abutment to adjacent property, and remove waste and debris.",null,null,3.2179999999999902,null,"2034AB","SM",50,134.04,6702,null,{"$f":"SUMIF('Planned Maint v6.2 CSV File'!A:A,J34,'Planned Maint v6.2 CSV File'!I:I)","v":107.232},5361.6,null,107.232,5361.6,null,"","","","","","",50,"","","","","","","","","","","","","","","","","","","","","","","","","","","","","","","","","","","","","","","","","","",""]
[null,"REPB42129","ROOF","D","Slate: Renew any size and type of natural roof slates including double course at eaves cloaked verges, ridge, hips and valley tiles, supply and install proprietary ventilation units in roof, renew all code 6 lead flashings, aprons chimney gutters and the like wedged and pointed, renew valley gutter and valley board as necessary including all labours, cutting etc including renew roofing felt and battens and install restraint straps to gables and elevational gables, and remove waste and debris.",null,null,3.2189999999999901,null,"2034AC","SM",40,133.30000000000001,5332,null,{"$f":"SUMIF('Planned Maint v6.2 CSV File'!A:A,J35,'Planned Maint v6.2 CSV File'!I:I)","v":106.64000000000001},4265.6000000000004,null,106.64000000000001,4265.6000000000004,null,"","","","","","","","",40,"","","","","","","","","","","","","","","","","","","","","","","","","","","","","","","","","","","","","","","","",""]
[null,"REPB47684","ROOF","D","Slate:Renew any size and type of natural roof slates including double course at eaves cloaked verges, ridge, hips and valley tiles, supply and install proprietary ventilation units in roof, renew all code 6 lead flashings, aprons chimney gutters and the like wedged and pointed, renew valley gutter and valley board as necessary including all labours, cutting etc including renew roofing felt and battens and install restraint straps togables and elevational gables, install ‘glidevale’ secret gutter to abutment to adjacent property, and remove waste and debris.",null,null,3.21999999999999,null,"2034AD","SM",40,138.28,5531.2,null,{"$f":"SUMIF('Planned Maint v6.2 CSV File'!A:A,J36,'Planned Maint v6.2 CSV File'!I:I)","v":110.62400000000001},4424.96,null,110.62400000000001,4424.96,null,"","","","","","","","","","","","","","","","","",40,"","","","","","","","","","","","","","","","","","","","","","","","","","","","","","","",""]
[null,"REPB42154","ROOF","D","Ridge: Renew half round ridge or hip tile fixed with galvanised steel clips and roofing screws with plastic washers including bedding in mastic as per manufacturers instructions, and remove waste and debris.",null,null,3.2209999999999899,null,"2035AA","LM",5,61.15,305.75,null,{"$f":"SUMIF('Planned Maint v6.2 CSV File'!A:A,J37,'Planned Maint v6.2 CSV File'!I:I)","v":48.92},244.60000000000002,null,48.92,244.60000000000002,null,"","","","","","",5,"","","","","","","","","","","","","","","","","","","","","","","","","","","","","","","","","","","","","","","","","","",""]
[null,"REPB14020","ROOF","D","Moss: Carefully remove moss/lichen growth on roof covering of any kind and dispose of debris off site, reistate all disturbed surfaces, replace broken tiles, slates and the like, thoroughly clean out valleys, gutters, downpipes, hoppers etc, prepare and treat the complete roof area with a diluted fungicide solution AKZO or other equal and approved applied strictly in accordance with the manufacturer’s instructions, thoroughly clean out all gutters and the like to remove all chemical residue arising upon completion of the works, and remove waste and debris.",null,null,3.1799999999999899,null,"2115AA","SM",818,10.17,8319.06,null,{"$f":"SUMIF('Planned Maint v6.2 CSV File'!A:A,J38,'Planned Maint v6.2 CSV File'!I:I)","v":8.136000000000001},6655.2480000000005,null,8.136000000000001,6655.2480000000005,null,580,"","","",50,6,"",55,"","","","",2,"","","",70,"","",55,"","","","","","","","","","","","","","","","","","","","","","","","","","","","","",""]
[null,"REPB47495","ROOF","D","Roofing: Apply sealing compound to cracks to roof or leadwork.",null,null,3.1819999999999902,null,"2150AB","LM",16,5.4,86.4,null,{"$f":"SUMIF('Planned Maint v6.2 CSV File'!A:A,J39,'Planned Maint v6.2 CSV File'!I:I)","v":4.32},69.12,null,4.32,69.12,null,{"$f":"IF(ISERROR(VLOOKUP($J39,INDIRECT(\"'\"&V$7&\"'!J:J\"),1,FALSE)),\"\",SUMIF(INDIRECT(\"'\"&V$7&\"'!J:J\"),$J39,INDIRECT(\"'\"&V$7&\"'!L:L\")))","v":""},"","","","","","",8,"","",{"$f":"IF(ISERROR(VLOOKUP($J39,INDIRECT(\"'\"&AF$7&\"'!J:J\"),1,FALSE)),\"\",SUMIF(INDIRECT(\"'\"&AF$7&\"'!J:J\"),$J39,INDIRECT(\"'\"&AF$7&\"'!L:L\")))","v":""},"","","","","","","","",8,{"$f":"IF(ISERROR(VLOOKUP($J39,INDIRECT(\"'\"&AP$7&\"'!J:J\"),1,FALSE)),\"\",SUMIF(INDIRECT(\"'\"&AP$7&\"'!J:J\"),$J39,INDIRECT(\"'\"&AP$7&\"'!L:L\")))","v":""},"","","","","","","","","",{"$f":"IF(ISERROR(VLOOKUP($J39,INDIRECT(\"'\"&AZ$7&\"'!J:J\"),1,FALSE)),\"\",SUMIF(INDIRECT(\"'\"&AZ$7&\"'!J:J\"),$J39,INDIRECT(\"'\"&AZ$7&\"'!L:L\")))","v":""},"","","","","","","","","",{"$f":"IF(ISERROR(VLOOKUP($J39,INDIRECT(\"'\"&BJ$7&\"'!J:J\"),1,FALSE)),\"\",SUMIF(INDIRECT(\"'\"&BJ$7&\"'!J:J\"),$J39,INDIRECT(\"'\"&BJ$7&\"'!L:L\")))","v":""},"","","","","","","","",""]
[null,"REPB42150","ROOF","D","Gutter:Clean out gutter, rake out and apply sealant to joints and prepare and apply two coats of proprietary waterproof sealing compound to inside surfaces of finlock gutter, and remove waste and debris.",null,null,3.1859999999999902,null,"2150EA","LM",10,17.43,174.3,null,{"$f":"SUMIF('Planned Maint v6.2 CSV File'!A:A,J40,'Planned Maint v6.2 CSV File'!I:I)","v":13.944000000000001},139.44,null,13.944000000000001,139.44,null,"","","","",10,"","","","","","","","","","","","","","","","","","","","","","","","","","","","","","","","","","","","","","","","","","","","",""]
[null,"REPB42313","ROOF","D","Felt: Renew two layer felt to any girth gutter including remove defective felt and lay new felt bedded in hot bitumen, and remove waste and debris.",null,null,3.14,null,"2170EA","LM",{"$f":"SUM(V41:BS41)","v":4},22.84,{"$f":"L41*M41","v":91.36},null,{"$f":"SUMIF('Planned Maint v6.2 CSV File'!A:A,J41,'Planned Maint v6.2 CSV File'!I:I)","v":18.272000000000002},{"$f":"IF(J41=\"PROV SUM\",N41,L41*P41)","v":73.088000000000008},null,{"$f":"IF(R41>0,R41,P41)","v":18.272000000000002},{"$f":"IF(J41=\"PROV SUM\",N41,L41*S41)","v":73.088000000000008},null,"","","","","","","","","","",4,"","","","","","","","","","","","","","","","","","","","","","","","","","","","","","","","","","","","","","",""]
[null,"REPB04223","ROOF","D","PROVISIONAL SUM: Asphalt: Renew 20mm asphalt roof finish comprising isolating membrane, asphalt laid in two layers and bond to existing asphalt and finish smooth to match existing levels, and remove waste and debris.",null,null,3.4380000000000002,null,"2190AA","SM",6,85.24,511.43999999999994,null,{"$f":"SUMIF('Planned Maint v6.2 CSV File'!A:A,J42,'Planned Maint v6.2 CSV File'!I:I)","v":68.191999999999993},409.15199999999993,null,68.191999999999993,409.15199999999993,null,"","","","","",6,"","","","","","","","","","","","","","","","","","","","","","","","","","","","","","","","","","","","","","","","","","","",""]
[null,"REPB04224","ROOF","D","Asphalt: Renew 20mm asphalt lining to sole and sides of rainwater outlet opening through one brick wall including internal angle fillets, lead dressing into hopper head and any necessary expanded metal lathing reinforcement, and remove waste and debris.",null,null,3.7100000000000102,null,"2190EA","SM",10,149.09,1490.9,null,{"$f":"SUMIF('Planned Maint v6.2 CSV File'!A:A,J43,'Planned Maint v6.2 CSV File'!I:I)","v":119.27200000000001},1192.72,null,119.27200000000001,1192.72,null,"","","",10,"","","","","","","","","","","","","","","","","","","","","","","","","","","","","","","","","","","","","","","","","","","","","",""]
[null,"REPB04224","ROOF","D","Asphalt: Prepare and apply solar reflective paint to asphalt roofing (per coat).",null,null,3.72000000000001,null,"2190FA","SM",450,10.6,4770,null,{"$f":"SUMIF('Planned Maint v6.2 CSV File'!A:A,J44,'Planned Maint v6.2 CSV File'!I:I)","v":8.48},3816,null,8.48,3816,null,"","","",450,"","","","","","","","","","","","","","","","","","","","","","","","","","","","","","","","","","","","","","","","","","","","","",""]
[null,"REPB42122","ROOF","D","Asphalt: Overhaul asphalt roofing to flat roof area, Including sweep and remove moss, algae and other debris, cut out blisters, cracks and make good in asphalt, prepare and apply two coats of solar reflective paint as necessary, rewedge and redress flashings, clear associated gutters and outlets, and remove waste and debris.",null,null,3.74000000000001,null,"2190GA","SM",72,30.56,2200.3199999999997,null,{"$f":"SUMIF('Planned Maint v6.2 CSV File'!A:A,J45,'Planned Maint v6.2 CSV File'!I:I)","v":24.448},1760.2560000000001,null,24.448,1760.2560000000001,null,"","","","","",30,"","","","","","","","","","","","","","",42,"","","","","","","","","","","","","","","","","","","","","","","","","","","","",""]
[null,"REPB04224","ROOF","D","Roof: Renew asphalt and boarding complete, strip off existing roof covering and boarding, clear away to tip, fix 19mm WBP plywood boarding to roof joist, including 50x50mm softwood noggins, tape joints lay one layer of vapour barrier, lay 100mm insulation board, lay isolating membrane, fix galvanised eml to and including tanalised softwood kerbs etc., lay 20mm asphalt in two equal layers dress over and form kerbs, upstands, downstands, drips, angles, dressing into outlets, around pipes etc., supply and fix new code 4 lead cover flashing to wall abutments, and remove waste and debris.",null,null,3.7500000000000102,null,"2191AA","SM",210,140.96,29601.600000000002,null,{"$f":"SUMIF('Planned Maint v6.2 CSV File'!A:A,J46,'Planned Maint v6.2 CSV File'!I:I)","v":112.76800000000001},23681.280000000002,null,112.76800000000001,23681.280000000002,null,"","","",210,"","","","","","","","","","","","","","","","","","","","","","","","","","","","","","","","","","","","","","","","","","","","","",""]
[null,"REPB42122","ROOF","D","Secret Gutter: Clear debris and clean down large secret lead or copper gutter or valley, remove waste and debis",null,null,3.1889999999999898,null,"2250CA","LM",20,5.58,111.6,null,{"$f":"SUMIF('Planned Maint v6.2 CSV File'!A:A,J47,'Planned Maint v6.2 CSV File'!I:I)","v":4.4640000000000004},89.28,null,4.4640000000000004,89.28,null,"","","","","",10,"","","","","","","","","","",10,"","","","","","","","","","","","","","","","","","","","","","","","","","","","","","","","",""]
[null,"REPB42313","ROOF","D","Valley: Renew lead valley gutter not exceeding 800mm girth, remove and refix roof tiles or slates and battens as required, including all necessary labours and remove waste and debris.",null,null,3.17099999999999,null,"2310CC","LM",2,91.63,183.26,null,{"$f":"SUMIF('Planned Maint v6.2 CSV File'!A:A,J48,'Planned Maint v6.2 CSV File'!I:I)","v":73.304000000000002},146.608,null,73.304000000000002,146.608,null,"","","","","","","","","","",2,"","","","","","","","","","","","","","","","","","","","","","","","","","","","","","","","","","","","","","",""]
[null,"REPB04224","ROOF","D","Dormers: Renew lead covering to dormers including remove old lead, cut, fit and dress new covering including all nailing and caps, drips, welted edges, bossed ends and intersections and all labours and remove waste and debris.",null,null,3.1759999999999899,null,"2310EC","SM",25,156.5,3912.5,null,{"$f":"SUMIF('Planned Maint v6.2 CSV File'!A:A,J49,'Planned Maint v6.2 CSV File'!I:I)","v":125.2},3130,null,125.2,3130,null,{"$f":"IF(ISERROR(VLOOKUP($J49,INDIRECT(\"'\"&V$7&\"'!J:J\"),1,FALSE)),\"\",SUMIF(INDIRECT(\"'\"&V$7&\"'!J:J\"),$J49,INDIRECT(\"'\"&V$7&\"'!L:L\")))","v":""},"","",25,"","","","","","",{"$f":"IF(ISERROR(VLOOKUP($J49,INDIRECT(\"'\"&AF$7&\"'!J:J\"),1,FALSE)),\"\",SUMIF(INDIRECT(\"'\"&AF$7&\"'!J:J\"),$J49,INDIRECT(\"'\"&AF$7&\"'!L:L\")))","v":""},"","","","","","","","","",{"$f":"IF(ISERROR(VLOOKUP($J49,INDIRECT(\"'\"&AP$7&\"'!J:J\"),1,FALSE)),\"\",SUMIF(INDIRECT(\"'\"&AP$7&\"'!J:J\"),$J49,INDIRECT(\"'\"&AP$7&\"'!L:L\")))","v":""},"","","","","","","","","",{"$f":"IF(ISERROR(VLOOKUP($J49,INDIRECT(\"'\"&AZ$7&\"'!J:J\"),1,FALSE)),\"\",SUMIF(INDIRECT(\"'\"&AZ$7&\"'!J:J\"),$J49,INDIRECT(\"'\"&AZ$7&\"'!L:L\")))","v":""},"","","","","","","","","",{"$f":"IF(ISERROR(VLOOKUP($J49,INDIRECT(\"'\"&BJ$7&\"'!J:J\"),1,FALSE)),\"\",SUMIF(INDIRECT(\"'\"&BJ$7&\"'!J:J\"),$J49,INDIRECT(\"'\"&BJ$7&\"'!L:L\")))","v":""},"","","","","","","","",""]
[null,"REPB04224","ROOF","D","Canopy: Renew lead covering to canopies (measured on plan) including remove old lead, cut, fit and dress new covering including all nailing and caps, drips, welted edges, bossed ends and intersections, dressing to upstands and kerbs, clean out/reform grooves and wedge upstands with lead and repoint in mastic, cut and dress lead around rainwater outlets.",null,null,3.1789999999999901,null,"2310GA","SM",10,147.56,1475.6,null,{"$f":"SUMIF('Planned Maint v6.2 CSV File'!A:A,J50,'Planned Maint v6.2 CSV File'!I:I)","v":118.048},1180.48,null,118.048,1180.48,null,"","","",10,"","","","","","","","","","","","","","","","","","","","","","","","","","","","","","","","","","","","","","","","","","","","","",""]
[null,"REPB42154","ROOF","D","Fascia/Barge: Renew fascia or barge with preservative treated softwood, ne 300mm wide, fixed to roof timbers, apply preservative to cut ends, remove/refix rainwater goods and any cabling, adjust roof tiles and felt, renewal of any support battens and all mitred joints and prepare for redecoration.",null,null,3.44,null,"3030AA","LM",10,21.94,219.4,null,{"$f":"SUMIF('Planned Maint v6.2 CSV File'!A:A,J51,'Planned Maint v6.2 CSV File'!I:I)","v":19.449809999999999},194.49809999999999,null,19.449809999999999,194.49809999999999,null,"","","","","","",10,"","","","","","","","","","","","","","","","","","","","","","","","","","","","","","","","","","","","","","","","","","",""]
[null,"REPB47025","ROOF","D","Fascia/Soffit/Barge: Refix any size fascia, soffit or bargeboard to existing roof timbers including remove/refix rainwater goods and cabling as necessary, renewal of support battens, all cutting and packing and prepare for redecoration.",null,null,3.63,null,"3030HA","LM",4,11.87,47.48,null,{"$f":"SUMIF('Planned Maint v6.2 CSV File'!A:A,J52,'Planned Maint v6.2 CSV File'!I:I)","v":10.522754999999998},42.091019999999993,null,10.522754999999998,42.091019999999993,null,"","","","","","","","","","","","","","","","",4,"","","","","","","","","","","","","","","","","","","","","","","","","","","","","","","","",""]
[null,"REPB47495","ROOF","D","Downpipe: Take down any PVCu downpipe, remove and refix pipe brackets, plugged and screwed to brickwork and refix downpipes including all hopperheads offsets, shoes and remake all joints, make good to structure and finishes, and remove waste and debris.",null,null,3.2929999999999802,null,"6011CA","LM",24,13.68,328.32,null,{"$f":"SUMIF('Planned Maint v6.2 CSV File'!A:A,J53,'Planned Maint v6.2 CSV File'!I:I)","v":10.138247999999999},243.31795199999999,null,10.138247999999999,243.31795199999999,null,"","","","","","","",24,"","","","","","","","","","","","","","","","","","","","","","","","","","","","","","","","","","","","","","","","","",""]
[null,"REPB47025","ROOF","D","Downpipe: Renew ne 76.5mm cast aluminium downpipe complete to ne 2 storey dwelling with new brackets plugged and screwed to brickwork and all necessary branches, offset projections, hopperheads, shoe, terminal and slate if necessary, cut and make all joints, make good to structure and finishes and prepare for redecoration, and remove waste and debris.",null,null,3.2979999999999801,null,"6013AA","IT",1,148.47999999999999,148.47999999999999,null,{"$f":"SUMIF('Planned Maint v6.2 CSV File'!A:A,J54,'Planned Maint v6.2 CSV File'!I:I)","v":110.03852799999999},110.03852799999999,null,110.03852799999999,110.03852799999999,null,"","","","","","","","","","","","","","","","",1,"","","","","","","","","","","","","","","","","","","","","","","","","","","","","","","","",""]
[null,"REPB47495","ROOF","D","Gutter: Take down any PVCu gutter, remove and refix brackets to fascia and refix gutter to brackets to line and level including all angles, outlets and stop ends and remake all joints.",null,null,3.3239999999999901,null,"6031CA","LM",17,7.33,124.61,null,{"$f":"SUMIF('Planned Maint v6.2 CSV File'!A:A,J55,'Planned Maint v6.2 CSV File'!I:I)","v":5.4322629999999998},92.348471000000004,null,5.4322629999999998,92.348471000000004,null,"","","","","","","",12,"","","","","","","","",5,"","","","","","","","","","","","","","","","","","","","","","","","","","","","","","","","",""]
[null,"REPB42154","ROOF","D","Gutter: Renew ne 112mm PVCu gutter outlet of any profile, including remaking joints and line and level, and remove waste and debris.",null,null,3.3259999999999899,null,"6031CC","NO",2,10.41,20.82,null,{"$f":"SUMIF('Planned Maint v6.2 CSV File'!A:A,J56,'Planned Maint v6.2 CSV File'!I:I)","v":7.7148510000000003},15.429702000000001,null,7.7148510000000003,15.429702000000001,null,"","","","","","",2,"","","","","","","","","","","","","","","","","","","","","","","","","","","","","","","","","","","","","","","","","","",""]
[null,"REPB42150","ROOF","D","Gutter:Take down any PVCu gutter outlet and refix and remake joints.",null,null,3.33,null,"6031CG","NO",1,6.76,6.76,null,{"$f":"SUMIF('Planned Maint v6.2 CSV File'!A:A,J57,'Planned Maint v6.2 CSV File'!I:I)","v":5.009836},5.009836,null,5.009836,5.009836,null,"","","","",1,"","","","","","","","","","","","","","","","","","","","","","","","","","","","","","","","","","","","","","","","","","","","",""]
[null,"REPB47660","ROOF","D","Gutter: Renew ne 125mm cast iron gutter of any profile including support brackets fixed to fascia including cutting, making joints, line and level, and connections to existing guttering, and rub down, prepare for redecoration to outside of gutter and apply one coat of bitumastic paint to inside of gutter, and remove waste and debris.",null,null,3.3330000000000002,null,"6033AB","LM",6,53.05,318.29999999999995,null,{"$f":"SUMIF('Planned Maint v6.2 CSV File'!A:A,J58,'Planned Maint v6.2 CSV File'!I:I)","v":39.315354999999997},235.89212999999998,null,39.315354999999997,235.89212999999998,null,"","","","","","","","","","","","","","","","","","","","",6,"","","","","","","","","","","","","","","","","","","","","","","","","","","","",""]
[null,"REPB47660","ROOF","D","Hopper: Clear out blocked hopperhead including rod if necessary, flush out and test and remove debris from site on completion, and remove waste and debris.",null,null,3.36100000000001,null,"6039AB","NO",1,8.0500000000000007,8.0500000000000007,null,{"$f":"SUMIF('Planned Maint v6.2 CSV File'!A:A,J59,'Planned Maint v6.2 CSV File'!I:I)","v":5.9658550000000004},5.9658550000000004,null,5.9658550000000004,5.9658550000000004,null,{"$f":"IF(ISERROR(VLOOKUP($J59,INDIRECT(\"'\"&V$7&\"'!J:J\"),1,FALSE)),\"\",SUMIF(INDIRECT(\"'\"&V$7&\"'!J:J\"),$J59,INDIRECT(\"'\"&V$7&\"'!L:L\")))","v":""},"","","","","","","","","",{"$f":"IF(ISERROR(VLOOKUP($J59,INDIRECT(\"'\"&AF$7&\"'!J:J\"),1,FALSE)),\"\",SUMIF(INDIRECT(\"'\"&AF$7&\"'!J:J\"),$J59,INDIRECT(\"'\"&AF$7&\"'!L:L\")))","v":""},"","","","","","","","","",{"$f":"IF(ISERROR(VLOOKUP($J59,INDIRECT(\"'\"&AP$7&\"'!J:J\"),1,FALSE)),\"\",SUMIF(INDIRECT(\"'\"&AP$7&\"'!J:J\"),$J59,INDIRECT(\"'\"&AP$7&\"'!L:L\")))","v":1},"","","","","","","","","",{"$f":"IF(ISERROR(VLOOKUP($J59,INDIRECT(\"'\"&AZ$7&\"'!J:J\"),1,FALSE)),\"\",SUMIF(INDIRECT(\"'\"&AZ$7&\"'!J:J\"),$J59,INDIRECT(\"'\"&AZ$7&\"'!L:L\")))","v":""},"","","","","","","","","",{"$f":"IF(ISERROR(VLOOKUP($J59,INDIRECT(\"'\"&BJ$7&\"'!J:J\"),1,FALSE)),\"\",SUMIF(INDIRECT(\"'\"&BJ$7&\"'!J:J\"),$J59,INDIRECT(\"'\"&BJ$7&\"'!L:L\")))","v":""},"","","","","","","","",""]
[null,"REPB04224","ROOF","D","Flat Roof Outlet: Clear out blocked flat roof outlet including rod if necessary, flush out and test and remove debris from site on completion, and remove waste and debris.",null,null,3.3620000000000099,null,"6039AC","IT",10,11.18,111.8,null,{"$f":"SUMIF('Planned Maint v6.2 CSV File'!A:A,J60,'Planned Maint v6.2 CSV File'!I:I)","v":8.2854979999999987},82.854979999999983,null,8.2854979999999987,82.854979999999983,null,"","","",10,"","","","","","","","","","","","","","","","","","","","","","","","","","","","","","","","","","","","","","","","","","","","","",""]
[null,"REPB42129","ROOF","D","Downpipe: Clear blockage from downpipe any 2 to 4 storey including gain access, rod, flush out and test including clean out gulley and remove debris from site on completion (not to be claimed with 6039BA).",null,null,3.3630000000000102,null,"6039AD","IT",2,20.13,40.26,null,{"$f":"SUMIF('Planned Maint v6.2 CSV File'!A:A,J61,'Planned Maint v6.2 CSV File'!I:I)","v":14.918342999999998},29.836685999999997,null,14.918342999999998,29.836685999999997,null,"","","","","","","","",2,"","","","","","","","","","","","","","","","","","","","","","","","","","","","","","","","","","","","","","","","",""]
[null,"REPB04224","ROOF","D","Gutter: Clean out debris from gutters to any type of property including flush out and test, rod downpipe including clean out gulley and remove debris from site on completion (per elevation).",null,null,3.3640000000000101,null,"6039BA","IT",56,20.13,1127.28,null,{"$f":"SUMIF('Planned Maint v6.2 CSV File'!A:A,J62,'Planned Maint v6.2 CSV File'!I:I)","v":14.918342999999998},835.42720799999995,null,14.918342999999998,835.42720799999995,null,"","","",30,"","","","",20,"","","",2,"","",3,"","","",1,"","","","","","","","","","","","","","","","","","","","","","","","","","","","","",""]
[null,"REPB47660","ROOF","D","Stack: Renew up to 150mm diameter cast iron soil stack length ne 2m long with existing or new clips or ears including all cutting, remake joints, make good and prepare for redecoration, and remove waste and debris..",null,null,3.3840000000000101,null,"6105AA","NO",6,108.64,651.84,null,{"$f":"SUMIF('Planned Maint v6.2 CSV File'!A:A,J63,'Planned Maint v6.2 CSV File'!I:I)","v":80.513103999999998},483.07862399999999,null,80.513103999999998,483.07862399999999,null,"","","","","","","","","","","","","","","","","","","","",6,"","","","","","","","","","","","","","","","","","","","","","","","","","","","",""]
[null,"REPB04223","ROOF","D","PROVISIONAL SUM: Overlay with BAUDER Bauderflex System or equivalent inclusive of 15 year guarantee. Voids 1m2 to be deducted Overlay existing mineral surfaced felt with 2 layer torch-on built up felt roofing (including preparation).\n\nUp to 200 m2*",null,null,3.4340000000000002,null,"RF154","M2",0,52,0,null,{"$f":"SUMIF('Planned Maint v6.2 CSV File'!A:A,J64,'Planned Maint v6.2 CSV File'!I:I)","v":40.195999999999998},0,null,40.195999999999998,0,null,"","","","","","","","","","","","","","","","","","","","","","","","","","","","","","","","","","","","","","","","","","","","","","","","","",""]
[null,"REPB04223","ROOF","D","PROVISIONAL SUM: Supply & lay vapour barrier felt incl enveloping insulation board\nUp to 200 m2*",null,null,3.4350000000000001,null,"RF171","M2",0,17,0,null,{"$f":"SUMIF('Planned Maint v6.2 CSV File'!A:A,J65,'Planned Maint v6.2 CSV File'!I:I)","v":13.141},0,null,13.141,0,null,"","","","","","","","","","","","","","","","","","","","","","","","","","","","","","","","","","","","","","","","","","","","","","","","","",""]
[null,"REPB04223","ROOF","D","PROVISIONAL SUM: Supply & lay 120mm thick PIR insulation bonded to vapour barrier (in line with current building regulations)\n\nUp to 200 m2*",null,null,3.4359999999999999,null,"RF175","M2",0,32,0,null,{"$f":"SUMIF('Planned Maint v6.2 CSV File'!A:A,J66,'Planned Maint v6.2 CSV File'!I:I)","v":24.736000000000001},0,null,24.736000000000001,0,null,"","","","","","","","","","","","","","","","","","","","","","","","","","","","","","","","","","","","","","","","","","","","","","","","","",""]
[null,"REPB04224","ROOF","D","Supply & lay 2 lay built up felt roofing to insulation board (to BR standards)\n\nUp to 100 m2*",null,null,3.26,null,"RF178","m2",210,34.5,7245,null,{"$f":"SUMIF('Planned Maint v6.2 CSV File'!A:A,J67,'Planned Maint v6.2 CSV File'!I:I)","v":26.668500000000002},5600.3850000000002,null,26.668500000000002,5600.3850000000002,null,"","","",210,"","","","","","","","","","","","","","","","","","","","","","","","","","","","","","","","","","","","","","","","","","","","","",""]
[null,"REPB04223","ROOF","D","PROVISIONAL SUM: Prepare & clean existing Rainwater Outlet and dress to same",null,null,3.4369999999999998,null,"RF181","Nr",0,35,0,null,{"$f":"SUMIF('Planned Maint v6.2 CSV File'!A:A,J68,'Planned Maint v6.2 CSV File'!I:I)","v":27.055},0,null,27.055,0,null,"","","","","","","","","","","","","","","","","","","","","","","","","","","","","","","","","","","","","","","","","","","","","","","","","",""]
[null,"REPB04224","ROOF","D","Remove existing cable tray, lower to ground level and dispose. Supply and install new 0 - 150mm cable tray including cable ties. Including electrical work.",null,null,3.4199999999999902,null,"RF194","l/m",50,21,1050,null,{"$f":"SUMIF('Planned Maint v6.2 CSV File'!A:A,J69,'Planned Maint v6.2 CSV File'!I:I)","v":16.233000000000001},811.65,null,16.233000000000001,811.65,null,{"$f":"IF(ISERROR(VLOOKUP($J69,INDIRECT(\"'\"&V$7&\"'!J:J\"),1,FALSE)),\"\",SUMIF(INDIRECT(\"'\"&V$7&\"'!J:J\"),$J69,INDIRECT(\"'\"&V$7&\"'!L:L\")))","v":""},"","",50,"","","","","","",{"$f":"IF(ISERROR(VLOOKUP($J69,INDIRECT(\"'\"&AF$7&\"'!J:J\"),1,FALSE)),\"\",SUMIF(INDIRECT(\"'\"&AF$7&\"'!J:J\"),$J69,INDIRECT(\"'\"&AF$7&\"'!L:L\")))","v":""},"","","","","","","","","",{"$f":"IF(ISERROR(VLOOKUP($J69,INDIRECT(\"'\"&AP$7&\"'!J:J\"),1,FALSE)),\"\",SUMIF(INDIRECT(\"'\"&AP$7&\"'!J:J\"),$J69,INDIRECT(\"'\"&AP$7&\"'!L:L\")))","v":""},"","","","","","","","","",{"$f":"IF(ISERROR(VLOOKUP($J69,INDIRECT(\"'\"&AZ$7&\"'!J:J\"),1,FALSE)),\"\",SUMIF(INDIRECT(\"'\"&AZ$7&\"'!J:J\"),$J69,INDIRECT(\"'\"&AZ$7&\"'!L:L\")))","v":""},"","","","","","","","","",{"$f":"IF(ISERROR(VLOOKUP($J69,INDIRECT(\"'\"&BJ$7&\"'!J:J\"),1,FALSE)),\"\",SUMIF(INDIRECT(\"'\"&BJ$7&\"'!J:J\"),$J69,INDIRECT(\"'\"&BJ$7&\"'!L:L\")))","v":""},"","","","","","","","",""]
[null,"REPB42154","WINDOWS","D","Window: Renew window with purpose made softwood double hung cased box frame and sashes complete with 2 sashes, factory applied base stain or primer finish, compressible weatherstripping, glazing beads, ironmongery, remove existing and fix new into prepared opening, bed in mortar, point with sealant, double glazed and make good all finishes, decorate to match existing internally and prepare for redecoration externally, and remove waste and debris.",null,null,4.28,null,"3105AC","SM",5,434.56,2172.8000000000002,null,{"$f":"SUMIF('Planned Maint v6.2 CSV File'!A:A,J70,'Planned Maint v6.2 CSV File'!I:I)","v":385.23743999999999},1926.1871999999998,null,385.23743999999999,1926.1871999999998,null,"","","","","","",2,"","","","","","","","","","","","","",3,"","","","","","","","","","","","","","","","","","","","","","","","","","","","",""]
[null,"REPB47293","WINDOWS","D","Window: Renew window with purpose made hardwood double hung cased box frame and sashes complete with 2 sashes, factory applied base stain, compressible weatherstripping, glazing beads, ironmongery, remove existing and fix new into prepared opening, bed in mortar, point with sealant, double glazed and make good all finishes, decorate to match existing internally and prepare for redecoration externally, and remove waste and debris.",null,null,4.4199999999999902,null,"3115AA","SM",24,698.79,16770.96,null,{"$f":"SUMIF('Planned Maint v6.2 CSV File'!A:A,J71,'Planned Maint v6.2 CSV File'!I:I)","v":619.47733499999993},14867.456039999997,null,619.47733499999993,14867.456039999997,null,"","","","","","","","","","","","","","","",21,"",3,"","","","","","","","","","","","","","","","","","","","","","","","","","","","","","","",""]
[null,"REPB42150","WINDOWS","D","Window: Overhaul timber casement window, dismantle as necessary and subsequently reassemble including freeing, easing and adjusting casements to give correct operation, renew sealing gaskets, renew fixing screws, remove, refit or renew ironmongery as necessary, rake out and renew defective putty and mastic, touch up decorations internally to match existing and prepare for redecoration externally, and remove waste and debris.",null,null,4.8899999999999801,null,"3150BA","NO",32,29.05,929.6,null,{"$f":"SUMIF('Planned Maint v6.2 CSV File'!A:A,J72,'Planned Maint v6.2 CSV File'!I:I)","v":25.752824999999998},824.09039999999993,null,25.752824999999998,824.09039999999993,null,"","","","",2,1,"",4,"","","",1,6,"",2,"",5,"","",4,"",5,2,"","","","","","","","","","","","","","","","","","","","","","","","","","",""]
[null,"REPB04223","WINDOWS","D","Window: Overhaul timber sash window, renew staff and parting beads, take out sashes and later rehang on appropriate sized new undyed plaited nylon sash cords, renew pocket pieces, wedge and cramp loose sash frames, oil pulleys, ease and adjust sashes, remove, refit or renew ironmongery, rake out and renew defective putty and mastic, touch up decorations internally to match existing and prepare for redecoration externally, and remove waste and debris.",null,null,4.8999999999999799,null,"3150CA","NO",{"$f":"SUM(V73:BS73)","v":198},35.61,{"$f":"L73*M73","v":7050.78},null,{"$f":"SUMIF('Planned Maint v6.2 CSV File'!A:A,J73,'Planned Maint v6.2 CSV File'!I:I)","v":31.568264999999997},{"$f":"IF(J73=\"PROV SUM\",N73,L73*P73)","v":6250.5164699999996},null,{"$f":"IF(R73>0,R73,P73)","v":31.568264999999997},{"$f":"IF(J73=\"PROV SUM\",N73,L73*S73)","v":6250.5164699999996},null,"",19,"",12,9,"",9,26,6,6,6,5,"",40,10,"",10,"",3,26,"",6,5,"","","","","","","","","","","","","","","","","","","","","","","","","","",""]
[null,"REPB42122","WINDOWS","D","Window: Overhaul sash window, renew staff and parting beads, take out sashes and later rehang on spiral sash balances, renew pocket pieces, wedge and cramp loose sash frames, ease and adjust sashes, remove, refit or renew ironmongery, rake out and renew defective putty and mastic, touch up decorations internally to match existing and prepare for redecoration externally, and remove waste and debris.",null,null,4.9099999999999797,null,"3150CB","NO",28,98.99,2771.72,null,{"$f":"SUMIF('Planned Maint v6.2 CSV File'!A:A,J74,'Planned Maint v6.2 CSV File'!I:I)","v":87.754634999999993},2457.1297799999998,null,87.754634999999993,2457.1297799999998,null,"","","","","",8,"","","","",3,"",5,"","","","",7,"","",5,"","","","","","","","","","","","","","","","","","","","","","","","","","","","",""]
[null,"REPB47684","WINDOWS","D","Window: Check operation of all fittings and operating mechanisms to PVCu window complete including lubricate and adjust as necessary.",null,null,4.1149999999999904,null,"3181AH","IT",2,4.8099999999999996,9.6199999999999992,null,{"$f":"SUMIF('Planned Maint v6.2 CSV File'!A:A,J75,'Planned Maint v6.2 CSV File'!I:I)","v":4.2640649999999996},8.5281299999999991,null,4.2640649999999996,8.5281299999999991,null,"","","","","","","","","","","","","","","","","",2,"","","","","","","","","","","","","","","","","","","","","","","","","","","","","","","",""]
[null,"REPB47684","WINDOWS","D","Window: Overhaul any type of PVCu window, dismantle as necessary and subsequently reassemble including freeing, easing and adjusting casements to give correct operation, renew fixing screws, remove, refit or renew ironmongery as necessary, check, lubricate operating mechanism, renew gaskets, make good and test.",null,null,4.1289999999999898,null,"3181BA","NO",2,28.43,56.86,null,{"$f":"SUMIF('Planned Maint v6.2 CSV File'!A:A,J76,'Planned Maint v6.2 CSV File'!I:I)","v":25.203194999999997},50.406389999999995,null,25.203194999999997,50.406389999999995,null,"","","","","","","","","","","","","","","","","",2,"","","","","","","","","","","","","","","","","","","","","","","","","","","","","","","",""]
[null,"REPB42129","WINDOWS","D","Pane: Reglaze single pane in 4mm clear or obscure glass, over 1.00sm, hack out and glaze with putty, sprigs, clips or beads at any level, touch up paintwork to match existing, and remove waste and debris.",null,null,4.2309999999999297,null,"5150AD","SM",2,67.930000000000007,135.86000000000001,null,{"$f":"SUMIF('Planned Maint v6.2 CSV File'!A:A,J77,'Planned Maint v6.2 CSV File'!I:I)","v":55.797702000000008},111.59540400000002,null,55.797702000000008,111.59540400000002,null,"","","","","","","","",1,1,"","","","","","","","","","","","","","","","","","","","","","","","","","","","","","","","","","","","","","","",""]
[null,"REPB14020","WINDOWS","D","Double Glazed Unit: Reglaze unit upto 1.00sm, hermatically sealed with 4mm obscure low emissity (Low E) glass flush edge unit, including remove beads etc. hack out glass and glaze new unit to wood, metal or PVCu frames.",null,null,4.1839999999999504,null,"5501AC","NO",2,81.08,162.16,null,{"$f":"SUMIF('Planned Maint v6.2 CSV File'!A:A,J78,'Planned Maint v6.2 CSV File'!I:I)","v":66.599112000000005},133.19822400000001,null,66.599112000000005,133.19822400000001,null,2,"","","","","","","","","","","","","","","","","","","","","","","","","","","","","","","","","","","","","","","","","","","","","","","","",""]
[null,"REPB04223","WINDOWS","D","Soft wood timber splice with resin; face splice repair method no. 5.\nRemove old and loose paint as necessary. Cut out decayed timber from windows and frames, piecing in or frame in new wrought softwood with resin to match existing. Leave ready to decorate. \n\nSplice not exc 500 to 1000mm",null,null,4.1100000000000003,null,"WIND017","Nr",50,36.75,1837.5,null,{"$f":"SUMIF('Planned Maint v6.2 CSV File'!A:A,J79,'Planned Maint v6.2 CSV File'!I:I)","v":34.912500000000001},1745.625,null,34.912500000000001,1745.625,null,{"$f":"IF(ISERROR(VLOOKUP($J79,INDIRECT(\"'\"&V$7&\"'!J:J\"),1,FALSE)),\"\",SUMIF(INDIRECT(\"'\"&V$7&\"'!J:J\"),$J79,INDIRECT(\"'\"&V$7&\"'!L:L\")))","v":""},22,"",16,"","","","",5,5,{"$f":"IF(ISERROR(VLOOKUP($J79,INDIRECT(\"'\"&AF$7&\"'!J:J\"),1,FALSE)),\"\",SUMIF(INDIRECT(\"'\"&AF$7&\"'!J:J\"),$J79,INDIRECT(\"'\"&AF$7&\"'!L:L\")))","v":""},"","","","","","","",2,"",{"$f":"IF(ISERROR(VLOOKUP($J79,INDIRECT(\"'\"&AP$7&\"'!J:J\"),1,FALSE)),\"\",SUMIF(INDIRECT(\"'\"&AP$7&\"'!J:J\"),$J79,INDIRECT(\"'\"&AP$7&\"'!L:L\")))","v":""},"","","","","","","","","",{"$f":"IF(ISERROR(VLOOKUP($J79,INDIRECT(\"'\"&AZ$7&\"'!J:J\"),1,FALSE)),\"\",SUMIF(INDIRECT(\"'\"&AZ$7&\"'!J:J\"),$J79,INDIRECT(\"'\"&AZ$7&\"'!L:L\")))","v":""},"","","","","","","","","",{"$f":"IF(ISERROR(VLOOKUP($J79,INDIRECT(\"'\"&BJ$7&\"'!J:J\"),1,FALSE)),\"\",SUMIF(INDIRECT(\"'\"&BJ$7&\"'!J:J\"),$J79,INDIRECT(\"'\"&BJ$7&\"'!L:L\")))","v":""},"","","","","","","","",""]
[null,"REPB04223","WINDOWS","D","7. Timber repair system; using window care dry fix/dry flex RP; Conservation Joint; \n\nUp to 50mm ",null,null,4.13,null,"WIND022","Nr",430,4.25,1827.5,null,{"$f":"SUMIF('Planned Maint v6.2 CSV File'!A:A,J80,'Planned Maint v6.2 CSV File'!I:I)","v":4.0374999999999996},1736.1249999999998,null,4.0374999999999996,1736.1249999999998,null,"",170,"",100,"","","","",70,60,"","","","","","","","",30,"","","","","","","","","","","","","","","","","","","","","","","","","","","","","","",""]
[null,"REPB04223","WINDOWS","D","7. Timber repair system; using window care dry fix/dry flex RP; Conservation Joint;\n\nup to 100mm ",null,null,4.1399999999999997,null,"WIND023","Nr",154,6.75,1039.5,null,{"$f":"SUMIF('Planned Maint v6.2 CSV File'!A:A,J81,'Planned Maint v6.2 CSV File'!I:I)","v":6.4124999999999996},987.52499999999998,null,6.4124999999999996,987.52499999999998,null,"",28,"",16,10,"","",30,10,10,"","","","","","",15,"",5,30,"","","","","","","","","","","","","","","","","","","","","","","","","","","","","",""]
[null,"REPB04223","EXTREP","D","Fracture: Remove any applied finish and cut out bricks as necessary to either side of fracture, one face only, stitch in new bricks, bed and point to match existing in cement lime mortar (1:1:6), and make good any applied finishes, and remove waste and debris (measured over mean general line of fracture).",null,null,6.82,null,"1019AA","LM",197,44.12,8691.64,null,{"$f":"SUMIF('Planned Maint v6.2 CSV File'!A:A,J82,'Planned Maint v6.2 CSV File'!I:I)","v":31.986999999999998},6301.4389999999994,null,31.986999999999998,6301.4389999999994,null,"",3,"","",8,"","",58,"","","","","",4,"",41,29,"","",54,"","","","","","","","","","","","","","","","","","","","","","","","","","","","","",""]
[null,"REPB42122","EXTREP","D","Wall: Cut out bricks from face of wall, clean and clear away, lay upto 15 No. new common bricks in cement lime mortar (1:1:6), bond, bed and point to match existing and remove waste and debris.",null,null,6.83,null,"1019AB","IT",16,18.93,302.88,null,{"$f":"SUMIF('Planned Maint v6.2 CSV File'!A:A,J83,'Planned Maint v6.2 CSV File'!I:I)","v":13.72425},219.58799999999999,null,13.72425,219.58799999999999,null,"","","","","",3,"","","","","","","","","",13,"","","","","","","","","","","","","","","","","","","","","","","","","","","","","","","","","",""]
[null,"REPB04223","EXTREP","D","Wall: Cut out bricks from face of wall, clean and clear away, lay upto 15 No. new facing bricks in cement lime mortar (1:1:6), bond, bed and point to match existing and remove waste and debris.",null,null,6.85,null,"1019BA","IT",17,21.92,372.64000000000004,null,{"$f":"SUMIF('Planned Maint v6.2 CSV File'!A:A,J84,'Planned Maint v6.2 CSV File'!I:I)","v":15.892000000000001},270.16400000000004,null,15.892000000000001,270.16400000000004,null,"",12,"",5,"","","","","","","","","","","","","","","","","","","","","","","","","","","","","","","","","","","","","","","","","","","","","",""]
[null,"REPB47660","EXTREP","D","Lintel: Cut out and remove existing lintol from brick wall, prepare to receive new including all necessary propping and temporary supports, and supply and fix 75x150mm precast concrete lintol reinforced with 2 No. 16mm diameter mild steel bars, bed ends in cement lime mortar (1:1:6), renew dpc and make good brickwork, plasterwork and sealant and or cement fillets, and clear away debris on completion.",null,null,6.1029999999999998,null,"1029AA","LM",1,59.11,59.11,null,{"$f":"SUMIF('Planned Maint v6.2 CSV File'!A:A,J85,'Planned Maint v6.2 CSV File'!I:I)","v":42.854749999999996},42.854749999999996,null,42.854749999999996,42.854749999999996,null,"","","","","","","","","","","","","","","","","","","","",1,"","","","","","","","","","","","","","","","","","","","","","","","","","","","",""]
[null,"REPB04223","EXTREP","D","Cill: Hack off defective area of concrete cill clean and treat any exposed reinforcement, drill into cill and insert 6mm diameter reinforcing bars at 150mm centres, apply bonding agent and reform cill with fine concrete to match existing profiles including all necessary formwork, make good to structure and all finishes and fillets and remove waste and debris.",null,null,6.1159999999999997,null,"1031BA","NO",20,38.74,774.80000000000007,null,{"$f":"SUMIF('Planned Maint v6.2 CSV File'!A:A,J86,'Planned Maint v6.2 CSV File'!I:I)","v":28.086500000000001},561.73,null,28.086500000000001,561.73,null,"",12,"",8,"","","","","","","","","","","","","","","","","","","","","","","","","","","","","","","","","","","","","","","","","","","","","",""]
[null,"REPB47344","EXTREP","D","Cill: Cut out and remove existing cill from brick wall, prepare and lay precast concrete splay rebated twice grooved, finished fair cill with stooled ends reinforced with 2 No. 6mm diameter bars bedded in cement lime mortar (1:1:6) renew dpc and make good brickwork, plasterwork, sealant and or cement fillets and remove waste and debris.",null,null,6.1170000000000098,null,"1031CA","LM",4,38.380000000000003,153.52000000000001,null,{"$f":"SUMIF('Planned Maint v6.2 CSV File'!A:A,J87,'Planned Maint v6.2 CSV File'!I:I)","v":27.825500000000002},111.30200000000001,null,27.825500000000002,111.30200000000001,null,"","","","","","","","","","","","","","",4,"","","","","","","","","","","","","","","","","","","","","","","","","","","","","","","","","","",""]
[null,"REPB42129","EXTREP","D","Coping: Take off precast coping ne 300mm wide, clean mortar from top of wall and coping, bed and point in cement lime mortar (1:1:6) with bonding agent and remove waste and debris.",null,null,6.1270000000000104,null,"1033CA","LM",27,6.04,163.08000000000001,null,{"$f":"SUMIF('Planned Maint v6.2 CSV File'!A:A,J88,'Planned Maint v6.2 CSV File'!I:I)","v":4.3789999999999996},118.23299999999999,null,4.3789999999999996,118.23299999999999,null,"","","","","","","","",12,12,"","","","","","","","","","",3,"","","","","","","","","","","","","","","","","","","","","","","","","","","","",""]
[null,"REPB14020","EXTREP","D","Cills: Prepare, clean off all dust and debris, fill in or resurface cracks or spalled surfaces of concrete with epoxy mortar in surfaces of cills, not exceeding 300mm girth, repair over 5 and ne 10mm deep, and remove waste and debris.",null,null,6.16100000000002,null,"1460AF","LM",174,38.25,6655.5,null,{"$f":"SUMIF('Planned Maint v6.2 CSV File'!A:A,J89,'Planned Maint v6.2 CSV File'!I:I)","v":27.731249999999999},4825.2375000000002,null,27.731249999999999,4825.2375000000002,null,{"$f":"IF(ISERROR(VLOOKUP($J89,INDIRECT(\"'\"&V$7&\"'!J:J\"),1,FALSE)),\"\",SUMIF(INDIRECT(\"'\"&V$7&\"'!J:J\"),$J89,INDIRECT(\"'\"&V$7&\"'!L:L\")))","v":100},"","","",10,"","",12,"","",{"$f":"IF(ISERROR(VLOOKUP($J89,INDIRECT(\"'\"&AF$7&\"'!J:J\"),1,FALSE)),\"\",SUMIF(INDIRECT(\"'\"&AF$7&\"'!J:J\"),$J89,INDIRECT(\"'\"&AF$7&\"'!L:L\")))","v":""},"","","","",22,10,"","",12,{"$f":"IF(ISERROR(VLOOKUP($J89,INDIRECT(\"'\"&AP$7&\"'!J:J\"),1,FALSE)),\"\",SUMIF(INDIRECT(\"'\"&AP$7&\"'!J:J\"),$J89,INDIRECT(\"'\"&AP$7&\"'!L:L\")))","v":8},"","","","","","","","","",{"$f":"IF(ISERROR(VLOOKUP($J89,INDIRECT(\"'\"&AZ$7&\"'!J:J\"),1,FALSE)),\"\",SUMIF(INDIRECT(\"'\"&AZ$7&\"'!J:J\"),$J89,INDIRECT(\"'\"&AZ$7&\"'!L:L\")))","v":""},"","","","","","","","","",{"$f":"IF(ISERROR(VLOOKUP($J89,INDIRECT(\"'\"&BJ$7&\"'!J:J\"),1,FALSE)),\"\",SUMIF(INDIRECT(\"'\"&BJ$7&\"'!J:J\"),$J89,INDIRECT(\"'\"&BJ$7&\"'!L:L\")))","v":""},"","","","","","","","",""]
[null,"REPB47660","EXTREP","D","Wall: Apply 12mm cement and sand render (1:3) with waterproofing agent to external walls including ‘Decorative’ finish, dub out as necessary with cement and sand and all labours and remove waste and debris.",null,null,5.1770000000000298,null,"4210AE","SM",106,31.33,3320.98,null,{"$f":"SUMIF('Planned Maint v6.2 CSV File'!A:A,J90,'Planned Maint v6.2 CSV File'!I:I)","v":22.71425},2407.7105000000001,null,22.71425,2407.7105000000001,null,"","","","","","","","","","","","","","","","","","","","",106,"","","","","","","","","","","","","","","","","","","","","","","","","","","","",""]
[null,"REPB42129","EXTREP","D","Wall: Apply 12mm cement and sand render (1:3) with waterproofing agent to external walls including ‘Rough Sandtex’ finish, dub out as necessary with cement and sand and all labours and remove waste and debris.",null,null,6.3050000000000699,null,"4210AF","SM",3,33.5,100.5,null,{"$f":"SUMIF('Planned Maint v6.2 CSV File'!A:A,J91,'Planned Maint v6.2 CSV File'!I:I)","v":24.287499999999998},72.862499999999997,null,24.287499999999998,72.862499999999997,null,"","","","","","","","",1,2,"","","","","","","","","","","","","","","","","","","","","","","","","","","","","","","","","","","","","","","",""]
[null,"REPB42150","EXTREP","D","Render Repairs:Repair crack in any external render including carefully hack out and make good with cement and sand including applying finish to match existing, and remove waste and debris.",null,null,6.3060000000000702,null,"4230ZA","LM",62,6.87,425.94,null,{"$f":"SUMIF('Planned Maint v6.2 CSV File'!A:A,J92,'Planned Maint v6.2 CSV File'!I:I)","v":4.9807499999999996},308.80649999999997,null,4.9807499999999996,308.80649999999997,null,"","","","",35,"","","","",2,"","","","","","",25,"","","","","","","","","","","","","","","","","","","","","","","","","","","","","","","","",""]
[null,"REPB42313","EXTREP","D","Walls: Prepare and apply two coats smooth or textured masonry paint to external rendered surfaces of walls.",null,null,6.1790000000000296,null,"4356AA","SM",107,10.36,1108.52,null,{"$f":"SUMIF('Planned Maint v6.2 CSV File'!A:A,J93,'Planned Maint v6.2 CSV File'!I:I)","v":8.8059999999999992},942.24199999999996,null,8.8059999999999992,942.24199999999996,null,"","","","","","","","","","",1,"","","","","","","","","",106,"","","","","","","","","","","","","","","","","","","","","","","","","","","","",""]
[null,"REPB14020","EXTREP","D","Walls:Wash down, fill in cracks and holes, sand down and apply two coats of smooth or textured masonry paint to rendered or concrete walls.",null,null,6.1810000000000302,null,"4356AC","SM",28,9.5500000000000007,267.40000000000003,null,{"$f":"SUMIF('Planned Maint v6.2 CSV File'!A:A,J94,'Planned Maint v6.2 CSV File'!I:I)","v":8.1174999999999997},227.29,null,8.1174999999999997,227.29,null,28,"","","","","","","","","","","","","","","","","","","","","","","","","","","","","","","","","","","","","","","","","","","","","","","","",""]
[null,"REPB47024","EXTREP","D","Walls: Wash down, fill in cracks and holes, sand down and apply two coats of smooth or textured masonry paint to brickwork surfaces of walls.",null,null,6.1820000000000297,null,"4356AD","SM",6,10.17,61.019999999999996,null,{"$f":"SUMIF('Planned Maint v6.2 CSV File'!A:A,J95,'Planned Maint v6.2 CSV File'!I:I)","v":8.644499999999999},51.86699999999999,null,8.644499999999999,51.86699999999999,null,"","","","","","","","","","","","","",6,"","","","","","","","","","","","","","","","","","","","","","","","","","","","","","","","","","","",""]
[null,"REPB42150","EXTREP","D","Walls:Wash down, fill in cracks and holes, sand down and apply one coat of stabilising solution and two coats of smooth or textured  masonry paint to rendered or concrete walls.",null,null,6.1850000000000298,null,"4356BC","SM",60,11.01,660.6,null,{"$f":"SUMIF('Planned Maint v6.2 CSV File'!A:A,J96,'Planned Maint v6.2 CSV File'!I:I)","v":9.3584999999999994},561.51,null,9.3584999999999994,561.51,null,"","","","",35,"","","","","","","","","","","",25,"","","","","","","","","","","","","","","","","","","","","","","","","","","","","","","","",""]
[null,"REPB04223","EXTREP","D","Walls: Wash down, fill in cracks and holes, sand down and apply one coat of stabilising solution and two coats of smooth or textured masonry paint to brickwork surfaces of walls.",null,null,6.1860000000000301,null,"4356BD","SM",366,11.63,4256.58,null,{"$f":"SUMIF('Planned Maint v6.2 CSV File'!A:A,J97,'Planned Maint v6.2 CSV File'!I:I)","v":9.8855000000000004},3618.0930000000003,null,9.8855000000000004,3618.0930000000003,null,"",315,"",25,"",8,"","","","","","","","","","","",6,"","","",12,"","","","","","","","","","","","","","","","","","","","","","","","","","","",""]
[null,"REPB11024","EXTREP","D","Soffit:Wash down, fill in cracks and holes, sand smooth and apply two coats of smooth or textured masonry paint to rendered or concrete canopies or soffits.",null,null,6.1870000000000296,null,"4356CA","SM",20,8.58,171.6,null,{"$f":"SUMIF('Planned Maint v6.2 CSV File'!A:A,J98,'Planned Maint v6.2 CSV File'!I:I)","v":7.2930000000000001},145.86000000000001,null,7.2930000000000001,145.86000000000001,null,"","",20,"","","","","","","","","","","","","","","","","","","","","","","","","","","","","","","","","","","","","","","","","","","","","","",""]
[null,"REPB04223","EXTREP","D","Soffit: Wash down, fill in cracks and holes, sand smooth and apply one coat of sealer and two coats of smooth or textured masonry paint to rendered or concrete soffits.",null,null,6.1880000000000299,null,"4356CB","SM",52,9.82,510.64,null,{"$f":"SUMIF('Planned Maint v6.2 CSV File'!A:A,J99,'Planned Maint v6.2 CSV File'!I:I)","v":8.3469999999999995},434.04399999999998,null,8.3469999999999995,434.04399999999998,null,{"$f":"IF(ISERROR(VLOOKUP($J99,INDIRECT(\"'\"&V$7&\"'!J:J\"),1,FALSE)),\"\",SUMIF(INDIRECT(\"'\"&V$7&\"'!J:J\"),$J99,INDIRECT(\"'\"&V$7&\"'!L:L\")))","v":""},12,"",40,"","","","","","",{"$f":"IF(ISERROR(VLOOKUP($J99,INDIRECT(\"'\"&AF$7&\"'!J:J\"),1,FALSE)),\"\",SUMIF(INDIRECT(\"'\"&AF$7&\"'!J:J\"),$J99,INDIRECT(\"'\"&AF$7&\"'!L:L\")))","v":""},"","","","","","","","","",{"$f":"IF(ISERROR(VLOOKUP($J99,INDIRECT(\"'\"&AP$7&\"'!J:J\"),1,FALSE)),\"\",SUMIF(INDIRECT(\"'\"&AP$7&\"'!J:J\"),$J99,INDIRECT(\"'\"&AP$7&\"'!L:L\")))","v":""},"","","","","","","","","",{"$f":"IF(ISERROR(VLOOKUP($J99,INDIRECT(\"'\"&AZ$7&\"'!J:J\"),1,FALSE)),\"\",SUMIF(INDIRECT(\"'\"&AZ$7&\"'!J:J\"),$J99,INDIRECT(\"'\"&AZ$7&\"'!L:L\")))","v":""},"","","","","","","","","",{"$f":"IF(ISERROR(VLOOKUP($J99,INDIRECT(\"'\"&BJ$7&\"'!J:J\"),1,FALSE)),\"\",SUMIF(INDIRECT(\"'\"&BJ$7&\"'!J:J\"),$J99,INDIRECT(\"'\"&BJ$7&\"'!L:L\")))","v":""},"","","","","","","","",""]
[null,"REPB47495","EXTREP","D","Walls: Wash down, fill in cracks and holes, sand smooth and apply two coats of smooth finish masonry paint to rendered or concrete surfaces of walls.",null,null,6.1940000000000301,null,"4360BA","SM",306,7.02,2148.12,null,{"$f":"SUMIF('Planned Maint v6.2 CSV File'!A:A,J100,'Planned Maint v6.2 CSV File'!I:I)","v":5.9669999999999996},1825.9019999999998,null,5.9669999999999996,1825.9019999999998,null,"","","","","","","",33,50,110,"","","","","",25,"","",60,28,"","","","","","","","","","","","","","","","","","","","","","","","","","","","","",""]
[null,"REPB42457","EXTREP","D","Walls:Wash down, fill in cracks and holes, sand down and apply one undercoat and one coat of gloss paint to rendered or concrete walls.",null,null,6.1970000000000303,null,"4361AB","SM",34,15.71,534.14,null,{"$f":"SUMIF('Planned Maint v6.2 CSV File'!A:A,J101,'Planned Maint v6.2 CSV File'!I:I)","v":13.3535},454.01900000000001,null,13.3535,454.01900000000001,null,"","","","","","","","","","","",8,"","",20,"","","","","","","",6,"","","","","","","","","","","","","","","","","","","","","","","","","","",""]
[null,"REPB14020","EXTREP","D","Gates: Wire brush, prepare for, and apply one coat primer, one undercoat, two coats of gloss paint to both sides of any size type single metal gate including all edges and all surfaces of posts.",null,null,6.2030000000000296,null,"4362DA","IT",5,21.61,108.05,null,{"$f":"SUMIF('Planned Maint v6.2 CSV File'!A:A,J102,'Planned Maint v6.2 CSV File'!I:I)","v":18.368499999999997},91.842499999999987,null,18.368499999999997,91.842499999999987,null,2,"","","","","","","","","",1,1,1,"","","","","","","","","","","","","","","","","","","","","","","","","","","","","","","","","","","","",""]
[null,"REPB47495","EXTREP","D","Balustrading: Wire brush, prepare for and apply one coat of primer, one undercoat, two coats of gloss paint on ornamental metal balustrading, railings or gates (measured both sides).",null,null,6.2040000000000299,null,"4362EA","SM",51,20.51,1046.01,null,{"$f":"SUMIF('Planned Maint v6.2 CSV File'!A:A,J103,'Planned Maint v6.2 CSV File'!I:I)","v":17.433500000000002},889.10850000000016,null,17.433500000000002,889.10850000000016,null,"","","","","","","",12,"","","",8,"","",8,"","","","",12,"",6,5,"","","","","","","","","","","","","","","","","","","","","","","","","","",""]
[null,"REPB42154","EXTREP","D","Gates: Wire brush, prepare for and apply one undercoat and two coats of gloss paint to both sides of existing painted surface of any size/type single metal gate including all edges and all surfaces of posts.",null,null,6.2140000000000404,null,"4363DA","IT",4,16.98,67.92,null,{"$f":"SUMIF('Planned Maint v6.2 CSV File'!A:A,J104,'Planned Maint v6.2 CSV File'!I:I)","v":14.433},57.731999999999999,null,14.433,57.731999999999999,null,"","","","","","",1,"","","","","","",1,"","","","",1,"",1,"","","","","","","","","","","","","","","","","","","","","","","","","","","","",""]
[null,"REPB14020","EXTREP","D","Balustrading: Wire brush, prepare for and apply one undercoat and two coats of gloss paint on existing painted surfaces ornamental metal balustrading, railings or gates (measured both sides).",null,null,6.2150000000000398,null,"4363EA","SM",{"$f":"SUM(V105:BS105)","v":616},16.079999999999998,{"$f":"L105*M105","v":9905.2799999999988},null,{"$f":"SUMIF('Planned Maint v6.2 CSV File'!A:A,J105,'Planned Maint v6.2 CSV File'!I:I)","v":13.667999999999997},{"$f":"IF(J105=\"PROV SUM\",N105,L105*P105)","v":8419.4879999999976},null,{"$f":"IF(R105>0,R105,P105)","v":13.667999999999997},{"$f":"IF(J105=\"PROV SUM\",N105,L105*S105)","v":8419.4879999999976},null,425,"",160,"","","","","","",18,"","","","","","","","",1,"",12,"","","","","","","","","","","","","","","","","","","","","","","","","","","","",""]
[null,"REPB47025","EXTREP","D","Pipework: Wire brush, prepare for and apply one undercoat and two coats of gloss paint to existing painted surfaces of external pipework ne 300mm girth including brackets.",null,null,6.2180000000000399,null,"4363HA","LM",27,1.73,46.71,null,{"$f":"SUMIF('Planned Maint v6.2 CSV File'!A:A,J106,'Planned Maint v6.2 CSV File'!I:I)","v":1.4704999999999999},39.703499999999998,null,1.4704999999999999,39.703499999999998,null,"","","","","","","","","","","","","","","","",15,"",12,"","","","","","","","","","","","","","","","","","","","","","","","","","","","","","",""]
[null,"REPB47293","EXTREP","D","Gates: Wire brush, prepare for and apply one undercoat, one coat of gloss paint to both sides of existing painted any size/type single metal gate including all edges and all surfaces of posts.",null,null,6.2240000000000402,null,"4364CA","IT",1,12.36,12.36,null,{"$f":"SUMIF('Planned Maint v6.2 CSV File'!A:A,J107,'Planned Maint v6.2 CSV File'!I:I)","v":10.505999999999998},10.505999999999998,null,10.505999999999998,10.505999999999998,null,"","","","","","","","","","","","","","","",1,"","","","","","","","","","","","","","","","","","","","","","","","","","","","","","","","","",""]
[null,"REPB04223","EXTREP","D","Balustrading: Wire brush, prepare for and apply one undercoat, one coat of gloss paint on existing painted surfaces of ornamental metal balustrading, railings or gates (measured both sides).",null,null,6.2250000000000396,null,"4364DA","SM",48,11.66,559.68000000000006,null,{"$f":"SUMIF('Planned Maint v6.2 CSV File'!A:A,J108,'Planned Maint v6.2 CSV File'!I:I)","v":9.9109999999999996},475.72799999999995,null,9.9109999999999996,475.72799999999995,null,"",12,"",36,"","","","","","","","","","","","","","","","","","","","","","","","","","","","","","","","","","","","","","","","","","","","","",""]
[null,"REPB14020","EXTREP","D","Pipework: Wire brush, prepare for and apply one undercoat and one coat of gloss paint to existing painted surfaces of external pipework ne 300mm girth including brackets.",null,null,6.2280000000000397,null,"4364GA","LM",192,1.21,232.32,null,{"$f":"SUMIF('Planned Maint v6.2 CSV File'!A:A,J109,'Planned Maint v6.2 CSV File'!I:I)","v":1.0285},197.47199999999998,null,1.0285,197.47199999999998,null,{"$f":"IF(ISERROR(VLOOKUP($J109,INDIRECT(\"'\"&V$7&\"'!J:J\"),1,FALSE)),\"\",SUMIF(INDIRECT(\"'\"&V$7&\"'!J:J\"),$J109,INDIRECT(\"'\"&V$7&\"'!L:L\")))","v":192},"","","","","","","","","",{"$f":"IF(ISERROR(VLOOKUP($J109,INDIRECT(\"'\"&AF$7&\"'!J:J\"),1,FALSE)),\"\",SUMIF(INDIRECT(\"'\"&AF$7&\"'!J:J\"),$J109,INDIRECT(\"'\"&AF$7&\"'!L:L\")))","v":""},"","","","","","","","","",{"$f":"IF(ISERROR(VLOOKUP($J109,INDIRECT(\"'\"&AP$7&\"'!J:J\"),1,FALSE)),\"\",SUMIF(INDIRECT(\"'\"&AP$7&\"'!J:J\"),$J109,INDIRECT(\"'\"&AP$7&\"'!L:L\")))","v":""},"","","","","","","","","",{"$f":"IF(ISERROR(VLOOKUP($J109,INDIRECT(\"'\"&AZ$7&\"'!J:J\"),1,FALSE)),\"\",SUMIF(INDIRECT(\"'\"&AZ$7&\"'!J:J\"),$J109,INDIRECT(\"'\"&AZ$7&\"'!L:L\")))","v":""},"","","","","","","","","",{"$f":"IF(ISERROR(VLOOKUP($J109,INDIRECT(\"'\"&BJ$7&\"'!J:J\"),1,FALSE)),\"\",SUMIF(INDIRECT(\"'\"&BJ$7&\"'!J:J\"),$J109,INDIRECT(\"'\"&BJ$7&\"'!L:L\")))","v":""},"","","","","","","","",""]
[null,"REPB42129","EXTREP","D","Fascias, soffits, Bargeboards and the like: Rub down, prepare for, and apply one coat primer, one undercoat, two coats of gloss paint on surfaces of facias, soffits, bargeboards and the like ne 300mm girth.",null,null,6.2350000000000403,null,"4380AB","LM",28,5.28,147.84,null,{"$f":"SUMIF('Planned Maint v6.2 CSV File'!A:A,J110,'Planned Maint v6.2 CSV File'!I:I)","v":4.4880000000000004},125.66400000000002,null,4.4880000000000004,125.66400000000002,null,"","","","","","","","",28,"","","","","","","","","","","","","","","","","","","","","","","","","","","","","","","","","","","","","","","","",""]
[null,"REPB04223","EXTREP","D","Window:Rub down, prepare and apply one coat of primer, one undercoat and two coats of gloss paint on surfaces of wooden windowsl (one side and edges).",null,null,6.2360000000000504,null,"4380BA","SM",535,25.87,13840.45,null,{"$f":"SUMIF('Planned Maint v6.2 CSV File'!A:A,J111,'Planned Maint v6.2 CSV File'!I:I)","v":21.9895},11764.3825,null,21.9895,11764.3825,null,"",177,"",165,"",20,28,"",19,18,22,10,"","",24,"","","",18,"",24,"",10,"","","","","","","","","","","","","","","","","","","","","","","","","","",""]
[null,"REPB04223","EXTREP","D","Frame:Rub down, prepare and apply one coat of primer, one undercoat and two coats of gloss paint on timber frame ne 300mm girth.",null,null,6.2370000000000498,null,"4380CA","LM",234,6.28,1469.52,null,{"$f":"SUMIF('Planned Maint v6.2 CSV File'!A:A,J112,'Planned Maint v6.2 CSV File'!I:I)","v":5.3380000000000001},1249.0920000000001,null,5.3380000000000001,1249.0920000000001,null,"",50,"",12,"",15,6,"",30,30,6,14,"",6,28,"","","",6,"",17,"",14,"","","","","","","","","","","","","","","","","","","","","","","","","","",""]
[null,"REPB04223","EXTREP","D","Door:Rub down, prepare for and apply one coat of primer, one undercoat and two coats of gloss paint to all surfaces of any size or type of single glazed timber door. (one sides and edges).",null,null,6.2380000000000502,null,"4380DA","IT",37,20.71,766.27,null,{"$f":"SUMIF('Planned Maint v6.2 CSV File'!A:A,J113,'Planned Maint v6.2 CSV File'!I:I)","v":17.6035},651.32950000000005,null,17.6035,651.32950000000005,null,"",9,"",1,"",2,"","",5,5,"",3,"","",4,"","","",1,"",4,"",3,"","","","","","","","","","","","","","","","","","","","","","","","","","",""]
[null,"REPB47024","EXTREP","D","Door: Rub down, prepare for and apply one coat of primer, one undercoat and two coats of gloss paint to all surfaces of any size or type of single glazed timber door (both sides and edges).",null,null,6.2390000000000496,null,"4380DB","IT",2,39.28,78.56,null,{"$f":"SUMIF('Planned Maint v6.2 CSV File'!A:A,J114,'Planned Maint v6.2 CSV File'!I:I)","v":33.387999999999998},66.775999999999996,null,33.387999999999998,66.775999999999996,null,"","","","","","","","","","","","","",2,"","","","","","","","","","","","","","","","","","","","","","","","","","","","","","","","","","","",""]
[null,"REPB42154","EXTREP","D","Door: Rub down, prepare for and apply one coat of primer, one undercoat and two coats of gloss paint to all surfaces of any type or size of single timber door. (both sides and edges).",null,null,6.2410000000000503,null,"4380DD","IT",2,45.53,91.06,null,{"$f":"SUMIF('Planned Maint v6.2 CSV File'!A:A,J115,'Planned Maint v6.2 CSV File'!I:I)","v":38.700499999999998},77.400999999999996,null,38.700499999999998,77.400999999999996,null,"","","","","","",2,"","","","","","","","","","","","","","","","","","","","","","","","","","","","","","","","","","","","","","","","","","",""]
[null,"REPB47715","EXTREP","D","Window: Rub down, prepare and apply one undercoat and two coats of gloss paint on existing painted surfaces of wooden windows. (one side and edges).",null,null,6.2490000000000503,null,"4381BB","SM",22,24.54,539.88,null,{"$f":"SUMIF('Planned Maint v6.2 CSV File'!A:A,J116,'Planned Maint v6.2 CSV File'!I:I)","v":20.858999999999998},458.89799999999997,null,20.858999999999998,458.89799999999997,null,"","","","","","","","","","","","","","","","","","","","","",22,"","","","","","","","","","","","","","","","","","","","","","","","","","","",""]
[null,"REPB47715","EXTREP","D","Frame: Rub down, prepare and apply one undercoat and two coats of gloss paint on existing painted timber frame ne 300mm girth.",null,null,6.2500000000000497,null,"4381CA","LM",30,5.84,175.2,null,{"$f":"SUMIF('Planned Maint v6.2 CSV File'!A:A,J117,'Planned Maint v6.2 CSV File'!I:I)","v":4.9639999999999995},148.91999999999999,null,4.9639999999999995,148.91999999999999,null,"","","","","","","","","","","","","","","","","","","","","",30,"","","","","","","","","","","","","","","","","","","","","","","","","","","",""]
[null,"REPB04223","EXTREP","D","Gates: Rub down, prepare for, and apply one undercoat, two coats of gloss paint on existing painted surfaces of gates and posts (measured both sides).",null,null,6.2580000000000497,null,"4381FA","SM",5,12.41,62.05,null,{"$f":"SUMIF('Planned Maint v6.2 CSV File'!A:A,J118,'Planned Maint v6.2 CSV File'!I:I)","v":10.548500000000001},52.742500000000007,null,10.548500000000001,52.742500000000007,null,"",2,"",2,"","","","","","","","","","","","","",1,"","","","","","","","","","","","","","","","","","","","","","","","","","","","","","","",""]
[null,"REPB04223","EXTREP","D","Fascias, soffits, Bargeboards and the like:Rub down, prepare for, and apply one undercoat, two coats of gloss paint on existing painted surfaces of facias, soffits, bargeboards and the like ne 300mm girth.",null,null,6.2600000000000504,null,"4381HB","LM",63,3.74,235.62,null,{"$f":"SUMIF('Planned Maint v6.2 CSV File'!A:A,J119,'Planned Maint v6.2 CSV File'!I:I)","v":3.1790000000000003},200.27700000000002,null,3.1790000000000003,200.27700000000002,null,{"$f":"IF(ISERROR(VLOOKUP($J119,INDIRECT(\"'\"&V$7&\"'!J:J\"),1,FALSE)),\"\",SUMIF(INDIRECT(\"'\"&V$7&\"'!J:J\"),$J119,INDIRECT(\"'\"&V$7&\"'!L:L\")))","v":""},12,"",12,"","","","","","",{"$f":"IF(ISERROR(VLOOKUP($J119,INDIRECT(\"'\"&AF$7&\"'!J:J\"),1,FALSE)),\"\",SUMIF(INDIRECT(\"'\"&AF$7&\"'!J:J\"),$J119,INDIRECT(\"'\"&AF$7&\"'!L:L\")))","v":""},"","","","",29,4,"",6,"",{"$f":"IF(ISERROR(VLOOKUP($J119,INDIRECT(\"'\"&AP$7&\"'!J:J\"),1,FALSE)),\"\",SUMIF(INDIRECT(\"'\"&AP$7&\"'!J:J\"),$J119,INDIRECT(\"'\"&AP$7&\"'!L:L\")))","v":""},"","","","","","","","","",{"$f":"IF(ISERROR(VLOOKUP($J119,INDIRECT(\"'\"&AZ$7&\"'!J:J\"),1,FALSE)),\"\",SUMIF(INDIRECT(\"'\"&AZ$7&\"'!J:J\"),$J119,INDIRECT(\"'\"&AZ$7&\"'!L:L\")))","v":""},"","","","","","","","","",{"$f":"IF(ISERROR(VLOOKUP($J119,INDIRECT(\"'\"&BJ$7&\"'!J:J\"),1,FALSE)),\"\",SUMIF(INDIRECT(\"'\"&BJ$7&\"'!J:J\"),$J119,INDIRECT(\"'\"&BJ$7&\"'!L:L\")))","v":""},"","","","","","","","",""]
[null,"REPB42150","EXTREP","D","Window:Rub down, prepare and apply one undercoat and one coat of gloss paint on existing painted surfaces of wooden windows (one side and edges).",null,null,6.2620000000000502,null,"4381JB","SM",182,16.86,3068.52,null,{"$f":"SUMIF('Planned Maint v6.2 CSV File'!A:A,J120,'Planned Maint v6.2 CSV File'!I:I)","v":14.331},2608.2419999999997,null,14.331,2608.2419999999997,null,"","","","",10,"","",34,"","","","",22,16,"",31,15,20,"",34,"","","","","","","","","","","","","","","","","","","","","","","","","","","","","",""]
[null,"REPB42153","EXTREP","D","Frame:Rub down, prepare and apply one undercoat and one coat of gloss paint on existing painted timber frame ne 300mm girth.",null,null,6.2630000000000496,null,"4381KA","LM",86,3.81,327.66000000000003,null,{"$f":"SUMIF('Planned Maint v6.2 CSV File'!A:A,J121,'Planned Maint v6.2 CSV File'!I:I)","v":3.2385000000000002},278.51100000000002,null,3.2385000000000002,278.51100000000002,null,"","","","","","","","","","","","",44,"","","","",42,"","","","","","","","","","","","","","","","","","","","","","","","","","","","","","","",""]
[null,"REPB42153","EXTREP","D","Door:Rub down, prepare for and apply one undercoat and one coat of gloss paint to all existing painted surfaces of any size or type of single glazed timber door (one sides and edges).",null,null,6.26400000000005,null,"4381LA","IT",4,9.67,38.68,null,{"$f":"SUMIF('Planned Maint v6.2 CSV File'!A:A,J122,'Planned Maint v6.2 CSV File'!I:I)","v":8.2195},32.878,null,8.2195,32.878,null,"","","","","","","","","","","","",2,"","","","",2,"","","","","","","","","","","","","","","","","","","","","","","","","","","","","","","",""]
[null,"REPB47495","EXTREP","D","Door: Rub down, prepare for and apply one undercoat and one coat of gloss paint to all existing painted surfaces of any size or type of single glazed timber door (both sides and edges).",null,null,6.2650000000000503,null,"4381LB","IT",4,19.34,77.36,null,{"$f":"SUMIF('Planned Maint v6.2 CSV File'!A:A,J123,'Planned Maint v6.2 CSV File'!I:I)","v":16.439},65.756,null,16.439,65.756,null,"","","","","","","",1,"","","","","","","","",2,"","",1,"","","","","","","","","","","","","","","","","","","","","","","","","","","","","",""]
[null,"REPB42150","EXTREP","D","Gates:Rub down, prepare for, and apply one undercoat, one coat of gloss paint on existing painted surfaces of gates and posts (measured both sides).",null,null,6.2710000000000603,null,"4381NA","SM",1,8.17,8.17,null,{"$f":"SUMIF('Planned Maint v6.2 CSV File'!A:A,J124,'Planned Maint v6.2 CSV File'!I:I)","v":6.9444999999999997},6.9444999999999997,null,6.9444999999999997,6.9444999999999997,null,"","","","",1,"","","","","","","","","","","","","","","","","","","","","","","","","","","","","","","","","","","","","","","","","","","","",""]
[null,"REPB42150","EXTREP","D","Door:Rub down, prepare for, and apply three coats decorative wood stain on external surfaces of any size/type of single door(both sides and edges)",null,null,6.2760000000000602,null,"4382DB","IT",3,33.520000000000003,100.56,null,{"$f":"SUMIF('Planned Maint v6.2 CSV File'!A:A,J125,'Planned Maint v6.2 CSV File'!I:I)","v":28.492000000000001},85.475999999999999,null,28.492000000000001,85.475999999999999,null,"","","","",1,"","","","","","","","","","","",1,"","","","",1,"","","","","","","","","","","","","","","","","","","","","","","","","","","",""]
[null,"REPB42150","EXTREP","D","Moulding Repairs  0-5no. per property\nFosroc repair mortar or equivalent\nInsitu repairs using straight edge to form moulding repair. \n\n(Girth NE300mm Length NE300mm)",null,null,6.11,null,"FAB071","no",13,79.14,1028.82,null,{"$f":"SUMIF('Planned Maint v6.2 CSV File'!A:A,J126,'Planned Maint v6.2 CSV File'!I:I)","v":63.312000000000005},823.05600000000004,null,63.312000000000005,823.05600000000004,null,"","","","",1,"","",5,"","","","","","","",1,1,"","",5,"","","","","","","","","","","","","","","","","","","","","","","","","","","","","",""]
[null,"REPB47293","COMMUNAL WORKS","D","Door: Renew front door with any size 44mm hardwood panelled, glazed or part glazed door prepared for glazing, hang on 1.5 pair butts, fix new mortice lock, furniture, keep, pair of bolts, cylinder latch and pull, security restraint device, letter plate including cutting mortice in door to suit, numerals, hardwood weathermould, adjust stops, ease rebates, cut out and make good to frame to suit new position of butts, weathermould, lock and latch, rebate door bottom as necessary and fit new waterbar if required, double glazed and decorate to match existing internally and prepare for redecoration externally, and remove waste and debris.",null,null,5.3260000000000698,null,"3211BA","NO",1,461.13,461.13,null,{"$f":"SUMIF('Planned Maint v6.2 CSV File'!A:A,J127,'Planned Maint v6.2 CSV File'!I:I)","v":408.79174499999999},408.79174499999999,null,408.79174499999999,408.79174499999999,null,"","","","","","","","","","","","","","","",1,"","","","","","","","","","","","","","","","","","","","","","","","","","","","","","","","","",""]
[null,"REPB47715","COMMUNAL WORKS","D","Frame: Renew external door frame with softwood door frame, rebated and with fanlight over, to suit any size single door, remove existing door and set aside, remove existing frame and bed new frame in mortar, plugged and screwed to brickwork and point with sealant, rehang door including ease and adjust, refix lock keep including housing out, make good all works disturbed including refix or renew internal beads, architraves etc., glaze to fanlight and decorate to match existing internally and prepare for redecoration externally, and remove waste and debris.",null,null,5.2950000000000603,null,"3411AC","NO",1,197.62,197.62,null,{"$f":"SUMIF('Planned Maint v6.2 CSV File'!A:A,J128,'Planned Maint v6.2 CSV File'!I:I)","v":175.19012999999998},175.19012999999998,null,175.19012999999998,175.19012999999998,null,"","","","","","","","","","","","","","","","","","","","","",1,"","","","","","","","","","","","","","","","","","","","","","","","","","","",""]
[null,"REPB42154","COMMUNAL WORKS","D","Skirting: Renew any size softwood plain, moulded or chamfered skirting plugged to brickwork, including all ends and angles and prepare for redecoration, and remove waste and debris.",null,null,5.9099999999999797,null,"3810AA","LM",2,14.7,29.4,null,{"$f":"SUMIF('Planned Maint v6.2 CSV File'!A:A,J129,'Planned Maint v6.2 CSV File'!I:I)","v":13.031549999999999},26.063099999999999,null,13.031549999999999,26.063099999999999,null,{"$f":"IF(ISERROR(VLOOKUP($J129,INDIRECT(\"'\"&V$7&\"'!J:J\"),1,FALSE)),\"\",SUMIF(INDIRECT(\"'\"&V$7&\"'!J:J\"),$J129,INDIRECT(\"'\"&V$7&\"'!L:L\")))","v":""},"","","","","",2,"","","",{"$f":"IF(ISERROR(VLOOKUP($J129,INDIRECT(\"'\"&AF$7&\"'!J:J\"),1,FALSE)),\"\",SUMIF(INDIRECT(\"'\"&AF$7&\"'!J:J\"),$J129,INDIRECT(\"'\"&AF$7&\"'!L:L\")))","v":""},"","","","","","","","","",{"$f":"IF(ISERROR(VLOOKUP($J129,INDIRECT(\"'\"&AP$7&\"'!J:J\"),1,FALSE)),\"\",SUMIF(INDIRECT(\"'\"&AP$7&\"'!J:J\"),$J129,INDIRECT(\"'\"&AP$7&\"'!L:L\")))","v":""},"","","","","","","","","",{"$f":"IF(ISERROR(VLOOKUP($J129,INDIRECT(\"'\"&AZ$7&\"'!J:J\"),1,FALSE)),\"\",SUMIF(INDIRECT(\"'\"&AZ$7&\"'!J:J\"),$J129,INDIRECT(\"'\"&AZ$7&\"'!L:L\")))","v":""},"","","","","","","","","",{"$f":"IF(ISERROR(VLOOKUP($J129,INDIRECT(\"'\"&BJ$7&\"'!J:J\"),1,FALSE)),\"\",SUMIF(INDIRECT(\"'\"&BJ$7&\"'!J:J\"),$J129,INDIRECT(\"'\"&BJ$7&\"'!L:L\")))","v":""},"","","","","","","","",""]
[null,"REPB42154","COMMUNAL WORKS","D","Wall: Hack off any thickness of render from walls, rake out and prepare brickwork or blockwork to receive rendering and remove waste and debris.",null,null,5.1730000000000196,null,"4210AA","SM",109,12.5,1362.5,null,{"$f":"SUMIF('Planned Maint v6.2 CSV File'!A:A,J130,'Planned Maint v6.2 CSV File'!I:I)","v":9.0625},987.8125,null,9.0625,987.8125,null,"","","","","","",1,"","","",2,"","","","","","","","","",106,"","","","","","","","","","","","","","","","","","","","","","","","","","","","",""]
[null,"REPB42313","COMMUNAL WORKS","D","Wall: Apply 12mm cement and sand render (1:3) with waterproofing agent to external walls trowelled smooth, dub out as necessary with cement and sand, including all labours and remove waste and debris.",null,null,5.1740000000000199,null,"4210AB","SM",2,20.440000000000001,40.880000000000003,null,{"$f":"SUMIF('Planned Maint v6.2 CSV File'!A:A,J131,'Planned Maint v6.2 CSV File'!I:I)","v":14.819000000000001},29.638000000000002,null,14.819000000000001,29.638000000000002,null,"","","","","","","","","","",2,"","","","","","","","","","","","","","","","","","","","","","","","","","","","","","","","","","","","","","",""]
[null,"REPB47684","COMMUNAL WORKS","D","Floor Tiles: Hack off vinyl floor tiles, supply and lay new ne 300x300x2.00mm vinyl tiles with adhesive in patch including all necessary cutting of tiles and clean off and remove waste and debris.",null,null,5.1350000000000096,null,"4323BA","SM",4,21.11,84.44,null,{"$f":"SUMIF('Planned Maint v6.2 CSV File'!A:A,J132,'Planned Maint v6.2 CSV File'!I:I)","v":17.783064},71.132255999999998,null,17.783064,71.132255999999998,null,"","","","","","","","","","","","","","","","","",4,"","","","","","","","","","","","","","","","","","","","","","","","","","","","","","","",""]
[null,"REPB47025","COMMUNAL WORKS","D","Flooring: Take up any covering, clear away, supply and lay minimum 2.0mm felt backed vinyl sheet flooring with adhesive to cement and sand screed, or hardboard including all necessary cutting, all labours and clean off, and remove waste and debris.",null,null,5.1400000000000103,null,"4325AA","SM",4,27.96,111.84,null,{"$f":"SUMIF('Planned Maint v6.2 CSV File'!A:A,J133,'Planned Maint v6.2 CSV File'!I:I)","v":23.553504},94.214016000000001,null,23.553504,94.214016000000001,null,"","","","","","","","","","","","","","","","",4,"","","","","","","","","","","","","","","","","","","","","","","","","","","","","","","","",""]
[null,"REPB42457","COMMUNAL WORKS","D","Sheet Flooring: Supply and lay 'Polysafe' or other equal and approved proprietary safety flooring with adhesive to and including supply and lay approved sheet sub base, including all necessary cutting, all labours, upstands and clean off, and remove waste and debris.",null,null,5.1480000000000201,null,"4326BB","SM",2,40.94,81.88,null,{"$f":"SUMIF('Planned Maint v6.2 CSV File'!A:A,J134,'Planned Maint v6.2 CSV File'!I:I)","v":34.487856000000001},68.975712000000001,null,34.487856000000001,68.975712000000001,null,"","","","","","","","","","","",2,"","","","","","","","","","","","","","","","","","","","","","","","","","","","","","","","","","","","","",""]
[null,"REPB42154","COMMUNAL WORKS","D","Carpet: Renew tight woven medium contract grade carpet to domestic areas, take up existing and dispose to tip, prepare sub-base, lay underlay secure all edges with gripper or proprietary adhesive tape, cut and fit around pipes, into alcoves, door openings and the like including all necessary door strips etc., and remove waste and debris.",null,null,5.1540000000000203,null,"4328AC","SM",38,16.28,618.6400000000001,null,{"$f":"SUMIF('Planned Maint v6.2 CSV File'!A:A,J135,'Planned Maint v6.2 CSV File'!I:I)","v":13.714272000000001},521.142336,null,13.714272000000001,521.142336,null,"","","","","","",6,"","","","","","",6,"","","","","","",6,20,"","","","","","","","","","","","","","","","","","","","","","","","","","","",""]
[null,"REPB42313","COMMUNAL WORKS","D","Carpet: Renew or supply and fit new tight woven heavy contract grade carpet tile flooring, take up existing and dispose to tip, prepare sub-base, and lay carpet tiles, including cut and fit around pipes, into alcoves, door openings and the like including all necessary door strips etc., and remove waste and debris.",null,null,5.1650000000000196,null,"4328BC","SM",4,38.130000000000003,152.52000000000001,null,{"$f":"SUMIF('Planned Maint v6.2 CSV File'!A:A,J136,'Planned Maint v6.2 CSV File'!I:I)","v":32.120712000000005},128.48284800000002,null,32.120712000000005,128.48284800000002,null,"","","","","","","","","","",4,"","","","","","","","","","","","","","","","","","","","","","","","","","","","","","","","","","","","","","",""]
[null,"REPB47715","COMMUNAL WORKS","D","Nosing: Take off and refix any size or type of nosing to step including drilling and plugging as necessary.",null,null,5.1570000000000196,null,"4329CA","NO",{"$f":"SUM(V137:BS137)","v":16},9.6199999999999992,{"$f":"L137*M137","v":153.91999999999999},null,{"$f":"SUMIF('Planned Maint v6.2 CSV File'!A:A,J137,'Planned Maint v6.2 CSV File'!I:I)","v":8.1038879999999995},{"$f":"IF(J137=\"PROV SUM\",N137,L137*P137)","v":129.66220799999999},null,{"$f":"IF(R137>0,R137,P137)","v":8.1038879999999995},{"$f":"IF(J137=\"PROV SUM\",N137,L137*S137)","v":129.66220799999999},null,"","","","","","","","","","","","","","","","","","","","","",16,"","","","","","","","","","","","","","","","","","","","","","","","","","","",""]
[null,"REPB47025","COMMUNAL WORKS","D","Hall Stairs: Rub down, prepare for and apply two coats of emulsion to ceilings of hall, landing and staircase area complete (3 storey) (classified as a single area).",null,null,5.24,null,"4506AB","IT",1,140.12,140.12,null,{"$f":"SUMIF('Planned Maint v6.2 CSV File'!A:A,J138,'Planned Maint v6.2 CSV File'!I:I)","v":119.102},119.102,null,119.102,119.102,null,"","","","","","","","","","","","","","","","",1,"","","","","","","","","","","","","","","","","","","","","","","","","","","","","","","","",""]
[null,"REPB14020","COMMUNAL WORKS","D","Hall: Thoroughly clean down all wall and ceiling surfaces to common areas to remove dirt, grease and surface containments, scrape and remove all loose and defective coatings, prime bare areas with one coat of fire retardant primer and apply two coats of Class ‘O’ fire retardant matt paint, prepare and apply two coats of polyurethane lacquer or one undercoat and one gloss coat to all previously decorated timber surfaces to lobby, hall or corridor over 3.00sm ceiling area complete (classified as a single area).",null,null,5.0999999999999996,null,"4540AC","IT",13,480,6240,null,{"$f":"SUMIF('Planned Maint v6.2 CSV File'!A:A,J139,'Planned Maint v6.2 CSV File'!I:I)","v":408},5304,null,408,5304,null,{"$f":"IF(ISERROR(VLOOKUP($J139,INDIRECT(\"'\"&V$7&\"'!J:J\"),1,FALSE)),\"\",SUMIF(INDIRECT(\"'\"&V$7&\"'!J:J\"),$J139,INDIRECT(\"'\"&V$7&\"'!L:L\")))","v":2},"","","","","",1,1,"","",{"$f":"IF(ISERROR(VLOOKUP($J139,INDIRECT(\"'\"&AF$7&\"'!J:J\"),1,FALSE)),\"\",SUMIF(INDIRECT(\"'\"&AF$7&\"'!J:J\"),$J139,INDIRECT(\"'\"&AF$7&\"'!L:L\")))","v":1},1,"",1,"","",1,1,"",1,{"$f":"IF(ISERROR(VLOOKUP($J139,INDIRECT(\"'\"&AP$7&\"'!J:J\"),1,FALSE)),\"\",SUMIF(INDIRECT(\"'\"&AP$7&\"'!J:J\"),$J139,INDIRECT(\"'\"&AP$7&\"'!L:L\")))","v":1},1,1,"","","","","","","",{"$f":"IF(ISERROR(VLOOKUP($J139,INDIRECT(\"'\"&AZ$7&\"'!J:J\"),1,FALSE)),\"\",SUMIF(INDIRECT(\"'\"&AZ$7&\"'!J:J\"),$J139,INDIRECT(\"'\"&AZ$7&\"'!L:L\")))","v":""},"","","","","","","","","",{"$f":"IF(ISERROR(VLOOKUP($J139,INDIRECT(\"'\"&BJ$7&\"'!J:J\"),1,FALSE)),\"\",SUMIF(INDIRECT(\"'\"&BJ$7&\"'!J:J\"),$J139,INDIRECT(\"'\"&BJ$7&\"'!L:L\")))","v":""},"","","","","","","","",""]
[null,"REPB14020","ASBESTOS","D","Refurbishment and Demolition  Survey to Full Property (with upto 5 Nr samples) , flat or house any size",null,null,1.3,null,"A003","Item",26,234,6084,null,{"$f":"SUMIF('Planned Maint v6.2 CSV File'!A:A,J140,'Planned Maint v6.2 CSV File'!I:I)","v":222.29999999999998},5779.7999999999993,null,222.29999999999998,5779.7999999999993,null,2,2,1,2,1,1,1,1,1,1,1,1,1,1,1,1,1,1,1,1,1,1,1,"","","","","","","","","","","","","","","","","","","","","","","","","","",""]
[null,"REPB42153","ESTATE WORKS","D","Path:Excavate 250mm below required finished level, remove waste and debris, level and compact bottoms of excavations and fill, 150mm hardcore bed, blinded and ne 100mm concrete trowelled smooth including dishing to gullies and the like and all formwork.",null,null,7.4000000000000199,null,"0030AA","SM",54,58.8,3175.2,null,{"$f":"SUMIF('Planned Maint v6.2 CSV File'!A:A,J141,'Planned Maint v6.2 CSV File'!I:I)","v":48.351239999999997},2610.9669599999997,null,48.351239999999997,2610.9669599999997,null,"","","","","","","","","","","","",18,"","",20,"",16,"","","","","","","","","","","","","","","","","","","","","","","","","","","","","","","",""]
[null,"REPB42129","ESTATE WORKS","D","Flag: Lift any size existing precast concrete paving flag, fill and compact hardcore to soft spots and rebed existing flag on 25mm bed of cement mortar (1:4) and point up joints.",null,null,7.55000000000003,null,"0070BF","NO",15,6.68,100.19999999999999,null,{"$f":"SUMIF('Planned Maint v6.2 CSV File'!A:A,J142,'Planned Maint v6.2 CSV File'!I:I)","v":5.4929639999999997},82.394459999999995,null,5.4929639999999997,82.394459999999995,null,"","","","","","","","",15,"","","","","","","","","","","","","","","","","","","","","","","","","","","","","","","","","","","","","","","","",""]
[null,"REPB42150","ESTATE WORKS","D","Fencing:Renew or provide new 1.65m tanalised timber vertical board fencing including for taking down remnants of existing fence and posts set in concrete, remove from site to approved tip, and set 125x125mm x 2.65m long softwood posts in concrete at ne 1.80m centres with three 69x44mm softwood rails bolted to posts and 144x20mm vertical boards nailed to rails, softwood gravel board with centre prop (measured per metre run of fencing).",null,null,7.79,null,"0171AD","LM",21,93.18,1956.7800000000002,null,{"$f":"SUMIF('Planned Maint v6.2 CSV File'!A:A,J143,'Planned Maint v6.2 CSV File'!I:I)","v":76.500780000000006},1606.51638,null,76.500780000000006,1606.51638,null,"","","","",7,"","",7,"","","","","","","","","","","",7,"","","","","","","","","","","","","","","","","","","","","","","","","","","","","",""]
[null,"REPB47293","ESTATE WORKS","D","Chainlink: Renew chainlink fencing 0.9m high on existing posts, including removal of old and remove from site to approved tip, supply and fix new galvanised or plastic coated steel chainlink wire fencing including three 2.50mm diameter galvanised mild steel line wires and all fittings, ties etc. (measured per metre run of fencing).",null,null,7.1210000000000102,null,"0174AA","LM",10,8.39,83.9,null,{"$f":"SUMIF('Planned Maint v6.2 CSV File'!A:A,J144,'Planned Maint v6.2 CSV File'!I:I)","v":6.8881899999999998},68.881900000000002,null,6.8881899999999998,68.881900000000002,null,"","","","","","","","","","","","","","","",10,"","","","","","","","","","","","","","","","","","","","","","","","","","","","","","","","","",""]
[null,"REPB42122","ESTATE WORKS","D","Gates:Install tanalised softwood two leaved gate ne 2.5sm overall, each leaf comprising two 144x27mm ledges, six 144x20mm vertical boards at 175mm centres and one 144x27mm diagonal brace, including steel strap hinges and hangers fixed to and including precaste concrete posts, galvanised mild steel auto catch, prepare for and decorate, posts set in concrete including all excavation, concrete, backfill and remove waste and debris, reinstate paving, gardens and like as necessary.",null,null,7.1630000000000198,null,"0210BC","NO",1,259.88,259.88,null,{"$f":"SUMIF('Planned Maint v6.2 CSV File'!A:A,J145,'Planned Maint v6.2 CSV File'!I:I)","v":213.36147999999997},213.36147999999997,null,213.36147999999997,213.36147999999997,null,"","","","","",1,"","","","","","","","","","","","","","","","","","","","","","","","","","","","","","","","","","","","","","","","","","","",""]
[null,"REPB42150","ESTATE WORKS","D","Gate Post and Gate:Renew or repair any single fitting to post or timber or metal gate including any gate hinge, gudgeon, band, pivot plate or pivot socket, spring, any post or gate catch or bolt, remove waste and debris (measured per complete fitting).",null,null,7.1860000000000301,null,"0250FA","NO",1,12.05,12.05,null,{"$f":"SUMIF('Planned Maint v6.2 CSV File'!A:A,J146,'Planned Maint v6.2 CSV File'!I:I)","v":9.8930500000000006},9.8930500000000006,null,9.8930500000000006,9.8930500000000006,null,"","","","",1,"","","","","","","","","","","","","","","","","","","","","","","","","","","","","","","","","","","","","","","","","","","","",""]
[null,"REPB47024","ESTATE WORKS","D","Wall: Take down one and a half brick wall and remove waste and debris.",null,null,7.1900000000000297,null,"1011AC","SM",7,39.57,276.99,null,{"$f":"SUMIF('Planned Maint v6.2 CSV File'!A:A,J147,'Planned Maint v6.2 CSV File'!I:I)","v":28.68825},200.81774999999999,null,28.68825,200.81774999999999,null,"","","","","","","","","","","","","",4,"","","","","","",3,"","","","","","","","","","","","","","","","","","","","","","","","","","","","",""]
[null,"REPB42122","ESTATE WORKS","D","Wall: Supply and lay new common bricks in one and a half brick wall in cement lime mortar (1:1:6).",null,null,7.19900000000003,null,"1013AC","SM",6,133.41999999999999,800.52,null,{"$f":"SUMIF('Planned Maint v6.2 CSV File'!A:A,J148,'Planned Maint v6.2 CSV File'!I:I)","v":96.729499999999987},580.37699999999995,null,96.729499999999987,580.37699999999995,null,"","","","","",1,"","","","","","","","","","","","","","",5,"","","","","","","","","","","","","","","","","","","","","","","","","","","","",""]
[null,"REPB47024","ESTATE WORKS","D","Wall: Supply and lay new facing bricks in one brick wall bedded and pointed in cement lime mortar (1:1:6) as the work proceeds.",null,null,7.2020000000000302,null,"1013BB","SM",6,133.12,798.72,null,{"$f":"SUMIF('Planned Maint v6.2 CSV File'!A:A,J149,'Planned Maint v6.2 CSV File'!I:I)","v":96.512},579.072,null,96.512,579.072,null,{"$f":"IF(ISERROR(VLOOKUP($J149,INDIRECT(\"'\"&V$7&\"'!J:J\"),1,FALSE)),\"\",SUMIF(INDIRECT(\"'\"&V$7&\"'!J:J\"),$J149,INDIRECT(\"'\"&V$7&\"'!L:L\")))","v":""},"","","","","","","","","",{"$f":"IF(ISERROR(VLOOKUP($J149,INDIRECT(\"'\"&AF$7&\"'!J:J\"),1,FALSE)),\"\",SUMIF(INDIRECT(\"'\"&AF$7&\"'!J:J\"),$J149,INDIRECT(\"'\"&AF$7&\"'!L:L\")))","v":""},"","",6,"","","","","","",{"$f":"IF(ISERROR(VLOOKUP($J149,INDIRECT(\"'\"&AP$7&\"'!J:J\"),1,FALSE)),\"\",SUMIF(INDIRECT(\"'\"&AP$7&\"'!J:J\"),$J149,INDIRECT(\"'\"&AP$7&\"'!L:L\")))","v":""},"","","","","","","","","",{"$f":"IF(ISERROR(VLOOKUP($J149,INDIRECT(\"'\"&AZ$7&\"'!J:J\"),1,FALSE)),\"\",SUMIF(INDIRECT(\"'\"&AZ$7&\"'!J:J\"),$J149,INDIRECT(\"'\"&AZ$7&\"'!L:L\")))","v":""},"","","","","","","","","",{"$f":"IF(ISERROR(VLOOKUP($J149,INDIRECT(\"'\"&BJ$7&\"'!J:J\"),1,FALSE)),\"\",SUMIF(INDIRECT(\"'\"&BJ$7&\"'!J:J\"),$J149,INDIRECT(\"'\"&BJ$7&\"'!L:L\")))","v":""},"","","","","","","","",""]
[null,"REPB47684","ESTATE WORKS","D","Wall: Demolish as necessary, clean off and clear away, rebuild one and a half brick wall in common bricks, bed and point in cement lime mortar (1:1:6) to match existing and remove waste and debris.",null,null,7.2170000000000396,null,"1015AC","SM",31,169.05,5240.55,null,{"$f":"SUMIF('Planned Maint v6.2 CSV File'!A:A,J150,'Planned Maint v6.2 CSV File'!I:I)","v":122.56125},3799.3987499999998,null,122.56125,3799.3987499999998,null,"","","","","","","","","","","","","","","","","",31,"","","","","","","","","","","","","","","","","","","","","","","","","","","","","","","",""]
[null,"REPB47024","ESTATE WORKS","D","Pier: Demolish as necessary, clean off and clear away, rebuild attached pier in common bricks, one brick wide x half brick projection, bedded and pointed in cement lime mortar (1:1:6) to match existing and remove waste and debris.",null,null,7.2360000000000504,null,"1017AA","LM",1,21.51,21.51,null,{"$f":"SUMIF('Planned Maint v6.2 CSV File'!A:A,J151,'Planned Maint v6.2 CSV File'!I:I)","v":15.594750000000001},15.594750000000001,null,15.594750000000001,15.594750000000001,null,"","","","","","","","","","","","","",1,"","","","","","","","","","","","","","","","","","","","","","","","","","","","","","","","","","","",""]
[null,"REPB47293","ESTATE WORKS","D","Wall: Cut out bricks from face of wall, clean and clear away, lay over 15 No. new facing bricks up to 2sm in area in cement lime mortar (1:1:6), bond, bed and point to match existing and remove waste and debris.",null,null,7.24800000000005,null,"1019BB","IT",1,114.45,114.45,null,{"$f":"SUMIF('Planned Maint v6.2 CSV File'!A:A,J152,'Planned Maint v6.2 CSV File'!I:I)","v":82.976249999999993},82.976249999999993,null,82.976249999999993,82.976249999999993,null,"","","","","","","","","","","","","","","",1,"","","","","","","","","","","","","","","","","","","","","","","","","","","","","","","","","",""]
[null,"REPB14020","ESTATE WORKS","D","Wall: Rake out existing joints of brickwork min 12mm and repoint brickwork in mortar to match existing and remove waste and debris.",null,null,7.2530000000000499,null,"1021AA","SM",107,20.13,2153.91,null,{"$f":"SUMIF('Planned Maint v6.2 CSV File'!A:A,J153,'Planned Maint v6.2 CSV File'!I:I)","v":14.594249999999999},1561.58475,null,14.594249999999999,1561.58475,null,2,16,"",8,"",2,5,"",6,10,3,2,12,8,2,20,"",4,2,"","",3,2,"","","","","","","","","","","","","","","","","","","","","","","","","","",""]
[null,"REPB47660","ESTATE WORKS","D","Coping: Supply and lay new precast concrete coping ne 300mm wide in section to match existing, bedded and pointed in cement lime mortar (1:1:6) with bonding agent.",null,null,7.30000000000007,null,"1033CC","LM",3,14.27,42.81,null,{"$f":"SUMIF('Planned Maint v6.2 CSV File'!A:A,J154,'Planned Maint v6.2 CSV File'!I:I)","v":10.345749999999999},31.037249999999997,null,10.345749999999999,31.037249999999997,null,"","","","","","","","","","","","","","","","","","","","",3,"","","","","","","","","","","","","","","","","","","","","","","","","","","","",""]
[null,"REPB42122","FRA WORKS","D","Partition:Supply and erect or renew stud partition comprising ne 50x100mm sole and head plate, noggins and studs fixed with nails or plugged and screwed to walls, and pack out and scribe, 12.5mm butt jointed plasterboard and 3mm plaster skim coat and all labours to both faces.",null,null,180,null,"3013AB","Item",10,62.11,621.1,null,{"$f":"SUMIF('Planned Maint v6.2 CSV File'!A:A,J155,'Planned Maint v6.2 CSV File'!I:I)","v":55.060514999999995},550.60514999999998,null,55.060514999999995,550.60514999999998,null,"","","","","",1,1,"",1,1,"",1,"",1,"",1,1,"","","",1,1,"","","","","","","","","","","","","","","","","","","","","","","","","","","",""]
[null,"REPB47293","FRA WORKS","D","Door:Renew front door with any size panelled, glazed or partially glazed or similar proprietary high performance GRP door, prefinished, preglazed, and prehung to and including proprietary door frame and cill, including  new mortice lock, door furniture, keeps, pair of bolts, cylinder nightlatch and pull, security restraint device, proprietary letter plate, numerals, proprietary weathermould, fix frame and cill to struycture, seal around frame and cill, make good  and remove waste and debris.",null,null,11,null,"3221CB","Item",1,1212.5,1212.5,null,{"$f":"SUMIF('Planned Maint v6.2 CSV File'!A:A,J156,'Planned Maint v6.2 CSV File'!I:I)","v":1074.8812499999999},1074.8812499999999,null,1074.8812499999999,1074.8812499999999,null,"","","","","","","","","","","","","","","",1,"","","","","","","","","","","","","","","","","","","","","","","","","","","","","","","","","",""]
[null,"REPB47715","FRA WORKS","D","Door:Renew internal door with any size single half-hour fire check glazed door having 3.2mm luan, white Meranti or other approved plywood facing both sides and 9mm hardwood lipping on long edges, including remove existing door and hinges, remove and refit door stops as necessary, fit and hang new door on 1.50 pairs of 100mm steel butt hinges, make good or alter recesses on frame, door complete with all ironmongery, intumescent strips and smoke seals, glass, make good and prepare door for decoration and make good decorations to frame, and remove waste and debris.",null,null,13,null,"3300BD","Item",2,180.78,361.56,null,{"$f":"SUMIF('Planned Maint v6.2 CSV File'!A:A,J157,'Planned Maint v6.2 CSV File'!I:I)","v":160.26147},320.52294000000001,null,160.26147,320.52294000000001,null,"","","","","","","","","","","","","","","","","","","","","",2,"","","","","","","","","","","","","","","","","","","","","","","","","","","",""]
[null,"REPB42313","FRA WORKS","D","Door and Frame:Renew internal door and frincluding remove existing door, hinges and frame, install 32mm door frame with 25x32mm stops, fit and hang new any size FD30S plywood faced fire check flush door on 1.5 pairs of 100mm steel hinges, make good or alter recesses on frame, door complete with all ironmongery, intumescent strips and smoke seals, make good and prepare door and frame for decoration and remove waste and debris.",null,null,189,null,"3300DA","Item",2,152.85,305.7,null,{"$f":"SUMIF('Planned Maint v6.2 CSV File'!A:A,J158,'Planned Maint v6.2 CSV File'!I:I)","v":135.50152499999999},271.00304999999997,null,135.50152499999999,271.00304999999997,null,"","","","","","","","","","",1,"","","","",1,"","","","","","","","","","","","","","","","","","","","","","","","","","","","","","","","","",""]
[null,"REPB42122","FRA WORKS","D","Door:Renew internal door with any size single half-hour fire check glazed door having 3.2mm luan, white Meranti or other approved plywood facing both sides and 9mm hardwood lipping on long edges, including remove existing door and hinges, remove and refit door stops as necessary, fit and hang new door on 1.50 pairs of 100mm steel butt hinges, make good or alter recesses on frame, door complete with all ironmongery, intumescent strips and smoke seals, glazed, redecorate to match existing and remove waste and debris.",null,null,13,null,"3300FC","Item",18,222.2,3999.6,null,{"$f":"SUMIF('Planned Maint v6.2 CSV File'!A:A,J159,'Planned Maint v6.2 CSV File'!I:I)","v":196.98029999999997},3545.6453999999994,null,196.98029999999997,3545.6453999999994,null,{"$f":"IF(ISERROR(VLOOKUP($J159,INDIRECT(\"'\"&V$7&\"'!J:J\"),1,FALSE)),\"\",SUMIF(INDIRECT(\"'\"&V$7&\"'!J:J\"),$J159,INDIRECT(\"'\"&V$7&\"'!L:L\")))","v":""},"","","","",2,2,"",2,2,{"$f":"IF(ISERROR(VLOOKUP($J159,INDIRECT(\"'\"&AF$7&\"'!J:J\"),1,FALSE)),\"\",SUMIF(INDIRECT(\"'\"&AF$7&\"'!J:J\"),$J159,INDIRECT(\"'\"&AF$7&\"'!L:L\")))","v":""},2,"",2,"",2,2,"","","",{"$f":"IF(ISERROR(VLOOKUP($J159,INDIRECT(\"'\"&AP$7&\"'!J:J\"),1,FALSE)),\"\",SUMIF(INDIRECT(\"'\"&AP$7&\"'!J:J\"),$J159,INDIRECT(\"'\"&AP$7&\"'!L:L\")))","v":2},"","","","","","","","","",{"$f":"IF(ISERROR(VLOOKUP($J159,INDIRECT(\"'\"&AZ$7&\"'!J:J\"),1,FALSE)),\"\",SUMIF(INDIRECT(\"'\"&AZ$7&\"'!J:J\"),$J159,INDIRECT(\"'\"&AZ$7&\"'!L:L\")))","v":""},"","","","","","","","","",{"$f":"IF(ISERROR(VLOOKUP($J159,INDIRECT(\"'\"&BJ$7&\"'!J:J\"),1,FALSE)),\"\",SUMIF(INDIRECT(\"'\"&BJ$7&\"'!J:J\"),$J159,INDIRECT(\"'\"&BJ$7&\"'!L:L\")))","v":""},"","","","","","","","",""]
[null,"REPB42122","FRA WORKS","D","Intumescent Strip:Renew or supply and fix new 22x4mm intumescent strip, half hour application, with integral cold smoke seal and setting into groove in timber frame or door.",null,null,104,null,"3431AC","Item",25,3.44,86,null,{"$f":"SUMIF('Planned Maint v6.2 CSV File'!A:A,J160,'Planned Maint v6.2 CSV File'!I:I)","v":3.0495599999999996},76.23899999999999,null,3.0495599999999996,76.23899999999999,null,"","","","","",2,2,"",2,2,2,2,"","",2,2,2,"","","",2,3,2,"","","","","","","","","","","","","","","","","","","","","","","","","","",""]
[null,"REPB42154","FRA WORKS","D","Closer:Renew or supply and fix Perko type concealed door closer screwed to door and frame, including remove and refix door or door stop as necessary.",null,null,175,null,"3905BA","Item",16,9.81,156.96,null,{"$f":"SUMIF('Planned Maint v6.2 CSV File'!A:A,J161,'Planned Maint v6.2 CSV File'!I:I)","v":8.6965649999999997},139.14503999999999,null,8.6965649999999997,139.14503999999999,null,"","","","","","",2,"",2,"","",2,"","",1,2,"","","","",2,3,2,"","","","","","","","","","","","","","","","","","","","","","","","","","",""]
[null,"REPB42122","FRA WORKS","D","Fire Upgrading Coating:Remove all existing defective paint to plastered or rendered wall surfaces back to a solid edge, feather off and repair any defective areas with a high quality filler as necessary, spot prime filled or bare areas with afire upgrading primer, remove any existing graffiti with a graffiti removal system, wash down, rinse, clean off and apply one full coat of fire upgrading primer at a coverage rate of 10sm per litre, apply two full coats of fire upgrading finish at a coverage rate of 10sm per litre.",null,null,27,null,"4801AB","Item",10,22.53,225.3,null,{"$f":"SUMIF('Planned Maint v6.2 CSV File'!A:A,J162,'Planned Maint v6.2 CSV File'!I:I)","v":19.150500000000001},191.505,null,19.150500000000001,191.505,null,"","","","","",1,1,"",1,1,"",1,"",1,"",1,1,"","","",1,1,"","","","","","","","","","","","","","","","","","","","","","","","","","","",""]
[null,"REPB42122","FRA WORKS","D","Fire Upgrading Coating:Strip off existing multi layer paint coatings to existing plastered or rendered soffits with a proprietary paint stripper, scrape off or remove with a proprietary paint scraper, wash down,rinse,  spot prime filled or bare areas with afire upgrading primer, remove any existing graffiti with a graffiti removal system, clean off and apply one full coat of primer at a coverage rate of 10sm per litre, apply one full coats of colourcoat complete with decorative flakes, and apply one full coat of gloss or satin lacquer finish at a coverage rate of 10sm per litre.",null,null,41,null,"4804AD","Item",10,29.34,293.39999999999998,null,{"$f":"SUMIF('Planned Maint v6.2 CSV File'!A:A,J163,'Planned Maint v6.2 CSV File'!I:I)","v":24.939},249.39,null,24.939,249.39,null,"","","","","",1,1,"",1,1,"",1,"",1,"",1,1,"","","",1,1,"","","","","","","","","","","","","","","","","","","","","","","","","","","",""]
[null,"REPB47293","FRA WORKS","D","Fire Upgrading Coating:Remove all existing defective paint to general surfaces of woodwork not exceeding 300mm girth, back to a solid edge, feather off and repair any defective areas with a high quality filler as necessary, spot prime filled or bare areas with afire upgrading primer, remove any existing graffiti with a graffiti removal system, wash down, rinse, clean off and apply one full coat of fire upgrading primer at a coverage rate of 10sm per litre, apply two full coats of fire upgrading finish at a coverage rate of 10sm per litre.",null,null,43,null,"4805AB","Item",3,20.399999999999999,61.199999999999996,null,{"$f":"SUMIF('Planned Maint v6.2 CSV File'!A:A,J164,'Planned Maint v6.2 CSV File'!I:I)","v":17.34},52.019999999999996,null,17.34,52.019999999999996,null,"","","","","","","","","","","","","","","",1,"","","","",1,1,"","","","","","","","","","","","","","","","","","","","","","","","","","","",""]
[null,"REPB47293","FRA WORKS","D","Fire Upgrading Coating:Remove all existing defective paint to general surfaces of timber doors back to a solid edge, feather off and repair any defective areas with a high quality filler as necessary, spot prime filled or bare areas with afire upgrading primer, remove any existing graffiti with a graffiti removal system, wash down, rinse, clean off and apply one full coat of fire upgrading primer at a coverage rate of 10sm per litre, apply two full coats of fire upgrading finish at a coverage rate of 10sm per litre.",null,null,44,null,"4805AC","Item",2,35.86,71.72,null,{"$f":"SUMIF('Planned Maint v6.2 CSV File'!A:A,J165,'Planned Maint v6.2 CSV File'!I:I)","v":30.480999999999998},60.961999999999996,null,30.480999999999998,60.961999999999996,null,"","","","","","","","","","","","","","","",1,"","","","",1,"","","","","","","","","","","","","","","","","","","","","","","","","","","","",""]
[null,"REPB42122","FRA WORKS","D","Fire Alarm:Install L2 type fire alarm installation complete to BS5839:Part6 1995, control panel, circuits, call points, automatic detectors and sounders, builders work, make good, test, commission, and remove waste and debris.",null,null,93,null,"8711GA","Item",9,550,4950,null,{"$f":"SUMIF('Planned Maint v6.2 CSV File'!A:A,J166,'Planned Maint v6.2 CSV File'!I:I)","v":440},3960,null,440,3960,null,"","","","","",1,1,"",1,1,"",1,"","",1,1,"","","","","",1,1,"","","","","","","","","","","","","","","","","","","","","","","","","","",""]
[null,"REPB42122","FRA WORKS","D","Smoke Detector:Renew existing with mains operated optical smoke detector with rechargeable DC battery or condensor back up self contained type to BS 5446 kitemark certified with hush button, including back plate and all necessary connections to existing wiring, test and make good on completion, where interlinked detectors are replaced new detectors must be compatible with existing, and remove waste and debris.",null,null,115,null,"8720FA","Item",28,70.11,1963.08,null,{"$f":"SUMIF('Planned Maint v6.2 CSV File'!A:A,J167,'Planned Maint v6.2 CSV File'!I:I)","v":56.088000000000001},1570.4639999999999,null,56.088000000000001,1570.4639999999999,null,"","","","","",2,2,"",2,2,2,2,"",2,2,3,2,"","","",2,3,2,"","","","","","","","","","","","","","","","","","","","","","","","","","",""]
[null,"REPB47293","FRA WORKS","D","Emergency Lighting:Install emergency lighting installation to block of dwellings or scheme, strip out any existing installation and equipment, supply and install self contained non-maintained emergency uminaries and emergency exit signs, connect by specified cable to local lighting circuit, all builders work and make good all works disturbed, test and commission, and remove waste and debris (Per Dwelling in Scheme)",null,null,126,null,"8810XA","Item",1,300,300,null,{"$f":"SUMIF('Planned Maint v6.2 CSV File'!A:A,J168,'Planned Maint v6.2 CSV File'!I:I)","v":240},240,null,240,240,null,"","","","","","","","","","","","","","","",1,"","","","","","","","","","","","","","","","","","","","","","","","","","","","","","","","","",""]
[null,"REPB42122","FRA WORKS","D","Test:Carry out test of domestic installation to occupied property complete comprising continuity, insulation resistance, polarity, earth fault loop impedance and operation of residual current operated device, disconnect, repair and renew as necessary after removal of illegal wiring and components, and provide report and NICEIC/ECA test certificate to the Client’s Representative, and remove waste and debris.",null,null,186,null,"8950AA","Item",13,86.88,{"$f":"L169*M169","v":1129.44},null,{"$f":"SUMIF('Planned Maint v6.2 CSV File'!A:A,J169,'Planned Maint v6.2 CSV File'!I:I)","v":69.504000000000005},{"$f":"IF(J169=\"PROV SUM\",N169,L169*P169)","v":903.55200000000002},null,{"$f":"IF(R169>0,R169,P169)","v":69.504000000000005},{"$f":"IF(J169=\"PROV SUM\",N169,L169*S169)","v":903.55200000000002},null,"","","","","",1,1,"",1,1,1,1,"",1,1,1,1,"","","",1,1,1,"","","","","","","","","","","","","","","","","","","","","","","","","","",""]
[null,"REPB11024","ENERGY EFFICIENY","D","Insulation:Supply and lay ne 270mm thick insulation quilt to loft area including gain access and moving/replacing contents within loft area in order to undertake work. Item 2270AA",null,null,9.1999999999999993,null,"2270AA","SM",920.79999999999984,10.86,9999.8879999999972,null,{"$f":"SUMIF('Planned Maint v6.2 CSV File'!A:A,J170,'Planned Maint v6.2 CSV File'!I:I)","v":8.6880000000000006},7999.9103999999988,null,8.6880000000000006,7999.9103999999988,null,"","",46.04,"",46.04,46.04,46.04,46.04,46.04,46.04,46.04,46.04,46.04,46.04,46.04,46.04,46.04,46.04,46.04,46.04,46.04,46.04,46.04,"","","","","","","","","","","","","","","","","","","","","","","","","","",""]
[null,"REPB11024","ENERGY EFFICIENY","D","Contractor to access and undertake survey of loft space in accordance with the Project Brief in order to assess level of current loft insulation. Including submittion of a survey report supported by photographic evidance to CM/PM. Where insulation levels are less then 200mm, Contractor to provide cost proposal to upgrade insulation in accordance with NHF SoR Planned Maintenance Version 6.2.",null,null,9.1,null,"ADD001","IT",20,null,0,null,{"$f":"SUMIF('Planned Maint v6.2 CSV File'!A:A,J171,'Planned Maint v6.2 CSV File'!I:I)","v":0},0,null,0,0,null,"","",1,"",1,1,1,1,1,1,1,1,1,1,1,1,1,1,1,1,1,1,1,"","","","","","","","","","","","","","","","","","","","","","","","","","",""]

{"sheet":"1-44 Denyer House ","index":5,"n_rows":35,"n_cols":20,"rows_kept":35,"cut":false,"hidden":false,"merged":[[4,15,4,19]]}
[null,null,null,null,null,null,null,null,null,null,null,null,null,null,null,{"$f":"SUMIF('Planned Maint v6.2 CSV File'!A:A,J1,'Planned Maint v6.2 CSV File'!I:I)","v":0},{"$f":"IF(J1=\"PROV SUM\",N1,L1*P1)","v":0},{"$f":"IF(J1=\"Prov Sum\",\"\",IF(MATCH(J1,'Packet Rate Library'!J:J,0),VLOOKUP(J1,'Packet Rate Library'!J:T,9,FALSE),\"\"))","v":{"$error":"#N/A"}},{"$f":"IF(R1>0,R1,P1)","v":{"$error":"#N/A"}},{"$f":"IF(J1=\"SC024\",N1,IF(ISERROR(S1),\"\",IF(J1=\"PROV SUM\",N1,L1*S1)))","v":""}]
[]
[]
["1-44 DENYER HOUSE (CONS)"]
[]
["Requirement","REPB14020","Requirement Type","Rowtype (H=Header, D=Detail)","Description","Works Order Commencement Date","Works Order Completion Date","Specification  Ref. Item No.'s","Works Order Delivery Date","SOR Code","SOR Unit","SOR Qty","SOR Cost","Total Cost",null,"Rate (max)","Cost (max)","Modified price","Tendered rate","Tendered total"]
[]
[null,"REPB14020","ASBESTOS","H"]
[null,"REPB14020","ASBESTOS","D","Refurbishment and Demolition  Survey to Full Property (with upto 5 Nr samples) , flat or house any size",null,null,1.3,null,"A003","Item",2,234,468,null,{"$f":"SUMIF('Planned Maint v6.2 CSV File'!A:A,J9,'Planned Maint v6.2 CSV File'!I:I)","v":222.29999999999998},{"$f":"IF(J9=\"PROV SUM\",N9,L9*P9)","v":444.59999999999997},{"$f":"IF(J9=\"Prov Sum\",\"\",IF(MATCH(J9,'Packet Rate Library'!J:J,0),VLOOKUP(J9,'Packet Rate Library'!J:T,9,FALSE),\"\"))","v":0},{"$f":"IF(R9>0,R9,P9)","v":222.29999999999998},{"$f":"IF(J9=\"SC024\",N9,IF(ISERROR(S9),\"\",IF(J9=\"PROV SUM\",N9,L9*S9)))","v":444.59999999999997}]
[null,"REPB14020","COMMUNAL WORKS","H"]
[null,"REPB14020","COMMUNAL WORKS","D","Hall: Thoroughly clean down all wall and ceiling surfaces to common areas to remove dirt, grease and surface containments, scrape and remove all loose and defective coatings, prime bare areas with one coat of fire retardant primer and apply two coats of Class ‘O’ fire retardant matt paint, prepare and apply two coats of polyurethane lacquer or one undercoat and one gloss coat to all previously decorated timber surfaces to lobby, hall or corridor over 3.00sm ceiling area complete (classified as a single area).",null,null,5.0999999999999996,null,"4540AC","IT",2,480,960,null,{"$f":"SUMIF('Planned Maint v6.2 CSV File'!A:A,J11,'Planned Maint v6.2 CSV File'!I:I)","v":408},{"$f":"IF(J11=\"PROV SUM\",N11,L11*P11)","v":816},{"$f":"IF(J11=\"Prov Sum\",\"\",IF(MATCH(J11,'Packet Rate Library'!J:J,0),VLOOKUP(J11,'Packet Rate Library'!J:T,9,FALSE),\"\"))","v":0},{"$f":"IF(R11>0,R11,P11)","v":408},{"$f":"IF(J11=\"SC024\",N11,IF(ISERROR(S11),\"\",IF(J11=\"PROV SUM\",N11,L11*S11)))","v":816}]
[null,"REPB14020","COMMUNAL WORKS","D","PROVISIONAL SUM:  Replace or install post boxes with new vandal-resistant lockable post boxes.",null,null,5.3860000000000001,null,"PROV SUM","SUM",1,200,200,null,{"$f":"SUMIF('Planned Maint v6.2 CSV File'!A:A,J12,'Planned Maint v6.2 CSV File'!I:I)","v":0},{"$f":"IF(J12=\"PROV SUM\",N12,L12*P12)","v":200},{"$f":"IF(J12=\"Prov Sum\",\"\",IF(MATCH(J12,'Packet Rate Library'!J:J,0),VLOOKUP(J12,'Packet Rate Library'!J:T,9,FALSE),\"\"))","v":""},{"$f":"IF(R12>0,R12,P12)","v":""},{"$f":"IF(J12=\"SC024\",N12,IF(ISERROR(S12),\"\",IF(J12=\"PROV SUM\",N12,L12*S12)))","v":200}]
[null,"REPB14020","COMMUNAL WORKS","D","PROVISIONAL SUM: Secure storage area for bicycles (bike stands).",null,null,5.3869999999999996,null,"PROV SUM","SUM",1,500,500,null,{"$f":"SUMIF('Planned Maint v6.2 CSV File'!A:A,J13,'Planned Maint v6.2 CSV File'!I:I)","v":0},{"$f":"IF(J13=\"PROV SUM\",N13,L13*P13)","v":500},{"$f":"IF(J13=\"Prov Sum\",\"\",IF(MATCH(J13,'Packet Rate Library'!J:J,0),VLOOKUP(J13,'Packet Rate Library'!J:T,9,FALSE),\"\"))","v":""},{"$f":"IF(R13>0,R13,P13)","v":""},{"$f":"IF(J13=\"SC024\",N13,IF(ISERROR(S13),\"\",IF(J13=\"PROV SUM\",N13,L13*S13)))","v":500}]
[null,"REPB14020","EXTREP","H"]
[null,"REPB14020","EXTREP","D","Cills: Prepare, clean off all dust and debris, fill in or resurface cracks or spalled surfaces of concrete with epoxy mortar in surfaces of cills, not exceeding 300mm girth, repair over 5 and ne 10mm deep, and remove waste and debris.",null,null,6.16100000000002,null,"1460AF","LM",100,38.25,3825,null,{"$f":"SUMIF('Planned Maint v6.2 CSV File'!A:A,J15,'Planned Maint v6.2 CSV File'!I:I)","v":27.731249999999999},{"$f":"IF(J15=\"PROV SUM\",N15,L15*P15)","v":2773.125},{"$f":"IF(J15=\"Prov Sum\",\"\",IF(MATCH(J15,'Packet Rate Library'!J:J,0),VLOOKUP(J15,'Packet Rate Library'!J:T,9,FALSE),\"\"))","v":0},{"$f":"IF(R15>0,R15,P15)","v":27.731249999999999},{"$f":"IF(J15=\"SC024\",N15,IF(ISERROR(S15),\"\",IF(J15=\"PROV SUM\",N15,L15*S15)))","v":2773.125}]
[null,"REPB14020","EXTREP","D","Walls:Wash down, fill in cracks and holes, sand down and apply two coats of smooth or textured masonry paint to rendered or concrete walls.",null,null,6.1810000000000302,null,"4356AC","SM",28,9.5500000000000007,267.39999999999998,null,{"$f":"SUMIF('Planned Maint v6.2 CSV File'!A:A,J16,'Planned Maint v6.2 CSV File'!I:I)","v":8.1174999999999997},{"$f":"IF(J16=\"PROV SUM\",N16,L16*P16)","v":227.29},{"$f":"IF(J16=\"Prov Sum\",\"\",IF(MATCH(J16,'Packet Rate Library'!J:J,0),VLOOKUP(J16,'Packet Rate Library'!J:T,9,FALSE),\"\"))","v":0},{"$f":"IF(R16>0,R16,P16)","v":8.1174999999999997},{"$f":"IF(J16=\"SC024\",N16,IF(ISERROR(S16),\"\",IF(J16=\"PROV SUM\",N16,L16*S16)))","v":227.29}]
[null,"REPB14020","EXTREP","D","Gates: Wire brush, prepare for, and apply one coat primer, one undercoat, two coats of gloss paint to both sides of any size type single metal gate including all edges and all surfaces of posts.",null,null,6.2030000000000296,null,"4362DA","IT",2,21.61,43.22,null,{"$f":"SUMIF('Planned Maint v6.2 CSV File'!A:A,J17,'Planned Maint v6.2 CSV File'!I:I)","v":18.368499999999997},{"$f":"IF(J17=\"PROV SUM\",N17,L17*P17)","v":36.736999999999995},{"$f":"IF(J17=\"Prov Sum\",\"\",IF(MATCH(J17,'Packet Rate Library'!J:J,0),VLOOKUP(J17,'Packet Rate Library'!J:T,9,FALSE),\"\"))","v":0},{"$f":"IF(R17>0,R17,P17)","v":18.368499999999997},{"$f":"IF(J17=\"SC024\",N17,IF(ISERROR(S17),\"\",IF(J17=\"PROV SUM\",N17,L17*S17)))","v":36.736999999999995}]
[null,"REPB14020","EXTREP","D","Balustrading: Wire brush, prepare for and apply one undercoat and two coats of gloss paint on existing painted surfaces ornamental metal balustrading, railings or gates (measured both sides).",null,null,6.2150000000000398,null,"4363EA","SM",425,16.079999999999998,6834,null,{"$f":"SUMIF('Planned Maint v6.2 CSV File'!A:A,J18,'Planned Maint v6.2 CSV File'!I:I)","v":13.667999999999997},{"$f":"IF(J18=\"PROV SUM\",N18,L18*P18)","v":5808.8999999999987},{"$f":"IF(J18=\"Prov Sum\",\"\",IF(MATCH(J18,'Packet Rate Library'!J:J,0),VLOOKUP(J18,'Packet Rate Library'!J:T,9,FALSE),\"\"))","v":0},{"$f":"IF(R18>0,R18,P18)","v":13.667999999999997},{"$f":"IF(J18=\"SC024\",N18,IF(ISERROR(S18),\"\",IF(J18=\"PROV SUM\",N18,L18*S18)))","v":5808.8999999999987}]
[null,"REPB14020","EXTREP","D","Pipework: Wire brush, prepare for and apply one undercoat and one coat of gloss paint to existing painted surfaces of external pipework ne 300mm girth including brackets.",null,null,6.2280000000000397,null,"4364GA","LM",192,1.21,232.32,null,{"$f":"SUMIF('Planned Maint v6.2 CSV File'!A:A,J19,'Planned Maint v6.2 CSV File'!I:I)","v":1.0285},{"$f":"IF(J19=\"PROV SUM\",N19,L19*P19)","v":197.47199999999998},{"$f":"IF(J19=\"Prov Sum\",\"\",IF(MATCH(J19,'Packet Rate Library'!J:J,0),VLOOKUP(J19,'Packet Rate Library'!J:T,9,FALSE),\"\"))","v":0},{"$f":"IF(R19>0,R19,P19)","v":1.0285},{"$f":"IF(J19=\"SC024\",N19,IF(ISERROR(S19),\"\",IF(J19=\"PROV SUM\",N19,L19*S19)))","v":197.47199999999998}]
[null,"REPB14020","ROOF","H"]
[null,"REPB14020","ROOF","D","Tile: Overhaul clay plain tile roof, refix loose tiles, renew broken or missing tiles to match existing, redress, rewedge and repoint all flashings, aprons, chimney gutters etc., cut out and make good cement weather fillets, repoint in cement mortar (1:3) to all hips, ridges and verges, make good, clear away debris.",null,null,3.8800000000000101,null,"2013EA","SM",580,30.56,17724.8,null,{"$f":"SUMIF('Planned Maint v6.2 CSV File'!A:A,J21,'Planned Maint v6.2 CSV File'!I:I)","v":24.448},{"$f":"IF(J21=\"PROV SUM\",N21,L21*P21)","v":14179.84},{"$f":"IF(J21=\"Prov Sum\",\"\",IF(MATCH(J21,'Packet Rate Library'!J:J,0),VLOOKUP(J21,'Packet Rate Library'!J:T,9,FALSE),\"\"))","v":0},{"$f":"IF(R21>0,R21,P21)","v":24.448},{"$f":"IF(J21=\"SC024\",N21,IF(ISERROR(S21),\"\",IF(J21=\"PROV SUM\",N21,L21*S21)))","v":14179.84}]
[null,"REPB14020","ROOF","D","Moss: Carefully remove moss/lichen growth on roof covering of any kind and dispose of debris off site, reistate all disturbed surfaces, replace broken tiles, slates and the like, thoroughly clean out valleys, gutters, downpipes, hoppers etc, prepare and treat the complete roof area with a diluted fungicide solution AKZO or other equal and approved applied strictly in accordance with the manufacturer’s instructions, thoroughly clean out all gutters and the like to remove all chemical residue arising upon completion of the works, and remove waste and debris.",null,null,3.1799999999999899,null,"2115AA","SM",580,10.17,5898.6,null,{"$f":"SUMIF('Planned Maint v6.2 CSV File'!A:A,J22,'Planned Maint v6.2 CSV File'!I:I)","v":8.136000000000001},{"$f":"IF(J22=\"PROV SUM\",N22,L22*P22)","v":4718.880000000001},{"$f":"IF(J22=\"Prov Sum\",\"\",IF(MATCH(J22,'Packet Rate Library'!J:J,0),VLOOKUP(J22,'Packet Rate Library'!J:T,9,FALSE),\"\"))","v":0},{"$f":"IF(R22>0,R22,P22)","v":8.136000000000001},{"$f":"IF(J22=\"SC024\",N22,IF(ISERROR(S22),\"\",IF(J22=\"PROV SUM\",N22,L22*S22)))","v":4718.880000000001}]
[null,"REPB14020","WINDOWS","H"]
[null,"REPB14020","WINDOWS","D","Double Glazed Unit: Reglaze unit upto 1.00sm, hermatically sealed with 4mm obscure low emissity (Low E) glass flush edge unit, including remove beads etc. hack out glass and glaze new unit to wood, metal or PVCu frames.",null,null,4.1839999999999504,null,"5501AC","NO",2,81.08,162.16,null,{"$f":"SUMIF('Planned Maint v6.2 CSV File'!A:A,J24,'Planned Maint v6.2 CSV File'!I:I)","v":66.599112000000005},{"$f":"IF(J24=\"PROV SUM\",N24,L24*P24)","v":133.19822400000001},{"$f":"IF(J24=\"Prov Sum\",\"\",IF(MATCH(J24,'Packet Rate Library'!J:J,0),VLOOKUP(J24,'Packet Rate Library'!J:T,9,FALSE),\"\"))","v":0},{"$f":"IF(R24>0,R24,P24)","v":66.599112000000005},{"$f":"IF(J24=\"SC024\",N24,IF(ISERROR(S24),\"\",IF(J24=\"PROV SUM\",N24,L24*S24)))","v":133.19822400000001}]
[null,"REPB14020","WINDOWS","D","PROVISIONAL SUM: Windows Pvcu: Washdown windows at rear and flank elevations (No 175).",null,null,4.2930000000000001,null,"PROV SUM","SUM",1,1500,1500,null,{"$f":"SUMIF('Planned Maint v6.2 CSV File'!A:A,J25,'Planned Maint v6.2 CSV File'!I:I)","v":0},{"$f":"IF(J25=\"PROV SUM\",N25,L25*P25)","v":1500},{"$f":"IF(J25=\"Prov Sum\",\"\",IF(MATCH(J25,'Packet Rate Library'!J:J,0),VLOOKUP(J25,'Packet Rate Library'!J:T,9,FALSE),\"\"))","v":""},{"$f":"IF(R25>0,R25,P25)","v":""},{"$f":"IF(J25=\"SC024\",N25,IF(ISERROR(S25),\"\",IF(J25=\"PROV SUM\",N25,L25*S25)))","v":1500}]
[null,"REPB14020","SCAFFOLD","H"]
[null,"REPB14020","SCAFFOLD","D","Standard Scaffold item: erect; dismantle; basic independent tied working scaffolding; 5 boards wide, including hire period; completely accessible; debris netting to all elevations; double boarded and polythene included as necessary, any fan(s) included as required; rope plus wheel for lifting operations; 3rd handrail included whenever necessary; as per applicable regulations (applies to up to 5 storeys). Measured up to second handrail and by the middle of the scaffold (equidistant from the inside/outside face) including design when required. Rate to include for 12 week hire",null,null,2.1,null,"SC001","M2",8850,12.92,114342,null,{"$f":"SUMIF('Planned Maint v6.2 CSV File'!A:A,J27,'Planned Maint v6.2 CSV File'!I:I)","v":16.4084},{"$f":"IF(J27=\"PROV SUM\",N27,L27*P27)","v":145214.34},{"$f":"IF(J27=\"Prov Sum\",\"\",IF(MATCH(J27,'Packet Rate Library'!J:J,0),VLOOKUP(J27,'Packet Rate Library'!J:T,9,FALSE),\"\"))","v":0},{"$f":"IF(R27>0,R27,P27)","v":16.4084},{"$f":"IF(J27=\"SC024\",N27,IF(ISERROR(S27),\"\",IF(J27=\"PROV SUM\",N27,L27*S27)))","v":145214.34}]
[null,"REPB14020","SCAFFOLD","D","Scaffold alarm - 1 x sounder, 2 x PIR 1 X key pad (Divided by Number of properties if continuous scaffolds)",null,null,2.5,null,"SC005","unit",1,420,420,null,{"$f":"SUMIF('Planned Maint v6.2 CSV File'!A:A,J28,'Planned Maint v6.2 CSV File'!I:I)","v":533.4},533.4,{"$f":"IF(J28=\"Prov Sum\",\"\",IF(MATCH(J28,'Packet Rate Library'!J:J,0),VLOOKUP(J28,'Packet Rate Library'!J:T,9,FALSE),\"\"))","v":0},533.4,533.4]
[null,"REPB14020","SCAFFOLD","D","E/O for additional PIRS",null,null,2.6,null,"SC007","unit",3,50,150,null,{"$f":"SUMIF('Planned Maint v6.2 CSV File'!A:A,J29,'Planned Maint v6.2 CSV File'!I:I)","v":63.5},190.5,{"$f":"IF(J29=\"Prov Sum\",\"\",IF(MATCH(J29,'Packet Rate Library'!J:J,0),VLOOKUP(J29,'Packet Rate Library'!J:T,9,FALSE),\"\"))","v":0},63.5,190.5]
[null,"REPB14020","SCAFFOLD","D","Satellite Dish, reposition",null,null,2.2200000000000002,null,"SC022","Nr",14,82.5,1155,null,{"$f":"SUMIF('Planned Maint v6.2 CSV File'!A:A,J30,'Planned Maint v6.2 CSV File'!I:I)","v":104.77500000000001},1466.8500000000001,{"$f":"IF(J30=\"Prov Sum\",\"\",IF(MATCH(J30,'Packet Rate Library'!J:J,0),VLOOKUP(J30,'Packet Rate Library'!J:T,9,FALSE),\"\"))","v":0},104.77500000000001,1466.8500000000001]
[null,"REPB14020","SCAFFOLD","D","supply cherry picker per day incl delivery and driver",null,null,2.2999999999999998,null,"SC030",null,1,695,695,null,{"$f":"SUMIF('Planned Maint v6.2 CSV File'!A:A,J31,'Planned Maint v6.2 CSV File'!I:I)","v":882.65},882.65,{"$f":"IF(J31=\"Prov Sum\",\"\",IF(MATCH(J31,'Packet Rate Library'!J:J,0),VLOOKUP(J31,'Packet Rate Library'!J:T,9,FALSE),\"\"))","v":0},882.65,882.65]
[null,"REPB14020","SCAFFOLD","D","Additional Hire if required - % per week of total scaffolding costs.  This is to be applied in the event an agreed programme exceeding the duration set out above. An example would be large low level blocks of 4 storeys requiring a large programme duration",null,null,null,null,"SC024","unit",null,4.8300000000000003E-2,{"$f":"VLOOKUP(B32,'Project Overheads & Scaffold'!$W:$AI,13,FALSE)","v":0},null,{"$f":"SUMIF('Planned Maint v6.2 CSV File'!A:A,J32,'Planned Maint v6.2 CSV File'!I:I)","v":4.8300000000000003E-2},0,{"$f":"IF(J32=\"Prov Sum\",\"\",IF(MATCH(J32,'Packet Rate Library'!J:J,0),VLOOKUP(J32,'Packet Rate Library'!J:T,9,FALSE),\"\"))","v":{"$error":"#N/A"}},{"$error":"#N/A"},0]
[null,"REPB14020","ESTATE WORKS","H"]
[null,"REPB14020","ESTATE WORKS","D","Wall: Rake out existing joints of brickwork min 12mm and repoint brickwork in mortar to match existing and remove waste and debris.",null,null,7.2530000000000499,null,"1021AA","SM",2,20.13,40.26,null,{"$f":"SUMIF('Planned Maint v6.2 CSV File'!A:A,J34,'Planned Maint v6.2 CSV File'!I:I)","v":14.594249999999999},{"$f":"IF(J34=\"PROV SUM\",N34,L34*P34)","v":29.188499999999998},{"$f":"IF(J34=\"Prov Sum\",\"\",IF(MATCH(J34,'Packet Rate Library'!J:J,0),VLOOKUP(J34,'Packet Rate Library'!J:T,9,FALSE),\"\"))","v":0},{"$f":"IF(R34>0,R34,P34)","v":14.594249999999999},{"$f":"IF(J34=\"SC024\",N34,IF(ISERROR(S34),\"\",IF(J34=\"PROV SUM\",N34,L34*S34)))","v":29.188499999999998}]
[null,"REPB14020","ESTATE WORKS","D","PROVISIONAL SUM: Renew gates to external sheds (NO 35).",null,null,7.3159999999999998,null,"PROV SUM","SUM",1,1800,1800,null,{"$f":"SUMIF('Planned Maint v6.2 CSV File'!A:A,J35,'Planned Maint v6.2 CSV File'!I:I)","v":0},{"$f":"IF(J35=\"PROV SUM\",N35,L35*P35)","v":1800},{"$f":"IF(J35=\"Prov Sum\",\"\",IF(MATCH(J35,'Packet Rate Library'!J:J,0),VLOOKUP(J35,'Packet Rate Library'!J:T,9,FALSE),\"\"))","v":""},{"$f":"IF(R35>0,R35,P35)","v":""},{"$f":"IF(J35=\"SC024\",N35,IF(ISERROR(S35),\"\",IF(J35=\"PROV SUM\",N35,L35*S35)))","v":1800}]

{"sheet":"1-10 Lissenden Mansions ","index":6,"n_rows":50,"n_cols":20,"rows_kept":50,"cut":false,"hidden":false,"merged":[[4,15,4,19]]}
[null,null,null,null,null,null,null,null,null,null,null,null,null,null,null,{"$f":"SUMIF('Planned Maint v6.2 CSV File'!A:A,J1,'Planned Maint v6.2 CSV File'!I:I)","v":0},{"$f":"IF(J1=\"PROV SUM\",N1,L1*P1)","v":0},{"$f":"IF(J1=\"Prov Sum\",\"\",IF(MATCH(J1,'Packet Rate Library'!J:J,0),VLOOKUP(J1,'Packet Rate Library'!J:T,9,FALSE),\"\"))","v":{"$error":"#N/A"}},{"$f":"IF(R1>0,R1,P1)","v":{"$error":"#N/A"}},{"$f":"IF(J1=\"SC024\",N1,IF(ISERROR(S1),\"\",IF(J1=\"PROV SUM\",N1,L1*S1)))","v":""}]
[]
[]
["1-10 LISSENDEN MANSIONS"]
[]
["Requirement","REPB04223","Requirement Type","Rowtype (H=Header, D=Detail)","Description","Works Order Commencement Date","Works Order Completion Date","Specification  Ref. Item No.'s","Works Order Delivery Date","SOR Code","SOR Unit","SOR Qty","SOR Cost","Total Cost",null,"Rate (max)","Cost (max)","Modified price","Tendered rate","Tendered total"]
[]
[null,"REPB04223","ASBESTOS","H"]
[null,"REPB04223","ASBESTOS","D","Refurbishment and Demolition  Survey to Full Property (with upto 5 Nr samples) , flat or house any size",null,null,1.3,null,"A003","Item",2,234,468,null,{"$f":"SUMIF('Planned Maint v6.2 CSV File'!A:A,J9,'Planned Maint v6.2 CSV File'!I:I)","v":222.29999999999998},{"$f":"IF(J9=\"PROV SUM\",N9,L9*P9)","v":444.59999999999997},{"$f":"IF(J9=\"Prov Sum\",\"\",IF(MATCH(J9,'Packet Rate Library'!J:J,0),VLOOKUP(J9,'Packet Rate Library'!J:T,9,FALSE),\"\"))","v":0},{"$f":"IF(R9>0,R9,P9)","v":222.29999999999998},{"$f":"IF(J9=\"SC024\",N9,IF(ISERROR(S9),\"\",IF(J9=\"PROV SUM\",N9,L9*S9)))","v":444.59999999999997}]
[null,"REPB04223","COMMUNAL WORKS","H"]
[null,"REPB04223","COMMUNAL WORKS","D","PROVISIONAL SUM: Replace or install post boxes with new vandal-resistant lockable post boxes.",null,null,5.3860000000000001,null,"PROV SUM","SUM",1,100,100,null,{"$f":"SUMIF('Planned Maint v6.2 CSV File'!A:A,J11,'Planned Maint v6.2 CSV File'!I:I)","v":0},{"$f":"IF(J11=\"PROV SUM\",N11,L11*P11)","v":100},{"$f":"IF(J11=\"Prov Sum\",\"\",IF(MATCH(J11,'Packet Rate Library'!J:J,0),VLOOKUP(J11,'Packet Rate Library'!J:T,9,FALSE),\"\"))","v":""},{"$f":"IF(R11>0,R11,P11)","v":""},{"$f":"IF(J11=\"SC024\",N11,IF(ISERROR(S11),\"\",IF(J11=\"PROV SUM\",N11,L11*S11)))","v":100}]
[null,"REPB04223","COMMUNAL WORKS","D","PROVISIONAL SUM: Secure storage area for bicycles (bike stands).",null,null,5.3869999999999996,null,"PROV SUM","SUM",1,500,500,null,{"$f":"SUMIF('Planned Maint v6.2 CSV File'!A:A,J12,'Planned Maint v6.2 CSV File'!I:I)","v":0},{"$f":"IF(J12=\"PROV SUM\",N12,L12*P12)","v":500},{"$f":"IF(J12=\"Prov Sum\",\"\",IF(MATCH(J12,'Packet Rate Library'!J:J,0),VLOOKUP(J12,'Packet Rate Library'!J:T,9,FALSE),\"\"))","v":""},{"$f":"IF(R12>0,R12,P12)","v":""},{"$f":"IF(J12=\"SC024\",N12,IF(ISERROR(S12),\"\",IF(J12=\"PROV SUM\",N12,L12*S12)))","v":500}]
[null,"REPB04223","EXTREP","H"]
[null,"REPB04223","EXTREP","D","Fracture: Remove any applied finish and cut out bricks as necessary to either side of fracture, one face only, stitch in new bricks, bed and point to match existing in cement lime mortar (1:1:6), and make good any applied finishes, and remove waste and debris (measured over mean general line of fracture).",null,null,6.82,null,"1019AA","LM",3,44.12,132.36000000000001,null,{"$f":"SUMIF('Planned Maint v6.2 CSV File'!A:A,J14,'Planned Maint v6.2 CSV File'!I:I)","v":31.986999999999998},{"$f":"IF(J14=\"PROV SUM\",N14,L14*P14)","v":95.960999999999999},{"$f":"IF(J14=\"Prov Sum\",\"\",IF(MATCH(J14,'Packet Rate Library'!J:J,0),VLOOKUP(J14,'Packet Rate Library'!J:T,9,FALSE),\"\"))","v":0},{"$f":"IF(R14>0,R14,P14)","v":31.986999999999998},{"$f":"IF(J14=\"SC024\",N14,IF(ISERROR(S14),\"\",IF(J14=\"PROV SUM\",N14,L14*S14)))","v":95.960999999999999}]
[null,"REPB04223","EXTREP","D","Wall: Cut out bricks from face of wall, clean and clear away, lay upto 15 No. new facing bricks in cement lime mortar (1:1:6), bond, bed and point to match existing and remove waste and debris.",null,null,6.85,null,"1019BA","IT",12,21.92,263.04000000000002,null,{"$f":"SUMIF('Planned Maint v6.2 CSV File'!A:A,J15,'Planned Maint v6.2 CSV File'!I:I)","v":15.892000000000001},190.70400000000001,{"$f":"IF(J15=\"Prov Sum\",\"\",IF(MATCH(J15,'Packet Rate Library'!J:J,0),VLOOKUP(J15,'Packet Rate Library'!J:T,9,FALSE),\"\"))","v":0},15.892000000000001,190.70400000000001]
[null,"REPB04223","EXTREP","D","Wall: Rake out existing joints of brickwork min 12mm and repoint brickwork in mortar to match existing and remove waste and debris.",null,null,6.91,null,"1021AA","SM",16,20.13,322.08,null,{"$f":"SUMIF('Planned Maint v6.2 CSV File'!A:A,J16,'Planned Maint v6.2 CSV File'!I:I)","v":14.594249999999999},233.50799999999998,{"$f":"IF(J16=\"Prov Sum\",\"\",IF(MATCH(J16,'Packet Rate Library'!J:J,0),VLOOKUP(J16,'Packet Rate Library'!J:T,9,FALSE),\"\"))","v":0},14.594249999999999,233.50799999999998]
[null,"REPB04223","EXTREP","D","Cill: Hack off defective area of concrete cill clean and treat any exposed reinforcement, drill into cill and insert 6mm diameter reinforcing bars at 150mm centres, apply bonding agent and reform cill with fine concrete to match existing profiles including all necessary formwork, make good to structure and all finishes and fillets and remove waste and debris.",null,null,6.1159999999999997,null,"1031BA","NO",12,38.74,464.88,null,{"$f":"SUMIF('Planned Maint v6.2 CSV File'!A:A,J17,'Planned Maint v6.2 CSV File'!I:I)","v":28.086500000000001},337.03800000000001,{"$f":"IF(J17=\"Prov Sum\",\"\",IF(MATCH(J17,'Packet Rate Library'!J:J,0),VLOOKUP(J17,'Packet Rate Library'!J:T,9,FALSE),\"\"))","v":0},28.086500000000001,337.03800000000001]
[null,"REPB04223","EXTREP","D","Walls: Wash down, fill in cracks and holes, sand down and apply one coat of stabilising solution and two coats of smooth or textured masonry paint to brickwork surfaces of walls.",null,null,6.1860000000000301,null,"4356BD","SM",315,11.63,3663.45,null,{"$f":"SUMIF('Planned Maint v6.2 CSV File'!A:A,J18,'Planned Maint v6.2 CSV File'!I:I)","v":9.8855000000000004},3113.9325000000003,{"$f":"IF(J18=\"Prov Sum\",\"\",IF(MATCH(J18,'Packet Rate Library'!J:J,0),VLOOKUP(J18,'Packet Rate Library'!J:T,9,FALSE),\"\"))","v":0},9.8855000000000004,3113.9325000000003]
[null,"REPB04223","EXTREP","D","Soffit: Wash down, fill in cracks and holes, sand smooth and apply one coat of sealer and two coats of smooth or textured masonry paint to rendered or concrete soffits.",null,null,6.1880000000000299,null,"4356CB","SM",12,9.82,117.84,null,{"$f":"SUMIF('Planned Maint v6.2 CSV File'!A:A,J19,'Planned Maint v6.2 CSV File'!I:I)","v":8.3469999999999995},100.16399999999999,{"$f":"IF(J19=\"Prov Sum\",\"\",IF(MATCH(J19,'Packet Rate Library'!J:J,0),VLOOKUP(J19,'Packet Rate Library'!J:T,9,FALSE),\"\"))","v":0},8.3469999999999995,100.16399999999999]
[null,"REPB04223","EXTREP","D","Balustrading: Wire brush, prepare for and apply one undercoat, one coat of gloss paint on existing painted surfaces of ornamental metal balustrading, railings or gates (measured both sides).",null,null,6.2250000000000396,null,"4364DA","SM",12,11.66,139.91999999999999,null,{"$f":"SUMIF('Planned Maint v6.2 CSV File'!A:A,J20,'Planned Maint v6.2 CSV File'!I:I)","v":9.9109999999999996},118.93199999999999,{"$f":"IF(J20=\"Prov Sum\",\"\",IF(MATCH(J20,'Packet Rate Library'!J:J,0),VLOOKUP(J20,'Packet Rate Library'!J:T,9,FALSE),\"\"))","v":0},9.9109999999999996,118.93199999999999]
[null,"REPB04223","EXTREP","D","Window:Rub down, prepare and apply one coat of primer, one undercoat and two coats of gloss paint on surfaces of wooden windowsl (one side and edges).",null,null,6.2360000000000504,null,"4380BA","SM",177,25.87,4578.99,null,{"$f":"SUMIF('Planned Maint v6.2 CSV File'!A:A,J21,'Planned Maint v6.2 CSV File'!I:I)","v":21.9895},3892.1414999999997,{"$f":"IF(J21=\"Prov Sum\",\"\",IF(MATCH(J21,'Packet Rate Library'!J:J,0),VLOOKUP(J21,'Packet Rate Library'!J:T,9,FALSE),\"\"))","v":0},21.9895,3892.1414999999997]
[null,"REPB04223","EXTREP","D","Frame:Rub down, prepare and apply one coat of primer, one undercoat and two coats of gloss paint on timber frame ne 300mm girth.",null,null,6.2370000000000498,null,"4380CA","LM",50,6.28,314,null,{"$f":"SUMIF('Planned Maint v6.2 CSV File'!A:A,J22,'Planned Maint v6.2 CSV File'!I:I)","v":5.3380000000000001},266.89999999999998,{"$f":"IF(J22=\"Prov Sum\",\"\",IF(MATCH(J22,'Packet Rate Library'!J:J,0),VLOOKUP(J22,'Packet Rate Library'!J:T,9,FALSE),\"\"))","v":0},5.3380000000000001,266.89999999999998]
[null,"REPB04223","EXTREP","D","Door:Rub down, prepare for and apply one coat of primer, one undercoat and two coats of gloss paint to all surfaces of any size or type of single glazed timber door. (one sides and edges).",null,null,6.2380000000000502,null,"4380DA","IT",9,20.71,186.39,null,{"$f":"SUMIF('Planned Maint v6.2 CSV File'!A:A,J23,'Planned Maint v6.2 CSV File'!I:I)","v":17.6035},158.4315,{"$f":"IF(J23=\"Prov Sum\",\"\",IF(MATCH(J23,'Packet Rate Library'!J:J,0),VLOOKUP(J23,'Packet Rate Library'!J:T,9,FALSE),\"\"))","v":0},17.6035,158.4315]
[null,"REPB04223","EXTREP","D","Gates: Rub down, prepare for, and apply one undercoat, two coats of gloss paint on existing painted surfaces of gates and posts (measured both sides).",null,null,6.2580000000000497,null,"4381FA","SM",2,12.41,24.82,null,{"$f":"SUMIF('Planned Maint v6.2 CSV File'!A:A,J24,'Planned Maint v6.2 CSV File'!I:I)","v":10.548500000000001},21.097000000000001,{"$f":"IF(J24=\"Prov Sum\",\"\",IF(MATCH(J24,'Packet Rate Library'!J:J,0),VLOOKUP(J24,'Packet Rate Library'!J:T,9,FALSE),\"\"))","v":0},10.548500000000001,21.097000000000001]
[null,"REPB04223","EXTREP","D","Fascias, soffits, Bargeboards and the like:Rub down, prepare for, and apply one undercoat, two coats of gloss paint on existing painted surfaces of facias, soffits, bargeboards and the like ne 300mm girth.",null,null,6.2600000000000504,null,"4381HB","LM",12,3.74,44.88,null,{"$f":"SUMIF('Planned Maint v6.2 CSV File'!A:A,J25,'Planned Maint v6.2 CSV File'!I:I)","v":3.1790000000000003},38.148000000000003,{"$f":"IF(J25=\"Prov Sum\",\"\",IF(MATCH(J25,'Packet Rate Library'!J:J,0),VLOOKUP(J25,'Packet Rate Library'!J:T,9,FALSE),\"\"))","v":0},3.1790000000000003,38.148000000000003]
[null,"REPB04223","EXTREP","D","PROVISIONAL SUM: S/F pull handle to side gates.",null,null,6.399,null,"PROV SUM","SUM",1,50,50,null,{"$f":"SUMIF('Planned Maint v6.2 CSV File'!A:A,J26,'Planned Maint v6.2 CSV File'!I:I)","v":0},50,{"$f":"IF(J26=\"Prov Sum\",\"\",IF(MATCH(J26,'Packet Rate Library'!J:J,0),VLOOKUP(J26,'Packet Rate Library'!J:T,9,FALSE),\"\"))","v":""},"",50]
[null,"REPB04223","ROOF","H"]
[null,"REPB04223","ROOF","D","PROV SUM: Overlay with BAUDER Bauderflex System or equivalent inclusive of 15 year guarantee. Voids 1m2 to be deducted Overlay existing mineral surfaced felt with 2 layer torch-on built up felt roofing (including preparation). Code RF154\n\nUp to 200 m2*",null,null,3.4340000000000002,null,"PROV SUM","M2",250,52,13000,null,{"$f":"SUMIF('Planned Maint v6.2 CSV File'!A:A,J28,'Planned Maint v6.2 CSV File'!I:I)","v":0},{"$f":"IF(J28=\"PROV SUM\",N28,L28*P28)","v":13000},{"$f":"IF(J28=\"Prov Sum\",\"\",IF(MATCH(J28,'Packet Rate Library'!J:J,0),VLOOKUP(J28,'Packet Rate Library'!J:T,9,FALSE),\"\"))","v":""},{"$f":"IF(R28>0,R28,P28)","v":""},{"$f":"IF(J28=\"SC024\",N28,IF(ISERROR(S28),\"\",IF(J28=\"PROV SUM\",N28,L28*S28)))","v":13000}]
[null,"REPB04223","ROOF","D","PROV SUM: Supply & lay vapour barrier felt incl enveloping insulation board\nUp to 200 m2* Code RF171",null,null,3.4350000000000001,null,"PROV SUM","M2",250,17,4250,null,{"$f":"SUMIF('Planned Maint v6.2 CSV File'!A:A,J29,'Planned Maint v6.2 CSV File'!I:I)","v":0},4250,{"$f":"IF(J29=\"Prov Sum\",\"\",IF(MATCH(J29,'Packet Rate Library'!J:J,0),VLOOKUP(J29,'Packet Rate Library'!J:T,9,FALSE),\"\"))","v":""},"",4250]
[null,"REPB04223","ROOF","D","PROV SUM: Supply & lay 120mm thick PIR insulation bonded to vapour barrier (in line with current building regulations) Code RF175\n\nUp to 200 m2*",null,null,3.4359999999999999,null,"PROV SUM","M2",250,32,8000,null,{"$f":"SUMIF('Planned Maint v6.2 CSV File'!A:A,J30,'Planned Maint v6.2 CSV File'!I:I)","v":0},8000,{"$f":"IF(J30=\"Prov Sum\",\"\",IF(MATCH(J30,'Packet Rate Library'!J:J,0),VLOOKUP(J30,'Packet Rate Library'!J:T,9,FALSE),\"\"))","v":""},"",8000]
[null,"REPB04223","ROOF","D","PROV SUM: Prepare & clean existing Rainwater Outlet and dress to same Code RF181",null,null,3.4369999999999998,null,"PROV SUM","Nr",10,35,350,null,{"$f":"SUMIF('Planned Maint v6.2 CSV File'!A:A,J31,'Planned Maint v6.2 CSV File'!I:I)","v":0},350,{"$f":"IF(J31=\"Prov Sum\",\"\",IF(MATCH(J31,'Packet Rate Library'!J:J,0),VLOOKUP(J31,'Packet Rate Library'!J:T,9,FALSE),\"\"))","v":""},"",350]
[null,"REPB04223","ROOF","D","PROV SUM: Asphalt: Renew 20mm asphalt roof finish comprising isolating membrane, asphalt laid in two layers and bond to existing asphalt and finish smooth to match existing levels, and remove waste and debris. Code 2190AA",null,null,3.4380000000000002,null,"PROV SUM","SM",25,85.24,2131,null,{"$f":"SUMIF('Planned Maint v6.2 CSV File'!A:A,J32,'Planned Maint v6.2 CSV File'!I:I)","v":0},2131,{"$f":"IF(J32=\"Prov Sum\",\"\",IF(MATCH(J32,'Packet Rate Library'!J:J,0),VLOOKUP(J32,'Packet Rate Library'!J:T,9,FALSE),\"\"))","v":""},"",2131]
[null,"REPB04223","ROOF","D","PROV SUM: Tile: Overhaul clay plain tile roof, refix loose tiles, renew broken or missing tiles to match existing, redress, rewedge and repoint all flashings, aprons, chimney gutters etc., cut out and make good cement weather fillets, repoint in cement mortar (1:3) to all hips, ridges and verges, make good, clear away debris. Code 2013EA",null,null,3.4390000000000001,null,"PROV SUM","SM",30,30.56,916.8,null,{"$f":"SUMIF('Planned Maint v6.2 CSV File'!A:A,J33,'Planned Maint v6.2 CSV File'!I:I)","v":0},916.8,{"$f":"IF(J33=\"Prov Sum\",\"\",IF(MATCH(J33,'Packet Rate Library'!J:J,0),VLOOKUP(J33,'Packet Rate Library'!J:T,9,FALSE),\"\"))","v":""},"",916.8]
[null,"REPB04223","ROOF","D","PROV SUM: Roof Covering: Extra over any renewal or refixing of plain concrete roof tiles for renew roofing felt and battens. Code 2013RR",null,null,3.44,null,"PROV SUM","SM",10,21.88,218.8,null,{"$f":"SUMIF('Planned Maint v6.2 CSV File'!A:A,J34,'Planned Maint v6.2 CSV File'!I:I)","v":0},218.8,{"$f":"IF(J34=\"Prov Sum\",\"\",IF(MATCH(J34,'Packet Rate Library'!J:J,0),VLOOKUP(J34,'Packet Rate Library'!J:T,9,FALSE),\"\"))","v":""},"",218.8]
[null,"REPB04223","ROOF","D","PROV SUM: Slate: Renew any size natural slates to roof fixed with clips or copper nails including double courses at eaves, verges cuttings, all labours renewing roofing felt and battens, and remove waste and debris. Code 2033AA",null,null,3.4409999999999998,null,"PROV SUM","SM",6,119.76,718.56,null,{"$f":"SUMIF('Planned Maint v6.2 CSV File'!A:A,J35,'Planned Maint v6.2 CSV File'!I:I)","v":0},718.56,{"$f":"IF(J35=\"Prov Sum\",\"\",IF(MATCH(J35,'Packet Rate Library'!J:J,0),VLOOKUP(J35,'Packet Rate Library'!J:T,9,FALSE),\"\"))","v":""},"",718.56]
[null,"REPB04223","WINDOWS","H"]
[null,"REPB04223","WINDOWS","D","Soft wood timber splice with resin; face splice repair method no. 5.\nRemove old and loose paint as necessary. Cut out decayed timber from windows and frames, piecing in or frame in new wrought softwood with resin to match existing. Leave ready to decorate. \n\nSplice not exc 500 to 1000mm",null,null,4.1100000000000003,null,"WIND017","Nr",22,36.75,808.5,null,{"$f":"SUMIF('Planned Maint v6.2 CSV File'!A:A,J37,'Planned Maint v6.2 CSV File'!I:I)","v":34.912500000000001},{"$f":"IF(J37=\"PROV SUM\",N37,L37*P37)","v":768.07500000000005},{"$f":"IF(J37=\"Prov Sum\",\"\",IF(MATCH(J37,'Packet Rate Library'!J:J,0),VLOOKUP(J37,'Packet Rate Library'!J:T,9,FALSE),\"\"))","v":0},{"$f":"IF(R37>0,R37,P37)","v":34.912500000000001},{"$f":"IF(J37=\"SC024\",N37,IF(ISERROR(S37),\"\",IF(J37=\"PROV SUM\",N37,L37*S37)))","v":768.07500000000005}]
[null,"REPB04223","WINDOWS","D","7. Timber repair system; using window care dry fix/dry flex RP; Conservation Joint; \n\nUp to 50mm ",null,null,4.13,null,"WIND022","Nr",170,4.25,722.5,null,{"$f":"SUMIF('Planned Maint v6.2 CSV File'!A:A,J38,'Planned Maint v6.2 CSV File'!I:I)","v":4.0374999999999996},{"$f":"IF(J38=\"PROV SUM\",N38,L38*P38)","v":686.37499999999989},{"$f":"IF(J38=\"Prov Sum\",\"\",IF(MATCH(J38,'Packet Rate Library'!J:J,0),VLOOKUP(J38,'Packet Rate Library'!J:T,9,FALSE),\"\"))","v":0},{"$f":"IF(R38>0,R38,P38)","v":4.0374999999999996},{"$f":"IF(J38=\"SC024\",N38,IF(ISERROR(S38),\"\",IF(J38=\"PROV SUM\",N38,L38*S38)))","v":686.37499999999989}]
[null,"REPB04223","WINDOWS","D","7. Timber repair system; using window care dry fix/dry flex RP; Conservation Joint;\n\nup to 100mm ",null,null,4.1399999999999997,null,"WIND023","Nr",28,6.75,189,null,{"$f":"SUMIF('Planned Maint v6.2 CSV File'!A:A,J39,'Planned Maint v6.2 CSV File'!I:I)","v":6.4124999999999996},{"$f":"IF(J39=\"PROV SUM\",N39,L39*P39)","v":179.54999999999998},{"$f":"IF(J39=\"Prov Sum\",\"\",IF(MATCH(J39,'Packet Rate Library'!J:J,0),VLOOKUP(J39,'Packet Rate Library'!J:T,9,FALSE),\"\"))","v":0},{"$f":"IF(R39>0,R39,P39)","v":6.4124999999999996},{"$f":"IF(J39=\"SC024\",N39,IF(ISERROR(S39),\"\",IF(J39=\"PROV SUM\",N39,L39*S39)))","v":179.54999999999998}]
[null,"REPB04223","WINDOWS","D","Window: Overhaul timber sash window, renew staff and parting beads, take out sashes and later rehang on appropriate sized new undyed plaited nylon sash cords, renew pocket pieces, wedge and cramp loose sash frames, oil pulleys, ease and adjust sashes, remove, refit or renew ironmongery, rake out and renew defective putty and mastic, touch up decorations internally to match existing and prepare for redecoration externally, and remove waste and debris.",null,null,4.8999999999999799,null,"3150CA","NO",19,35.61,676.59,null,{"$f":"SUMIF('Planned Maint v6.2 CSV File'!A:A,J40,'Planned Maint v6.2 CSV File'!I:I)","v":31.568264999999997},{"$f":"IF(J40=\"PROV SUM\",N40,L40*P40)","v":599.79703499999994},{"$f":"IF(J40=\"Prov Sum\",\"\",IF(MATCH(J40,'Packet Rate Library'!J:J,0),VLOOKUP(J40,'Packet Rate Library'!J:T,9,FALSE),\"\"))","v":0},{"$f":"IF(R40>0,R40,P40)","v":31.568264999999997},{"$f":"IF(J40=\"SC024\",N40,IF(ISERROR(S40),\"\",IF(J40=\"PROV SUM\",N40,L40*S40)))","v":599.79703499999994}]
[null,"REPB04223","SCAFFOLD","H"]
[null,"REPB04223","SCAFFOLD","D","Standard Scaffold item: erect; dismantle; basic independent tied working scaffolding; 5 boards wide, including hire period; completely accessible; debris netting to all elevations; double boarded and polythene included as necessary, any fan(s) included as required; rope plus wheel for lifting operations; 3rd handrail included whenever necessary; as per applicable regulations (applies to up to 5 storeys). Measured up to second handrail and by the middle of the scaffold (equidistant from the inside/outside face) including design when required. Rate to include for 12 week hire",null,null,2.1,null,"SC001","M2",1124,12.92,14522.08,null,{"$f":"SUMIF('Planned Maint v6.2 CSV File'!A:A,J42,'Planned Maint v6.2 CSV File'!I:I)","v":16.4084},{"$f":"IF(J42=\"PROV SUM\",N42,L42*P42)","v":18443.0416},{"$f":"IF(J42=\"Prov Sum\",\"\",IF(MATCH(J42,'Packet Rate Library'!J:J,0),VLOOKUP(J42,'Packet Rate Library'!J:T,9,FALSE),\"\"))","v":0},{"$f":"IF(R42>0,R42,P42)","v":16.4084},{"$f":"IF(J42=\"SC024\",N42,IF(ISERROR(S42),\"\",IF(J42=\"PROV SUM\",N42,L42*S42)))","v":18443.0416}]
[null,"REPB04223","SCAFFOLD","D","Scaffold alarm - 1 x sounder, 2 x PIR 1 X key pad (Divided by Number of properties if continuous scaffolds)",null,null,2.5,null,"SC005","unit",1,420,420,null,{"$f":"SUMIF('Planned Maint v6.2 CSV File'!A:A,J43,'Planned Maint v6.2 CSV File'!I:I)","v":533.4},533.4,{"$f":"IF(J43=\"Prov Sum\",\"\",IF(MATCH(J43,'Packet Rate Library'!J:J,0),VLOOKUP(J43,'Packet Rate Library'!J:T,9,FALSE),\"\"))","v":0},533.4,533.4]
[null,"REPB04223","SCAFFOLD","D","E/O for additional PIRS",null,null,2.6,null,"SC007","unit",3,50,150,null,{"$f":"SUMIF('Planned Maint v6.2 CSV File'!A:A,J44,'Planned Maint v6.2 CSV File'!I:I)","v":63.5},190.5,{"$f":"IF(J44=\"Prov Sum\",\"\",IF(MATCH(J44,'Packet Rate Library'!J:J,0),VLOOKUP(J44,'Packet Rate Library'!J:T,9,FALSE),\"\"))","v":0},63.5,190.5]
[null,"REPB04223","SCAFFOLD","D","Installation of rubbish chute",null,null,2.1800000000000002,null,"SC018","lm",1,45,45,null,{"$f":"SUMIF('Planned Maint v6.2 CSV File'!A:A,J45,'Planned Maint v6.2 CSV File'!I:I)","v":57.15},57.15,{"$f":"IF(J45=\"Prov Sum\",\"\",IF(MATCH(J45,'Packet Rate Library'!J:J,0),VLOOKUP(J45,'Packet Rate Library'!J:T,9,FALSE),\"\"))","v":0},57.15,57.15]
[null,"REPB04223","SCAFFOLD","D","Erecting hoist mast- per unit- up to 5 storeys (including delivery, dismantle and gates) ",null,null,2.2599999999999998,null,"SC026","unit",1,1127.5,1127.5,null,{"$f":"SUMIF('Planned Maint v6.2 CSV File'!A:A,J46,'Planned Maint v6.2 CSV File'!I:I)","v":1431.925},1431.925,{"$f":"IF(J46=\"Prov Sum\",\"\",IF(MATCH(J46,'Packet Rate Library'!J:J,0),VLOOKUP(J46,'Packet Rate Library'!J:T,9,FALSE),\"\"))","v":0},1431.925,1431.925]
[null,"REPB04223","SCAFFOLD","D","Parking bay suspensions per 2 bays fee.",null,null,2.2799999999999998,null,"SC028","day",120,77.260000000000005,9271.2000000000007,null,{"$f":"SUMIF('Planned Maint v6.2 CSV File'!A:A,J47,'Planned Maint v6.2 CSV File'!I:I)","v":98.120200000000011},11774.424000000001,{"$f":"IF(J47=\"Prov Sum\",\"\",IF(MATCH(J47,'Packet Rate Library'!J:J,0),VLOOKUP(J47,'Packet Rate Library'!J:T,9,FALSE),\"\"))","v":0},98.120200000000011,11774.424000000001]
[null,"REPB04223","SCAFFOLD","D","Suspension of Parking Bays administration Fee",null,null,2.29,null,"SC029","item",1,61.29,61.29,null,{"$f":"SUMIF('Planned Maint v6.2 CSV File'!A:A,J48,'Planned Maint v6.2 CSV File'!I:I)","v":77.838300000000004},77.838300000000004,{"$f":"IF(J48=\"Prov Sum\",\"\",IF(MATCH(J48,'Packet Rate Library'!J:J,0),VLOOKUP(J48,'Packet Rate Library'!J:T,9,FALSE),\"\"))","v":0},77.838300000000004,77.838300000000004]
[null,"REPB04223","SCAFFOLD","D","Additional Hire if required - % per week of total scaffolding costs.  This is to be applied in the event an agreed programme exceeding the duration set out above. An example would be large low level blocks of 4 storeys requiring a large programme duration",null,null,null,null,"SC024","unit",null,4.8300000000000003E-2,{"$f":"VLOOKUP(B49,'Project Overheads & Scaffold'!$W:$AI,13,FALSE)","v":0},null,{"$f":"SUMIF('Planned Maint v6.2 CSV File'!A:A,J49,'Planned Maint v6.2 CSV File'!I:I)","v":4.8300000000000003E-2},0,{"$f":"IF(J49=\"Prov Sum\",\"\",IF(MATCH(J49,'Packet Rate Library'!J:J,0),VLOOKUP(J49,'Packet Rate Library'!J:T,9,FALSE),\"\"))","v":{"$error":"#N/A"}},{"$error":"#N/A"},0]
[null,"REPB04223","SCAFFOLD","D","Weekly hire (in event of programme extension in line with NEC opt A compensation event agreed). Hoist hire",null,null,null,null,"SC027","week",null,null,{"$f":"'Project Overheads & Scaffold'!AI30","v":1432},null,{"$f":"SUMIF('Planned Maint v6.2 CSV File'!A:A,J50,'Planned Maint v6.2 CSV File'!I:I)","v":227.33},0,{"$f":"IF(J50=\"Prov Sum\",\"\",IF(MATCH(J50,'Packet Rate Library'!J:J,0),VLOOKUP(J50,'Packet Rate Library'!J:T,9,FALSE),\"\"))","v":{"$error":"#N/A"}},{"$error":"#N/A"},{"$f":"N50","v":1432}]

{"sheet":"25 Troyes House ","index":7,"n_rows":32,"n_cols":20,"rows_kept":32,"cut":false,"hidden":false,"merged":[[4,15,4,19]]}
[null,null,null,null,null,null,null,null,null,null,null,null,null,null,null,{"$f":"SUMIF('Planned Maint v6.2 CSV File'!A:A,J1,'Planned Maint v6.2 CSV File'!I:I)","v":0},{"$f":"IF(J1=\"PROV SUM\",N1,L1*P1)","v":0},{"$f":"IF(J1=\"Prov Sum\",\"\",IF(MATCH(J1,'Packet Rate Library'!J:J,0),VLOOKUP(J1,'Packet Rate Library'!J:T,9,FALSE),\"\"))","v":{"$error":"#N/A"}},{"$f":"IF(R1>0,R1,P1)","v":{"$error":"#N/A"}},{"$f":"IF(J1=\"SC024\",N1,IF(ISERROR(S1),\"\",IF(J1=\"PROV SUM\",N1,L1*S1)))","v":""}]
[]
[]
["1-25 Troyes House"]
[]
["Requirement","REPB11024","Requirement Type","Rowtype (H=Header, D=Detail)","Description","Works Order Commencement Date","Works Order Completion Date","Specification  Ref. Item No.'s","Works Order Delivery Date","SOR Code","SOR Unit","SOR Qty","SOR Cost","Total Cost",null,"Rate (max)","Cost (max)","Modified price","Tendered rate","Tendered total"]
[]
[null,"REPB11024","ENERGY EFFICIENY","H"]
[null,"REPB11024","ENERGY EFFICIENY","D","Contractor to access and undertake survey of loft space in accordance with the Project Brief in order to assess level of current loft insulation. Including submittion of a survey report supported by photographic evidance to CM/PM. Where insulation levels are less then 200mm, Contractor to provide cost proposal to upgrade insulation in accordance with NHF SoR Planned Maintenance Version 6.2.",null,null,9.1,null,"ADD001","IT",1,null,null,null,{"$f":"SUMIF('Planned Maint v6.2 CSV File'!A:A,J9,'Planned Maint v6.2 CSV File'!I:I)","v":0},{"$f":"IF(J9=\"PROV SUM\",N9,L9*P9)","v":0},{"$f":"IF(J9=\"Prov Sum\",\"\",IF(MATCH(J9,'Packet Rate Library'!J:J,0),VLOOKUP(J9,'Packet Rate Library'!J:T,9,FALSE),\"\"))","v":0},{"$f":"IF(R9>0,R9,P9)","v":0},{"$f":"IF(J9=\"SC024\",N9,IF(ISERROR(S9),\"\",IF(J9=\"PROV SUM\",N9,L9*S9)))","v":0}]
[null,"REPB11024","ENERGY EFFICIENY","D","Insulation:Supply and lay ne 270mm thick insulation quilt to loft area including gain access and moving/replacing contents within loft area in order to undertake work. Item 2270AA",null,null,9.1999999999999993,null,"2270AA","SM",46.04,10.86,{"$f":"M10*L10","v":499.99439999999998},null,{"$f":"SUMIF('Planned Maint v6.2 CSV File'!A:A,J10,'Planned Maint v6.2 CSV File'!I:I)","v":8.6880000000000006},{"$f":"IF(J10=\"PROV SUM\",N10,L10*P10)","v":399.99552},{"$f":"IF(J10=\"Prov Sum\",\"\",IF(MATCH(J10,'Packet Rate Library'!J:J,0),VLOOKUP(J10,'Packet Rate Library'!J:T,9,FALSE),\"\"))","v":0},{"$f":"IF(R10>0,R10,P10)","v":8.6880000000000006},{"$f":"IF(J10=\"SC024\",N10,IF(ISERROR(S10),\"\",IF(J10=\"PROV SUM\",N10,L10*S10)))","v":399.99552}]
[null,"REPB11024","ASBESTOS","H"]
[null,"REPB11024","ASBESTOS","D","Refurbishment and Demolition  Survey to Full Property (with upto 5 Nr samples) , flat or house any size",null,null,1.3,null,"A003","Item",1,234,234,null,{"$f":"SUMIF('Planned Maint v6.2 CSV File'!A:A,J12,'Planned Maint v6.2 CSV File'!I:I)","v":222.29999999999998},{"$f":"IF(J12=\"PROV SUM\",N12,L12*P12)","v":222.29999999999998},{"$f":"IF(J12=\"Prov Sum\",\"\",IF(MATCH(J12,'Packet Rate Library'!J:J,0),VLOOKUP(J12,'Packet Rate Library'!J:T,9,FALSE),\"\"))","v":0},{"$f":"IF(R12>0,R12,P12)","v":222.29999999999998},{"$f":"IF(J12=\"SC024\",N12,IF(ISERROR(S12),\"\",IF(J12=\"PROV SUM\",N12,L12*S12)))","v":222.29999999999998}]
[null,"REPB11024","COMMUNAL WORKS","H"]
[null,"REPB11024","EXTREP","H"]
[null,"REPB11024","EXTREP","D","Soffit:Wash down, fill in cracks and holes, sand smooth and apply two coats of smooth or textured masonry paint to rendered or concrete canopies or soffits.",null,null,6.1870000000000296,null,"4356CA","SM",20,8.58,171.6,null,{"$f":"SUMIF('Planned Maint v6.2 CSV File'!A:A,J15,'Planned Maint v6.2 CSV File'!I:I)","v":7.2930000000000001},{"$f":"IF(J15=\"PROV SUM\",N15,L15*P15)","v":145.86000000000001},{"$f":"IF(J15=\"Prov Sum\",\"\",IF(MATCH(J15,'Packet Rate Library'!J:J,0),VLOOKUP(J15,'Packet Rate Library'!J:T,9,FALSE),\"\"))","v":0},{"$f":"IF(R15>0,R15,P15)","v":7.2930000000000001},{"$f":"IF(J15=\"SC024\",N15,IF(ISERROR(S15),\"\",IF(J15=\"PROV SUM\",N15,L15*S15)))","v":145.86000000000001}]
[null,"REPB11024","EXTREP","D","Balustrading:Wire brush, prepare for and apply one undercoat and two coats of gloss paint on existing painted surfaces ornamental metal balustrading, railings or gates (measured both sides).",null,null,6.2150000000000398,null,"4363EA","SM",160,16.079999999999998,2572.8000000000002,null,{"$f":"SUMIF('Planned Maint v6.2 CSV File'!A:A,J16,'Planned Maint v6.2 CSV File'!I:I)","v":13.667999999999997},{"$f":"IF(J16=\"PROV SUM\",N16,L16*P16)","v":2186.8799999999997},{"$f":"IF(J16=\"Prov Sum\",\"\",IF(MATCH(J16,'Packet Rate Library'!J:J,0),VLOOKUP(J16,'Packet Rate Library'!J:T,9,FALSE),\"\"))","v":0},{"$f":"IF(R16>0,R16,P16)","v":13.667999999999997},{"$f":"IF(J16=\"SC024\",N16,IF(ISERROR(S16),\"\",IF(J16=\"PROV SUM\",N16,L16*S16)))","v":2186.8799999999997}]
[null,"REPB11024","EXTREP","D","PROVISIONAL SUM: Unidentified concrete repairs",null,null,6.399,null,"PROV SUM","SUM",1,1000,1000,null,{"$f":"SUMIF('Planned Maint v6.2 CSV File'!A:A,J17,'Planned Maint v6.2 CSV File'!I:I)","v":0},{"$f":"IF(J17=\"PROV SUM\",N17,L17*P17)","v":1000},{"$f":"IF(J17=\"Prov Sum\",\"\",IF(MATCH(J17,'Packet Rate Library'!J:J,0),VLOOKUP(J17,'Packet Rate Library'!J:T,9,FALSE),\"\"))","v":""},{"$f":"IF(R17>0,R17,P17)","v":""},{"$f":"IF(J17=\"SC024\",N17,IF(ISERROR(S17),\"\",IF(J17=\"PROV SUM\",N17,L17*S17)))","v":1000}]
[null,"REPB11024","ROOF","H"]
[null,"REPB11024","ROOF","D","PROVISIONAL SUM: Overlay with BAUDER Bauderflex System or equivalent",null,null,3.4340000000000002,null,"PROV SUM","M2",1,41600,41600,null,{"$f":"SUMIF('Planned Maint v6.2 CSV File'!A:A,J19,'Planned Maint v6.2 CSV File'!I:I)","v":0},{"$f":"IF(J19=\"PROV SUM\",N19,L19*P19)","v":41600},null,{"$f":"IF(R19>0,R19,P19)","v":0},{"$f":"IF(J19=\"SC024\",N19,IF(ISERROR(S19),\"\",IF(J19=\"PROV SUM\",N19,L19*S19)))","v":41600}]
[null,"REPB11024","ROOF","D","PROVISIONAL SUM: Supply & lay 120mm thick PIR insulation bonded to vapour barrier (in line with current building regulations)",null,null,3.4350000000000001,null,"PROV SUM","M2",1,25600,25600,null,{"$f":"SUMIF('Planned Maint v6.2 CSV File'!A:A,J20,'Planned Maint v6.2 CSV File'!I:I)","v":0},{"$f":"IF(J20=\"PROV SUM\",N20,L20*P20)","v":25600},{"$f":"IF(J20=\"Prov Sum\",\"\",IF(MATCH(J20,'Packet Rate Library'!J:J,0),VLOOKUP(J20,'Packet Rate Library'!J:T,9,FALSE),\"\"))","v":""},{"$f":"IF(R20>0,R20,P20)","v":""},{"$f":"IF(J20=\"SC024\",N20,IF(ISERROR(S20),\"\",IF(J20=\"PROV SUM\",N20,L20*S20)))","v":25600}]
[null,"REPB11024","WINDOWS","H"]
[null,"REPB11024"]
[null,"REPB11024","SCAFFOLD","H"]
[null,"REPB11024","SCAFFOLD","D","Standard Scaffold item: erect; dismantle; basic independent tied working scaffolding; 5 boards wide, including hire period; completely accessible; debris netting to all elevations; double boarded and polythene included as necessary, any fan(s) included as required; rope plus wheel for lifting operations; 3rd handrail included whenever necessary; as per applicable regulations (applies to up to 5 storeys). Measured up to second handrail and by the middle of the scaffold (equidistant from the inside/outside face) including design when required. Rate to include for 12 week hire",null,null,2.1,null,"SC001","M2",40,12.92,516.79999999999995,null,{"$f":"SUMIF('Planned Maint v6.2 CSV File'!A:A,J24,'Planned Maint v6.2 CSV File'!I:I)","v":16.4084},{"$f":"IF(J24=\"PROV SUM\",N24,L24*P24)","v":656.33600000000001},{"$f":"IF(J24=\"Prov Sum\",\"\",IF(MATCH(J24,'Packet Rate Library'!J:J,0),VLOOKUP(J24,'Packet Rate Library'!J:T,9,FALSE),\"\"))","v":0},{"$f":"IF(R24>0,R24,P24)","v":16.4084},{"$f":"IF(J24=\"SC024\",N24,IF(ISERROR(S24),\"\",IF(J24=\"PROV SUM\",N24,L24*S24)))","v":656.33600000000001}]
[null,"REPB11024","SCAFFOLD","D","Scaffold alarm - 1 x sounder, 2 x PIR 1 X key pad (Divided by Number of properties if continuous scaffolds)",null,null,2.5,null,"SC005","unit",1,420,420,null,{"$f":"SUMIF('Planned Maint v6.2 CSV File'!A:A,J25,'Planned Maint v6.2 CSV File'!I:I)","v":533.4},533.4,{"$f":"IF(J25=\"Prov Sum\",\"\",IF(MATCH(J25,'Packet Rate Library'!J:J,0),VLOOKUP(J25,'Packet Rate Library'!J:T,9,FALSE),\"\"))","v":0},533.4,533.4]
[null,"REPB11024","SCAFFOLD","D","Installation of rubbish chute",null,null,2.1800000000000002,null,"SC018","lm",1,45,45,null,{"$f":"SUMIF('Planned Maint v6.2 CSV File'!A:A,J26,'Planned Maint v6.2 CSV File'!I:I)","v":57.15},57.15,{"$f":"IF(J26=\"Prov Sum\",\"\",IF(MATCH(J26,'Packet Rate Library'!J:J,0),VLOOKUP(J26,'Packet Rate Library'!J:T,9,FALSE),\"\"))","v":0},57.15,57.15]
[null,"REPB11024","SCAFFOLD","D","Double handrail as edge protection to party walls on mid-terraced property ",null,null,2.21,null,"SC021","lm",150,16.25,2437.5,null,{"$f":"SUMIF('Planned Maint v6.2 CSV File'!A:A,J27,'Planned Maint v6.2 CSV File'!I:I)","v":20.637499999999999},3095.625,{"$f":"IF(J27=\"Prov Sum\",\"\",IF(MATCH(J27,'Packet Rate Library'!J:J,0),VLOOKUP(J27,'Packet Rate Library'!J:T,9,FALSE),\"\"))","v":0},20.637499999999999,3095.625]
[null,"REPB11024","SCAFFOLD","D","Construction hoist tower- per storey",null,null,2.25,null,"SC025","storey",1,185.64,185.64,null,{"$f":"SUMIF('Planned Maint v6.2 CSV File'!A:A,J28,'Planned Maint v6.2 CSV File'!I:I)","v":235.7628},235.7628,{"$f":"IF(J28=\"Prov Sum\",\"\",IF(MATCH(J28,'Packet Rate Library'!J:J,0),VLOOKUP(J28,'Packet Rate Library'!J:T,9,FALSE),\"\"))","v":0},235.7628,235.7628]
[null,"REPB11024","SCAFFOLD","D","supply cherry picker per day incl delivery and driver",null,null,2.2999999999999998,null,"SC030",null,10,695,6950,null,{"$f":"SUMIF('Planned Maint v6.2 CSV File'!A:A,J29,'Planned Maint v6.2 CSV File'!I:I)","v":882.65},8826.5,{"$f":"IF(J29=\"Prov Sum\",\"\",IF(MATCH(J29,'Packet Rate Library'!J:J,0),VLOOKUP(J29,'Packet Rate Library'!J:T,9,FALSE),\"\"))","v":0},882.65,8826.5]
[null,{"$f":"B6","v":"REPB11024"},"SCAFFOLD","D","Additional Hire if required - % per week of total scaffolding costs.  This is to be applied in the event an agreed programme exceeding the duration set out above. An example would be large low level blocks of 4 storeys requiring a large programme duration",null,null,null,null,"SC024","unit",null,4.8300000000000003E-2,{"$f":"VLOOKUP(B30,'Project Overheads & Scaffold'!$W:$AI,13,FALSE)","v":0},null,{"$f":"SUMIF('Planned Maint v6.2 CSV File'!A:A,J30,'Planned Maint v6.2 CSV File'!I:I)","v":4.8300000000000003E-2},0,{"$f":"IF(J30=\"Prov Sum\",\"\",IF(MATCH(J30,'Packet Rate Library'!J:J,0),VLOOKUP(J30,'Packet Rate Library'!J:T,9,FALSE),\"\"))","v":{"$error":"#N/A"}},{"$error":"#N/A"},0]
[null,"REPB11024","SCAFFOLD","D","Weekly hire (in event of programme extension in line with NEC opt A compensation event agreed). Hoist hire",null,null,null,null,"SC027","week",null,null,{"$f":"'Project Overheads & Scaffold'!AI31","v":1432},null,{"$f":"SUMIF('Planned Maint v6.2 CSV File'!A:A,J31,'Planned Maint v6.2 CSV File'!I:I)","v":227.33},0,{"$f":"IF(J31=\"Prov Sum\",\"\",IF(MATCH(J31,'Packet Rate Library'!J:J,0),VLOOKUP(J31,'Packet Rate Library'!J:T,9,FALSE),\"\"))","v":{"$error":"#N/A"}},{"$error":"#N/A"},{"$f":"N31","v":1432}]
[null,"REPB11024","ESTATE WORKS","H"]

{"sheet":"11-20 Lissenden Mansions-","index":8,"n_rows":52,"n_cols":20,"rows_kept":52,"cut":false,"hidden":false,"merged":[[4,15,4,19]]}
[null,null,null,null,null,null,null,null,null,null,null,null,null,null,null,{"$f":"SUMIF('Planned Maint v6.2 CSV File'!A:A,J1,'Planned Maint v6.2 CSV File'!I:I)","v":0},{"$f":"IF(J1=\"PROV SUM\",N1,L1*P1)","v":0},{"$f":"IF(J1=\"Prov Sum\",\"\",IF(MATCH(J1,'Packet Rate Library'!J:J,0),VLOOKUP(J1,'Packet Rate Library'!J:T,9,FALSE),\"\"))","v":{"$error":"#N/A"}},{"$f":"IF(R1>0,R1,P1)","v":{"$error":"#N/A"}},{"$f":"IF(J1=\"SC024\",N1,IF(ISERROR(S1),\"\",IF(J1=\"PROV SUM\",N1,L1*S1)))","v":""}]
[]
[]
["11-20 LISSENDEN MANSIONS"]
[]
["Requirement","REPB04224","Requirement Type","Rowtype (H=Header, D=Detail)","Description","Works Order Commencement Date","Works Order Completion Date","Specification  Ref. Item No.'s","Works Order Delivery Date","SOR Code","SOR Unit","SOR Qty","SOR Cost","Total Cost",null,"Rate (max)","Cost (max)","Modified price","Tendered rate","Tendered total"]
[]
[null,"REPB04224","ASBESTOS","H"]
[null,"REPB04224","ASBESTOS","D","Refurbishment and Demolition  Survey to Full Property (with upto 5 Nr samples) , flat or house any size",null,null,1.3,null,"A003","Item",2,234,468,null,{"$f":"SUMIF('Planned Maint v6.2 CSV File'!A:A,J9,'Planned Maint v6.2 CSV File'!I:I)","v":222.29999999999998},{"$f":"IF(J9=\"PROV SUM\",N9,L9*P9)","v":444.59999999999997},{"$f":"IF(J9=\"Prov Sum\",\"\",IF(MATCH(J9,'Packet Rate Library'!J:J,0),VLOOKUP(J9,'Packet Rate Library'!J:T,9,FALSE),\"\"))","v":0},{"$f":"IF(R9>0,R9,P9)","v":222.29999999999998},{"$f":"IF(J9=\"SC024\",N9,IF(ISERROR(S9),\"\",IF(J9=\"PROV SUM\",N9,L9*S9)))","v":444.59999999999997}]
[null,"REPB04224","COMMUNAL WORKS","H"]
[null,"REPB04224"]
[null,"REPB04224","EXTREP","H"]
[null,"REPB04224","EXTREP","D","Wall: Cut out bricks from face of wall, clean and clear away, lay upto 15 No. new facing bricks in cement lime mortar (1:1:6), bond, bed and point to match existing and remove waste and debris.",null,null,6.85,null,"1019BA","IT",5,21.92,109.6,null,{"$f":"SUMIF('Planned Maint v6.2 CSV File'!A:A,J13,'Planned Maint v6.2 CSV File'!I:I)","v":15.892000000000001},{"$f":"IF(J13=\"PROV SUM\",N13,L13*P13)","v":79.460000000000008},{"$f":"IF(J13=\"Prov Sum\",\"\",IF(MATCH(J13,'Packet Rate Library'!J:J,0),VLOOKUP(J13,'Packet Rate Library'!J:T,9,FALSE),\"\"))","v":0},{"$f":"IF(R13>0,R13,P13)","v":15.892000000000001},{"$f":"IF(J13=\"SC024\",N13,IF(ISERROR(S13),\"\",IF(J13=\"PROV SUM\",N13,L13*S13)))","v":79.460000000000008}]
[null,"REPB04224","EXTREP","D","Wall: Rake out existing joints of brickwork min 12mm and repoint brickwork in mortar to match existing and remove waste and debris.",null,null,6.91,null,"1021AA","SM",8,20.13,161.04,null,{"$f":"SUMIF('Planned Maint v6.2 CSV File'!A:A,J14,'Planned Maint v6.2 CSV File'!I:I)","v":14.594249999999999},116.75399999999999,{"$f":"IF(J14=\"Prov Sum\",\"\",IF(MATCH(J14,'Packet Rate Library'!J:J,0),VLOOKUP(J14,'Packet Rate Library'!J:T,9,FALSE),\"\"))","v":0},14.594249999999999,116.75399999999999]
[null,"REPB04224","EXTREP","D","Cill: Hack off defective area of concrete cill clean and treat any exposed reinforcement, drill into cill and insert 6mm diameter reinforcing bars at 150mm centres, apply bonding agent and reform cill with fine concrete to match existing profiles including all necessary formwork, make good to structure and all finishes and fillets and remove waste and debris.",null,null,6.1159999999999997,null,"1031BA","NO",8,38.74,309.92,null,{"$f":"SUMIF('Planned Maint v6.2 CSV File'!A:A,J15,'Planned Maint v6.2 CSV File'!I:I)","v":28.086500000000001},224.69200000000001,{"$f":"IF(J15=\"Prov Sum\",\"\",IF(MATCH(J15,'Packet Rate Library'!J:J,0),VLOOKUP(J15,'Packet Rate Library'!J:T,9,FALSE),\"\"))","v":0},28.086500000000001,224.69200000000001]
[null,"REPB04224","EXTREP","D","Walls: Wash down, fill in cracks and holes, sand down and apply one coat of stabilising solution and two coats of smooth or textured masonry paint to brickwork surfaces of walls.",null,null,6.1860000000000301,null,"4356BD","SM",25,11.63,290.75,null,{"$f":"SUMIF('Planned Maint v6.2 CSV File'!A:A,J16,'Planned Maint v6.2 CSV File'!I:I)","v":9.8855000000000004},247.13750000000002,{"$f":"IF(J16=\"Prov Sum\",\"\",IF(MATCH(J16,'Packet Rate Library'!J:J,0),VLOOKUP(J16,'Packet Rate Library'!J:T,9,FALSE),\"\"))","v":0},9.8855000000000004,247.13750000000002]
[null,"REPB04224","EXTREP","D","Soffit: Wash down, fill in cracks and holes, sand smooth and apply one coat of sealer and two coats of smooth or textured masonry paint to rendered or concrete soffits.",null,null,6.1880000000000299,null,"4356CB","SM",40,9.82,392.8,null,{"$f":"SUMIF('Planned Maint v6.2 CSV File'!A:A,J17,'Planned Maint v6.2 CSV File'!I:I)","v":8.3469999999999995},333.88,{"$f":"IF(J17=\"Prov Sum\",\"\",IF(MATCH(J17,'Packet Rate Library'!J:J,0),VLOOKUP(J17,'Packet Rate Library'!J:T,9,FALSE),\"\"))","v":0},8.3469999999999995,333.88]
[null,"REPB04224","EXTREP","D","Balustrading: Wire brush, prepare for and apply one undercoat, one coat of gloss paint on existing painted surfaces of ornamental metal balustrading, railings or gates (measured both sides).",null,null,6.2250000000000396,null,"4364DA","SM",36,11.66,419.76,null,{"$f":"SUMIF('Planned Maint v6.2 CSV File'!A:A,J18,'Planned Maint v6.2 CSV File'!I:I)","v":9.9109999999999996},356.79599999999999,{"$f":"IF(J18=\"Prov Sum\",\"\",IF(MATCH(J18,'Packet Rate Library'!J:J,0),VLOOKUP(J18,'Packet Rate Library'!J:T,9,FALSE),\"\"))","v":0},9.9109999999999996,356.79599999999999]
[null,"REPB04224","EXTREP","D","Window: Rub down, prepare and apply one coat of primer, one undercoat and two coats of gloss paint on surfaces of wooden windowsl (one side and edges).",null,null,6.2360000000000504,null,"4380BA","SM",165,25.87,4268.55,null,{"$f":"SUMIF('Planned Maint v6.2 CSV File'!A:A,J19,'Planned Maint v6.2 CSV File'!I:I)","v":21.9895},3628.2674999999999,{"$f":"IF(J19=\"Prov Sum\",\"\",IF(MATCH(J19,'Packet Rate Library'!J:J,0),VLOOKUP(J19,'Packet Rate Library'!J:T,9,FALSE),\"\"))","v":0},21.9895,3628.2674999999999]
[null,"REPB04224","EXTREP","D","Frame: Rub down, prepare and apply one coat of primer, one undercoat and two coats of gloss paint on timber frame ne 300mm girth.",null,null,6.2370000000000498,null,"4380CA","LM",12,6.28,75.36,null,{"$f":"SUMIF('Planned Maint v6.2 CSV File'!A:A,J20,'Planned Maint v6.2 CSV File'!I:I)","v":5.3380000000000001},64.055999999999997,{"$f":"IF(J20=\"Prov Sum\",\"\",IF(MATCH(J20,'Packet Rate Library'!J:J,0),VLOOKUP(J20,'Packet Rate Library'!J:T,9,FALSE),\"\"))","v":0},5.3380000000000001,64.055999999999997]
[null,"REPB04224","EXTREP","D","Door: Rub down, prepare for and apply one coat of primer, one undercoat and two coats of gloss paint to all surfaces of any size or type of single glazed timber door. (one sides and edges).",null,null,6.2380000000000502,null,"4380DA","IT",1,20.71,20.71,null,{"$f":"SUMIF('Planned Maint v6.2 CSV File'!A:A,J21,'Planned Maint v6.2 CSV File'!I:I)","v":17.6035},17.6035,{"$f":"IF(J21=\"Prov Sum\",\"\",IF(MATCH(J21,'Packet Rate Library'!J:J,0),VLOOKUP(J21,'Packet Rate Library'!J:T,9,FALSE),\"\"))","v":0},17.6035,17.6035]
[null,"REPB04224","EXTREP","D","Gates: Rub down, prepare for, and apply one undercoat, two coats of gloss paint on existing painted surfaces of gates and posts (measured both sides).",null,null,6.2580000000000497,null,"4381FA","SM",2,12.41,24.82,null,{"$f":"SUMIF('Planned Maint v6.2 CSV File'!A:A,J22,'Planned Maint v6.2 CSV File'!I:I)","v":10.548500000000001},21.097000000000001,{"$f":"IF(J22=\"Prov Sum\",\"\",IF(MATCH(J22,'Packet Rate Library'!J:J,0),VLOOKUP(J22,'Packet Rate Library'!J:T,9,FALSE),\"\"))","v":0},10.548500000000001,21.097000000000001]
[null,"REPB04224","EXTREP","D","Fascias, soffits, Bargeboards and the like: Rub down, prepare for, and apply one undercoat, two coats of gloss paint on existing painted surfaces of facias, soffits, bargeboards and the like ne 300mm girth.",null,null,6.2600000000000504,null,"4381HB","LM",12,3.74,44.88,null,{"$f":"SUMIF('Planned Maint v6.2 CSV File'!A:A,J23,'Planned Maint v6.2 CSV File'!I:I)","v":3.1790000000000003},38.148000000000003,{"$f":"IF(J23=\"Prov Sum\",\"\",IF(MATCH(J23,'Packet Rate Library'!J:J,0),VLOOKUP(J23,'Packet Rate Library'!J:T,9,FALSE),\"\"))","v":0},3.1790000000000003,38.148000000000003]
[null,"REPB04224","ROOF","H"]
[null,"REPB04224","ROOF","D","Supply & lay 2 lay built up felt roofing to insulation board (to BR standards)\n\nUp to 100 m2*",null,null,3.26,null,"RF178","m2",210,34.5,7245,null,{"$f":"SUMIF('Planned Maint v6.2 CSV File'!A:A,J25,'Planned Maint v6.2 CSV File'!I:I)","v":26.668500000000002},{"$f":"IF(J25=\"PROV SUM\",N25,L25*P25)","v":5600.3850000000002},{"$f":"IF(J25=\"Prov Sum\",\"\",IF(MATCH(J25,'Packet Rate Library'!J:J,0),VLOOKUP(J25,'Packet Rate Library'!J:T,9,FALSE),\"\"))","v":0},{"$f":"IF(R25>0,R25,P25)","v":26.668500000000002},{"$f":"IF(J25=\"SC024\",N25,IF(ISERROR(S25),\"\",IF(J25=\"PROV SUM\",N25,L25*S25)))","v":5600.3850000000002}]
[null,"REPB04224","ROOF","D","Remove existing cable tray, lower to ground level and dispose. Supply and install new 0 - 150mm cable tray including cable ties. Including electrical work.",null,null,3.4199999999999902,null,"RF194","l/m",50,21,1050,null,{"$f":"SUMIF('Planned Maint v6.2 CSV File'!A:A,J26,'Planned Maint v6.2 CSV File'!I:I)","v":16.233000000000001},811.65,{"$f":"IF(J26=\"Prov Sum\",\"\",IF(MATCH(J26,'Packet Rate Library'!J:J,0),VLOOKUP(J26,'Packet Rate Library'!J:T,9,FALSE),\"\"))","v":0},16.233000000000001,811.65]
[null,"REPB04224","ROOF","D","Asphalt: Renew 20mm asphalt lining to sole and sides of rainwater outlet opening through one brick wall including internal angle fillets, lead dressing into hopper head and any necessary expanded metal lathing reinforcement, and remove waste and debris.",null,null,3.7100000000000102,null,"2190EA","SM",10,149.09,1490.9,null,{"$f":"SUMIF('Planned Maint v6.2 CSV File'!A:A,J27,'Planned Maint v6.2 CSV File'!I:I)","v":119.27200000000001},1192.72,{"$f":"IF(J27=\"Prov Sum\",\"\",IF(MATCH(J27,'Packet Rate Library'!J:J,0),VLOOKUP(J27,'Packet Rate Library'!J:T,9,FALSE),\"\"))","v":0},119.27200000000001,1192.72]
[null,"REPB04224","ROOF","D","Asphalt: Prepare and apply solar reflective paint to asphalt roofing (per coat).",null,null,3.72000000000001,null,"2190FA","SM",450,10.6,4770,null,{"$f":"SUMIF('Planned Maint v6.2 CSV File'!A:A,J28,'Planned Maint v6.2 CSV File'!I:I)","v":8.48},3816,{"$f":"IF(J28=\"Prov Sum\",\"\",IF(MATCH(J28,'Packet Rate Library'!J:J,0),VLOOKUP(J28,'Packet Rate Library'!J:T,9,FALSE),\"\"))","v":0},8.48,3816]
[null,"REPB04224","ROOF","D","Roof: Renew asphalt and boarding complete, strip off existing roof covering and boarding, clear away to tip, fix 19mm WBP plywood boarding to roof joist, including 50x50mm softwood noggins, tape joints lay one layer of vapour barrier, lay 100mm insulation board, lay isolating membrane, fix galvanised eml to and including tanalised softwood kerbs etc., lay 20mm asphalt in two equal layers dress over and form kerbs, upstands, downstands, drips, angles, dressing into outlets, around pipes etc., supply and fix new code 4 lead cover flashing to wall abutments, and remove waste and debris.",null,null,3.7500000000000102,null,"2191AA","SM",210,140.96,29601.599999999999,null,{"$f":"SUMIF('Planned Maint v6.2 CSV File'!A:A,J29,'Planned Maint v6.2 CSV File'!I:I)","v":112.76800000000001},23681.280000000002,{"$f":"IF(J29=\"Prov Sum\",\"\",IF(MATCH(J29,'Packet Rate Library'!J:J,0),VLOOKUP(J29,'Packet Rate Library'!J:T,9,FALSE),\"\"))","v":0},112.76800000000001,23681.280000000002]
[null,"REPB04224","ROOF","D","Tile: Remove plain tiles and carefully stack, renew roofing felt and battens and refix tiles (exc 10 No. in one location) and cart away debris to tip.",null,null,3.8700000000000099,null,"2013DA","SM",90,108.19,9737.1,null,{"$f":"SUMIF('Planned Maint v6.2 CSV File'!A:A,J30,'Planned Maint v6.2 CSV File'!I:I)","v":86.552000000000007},7789.68,{"$f":"IF(J30=\"Prov Sum\",\"\",IF(MATCH(J30,'Packet Rate Library'!J:J,0),VLOOKUP(J30,'Packet Rate Library'!J:T,9,FALSE),\"\"))","v":0},86.552000000000007,7789.68]
[null,"REPB04224","ROOF","D","Tile: Overhaul clay plain tile roof, refix loose tiles, renew broken or missing tiles to match existing, redress, rewedge and repoint all flashings, aprons, chimney gutters etc., cut out and make good cement weather fillets, repoint in cement mortar (1:3) to all hips, ridges and verges, make good, clear away debris.",null,null,3.8800000000000101,null,"2013EA","SM",90,30.56,2750.4,null,{"$f":"SUMIF('Planned Maint v6.2 CSV File'!A:A,J31,'Planned Maint v6.2 CSV File'!I:I)","v":24.448},2200.3200000000002,{"$f":"IF(J31=\"Prov Sum\",\"\",IF(MATCH(J31,'Packet Rate Library'!J:J,0),VLOOKUP(J31,'Packet Rate Library'!J:T,9,FALSE),\"\"))","v":0},24.448,2200.3200000000002]
[null,"REPB04224","ROOF","D","Roof Covering: Extra over any renewal or refixing of plain concrete roof tiles for renew roofing felt and battens.",null,null,3.8900000000000099,null,"2013RR","SM",90,21.88,1969.2,null,{"$f":"SUMIF('Planned Maint v6.2 CSV File'!A:A,J32,'Planned Maint v6.2 CSV File'!I:I)","v":17.504000000000001},1575.3600000000001,{"$f":"IF(J32=\"Prov Sum\",\"\",IF(MATCH(J32,'Packet Rate Library'!J:J,0),VLOOKUP(J32,'Packet Rate Library'!J:T,9,FALSE),\"\"))","v":0},17.504000000000001,1575.3600000000001]
[null,"REPB04224","ROOF","D","Dormers: Renew lead covering to dormers including remove old lead, cut, fit and dress new covering including all nailing and caps, drips, welted edges, bossed ends and intersections and all labours and remove waste and debris.",null,null,3.1759999999999899,null,"2310EC","SM",25,156.5,3912.5,null,{"$f":"SUMIF('Planned Maint v6.2 CSV File'!A:A,J33,'Planned Maint v6.2 CSV File'!I:I)","v":125.2},3130,{"$f":"IF(J33=\"Prov Sum\",\"\",IF(MATCH(J33,'Packet Rate Library'!J:J,0),VLOOKUP(J33,'Packet Rate Library'!J:T,9,FALSE),\"\"))","v":0},125.2,3130]
[null,"REPB04224","ROOF","D","Canopy: Renew lead covering to canopies (measured on plan) including remove old lead, cut, fit and dress new covering including all nailing and caps, drips, welted edges, bossed ends and intersections, dressing to upstands and kerbs, clean out/reform grooves and wedge upstands with lead and repoint in mastic, cut and dress lead around rainwater outlets.",null,null,3.1789999999999901,null,"2310GA","SM",10,147.56,1475.6,null,{"$f":"SUMIF('Planned Maint v6.2 CSV File'!A:A,J34,'Planned Maint v6.2 CSV File'!I:I)","v":118.048},1180.48,{"$f":"IF(J34=\"Prov Sum\",\"\",IF(MATCH(J34,'Packet Rate Library'!J:J,0),VLOOKUP(J34,'Packet Rate Library'!J:T,9,FALSE),\"\"))","v":0},118.048,1180.48]
[null,"REPB04224","ROOF","D","Flat Roof Outlet: Clear out blocked flat roof outlet including rod if necessary, flush out and test and remove debris from site on completion, and remove waste and debris.",null,null,3.3620000000000099,null,"6039AC","IT",10,11.18,111.8,null,{"$f":"SUMIF('Planned Maint v6.2 CSV File'!A:A,J35,'Planned Maint v6.2 CSV File'!I:I)","v":8.2854979999999987},82.854979999999983,{"$f":"IF(J35=\"Prov Sum\",\"\",IF(MATCH(J35,'Packet Rate Library'!J:J,0),VLOOKUP(J35,'Packet Rate Library'!J:T,9,FALSE),\"\"))","v":0},8.2854979999999987,82.854979999999983]
[null,"REPB04224","ROOF","D","Gutter: Clean out debris from gutters to any type of property including flush out and test, rod downpipe including clean out gulley and remove debris from site on completion (per elevation).",null,null,3.3640000000000101,null,"6039BA","IT",30,20.13,603.9,null,{"$f":"SUMIF('Planned Maint v6.2 CSV File'!A:A,J36,'Planned Maint v6.2 CSV File'!I:I)","v":14.918342999999998},447.55028999999996,{"$f":"IF(J36=\"Prov Sum\",\"\",IF(MATCH(J36,'Packet Rate Library'!J:J,0),VLOOKUP(J36,'Packet Rate Library'!J:T,9,FALSE),\"\"))","v":0},14.918342999999998,447.55028999999996]
[null,"REPB04224","ROOF","D","Chimney: Rake out joints to brickwork to chimney stack, min 12mm, and repoint in cement lime mortar (1:1:6) to match existing and remove waste and debris.",null,null,3.42300000000002,null,"1200AO","SM",30,22.29,668.7,null,{"$f":"SUMIF('Planned Maint v6.2 CSV File'!A:A,J37,'Planned Maint v6.2 CSV File'!I:I)","v":16.160249999999998},484.80749999999995,{"$f":"IF(J37=\"Prov Sum\",\"\",IF(MATCH(J37,'Packet Rate Library'!J:J,0),VLOOKUP(J37,'Packet Rate Library'!J:T,9,FALSE),\"\"))","v":0},16.160249999999998,484.80749999999995]
[null,"REPB04224","WINDOWS","H"]
[null,"REPB04224","WINDOWS","D","Soft wood timber splice with resin; face splice repair method no. 5.\nRemove old and loose paint as necessary. Cut out decayed timber from windows and frames, piecing in or frame in new wrought softwood with resin to match existing. Leave ready to decorate. \n\nSplice not exc 500 to 1000mm",null,null,4.1100000000000003,null,"WIND017","Nr",16,36.75,588,null,{"$f":"SUMIF('Planned Maint v6.2 CSV File'!A:A,J39,'Planned Maint v6.2 CSV File'!I:I)","v":34.912500000000001},{"$f":"IF(J39=\"PROV SUM\",N39,L39*P39)","v":558.6},{"$f":"IF(J39=\"Prov Sum\",\"\",IF(MATCH(J39,'Packet Rate Library'!J:J,0),VLOOKUP(J39,'Packet Rate Library'!J:T,9,FALSE),\"\"))","v":0},{"$f":"IF(R39>0,R39,P39)","v":34.912500000000001},{"$f":"IF(J39=\"SC024\",N39,IF(ISERROR(S39),\"\",IF(J39=\"PROV SUM\",N39,L39*S39)))","v":558.6}]
[null,"REPB04224","WINDOWS","D","7. Timber repair system; using window care dry fix/dry flex RP; Conservation Joint; \n\nUp to 50mm ",null,null,4.13,null,"WIND022","Nr",100,4.25,425,null,{"$f":"SUMIF('Planned Maint v6.2 CSV File'!A:A,J40,'Planned Maint v6.2 CSV File'!I:I)","v":4.0374999999999996},{"$f":"IF(J40=\"PROV SUM\",N40,L40*P40)","v":403.74999999999994},{"$f":"IF(J40=\"Prov Sum\",\"\",IF(MATCH(J40,'Packet Rate Library'!J:J,0),VLOOKUP(J40,'Packet Rate Library'!J:T,9,FALSE),\"\"))","v":0},{"$f":"IF(R40>0,R40,P40)","v":4.0374999999999996},{"$f":"IF(J40=\"SC024\",N40,IF(ISERROR(S40),\"\",IF(J40=\"PROV SUM\",N40,L40*S40)))","v":403.74999999999994}]
[null,"REPB04224","WINDOWS","D","7. Timber repair system; using window care dry fix/dry flex RP; Conservation Joint;\n\nup to 100mm ",null,null,4.1399999999999997,null,"WIND023","Nr",16,6.75,108,null,{"$f":"SUMIF('Planned Maint v6.2 CSV File'!A:A,J41,'Planned Maint v6.2 CSV File'!I:I)","v":6.4124999999999996},{"$f":"IF(J41=\"PROV SUM\",N41,L41*P41)","v":102.6},{"$f":"IF(J41=\"Prov Sum\",\"\",IF(MATCH(J41,'Packet Rate Library'!J:J,0),VLOOKUP(J41,'Packet Rate Library'!J:T,9,FALSE),\"\"))","v":0},{"$f":"IF(R41>0,R41,P41)","v":6.4124999999999996},{"$f":"IF(J41=\"SC024\",N41,IF(ISERROR(S41),\"\",IF(J41=\"PROV SUM\",N41,L41*S41)))","v":102.6}]
[null,"REPB04224","WINDOWS","D","Window: Overhaul timber sash window, renew staff and parting beads, take out sashes and later rehang on appropriate sized new undyed plaited nylon sash cords, renew pocket pieces, wedge and cramp loose sash frames, oil pulleys, ease and adjust sashes, remove, refit or renew ironmongery, rake out and renew defective putty and mastic, touch up decorations internally to match existing and prepare for redecoration externally, and remove waste and debris.",null,null,4.8999999999999799,null,"3150CA","NO",12,35.61,427.32,null,{"$f":"SUMIF('Planned Maint v6.2 CSV File'!A:A,J42,'Planned Maint v6.2 CSV File'!I:I)","v":31.568264999999997},{"$f":"IF(J42=\"PROV SUM\",N42,L42*P42)","v":378.81917999999996},{"$f":"IF(J42=\"Prov Sum\",\"\",IF(MATCH(J42,'Packet Rate Library'!J:J,0),VLOOKUP(J42,'Packet Rate Library'!J:T,9,FALSE),\"\"))","v":0},{"$f":"IF(R42>0,R42,P42)","v":31.568264999999997},{"$f":"IF(J42=\"SC024\",N42,IF(ISERROR(S42),\"\",IF(J42=\"PROV SUM\",N42,L42*S42)))","v":378.81917999999996}]
[null,"REPB04224","SCAFFOLD","H"]
[null,"REPB04224","SCAFFOLD","D","Standard Scaffold item: erect; dismantle; basic independent tied working scaffolding; 5 boards wide, including hire period; completely accessible; debris netting to all elevations; double boarded and polythene included as necessary, any fan(s) included as required; rope plus wheel for lifting operations; 3rd handrail included whenever necessary; as per applicable regulations (applies to up to 5 storeys). Measured up to second handrail and by the middle of the scaffold (equidistant from the inside/outside face) including design when required. Rate to include for 12 week hire",null,null,2.1,null,"SC001","M2",750,12.92,9690,null,{"$f":"SUMIF('Planned Maint v6.2 CSV File'!A:A,J44,'Planned Maint v6.2 CSV File'!I:I)","v":16.4084},{"$f":"IF(J44=\"PROV SUM\",N44,L44*P44)","v":12306.300000000001},{"$f":"IF(J44=\"Prov Sum\",\"\",IF(MATCH(J44,'Packet Rate Library'!J:J,0),VLOOKUP(J44,'Packet Rate Library'!J:T,9,FALSE),\"\"))","v":0},{"$f":"IF(R44>0,R44,P44)","v":16.4084},{"$f":"IF(J44=\"SC024\",N44,IF(ISERROR(S44),\"\",IF(J44=\"PROV SUM\",N44,L44*S44)))","v":12306.300000000001}]
[null,"REPB04224","SCAFFOLD","D","Scaffold alarm - 1 x sounder, 2 x PIR 1 X key pad (Divided by Number of properties if continuous scaffolds)",null,null,2.5,null,"SC005","unit",1,420,420,null,{"$f":"SUMIF('Planned Maint v6.2 CSV File'!A:A,J45,'Planned Maint v6.2 CSV File'!I:I)","v":533.4},533.4,{"$f":"IF(J45=\"Prov Sum\",\"\",IF(MATCH(J45,'Packet Rate Library'!J:J,0),VLOOKUP(J45,'Packet Rate Library'!J:T,9,FALSE),\"\"))","v":0},533.4,533.4]
[null,"REPB04224","SCAFFOLD","D","E/O for additional PIRS",null,null,2.6,null,"SC007","unit",1,50,50,null,{"$f":"SUMIF('Planned Maint v6.2 CSV File'!A:A,J46,'Planned Maint v6.2 CSV File'!I:I)","v":63.5},63.5,{"$f":"IF(J46=\"Prov Sum\",\"\",IF(MATCH(J46,'Packet Rate Library'!J:J,0),VLOOKUP(J46,'Packet Rate Library'!J:T,9,FALSE),\"\"))","v":0},63.5,63.5]
[null,"REPB04224","SCAFFOLD","D","Installation of rubbish chute",null,null,2.1800000000000002,null,"SC018","lm",15,45,675,null,{"$f":"SUMIF('Planned Maint v6.2 CSV File'!A:A,J47,'Planned Maint v6.2 CSV File'!I:I)","v":57.15},857.25,{"$f":"IF(J47=\"Prov Sum\",\"\",IF(MATCH(J47,'Packet Rate Library'!J:J,0),VLOOKUP(J47,'Packet Rate Library'!J:T,9,FALSE),\"\"))","v":0},57.15,857.25]
[null,"REPB04224","SCAFFOLD","D","Additional Hire if required - % per week of total scaffolding costs.  This is to be applied in the event an agreed programme exceeding the duration set out above. An example would be large low level blocks of 4 storeys requiring a large programme duration",null,null,2.2400000000000002,null,"SC024","%",16,0.05,0.77,null,{"$f":"SUMIF('Planned Maint v6.2 CSV File'!A:A,J48,'Planned Maint v6.2 CSV File'!I:I)","v":4.8300000000000003E-2},0.77280000000000004,{"$f":"IF(J48=\"Prov Sum\",\"\",IF(MATCH(J48,'Packet Rate Library'!J:J,0),VLOOKUP(J48,'Packet Rate Library'!J:T,9,FALSE),\"\"))","v":{"$error":"#N/A"}},{"$error":"#N/A"},0.77]
[null,"REPB04224","SCAFFOLD","D","Construction hoist tower- per storey",null,null,2.25,null,"SC025","storey",5,185.64,928.2,null,{"$f":"SUMIF('Planned Maint v6.2 CSV File'!A:A,J49,'Planned Maint v6.2 CSV File'!I:I)","v":235.7628},1178.8140000000001,{"$f":"IF(J49=\"Prov Sum\",\"\",IF(MATCH(J49,'Packet Rate Library'!J:J,0),VLOOKUP(J49,'Packet Rate Library'!J:T,9,FALSE),\"\"))","v":0},235.7628,1178.8140000000001]
[null,"REPB04224","SCAFFOLD","D","Erecting hoist mast- per unit- up to 5 storeys (including delivery, dismantle and gates) ",null,null,2.2599999999999998,null,"SC026","unit",1,1127.5,1127.5,null,{"$f":"SUMIF('Planned Maint v6.2 CSV File'!A:A,J50,'Planned Maint v6.2 CSV File'!I:I)","v":1431.925},1431.925,{"$f":"IF(J50=\"Prov Sum\",\"\",IF(MATCH(J50,'Packet Rate Library'!J:J,0),VLOOKUP(J50,'Packet Rate Library'!J:T,9,FALSE),\"\"))","v":0},1431.925,1431.925]
[null,"REPB04224","SCAFFOLD","D","Additional Hire if required - % per week of total scaffolding costs.  This is to be applied in the event an agreed programme exceeding the duration set out above. An example would be large low level blocks of 4 storeys requiring a large programme duration",null,null,null,null,"SC024","unit",null,4.8300000000000003E-2,{"$f":"VLOOKUP(B51,'Project Overheads & Scaffold'!$W:$AI,13,FALSE)","v":0},null,{"$f":"SUMIF('Planned Maint v6.2 CSV File'!A:A,J51,'Planned Maint v6.2 CSV File'!I:I)","v":4.8300000000000003E-2},0,{"$f":"IF(J51=\"Prov Sum\",\"\",IF(MATCH(J51,'Packet Rate Library'!J:J,0),VLOOKUP(J51,'Packet Rate Library'!J:T,9,FALSE),\"\"))","v":{"$error":"#N/A"}},{"$error":"#N/A"},0]
[null,"REPB04224","SCAFFOLD","D","Weekly hire (in event of programme extension in line with NEC opt A compensation event agreed). Hoist hire",null,null,null,null,"SC027","week",null,null,{"$f":"'Project Overheads & Scaffold'!AI32","v":0},null,{"$f":"SUMIF('Planned Maint v6.2 CSV File'!A:A,J52,'Planned Maint v6.2 CSV File'!I:I)","v":227.33},0,{"$f":"IF(J52=\"Prov Sum\",\"\",IF(MATCH(J52,'Packet Rate Library'!J:J,0),VLOOKUP(J52,'Packet Rate Library'!J:T,9,FALSE),\"\"))","v":{"$error":"#N/A"}},{"$error":"#N/A"},{"$f":"N52","v":0}]

{"sheet":"5 Gillies Street","index":9,"n_rows":44,"n_cols":20,"rows_kept":44,"cut":false,"hidden":false,"merged":[[4,15,4,19]]}
[null,null,null,null,null,null,null,null,null,null,null,null,null,null,null,{"$f":"SUMIF('Planned Maint v6.2 CSV File'!A:A,J1,'Planned Maint v6.2 CSV File'!I:I)","v":0},{"$f":"IF(J1=\"PROV SUM\",N1,L1*P1)","v":0},{"$f":"IF(J1=\"Prov Sum\",\"\",IF(MATCH(J1,'Packet Rate Library'!J:J,0),VLOOKUP(J1,'Packet Rate Library'!J:T,9,FALSE),\"\"))","v":{"$error":"#N/A"}},{"$f":"IF(R1>0,R1,P1)","v":{"$error":"#N/A"}},{"$f":"IF(J1=\"SC024\",N1,IF(ISERROR(S1),\"\",IF(J1=\"PROV SUM\",N1,L1*S1)))","v":""}]
["BILL OF QUANTITIES - RAPID LOADER"]
[]
["5 GILLIES STREET"]
[]
["Requirement","REPB42150","Requirement Type","Rowtype (H=Header, D=Detail)","Description","Works Order Commencement Date","Works Order Completion Date","Specification  Ref. Item No.'s","Works Order Delivery Date","SOR Code","SOR Unit","SOR Qty","SOR Cost","Total Cost",null,"Rate (max)","Cost (max)","Modified price","Tendered rate","Tendered total"]
[]
[null,"REPB42150","ENERGY EFFICIENY","H"]
[null,"REPB42150","ENERGY EFFICIENY","D","Contractor to access and undertake survey of loft space in accordance with the Project Brief in order to assess level of current loft insulation. Including submittion of a survey report supported by photographic evidance to CM/PM. Where insulation levels are less then 200mm, Contractor to provide cost proposal to upgrade insulation in accordance with NHF SoR Planned Maintenance Version 6.2.",null,null,9.1,null,"ADD001","IT",1,null,null,null,{"$f":"SUMIF('Planned Maint v6.2 CSV File'!A:A,J9,'Planned Maint v6.2 CSV File'!I:I)","v":0},{"$f":"IF(J9=\"PROV SUM\",N9,L9*P9)","v":0},null,{"$f":"IF(R9>0,R9,P9)","v":0},{"$f":"IF(J9=\"SC024\",N9,IF(ISERROR(S9),\"\",IF(J9=\"PROV SUM\",N9,L9*S9)))","v":0}]
[null,"REPB42150","ENERGY EFFICIENY","D","Insulation:Supply and lay ne 270mm thick insulation quilt to loft area including gain access and moving/replacing contents within loft area in order to undertake work. Item 2270AA",null,null,9.1999999999999993,null,"2270AA","SM",46.04,10.86,{"$f":"M10*L10","v":499.99439999999998},null,{"$f":"SUMIF('Planned Maint v6.2 CSV File'!A:A,J10,'Planned Maint v6.2 CSV File'!I:I)","v":8.6880000000000006},{"$f":"IF(J10=\"PROV SUM\",N10,L10*P10)","v":399.99552},{"$f":"IF(J10=\"Prov Sum\",\"\",IF(MATCH(J10,'Packet Rate Library'!J:J,0),VLOOKUP(J10,'Packet Rate Library'!J:T,9,FALSE),\"\"))","v":0},{"$f":"IF(R10>0,R10,P10)","v":8.6880000000000006},{"$f":"IF(J10=\"SC024\",N10,IF(ISERROR(S10),\"\",IF(J10=\"PROV SUM\",N10,L10*S10)))","v":399.99552}]
[null,"REPB42150","ASBESTOS","H"]
[null,"REPB42150","ASBESTOS","D","Refurbishment and Demolition  Survey to Full Property (with upto 5 Nr samples) , flat or house any size",null,null,1.3,null,"A003","Item",1,234,234,null,{"$f":"SUMIF('Planned Maint v6.2 CSV File'!A:A,J12,'Planned Maint v6.2 CSV File'!I:I)","v":222.29999999999998},{"$f":"IF(J12=\"PROV SUM\",N12,L12*P12)","v":222.29999999999998},{"$f":"IF(J12=\"Prov Sum\",\"\",IF(MATCH(J12,'Packet Rate Library'!J:J,0),VLOOKUP(J12,'Packet Rate Library'!J:T,9,FALSE),\"\"))","v":0},{"$f":"IF(R12>0,R12,P12)","v":222.29999999999998},{"$f":"IF(J12=\"SC024\",N12,IF(ISERROR(S12),\"\",IF(J12=\"PROV SUM\",N12,L12*S12)))","v":222.29999999999998}]
[null,"REPB42150","COMMUNAL WORKS","H"]
[null,"REPB42150"]
[null,"REPB42150","EXTREP","H"]
[null,"REPB42150","EXTREP","D","Moulding Repairs  0-5no. per property\nFosroc repair mortar or equivalent\nInsitu repairs using straight edge to form moulding repair. \n\n(Girth NE300mm Length NE300mm)",null,null,6.11,null,"FAB071","no",1,79.14,79.14,null,{"$f":"SUMIF('Planned Maint v6.2 CSV File'!A:A,J16,'Planned Maint v6.2 CSV File'!I:I)","v":63.312000000000005},{"$f":"IF(J16=\"PROV SUM\",N16,L16*P16)","v":63.312000000000005},{"$f":"IF(J16=\"Prov Sum\",\"\",IF(MATCH(J16,'Packet Rate Library'!J:J,0),VLOOKUP(J16,'Packet Rate Library'!J:T,9,FALSE),\"\"))","v":0},{"$f":"IF(R16>0,R16,P16)","v":63.312000000000005},{"$f":"IF(J16=\"SC024\",N16,IF(ISERROR(S16),\"\",IF(J16=\"PROV SUM\",N16,L16*S16)))","v":63.312000000000005}]
[null,"REPB42150","EXTREP","D","Fracture: Remove any applied finish and cut out bricks as necessary to either side of fracture, one face only, stitch in new bricks, bed and point to match existing in cement lime mortar (1:1:6), and make good any applied finishes, and remove waste and debris (measured over mean general line of fracture).",null,null,6.82,null,"1019AA","LM",8,44.12,352.96,null,{"$f":"SUMIF('Planned Maint v6.2 CSV File'!A:A,J17,'Planned Maint v6.2 CSV File'!I:I)","v":31.986999999999998},255.89599999999999,{"$f":"IF(J17=\"Prov Sum\",\"\",IF(MATCH(J17,'Packet Rate Library'!J:J,0),VLOOKUP(J17,'Packet Rate Library'!J:T,9,FALSE),\"\"))","v":0},31.986999999999998,255.89599999999999]
[null,"REPB42150","EXTREP","D","Cills:Prepare, clean off all dust and debris, fill in or resurface cracks or spalled surfaces of concrete with epoxy mortar in surfaces of cills, not exceeding 300mm girth, repair over 5 and ne 10mm deep, and remove waste and debris.",null,null,6.16100000000002,null,"1460AF","LM",10,38.25,382.5,null,{"$f":"SUMIF('Planned Maint v6.2 CSV File'!A:A,J18,'Planned Maint v6.2 CSV File'!I:I)","v":27.731249999999999},277.3125,{"$f":"IF(J18=\"Prov Sum\",\"\",IF(MATCH(J18,'Packet Rate Library'!J:J,0),VLOOKUP(J18,'Packet Rate Library'!J:T,9,FALSE),\"\"))","v":0},27.731249999999999,277.3125]
[null,"REPB42150","EXTREP","D","Walls:Wash down, fill in cracks and holes, sand down and apply one coat of stabilising solution and two coats of smooth or textured  masonry paint to rendered or concrete walls.",null,null,6.1850000000000298,null,"4356BC","SM",35,11.01,385.35,null,{"$f":"SUMIF('Planned Maint v6.2 CSV File'!A:A,J19,'Planned Maint v6.2 CSV File'!I:I)","v":9.3584999999999994},327.54749999999996,{"$f":"IF(J19=\"Prov Sum\",\"\",IF(MATCH(J19,'Packet Rate Library'!J:J,0),VLOOKUP(J19,'Packet Rate Library'!J:T,9,FALSE),\"\"))","v":0},9.3584999999999994,327.54749999999996]
[null,"REPB42150","EXTREP","D","Window:Rub down, prepare and apply one undercoat and one coat of gloss paint on existing painted surfaces of wooden windows (one side and edges).",null,null,6.2620000000000502,null,"4381JB","SM",10,16.86,168.6,null,{"$f":"SUMIF('Planned Maint v6.2 CSV File'!A:A,J20,'Planned Maint v6.2 CSV File'!I:I)","v":14.331},143.31,{"$f":"IF(J20=\"Prov Sum\",\"\",IF(MATCH(J20,'Packet Rate Library'!J:J,0),VLOOKUP(J20,'Packet Rate Library'!J:T,9,FALSE),\"\"))","v":0},14.331,143.31]
[null,"REPB42150","EXTREP","D","Gates:Rub down, prepare for, and apply one undercoat, one coat of gloss paint on existing painted surfaces of gates and posts (measured both sides).",null,null,6.2710000000000603,null,"4381NA","SM",1,8.17,8.17,null,{"$f":"SUMIF('Planned Maint v6.2 CSV File'!A:A,J21,'Planned Maint v6.2 CSV File'!I:I)","v":6.9444999999999997},6.9444999999999997,{"$f":"IF(J21=\"Prov Sum\",\"\",IF(MATCH(J21,'Packet Rate Library'!J:J,0),VLOOKUP(J21,'Packet Rate Library'!J:T,9,FALSE),\"\"))","v":0},6.9444999999999997,6.9444999999999997]
[null,"REPB42150","EXTREP","D","Door:Rub down, prepare for, and apply three coats decorative wood stain on external surfaces of any size/type of single door(both sides and edges)",null,null,6.2760000000000602,null,"4382DB","IT",1,33.520000000000003,33.520000000000003,null,{"$f":"SUMIF('Planned Maint v6.2 CSV File'!A:A,J22,'Planned Maint v6.2 CSV File'!I:I)","v":28.492000000000001},28.492000000000001,{"$f":"IF(J22=\"Prov Sum\",\"\",IF(MATCH(J22,'Packet Rate Library'!J:J,0),VLOOKUP(J22,'Packet Rate Library'!J:T,9,FALSE),\"\"))","v":0},28.492000000000001,28.492000000000001]
[null,"REPB42150","EXTREP","D","Render Repairs:Repair crack in any external render including carefully hack out and make good with cement and sand including applying finish to match existing, and remove waste and debris.",null,null,6.3060000000000702,null,"4230ZA","LM",35,6.87,240.45,null,{"$f":"SUMIF('Planned Maint v6.2 CSV File'!A:A,J23,'Planned Maint v6.2 CSV File'!I:I)","v":4.9807499999999996},174.32624999999999,{"$f":"IF(J23=\"Prov Sum\",\"\",IF(MATCH(J23,'Packet Rate Library'!J:J,0),VLOOKUP(J23,'Packet Rate Library'!J:T,9,FALSE),\"\"))","v":0},4.9807499999999996,174.32624999999999]
[null,"REPB42150","EXTREP","D","PROVISIONAL SUM: Allow provisional sum for window cills.",null,null,6.399,null,"PROV SUM","SUM",1,300,300,null,{"$f":"SUMIF('Planned Maint v6.2 CSV File'!A:A,J24,'Planned Maint v6.2 CSV File'!I:I)","v":0},300,{"$f":"IF(J24=\"Prov Sum\",\"\",IF(MATCH(J24,'Packet Rate Library'!J:J,0),VLOOKUP(J24,'Packet Rate Library'!J:T,9,FALSE),\"\"))","v":""},"",300]
[null,"REPB42150","ROOF","H"]
[null,"REPB42150","ROOF","D","Moss:Carefully remove moss/lichen growth on roof covering of any kind and dispose of debris off site, reistate all disturbed surfaces, replace broken tiles, slates and the like, thoroughly clean out valleys, gutters, downpipes, hoppers etc, prepare and treat the complete roof area with a diluted fungicide solution AKZO or other equal and approved applied strictly in accordance with the manufacturer’s instructions, thoroughly clean out all gutters and the like to remove all chemical residue arising upon completion of the works, and remove waste and debris.",null,null,3.1799999999999899,null,"2115AA","SM",50,10.17,508.5,null,{"$f":"SUMIF('Planned Maint v6.2 CSV File'!A:A,J26,'Planned Maint v6.2 CSV File'!I:I)","v":8.136000000000001},{"$f":"IF(J26=\"PROV SUM\",N26,L26*P26)","v":406.80000000000007},{"$f":"IF(J26=\"Prov Sum\",\"\",IF(MATCH(J26,'Packet Rate Library'!J:J,0),VLOOKUP(J26,'Packet Rate Library'!J:T,9,FALSE),\"\"))","v":0},{"$f":"IF(R26>0,R26,P26)","v":8.136000000000001},{"$f":"IF(J26=\"SC024\",N26,IF(ISERROR(S26),\"\",IF(J26=\"PROV SUM\",N26,L26*S26)))","v":406.80000000000007}]
[null,"REPB42150","ROOF","D","Gutter:Clean out gutter, rake out and apply sealant to joints and prepare and apply two coats of proprietary waterproof sealing compound to inside surfaces of finlock gutter, and remove waste and debris.",null,null,3.1859999999999902,null,"2150EA","LM",10,17.43,174.3,null,{"$f":"SUMIF('Planned Maint v6.2 CSV File'!A:A,J27,'Planned Maint v6.2 CSV File'!I:I)","v":13.944000000000001},{"$f":"IF(J27=\"PROV SUM\",N27,L27*P27)","v":139.44},{"$f":"IF(J27=\"Prov Sum\",\"\",IF(MATCH(J27,'Packet Rate Library'!J:J,0),VLOOKUP(J27,'Packet Rate Library'!J:T,9,FALSE),\"\"))","v":0},{"$f":"IF(R27>0,R27,P27)","v":13.944000000000001},{"$f":"IF(J27=\"SC024\",N27,IF(ISERROR(S27),\"\",IF(J27=\"PROV SUM\",N27,L27*S27)))","v":139.44}]
[null,"REPB42150","ROOF","D","Gutter:Take down any PVCu gutter outlet and refix and remake joints.",null,null,3.33,null,"6031CG","NO",1,6.76,6.76,null,{"$f":"SUMIF('Planned Maint v6.2 CSV File'!A:A,J28,'Planned Maint v6.2 CSV File'!I:I)","v":5.009836},{"$f":"IF(J28=\"PROV SUM\",N28,L28*P28)","v":5.009836},{"$f":"IF(J28=\"Prov Sum\",\"\",IF(MATCH(J28,'Packet Rate Library'!J:J,0),VLOOKUP(J28,'Packet Rate Library'!J:T,9,FALSE),\"\"))","v":0},{"$f":"IF(R28>0,R28,P28)","v":5.009836},{"$f":"IF(J28=\"SC024\",N28,IF(ISERROR(S28),\"\",IF(J28=\"PROV SUM\",N28,L28*S28)))","v":5.009836}]
[null,"REPB42150","ROOF","D","PROVISIONAL SUM: Clear rainwater downpipes ",null,null,3.4340000000000002,null,"PROV SUM","SUM",1,150,150,null,{"$f":"SUMIF('Planned Maint v6.2 CSV File'!A:A,J29,'Planned Maint v6.2 CSV File'!I:I)","v":0},{"$f":"IF(J29=\"PROV SUM\",N29,L29*P29)","v":150},{"$f":"IF(J29=\"Prov Sum\",\"\",IF(MATCH(J29,'Packet Rate Library'!J:J,0),VLOOKUP(J29,'Packet Rate Library'!J:T,9,FALSE),\"\"))","v":""},{"$f":"IF(R29>0,R29,P29)","v":""},{"$f":"IF(J29=\"SC024\",N29,IF(ISERROR(S29),\"\",IF(J29=\"PROV SUM\",N29,L29*S29)))","v":150}]
[null,"REPB42150","ROOF","D","PROVISIONAL SUM: Gutter from left neighbouring property has not been properly joined together to property gutter.",null,null,3.4350000000000001,null,"PROV SUM","SUM",1,200,200,null,{"$f":"SUMIF('Planned Maint v6.2 CSV File'!A:A,J30,'Planned Maint v6.2 CSV File'!I:I)","v":0},{"$f":"IF(J30=\"PROV SUM\",N30,L30*P30)","v":200},{"$f":"IF(J30=\"Prov Sum\",\"\",IF(MATCH(J30,'Packet Rate Library'!J:J,0),VLOOKUP(J30,'Packet Rate Library'!J:T,9,FALSE),\"\"))","v":""},{"$f":"IF(R30>0,R30,P30)","v":""},{"$f":"IF(J30=\"SC024\",N30,IF(ISERROR(S30),\"\",IF(J30=\"PROV SUM\",N30,L30*S30)))","v":200}]
[null,"REPB42150","WINDOWS","H"]
[null,"REPB42150","WINDOWS","D","7. Timber repair system; using window care dry fix/dry flex RP; Conservation Joint;\n\nup to 100mm ",null,null,4.1399999999999997,null,"WIND023","Nr",10,6.75,67.5,null,{"$f":"SUMIF('Planned Maint v6.2 CSV File'!A:A,J32,'Planned Maint v6.2 CSV File'!I:I)","v":6.4124999999999996},{"$f":"IF(J32=\"PROV SUM\",N32,L32*P32)","v":64.125},{"$f":"IF(J32=\"Prov Sum\",\"\",IF(MATCH(J32,'Packet Rate Library'!J:J,0),VLOOKUP(J32,'Packet Rate Library'!J:T,9,FALSE),\"\"))","v":0},{"$f":"IF(R32>0,R32,P32)","v":6.4124999999999996},{"$f":"IF(J32=\"SC024\",N32,IF(ISERROR(S32),\"\",IF(J32=\"PROV SUM\",N32,L32*S32)))","v":64.125}]
[null,"REPB42150","WINDOWS","D","Window: Overhaul timber casement window, dismantle as necessary and subsequently reassemble including freeing, easing and adjusting casements to give correct operation, renew sealing gaskets, renew fixing screws, remove, refit or renew ironmongery as necessary, rake out and renew defective putty and mastic, touch up decorations internally to match existing and prepare for redecoration externally, and remove waste and debris.",null,null,4.8899999999999801,null,"3150BA","NO",2,29.05,58.1,null,{"$f":"SUMIF('Planned Maint v6.2 CSV File'!A:A,J33,'Planned Maint v6.2 CSV File'!I:I)","v":25.752824999999998},{"$f":"IF(J33=\"PROV SUM\",N33,L33*P33)","v":51.505649999999996},{"$f":"IF(J33=\"Prov Sum\",\"\",IF(MATCH(J33,'Packet Rate Library'!J:J,0),VLOOKUP(J33,'Packet Rate Library'!J:T,9,FALSE),\"\"))","v":0},{"$f":"IF(R33>0,R33,P33)","v":25.752824999999998},{"$f":"IF(J33=\"SC024\",N33,IF(ISERROR(S33),\"\",IF(J33=\"PROV SUM\",N33,L33*S33)))","v":51.505649999999996}]
[null,"REPB42150","WINDOWS","D","Window: Overhaul timber sash window, renew staff and parting beads, take out sashes and later rehang on appropriate sized new undyed plaited nylon sash cords, renew pocket pieces, wedge and cramp loose sash frames, oil pulleys, ease and adjust sashes, remove, refit or renew ironmongery, rake out and renew defective putty and mastic, touch up decorations internally to match existing and prepare for redecoration externally, and remove waste and debris.",null,null,4.8999999999999799,null,"3150CA","NO",9,35.61,320.49,null,{"$f":"SUMIF('Planned Maint v6.2 CSV File'!A:A,J34,'Planned Maint v6.2 CSV File'!I:I)","v":31.568264999999997},{"$f":"IF(J34=\"PROV SUM\",N34,L34*P34)","v":284.11438499999997},{"$f":"IF(J34=\"Prov Sum\",\"\",IF(MATCH(J34,'Packet Rate Library'!J:J,0),VLOOKUP(J34,'Packet Rate Library'!J:T,9,FALSE),\"\"))","v":0},{"$f":"IF(R34>0,R34,P34)","v":31.568264999999997},{"$f":"IF(J34=\"SC024\",N34,IF(ISERROR(S34),\"\",IF(J34=\"PROV SUM\",N34,L34*S34)))","v":284.11438499999997}]
[null,"REPB42150","SCAFFOLD","H"]
[null,"REPB42150","SCAFFOLD","D","Standard Scaffold item: erect; dismantle; basic independent tied working scaffolding; 5 boards wide, including hire period; completely accessible; debris netting to all elevations; double boarded and polythene included as necessary, any fan(s) included as required; rope plus wheel for lifting operations; 3rd handrail included whenever necessary; as per applicable regulations (applies to up to 5 storeys). Measured up to second handrail and by the middle of the scaffold (equidistant from the inside/outside face) including design when required. Rate to include for 12 week hire",null,null,2.1,null,"SC001","M2",90,12.92,1162.8,null,{"$f":"SUMIF('Planned Maint v6.2 CSV File'!A:A,J36,'Planned Maint v6.2 CSV File'!I:I)","v":16.4084},{"$f":"IF(J36=\"PROV SUM\",N36,L36*P36)","v":1476.7560000000001},{"$f":"IF(J36=\"Prov Sum\",\"\",IF(MATCH(J36,'Packet Rate Library'!J:J,0),VLOOKUP(J36,'Packet Rate Library'!J:T,9,FALSE),\"\"))","v":0},{"$f":"IF(R36>0,R36,P36)","v":16.4084},{"$f":"IF(J36=\"SC024\",N36,IF(ISERROR(S36),\"\",IF(J36=\"PROV SUM\",N36,L36*S36)))","v":1476.7560000000001}]
[null,"REPB42150","SCAFFOLD","D","Scaffold alarm - 1 x sounder, 2 x PIR 1 X key pad (Divided by Number of properties if continuous scaffolds)",null,null,2.5,null,"SC005","unit",1,420,420,null,{"$f":"SUMIF('Planned Maint v6.2 CSV File'!A:A,J37,'Planned Maint v6.2 CSV File'!I:I)","v":533.4},{"$f":"IF(J37=\"PROV SUM\",N37,L37*P37)","v":533.4},{"$f":"IF(J37=\"Prov Sum\",\"\",IF(MATCH(J37,'Packet Rate Library'!J:J,0),VLOOKUP(J37,'Packet Rate Library'!J:T,9,FALSE),\"\"))","v":0},{"$f":"IF(R37>0,R37,P37)","v":533.4},{"$f":"IF(J37=\"SC024\",N37,IF(ISERROR(S37),\"\",IF(J37=\"PROV SUM\",N37,L37*S37)))","v":533.4}]
[null,"REPB42150","SCAFFOLD","D","E/O for additional PIRS",null,null,2.6,null,"SC007","unit",1,50,50,null,{"$f":"SUMIF('Planned Maint v6.2 CSV File'!A:A,J38,'Planned Maint v6.2 CSV File'!I:I)","v":63.5},{"$f":"IF(J38=\"PROV SUM\",N38,L38*P38)","v":63.5},{"$f":"IF(J38=\"Prov Sum\",\"\",IF(MATCH(J38,'Packet Rate Library'!J:J,0),VLOOKUP(J38,'Packet Rate Library'!J:T,9,FALSE),\"\"))","v":0},{"$f":"IF(R38>0,R38,P38)","v":63.5},{"$f":"IF(J38=\"SC024\",N38,IF(ISERROR(S38),\"\",IF(J38=\"PROV SUM\",N38,L38*S38)))","v":63.5}]
[null,"REPB42150","SCAFFOLD","D","Scaffold taken through property (protection to surfaces included)",null,null,2.16,null,"SC016","unit",1,379.8,379.8,null,{"$f":"SUMIF('Planned Maint v6.2 CSV File'!A:A,J39,'Planned Maint v6.2 CSV File'!I:I)","v":482.346},{"$f":"IF(J39=\"PROV SUM\",N39,L39*P39)","v":482.346},{"$f":"IF(J39=\"Prov Sum\",\"\",IF(MATCH(J39,'Packet Rate Library'!J:J,0),VLOOKUP(J39,'Packet Rate Library'!J:T,9,FALSE),\"\"))","v":0},{"$f":"IF(R39>0,R39,P39)","v":482.346},{"$f":"IF(J39=\"SC024\",N39,IF(ISERROR(S39),\"\",IF(J39=\"PROV SUM\",N39,L39*S39)))","v":482.346}]
[null,"REPB42150","SCAFFOLD","D","Additional Hire if required - % per week of total scaffolding costs.  This is to be applied in the event an agreed programme exceeding the duration set out above. An example would be large low level blocks of 4 storeys requiring a large programme duration",null,null,null,null,"SC024","unit",null,4.8300000000000003E-2,{"$f":"VLOOKUP(B40,'Project Overheads & Scaffold'!$W:$AI,13,FALSE)","v":0},null,{"$f":"SUMIF('Planned Maint v6.2 CSV File'!A:A,J40,'Planned Maint v6.2 CSV File'!I:I)","v":4.8300000000000003E-2},{"$f":"IF(J40=\"PROV SUM\",N40,L40*P40)","v":0},{"$f":"IF(J40=\"Prov Sum\",\"\",IF(MATCH(J40,'Packet Rate Library'!J:J,0),VLOOKUP(J40,'Packet Rate Library'!J:T,9,FALSE),\"\"))","v":{"$error":"#N/A"}},{"$f":"IF(R40>0,R40,P40)","v":{"$error":"#N/A"}},{"$f":"IF(J40=\"SC024\",N40,IF(ISERROR(S40),\"\",IF(J40=\"PROV SUM\",N40,L40*S40)))","v":0}]
[null,"REPB42150","ESTATE WORKS","H"]
[null,"REPB42150","ESTATE WORKS","D","Fencing:Renew or provide new 1.65m tanalised timber vertical board fencing including for taking down remnants of existing fence and posts set in concrete, remove from site to approved tip, and set 125x125mm x 2.65m long softwood posts in concrete at ne 1.80m centres with three 69x44mm softwood rails bolted to posts and 144x20mm vertical boards nailed to rails, softwood gravel board with centre prop (measured per metre run of fencing).",null,null,7.79,null,"0171AD","LM",7,93.18,652.26,null,{"$f":"SUMIF('Planned Maint v6.2 CSV File'!A:A,J42,'Planned Maint v6.2 CSV File'!I:I)","v":76.500780000000006},{"$f":"IF(J42=\"PROV SUM\",N42,L42*P42)","v":535.50546000000008},{"$f":"IF(J42=\"Prov Sum\",\"\",IF(MATCH(J42,'Packet Rate Library'!J:J,0),VLOOKUP(J42,'Packet Rate Library'!J:T,9,FALSE),\"\"))","v":0},{"$f":"IF(R42>0,R42,P42)","v":76.500780000000006},{"$f":"IF(J42=\"SC024\",N42,IF(ISERROR(S42),\"\",IF(J42=\"PROV SUM\",N42,L42*S42)))","v":535.50546000000008}]
[null,"REPB42150","ESTATE WORKS","D","Gate Post and Gate:Renew or repair any single fitting to post or timber or metal gate including any gate hinge, gudgeon, band, pivot plate or pivot socket, spring, any post or gate catch or bolt, remove waste and debris (measured per complete fitting).",null,null,7.1860000000000301,null,"0250FA","NO",1,12.05,12.05,null,{"$f":"SUMIF('Planned Maint v6.2 CSV File'!A:A,J43,'Planned Maint v6.2 CSV File'!I:I)","v":9.8930500000000006},{"$f":"IF(J43=\"PROV SUM\",N43,L43*P43)","v":9.8930500000000006},{"$f":"IF(J43=\"Prov Sum\",\"\",IF(MATCH(J43,'Packet Rate Library'!J:J,0),VLOOKUP(J43,'Packet Rate Library'!J:T,9,FALSE),\"\"))","v":0},{"$f":"IF(R43>0,R43,P43)","v":9.8930500000000006},{"$f":"IF(J43=\"SC024\",N43,IF(ISERROR(S43),\"\",IF(J43=\"PROV SUM\",N43,L43*S43)))","v":9.8930500000000006}]
[null,"REPB42150","ESTATE WORKS","D","PROVISIONAL SUM: Paving: Rake out cracked sections of  existing floor concrete , fill in cracks and make good structure . SM 20",null,null,7.3159999999999998,null,"PROV SUM","SUM",1,400,400,null,{"$f":"SUMIF('Planned Maint v6.2 CSV File'!A:A,J44,'Planned Maint v6.2 CSV File'!I:I)","v":0},{"$f":"IF(J44=\"PROV SUM\",N44,L44*P44)","v":400},{"$f":"IF(J44=\"Prov Sum\",\"\",IF(MATCH(J44,'Packet Rate Library'!J:J,0),VLOOKUP(J44,'Packet Rate Library'!J:T,9,FALSE),\"\"))","v":""},{"$f":"IF(R44>0,R44,P44)","v":""},{"$f":"IF(J44=\"SC024\",N44,IF(ISERROR(S44),\"\",IF(J44=\"PROV SUM\",N44,L44*S44)))","v":400}]

{"sheet":"8 Dale Road","index":10,"n_rows":52,"n_cols":20,"rows_kept":52,"cut":false,"hidden":false,"merged":[[4,15,4,19]]}
[null,null,null,null,null,null,null,null,null,null,null,null,null,null,null,{"$f":"SUMIF('Planned Maint v6.2 CSV File'!A:A,J1,'Planned Maint v6.2 CSV File'!I:I)","v":0},{"$f":"IF(J1=\"PROV SUM\",N1,L1*P1)","v":0},{"$f":"IF(J1=\"Prov Sum\",\"\",IF(MATCH(J1,'Packet Rate Library'!J:J,0),VLOOKUP(J1,'Packet Rate Library'!J:T,9,FALSE),\"\"))","v":{"$error":"#N/A"}},{"$f":"IF(R1>0,R1,P1)","v":{"$error":"#N/A"}},{"$f":"IF(J1=\"SC024\",N1,IF(ISERROR(S1),\"\",IF(J1=\"PROV SUM\",N1,L1*S1)))","v":""}]
["BILL OF QUANTITIES - RAPID LOADER"]
[]
["8 DALE ROAD FLATS A-B"]
[]
["Requirement","REPB42122","Requirement Type","Rowtype (H=Header, D=Detail)","Description","Works Order Commencement Date","Works Order Completion Date","Specification  Ref. Item No.'s","Works Order Delivery Date","SOR Code","SOR Unit","SOR Qty","SOR Cost","Total Cost",null,"Rate (max)","Cost (max)","Modified price","Tendered rate","Tendered total"]
[]
[null,"REPB42122","ENERGY EFFICIENY","H"]
[null,"REPB42122","ENERGY EFFICIENY","D","Contractor to access and undertake survey of loft space in accordance with the Project Brief in order to assess level of current loft insulation. Including submittion of a survey report supported by photographic evidance to CM/PM. Where insulation levels are less then 200mm, Contractor to provide cost proposal to upgrade insulation in accordance with NHF SoR Planned Maintenance Version 6.2.",null,null,9.1,null,"ADD001","IT",1,null,null,null,{"$f":"SUMIF('Planned Maint v6.2 CSV File'!A:A,J9,'Planned Maint v6.2 CSV File'!I:I)","v":0},{"$f":"IF(J9=\"PROV SUM\",N9,L9*P9)","v":0},{"$f":"IF(J9=\"Prov Sum\",\"\",IF(MATCH(J9,'Packet Rate Library'!J:J,0),VLOOKUP(J9,'Packet Rate Library'!J:T,9,FALSE),\"\"))","v":0},{"$f":"IF(R9>0,R9,P9)","v":0},{"$f":"IF(J9=\"SC024\",N9,IF(ISERROR(S9),\"\",IF(J9=\"PROV SUM\",N9,L9*S9)))","v":0}]
[null,"REPB42122","ENERGY EFFICIENY","D","Insulation:Supply and lay ne 270mm thick insulation quilt to loft area including gain access and moving/replacing contents within loft area in order to undertake work. Item 2270AA",null,null,9.1999999999999993,null,"2270AA","SM",46.04,10.86,{"$f":"M10*L10","v":499.99439999999998},null,{"$f":"SUMIF('Planned Maint v6.2 CSV File'!A:A,J10,'Planned Maint v6.2 CSV File'!I:I)","v":8.6880000000000006},{"$f":"IF(J10=\"PROV SUM\",N10,L10*P10)","v":399.99552},{"$f":"IF(J10=\"Prov Sum\",\"\",IF(MATCH(J10,'Packet Rate Library'!J:J,0),VLOOKUP(J10,'Packet Rate Library'!J:T,9,FALSE),\"\"))","v":0},{"$f":"IF(R10>0,R10,P10)","v":8.6880000000000006},{"$f":"IF(J10=\"SC024\",N10,IF(ISERROR(S10),\"\",IF(J10=\"PROV SUM\",N10,L10*S10)))","v":399.99552}]
[null,"REPB42122","ASBESTOS","H"]
[null,"REPB42122","ASBESTOS","D","Refurbishment and Demolition  Survey to Full Property (with upto 5 Nr samples) , flat or house any size",null,null,1.3,null,"A003","Item",1,234,234,null,{"$f":"SUMIF('Planned Maint v6.2 CSV File'!A:A,J12,'Planned Maint v6.2 CSV File'!I:I)","v":222.29999999999998},{"$f":"IF(J12=\"PROV SUM\",N12,L12*P12)","v":222.29999999999998},{"$f":"IF(J12=\"Prov Sum\",\"\",IF(MATCH(J12,'Packet Rate Library'!J:J,0),VLOOKUP(J12,'Packet Rate Library'!J:T,9,FALSE),\"\"))","v":0},{"$f":"IF(R12>0,R12,P12)","v":222.29999999999998},{"$f":"IF(J12=\"SC024\",N12,IF(ISERROR(S12),\"\",IF(J12=\"PROV SUM\",N12,L12*S12)))","v":222.29999999999998}]
[null,"REPB42122","COMMUNAL WORKS","H"]
[null,"REPB42122"]
[null,"REPB42122","EXTREP","H"]
[null,"REPB42122","EXTREP","D","Wall: Cut out bricks from face of wall, clean and clear away, lay upto 15 No. new common bricks in cement lime mortar (1:1:6), bond, bed and point to match existing and remove waste and debris.",null,null,6.83,null,"1019AB","IT",3,18.93,56.79,null,{"$f":"SUMIF('Planned Maint v6.2 CSV File'!A:A,J16,'Planned Maint v6.2 CSV File'!I:I)","v":13.72425},{"$f":"IF(J16=\"PROV SUM\",N16,L16*P16)","v":41.172750000000001},{"$f":"IF(J16=\"Prov Sum\",\"\",IF(MATCH(J16,'Packet Rate Library'!J:J,0),VLOOKUP(J16,'Packet Rate Library'!J:T,9,FALSE),\"\"))","v":0},{"$f":"IF(R16>0,R16,P16)","v":13.72425},{"$f":"IF(J16=\"SC024\",N16,IF(ISERROR(S16),\"\",IF(J16=\"PROV SUM\",N16,L16*S16)))","v":41.172750000000001}]
[null,"REPB42122","EXTREP","D","Wall: Rake out existing joints of brickwork min 12mm and repoint brickwork in mortar to match existing and remove waste and debris.",null,null,6.91,null,"1021AA","SM",2,20.13,40.26,null,{"$f":"SUMIF('Planned Maint v6.2 CSV File'!A:A,J17,'Planned Maint v6.2 CSV File'!I:I)","v":14.594249999999999},29.188499999999998,{"$f":"IF(J17=\"Prov Sum\",\"\",IF(MATCH(J17,'Packet Rate Library'!J:J,0),VLOOKUP(J17,'Packet Rate Library'!J:T,9,FALSE),\"\"))","v":0},14.594249999999999,29.188499999999998]
[null,"REPB42122","EXTREP","D","Walls: Wash down, fill in cracks and holes, sand down and apply one coat of stabilising solution and two coats of smooth or textured masonry paint to brickwork surfaces of walls.",null,null,6.1860000000000301,null,"4356BD","SM",8,11.63,93.04,null,{"$f":"SUMIF('Planned Maint v6.2 CSV File'!A:A,J18,'Planned Maint v6.2 CSV File'!I:I)","v":9.8855000000000004},79.084000000000003,{"$f":"IF(J18=\"Prov Sum\",\"\",IF(MATCH(J18,'Packet Rate Library'!J:J,0),VLOOKUP(J18,'Packet Rate Library'!J:T,9,FALSE),\"\"))","v":0},9.8855000000000004,79.084000000000003]
[null,"REPB42122","EXTREP","D","Window: Rub down, prepare and apply one coat of primer, one undercoat and two coats of gloss paint on surfaces of wooden windowsl (one side and edges).",null,null,6.2360000000000504,null,"4380BA","SM",20,25.87,517.4,null,{"$f":"SUMIF('Planned Maint v6.2 CSV File'!A:A,J19,'Planned Maint v6.2 CSV File'!I:I)","v":21.9895},439.78999999999996,{"$f":"IF(J19=\"Prov Sum\",\"\",IF(MATCH(J19,'Packet Rate Library'!J:J,0),VLOOKUP(J19,'Packet Rate Library'!J:T,9,FALSE),\"\"))","v":0},21.9895,439.78999999999996]
[null,"REPB42122","EXTREP","D","Frame: Rub down, prepare and apply one coat of primer, one undercoat and two coats of gloss paint on timber frame ne 300mm girth.",null,null,6.2370000000000498,null,"4380CA","LM",15,6.28,94.2,null,{"$f":"SUMIF('Planned Maint v6.2 CSV File'!A:A,J20,'Planned Maint v6.2 CSV File'!I:I)","v":5.3380000000000001},80.070000000000007,{"$f":"IF(J20=\"Prov Sum\",\"\",IF(MATCH(J20,'Packet Rate Library'!J:J,0),VLOOKUP(J20,'Packet Rate Library'!J:T,9,FALSE),\"\"))","v":0},5.3380000000000001,80.070000000000007]
[null,"REPB42122","EXTREP","D","Door: Rub down, prepare for and apply one coat of primer, one undercoat and two coats of gloss paint to all surfaces of any size or type of single glazed timber door. (one sides and edges).",null,null,6.2380000000000502,null,"4380DA","IT",2,20.71,41.42,null,{"$f":"SUMIF('Planned Maint v6.2 CSV File'!A:A,J21,'Planned Maint v6.2 CSV File'!I:I)","v":17.6035},35.207000000000001,{"$f":"IF(J21=\"Prov Sum\",\"\",IF(MATCH(J21,'Packet Rate Library'!J:J,0),VLOOKUP(J21,'Packet Rate Library'!J:T,9,FALSE),\"\"))","v":0},17.6035,35.207000000000001]
[null,"REPB42122","ROOF","H"]
[null,"REPB42122","ROOF","D","Asphalt: Renew 20mm asphalt roof finish comprising isolating membrane, asphalt laid in two layers and bond to existing asphalt and finish smooth to match existing levels, and remove waste and debris.",null,null,3.67,null,"2190AA","SM",6,85.24,511.44,null,{"$f":"SUMIF('Planned Maint v6.2 CSV File'!A:A,J23,'Planned Maint v6.2 CSV File'!I:I)","v":68.191999999999993},{"$f":"IF(J23=\"PROV SUM\",N23,L23*P23)","v":409.15199999999993},{"$f":"IF(J23=\"Prov Sum\",\"\",IF(MATCH(J23,'Packet Rate Library'!J:J,0),VLOOKUP(J23,'Packet Rate Library'!J:T,9,FALSE),\"\"))","v":0},{"$f":"IF(R23>0,R23,P23)","v":68.191999999999993},{"$f":"IF(J23=\"SC024\",N23,IF(ISERROR(S23),\"\",IF(J23=\"PROV SUM\",N23,L23*S23)))","v":409.15199999999993}]
[null,"REPB42122","ROOF","D","Asphalt: Overhaul asphalt roofing to flat roof area, Including sweep and remove moss, algae and other debris, cut out blisters, cracks and make good in asphalt, prepare and apply two coats of solar reflective paint as necessary, rewedge and redress flashings, clear associated gutters and outlets, and remove waste and debris.",null,null,3.74000000000001,null,"2190GA","SM",30,30.56,916.8,null,{"$f":"SUMIF('Planned Maint v6.2 CSV File'!A:A,J24,'Planned Maint v6.2 CSV File'!I:I)","v":24.448},{"$f":"IF(J24=\"PROV SUM\",N24,L24*P24)","v":733.44},{"$f":"IF(J24=\"Prov Sum\",\"\",IF(MATCH(J24,'Packet Rate Library'!J:J,0),VLOOKUP(J24,'Packet Rate Library'!J:T,9,FALSE),\"\"))","v":0},{"$f":"IF(R24>0,R24,P24)","v":24.448},{"$f":"IF(J24=\"SC024\",N24,IF(ISERROR(S24),\"\",IF(J24=\"PROV SUM\",N24,L24*S24)))","v":733.44}]
[null,"REPB42122","ROOF","D","Moss: Carefully remove moss/lichen growth on roof covering of any kind and dispose of debris off site, reistate all disturbed surfaces, replace broken tiles, slates and the like, thoroughly clean out valleys, gutters, downpipes, hoppers etc, prepare and treat the complete roof area with a diluted fungicide solution AKZO or other equal and approved applied strictly in accordance with the manufacturer’s instructions, thoroughly clean out all gutters and the like to remove all chemical residue arising upon completion of the works, and remove waste and debris.",null,null,3.1799999999999899,null,"2115AA","SM",6,10.17,61.02,null,{"$f":"SUMIF('Planned Maint v6.2 CSV File'!A:A,J25,'Planned Maint v6.2 CSV File'!I:I)","v":8.136000000000001},{"$f":"IF(J25=\"PROV SUM\",N25,L25*P25)","v":48.816000000000003},{"$f":"IF(J25=\"Prov Sum\",\"\",IF(MATCH(J25,'Packet Rate Library'!J:J,0),VLOOKUP(J25,'Packet Rate Library'!J:T,9,FALSE),\"\"))","v":0},{"$f":"IF(R25>0,R25,P25)","v":8.136000000000001},{"$f":"IF(J25=\"SC024\",N25,IF(ISERROR(S25),\"\",IF(J25=\"PROV SUM\",N25,L25*S25)))","v":48.816000000000003}]
[null,"REPB42122","ROOF","D","Secret Gutter: Clear debris and clean down large secret lead or copper gutter or valley, remove waste and debis",null,null,3.1889999999999898,null,"2250CA","LM",10,5.58,55.8,null,{"$f":"SUMIF('Planned Maint v6.2 CSV File'!A:A,J26,'Planned Maint v6.2 CSV File'!I:I)","v":4.4640000000000004},{"$f":"IF(J26=\"PROV SUM\",N26,L26*P26)","v":44.64},{"$f":"IF(J26=\"Prov Sum\",\"\",IF(MATCH(J26,'Packet Rate Library'!J:J,0),VLOOKUP(J26,'Packet Rate Library'!J:T,9,FALSE),\"\"))","v":0},{"$f":"IF(R26>0,R26,P26)","v":4.4640000000000004},{"$f":"IF(J26=\"SC024\",N26,IF(ISERROR(S26),\"\",IF(J26=\"PROV SUM\",N26,L26*S26)))","v":44.64}]
[null,"REPB42122","WINDOWS","H"]
[null,"REPB42122","WINDOWS","D","Window: Overhaul timber casement window, dismantle as necessary and subsequently reassemble including freeing, easing and adjusting casements to give correct operation, renew sealing gaskets, renew fixing screws, remove, refit or renew ironmongery as necessary, rake out and renew defective putty and mastic, touch up decorations internally to match existing and prepare for redecoration externally, and remove waste and debris.",null,null,4.8899999999999801,null,"3150BA","NO",1,29.05,29.05,null,{"$f":"SUMIF('Planned Maint v6.2 CSV File'!A:A,J28,'Planned Maint v6.2 CSV File'!I:I)","v":25.752824999999998},{"$f":"IF(J28=\"PROV SUM\",N28,L28*P28)","v":25.752824999999998},{"$f":"IF(J28=\"Prov Sum\",\"\",IF(MATCH(J28,'Packet Rate Library'!J:J,0),VLOOKUP(J28,'Packet Rate Library'!J:T,9,FALSE),\"\"))","v":0},{"$f":"IF(R28>0,R28,P28)","v":25.752824999999998},{"$f":"IF(J28=\"SC024\",N28,IF(ISERROR(S28),\"\",IF(J28=\"PROV SUM\",N28,L28*S28)))","v":25.752824999999998}]
[null,"REPB42122","WINDOWS","D","Window: Overhaul sash window, renew staff and parting beads, take out sashes and later rehang on spiral sash balances, renew pocket pieces, wedge and cramp loose sash frames, ease and adjust sashes, remove, refit or renew ironmongery, rake out and renew defective putty and mastic, touch up decorations internally to match existing and prepare for redecoration externally, and remove waste and debris.",null,null,4.9099999999999797,null,"3150CB","NO",8,98.99,791.92,null,{"$f":"SUMIF('Planned Maint v6.2 CSV File'!A:A,J29,'Planned Maint v6.2 CSV File'!I:I)","v":87.754634999999993},{"$f":"IF(J29=\"PROV SUM\",N29,L29*P29)","v":702.03707999999995},{"$f":"IF(J29=\"Prov Sum\",\"\",IF(MATCH(J29,'Packet Rate Library'!J:J,0),VLOOKUP(J29,'Packet Rate Library'!J:T,9,FALSE),\"\"))","v":0},{"$f":"IF(R29>0,R29,P29)","v":87.754634999999993},{"$f":"IF(J29=\"SC024\",N29,IF(ISERROR(S29),\"\",IF(J29=\"PROV SUM\",N29,L29*S29)))","v":702.03707999999995}]
[null,"REPB42122","SCAFFOLD","H"]
[null,"REPB42122","SCAFFOLD","D","Standard Scaffold item: erect; dismantle; basic independent tied working scaffolding; 5 boards wide, including hire period; completely accessible; debris netting to all elevations; double boarded and polythene included as necessary, any fan(s) included as required; rope plus wheel for lifting operations; 3rd handrail included whenever necessary; as per applicable regulations (applies to up to 5 storeys). Measured up to second handrail and by the middle of the scaffold (equidistant from the inside/outside face) including design when required. Rate to include for 12 week hire",null,null,2.1,null,"SC001","M2",140,12.92,1808.8,null,{"$f":"SUMIF('Planned Maint v6.2 CSV File'!A:A,J31,'Planned Maint v6.2 CSV File'!I:I)","v":16.4084},{"$f":"IF(J31=\"PROV SUM\",N31,L31*P31)","v":2297.1759999999999},{"$f":"IF(J31=\"Prov Sum\",\"\",IF(MATCH(J31,'Packet Rate Library'!J:J,0),VLOOKUP(J31,'Packet Rate Library'!J:T,9,FALSE),\"\"))","v":0},{"$f":"IF(R31>0,R31,P31)","v":16.4084},{"$f":"IF(J31=\"SC024\",N31,IF(ISERROR(S31),\"\",IF(J31=\"PROV SUM\",N31,L31*S31)))","v":2297.1759999999999}]
[null,"REPB42122","SCAFFOLD","D","E/O for additional PIRS",null,null,2.6,null,"SC007","unit",1,50,50,null,{"$f":"SUMIF('Planned Maint v6.2 CSV File'!A:A,J32,'Planned Maint v6.2 CSV File'!I:I)","v":63.5},{"$f":"IF(J32=\"PROV SUM\",N32,L32*P32)","v":63.5},{"$f":"IF(J32=\"Prov Sum\",\"\",IF(MATCH(J32,'Packet Rate Library'!J:J,0),VLOOKUP(J32,'Packet Rate Library'!J:T,9,FALSE),\"\"))","v":0},{"$f":"IF(R32>0,R32,P32)","v":63.5},{"$f":"IF(J32=\"SC024\",N32,IF(ISERROR(S32),\"\",IF(J32=\"PROV SUM\",N32,L32*S32)))","v":63.5}]
[null,"REPB42122","SCAFFOLD","D","Scaffold to chimney stack n.e. 3.00 girth, n.e. 2.00m high to gable, verge or edge",null,null,2.7,null,"SC008","unit",1,383.72,383.72,null,{"$f":"SUMIF('Planned Maint v6.2 CSV File'!A:A,J33,'Planned Maint v6.2 CSV File'!I:I)","v":487.32440000000003},{"$f":"IF(J33=\"PROV SUM\",N33,L33*P33)","v":487.32440000000003},{"$f":"IF(J33=\"Prov Sum\",\"\",IF(MATCH(J33,'Packet Rate Library'!J:J,0),VLOOKUP(J33,'Packet Rate Library'!J:T,9,FALSE),\"\"))","v":0},{"$f":"IF(R33>0,R33,P33)","v":487.32440000000003},{"$f":"IF(J33=\"SC024\",N33,IF(ISERROR(S33),\"\",IF(J33=\"PROV SUM\",N33,L33*S33)))","v":487.32440000000003}]
[null,"REPB42122","SCAFFOLD","D","Scaffold taken up&over the roof",null,null,2.17,null,"SC017","unit",1,842,842,null,{"$f":"SUMIF('Planned Maint v6.2 CSV File'!A:A,J34,'Planned Maint v6.2 CSV File'!I:I)","v":1069.3399999999999},{"$f":"IF(J34=\"PROV SUM\",N34,L34*P34)","v":1069.3399999999999},{"$f":"IF(J34=\"Prov Sum\",\"\",IF(MATCH(J34,'Packet Rate Library'!J:J,0),VLOOKUP(J34,'Packet Rate Library'!J:T,9,FALSE),\"\"))","v":0},{"$f":"IF(R34>0,R34,P34)","v":1069.3399999999999},{"$f":"IF(J34=\"SC024\",N34,IF(ISERROR(S34),\"\",IF(J34=\"PROV SUM\",N34,L34*S34)))","v":1069.3399999999999}]
[null,"REPB42122","SCAFFOLD","D","Additional Hire if required - % per week of total scaffolding costs.  This is to be applied in the event an agreed programme exceeding the duration set out above. An example would be large low level blocks of 4 storeys requiring a large programme duration",null,null,null,null,"SC024","unit",null,4.8300000000000003E-2,{"$f":"VLOOKUP(B35,'Project Overheads & Scaffold'!$W:$AI,13,FALSE)","v":0},null,{"$f":"SUMIF('Planned Maint v6.2 CSV File'!A:A,J35,'Planned Maint v6.2 CSV File'!I:I)","v":4.8300000000000003E-2},{"$f":"IF(J35=\"PROV SUM\",N35,L35*P35)","v":0},{"$f":"IF(J35=\"Prov Sum\",\"\",IF(MATCH(J35,'Packet Rate Library'!J:J,0),VLOOKUP(J35,'Packet Rate Library'!J:T,9,FALSE),\"\"))","v":{"$error":"#N/A"}},{"$f":"IF(R35>0,R35,P35)","v":{"$error":"#N/A"}},{"$f":"IF(J35=\"SC024\",N35,IF(ISERROR(S35),\"\",IF(J35=\"PROV SUM\",N35,L35*S35)))","v":0}]
[null,"REPB42122","ESTATE WORKS","H"]
[null,"REPB42122","ESTATE WORKS","D","Gates:Install tanalised softwood two leaved gate ne 2.5sm overall, each leaf comprising two 144x27mm ledges, six 144x20mm vertical boards at 175mm centres and one 144x27mm diagonal brace, including steel strap hinges and hangers fixed to and including precaste concrete posts, galvanised mild steel auto catch, prepare for and decorate, posts set in concrete including all excavation, concrete, backfill and remove waste and debris, reinstate paving, gardens and like as necessary.",null,null,7.1630000000000198,null,"0210BC","NO",1,259.88,259.88,null,{"$f":"SUMIF('Planned Maint v6.2 CSV File'!A:A,J37,'Planned Maint v6.2 CSV File'!I:I)","v":213.36147999999997},{"$f":"IF(J37=\"PROV SUM\",N37,L37*P37)","v":213.36147999999997},{"$f":"IF(J37=\"Prov Sum\",\"\",IF(MATCH(J37,'Packet Rate Library'!J:J,0),VLOOKUP(J37,'Packet Rate Library'!J:T,9,FALSE),\"\"))","v":0},{"$f":"IF(R37>0,R37,P37)","v":213.36147999999997},{"$f":"IF(J37=\"SC024\",N37,IF(ISERROR(S37),\"\",IF(J37=\"PROV SUM\",N37,L37*S37)))","v":213.36147999999997}]
[null,"REPB42122","ESTATE WORKS","D","Wall: Supply and lay new common bricks in one and a half brick wall in cement lime mortar (1:1:6).",null,null,7.19900000000003,null,"1013AC","SM",1,133.41999999999999,133.41999999999999,null,{"$f":"SUMIF('Planned Maint v6.2 CSV File'!A:A,J38,'Planned Maint v6.2 CSV File'!I:I)","v":96.729499999999987},{"$f":"IF(J38=\"PROV SUM\",N38,L38*P38)","v":96.729499999999987},{"$f":"IF(J38=\"Prov Sum\",\"\",IF(MATCH(J38,'Packet Rate Library'!J:J,0),VLOOKUP(J38,'Packet Rate Library'!J:T,9,FALSE),\"\"))","v":0},{"$f":"IF(R38>0,R38,P38)","v":96.729499999999987},{"$f":"IF(J38=\"SC024\",N38,IF(ISERROR(S38),\"\",IF(J38=\"PROV SUM\",N38,L38*S38)))","v":96.729499999999987}]
[null,"REPB42122","FRA WORKS","H"]
[null,"REPB42122","FRA WORKS","D","Door:Renew internal door with any size single half-hour fire check glazed door having 3.2mm luan, white Meranti or other approved plywood facing both sides and 9mm hardwood lipping on long edges, including remove existing door and hinges, remove and refit door stops as necessary, fit and hang new door on 1.50 pairs of 100mm steel butt hinges, make good or alter recesses on frame, door complete with all ironmongery, intumescent strips and smoke seals, glazed, redecorate to match existing and remove waste and debris.",null,null,13,null,"3300FC","Item",2,222.2,444.4,null,{"$f":"SUMIF('Planned Maint v6.2 CSV File'!A:A,J40,'Planned Maint v6.2 CSV File'!I:I)","v":196.98029999999997},{"$f":"IF(J40=\"PROV SUM\",N40,L40*P40)","v":393.96059999999994},{"$f":"IF(J40=\"Prov Sum\",\"\",IF(MATCH(J40,'Packet Rate Library'!J:J,0),VLOOKUP(J40,'Packet Rate Library'!J:T,9,FALSE),\"\"))","v":0},{"$f":"IF(R40>0,R40,P40)","v":196.98029999999997},{"$f":"IF(J40=\"SC024\",N40,IF(ISERROR(S40),\"\",IF(J40=\"PROV SUM\",N40,L40*S40)))","v":393.96059999999994}]
[null,"REPB42122","FRA WORKS","D","Fire Upgrading Coating:Remove all existing defective paint to plastered or rendered wall surfaces back to a solid edge, feather off and repair any defective areas with a high quality filler as necessary, spot prime filled or bare areas with afire upgrading primer, remove any existing graffiti with a graffiti removal system, wash down, rinse, clean off and apply one full coat of fire upgrading primer at a coverage rate of 10sm per litre, apply two full coats of fire upgrading finish at a coverage rate of 10sm per litre.",null,null,27,null,"4801AB","Item",1,22.53,22.53,null,{"$f":"SUMIF('Planned Maint v6.2 CSV File'!A:A,J41,'Planned Maint v6.2 CSV File'!I:I)","v":19.150500000000001},19.150500000000001,{"$f":"IF(J41=\"Prov Sum\",\"\",IF(MATCH(J41,'Packet Rate Library'!J:J,0),VLOOKUP(J41,'Packet Rate Library'!J:T,9,FALSE),\"\"))","v":0},19.150500000000001,19.150500000000001]
[null,"REPB42122","FRA WORKS","D","Fire Upgrading Coating:Strip off existing multi layer paint coatings to existing plastered or rendered soffits with a proprietary paint stripper, scrape off or remove with a proprietary paint scraper, wash down,rinse,  spot prime filled or bare areas with afire upgrading primer, remove any existing graffiti with a graffiti removal system, clean off and apply one full coat of primer at a coverage rate of 10sm per litre, apply one full coats of colourcoat complete with decorative flakes, and apply one full coat of gloss or satin lacquer finish at a coverage rate of 10sm per litre.",null,null,41,null,"4804AD","Item",1,29.34,29.34,null,{"$f":"SUMIF('Planned Maint v6.2 CSV File'!A:A,J42,'Planned Maint v6.2 CSV File'!I:I)","v":24.939},24.939,{"$f":"IF(J42=\"Prov Sum\",\"\",IF(MATCH(J42,'Packet Rate Library'!J:J,0),VLOOKUP(J42,'Packet Rate Library'!J:T,9,FALSE),\"\"))","v":0},24.939,24.939]
[null,"REPB42122","FRA WORKS","D","Fire Alarm:Install L2 type fire alarm installation complete to BS5839:Part6 1995, control panel, circuits, call points, automatic detectors and sounders, builders work, make good, test, commission, and remove waste and debris.",null,null,93,null,"8711GA","Item",1,550,550,null,{"$f":"SUMIF('Planned Maint v6.2 CSV File'!A:A,J43,'Planned Maint v6.2 CSV File'!I:I)","v":440},440,{"$f":"IF(J43=\"Prov Sum\",\"\",IF(MATCH(J43,'Packet Rate Library'!J:J,0),VLOOKUP(J43,'Packet Rate Library'!J:T,9,FALSE),\"\"))","v":0},440,440]
[null,"REPB42122","FRA WORKS","D","Intumescent Strip:Renew or supply and fix new 22x4mm intumescent strip, half hour application, with integral cold smoke seal and setting into groove in timber frame or door.",null,null,104,null,"3431AC","Item",2,3.44,6.88,null,{"$f":"SUMIF('Planned Maint v6.2 CSV File'!A:A,J44,'Planned Maint v6.2 CSV File'!I:I)","v":3.0495599999999996},6.0991199999999992,{"$f":"IF(J44=\"Prov Sum\",\"\",IF(MATCH(J44,'Packet Rate Library'!J:J,0),VLOOKUP(J44,'Packet Rate Library'!J:T,9,FALSE),\"\"))","v":0},3.0495599999999996,6.0991199999999992]
[null,"REPB42122","FRA WORKS","D","Smoke Detector:Renew existing with mains operated optical smoke detector with rechargeable DC battery or condensor back up self contained type to BS 5446 kitemark certified with hush button, including back plate and all necessary connections to existing wiring, test and make good on completion, where interlinked detectors are replaced new detectors must be compatible with existing, and remove waste and debris.",null,null,115,null,"8720FA","Item",2,70.11,140.22,null,{"$f":"SUMIF('Planned Maint v6.2 CSV File'!A:A,J45,'Planned Maint v6.2 CSV File'!I:I)","v":56.088000000000001},112.176,{"$f":"IF(J45=\"Prov Sum\",\"\",IF(MATCH(J45,'Packet Rate Library'!J:J,0),VLOOKUP(J45,'Packet Rate Library'!J:T,9,FALSE),\"\"))","v":0},56.088000000000001,112.176]
[null,"REPB42122","FRA WORKS","D","Partition:Supply and erect or renew stud partition comprising ne 50x100mm sole and head plate, noggins and studs fixed with nails or plugged and screwed to walls, and pack out and scribe, 12.5mm butt jointed plasterboard and 3mm plaster skim coat and all labours to both faces.",null,null,180,null,"3013AB","Item",1,62.11,62.11,null,{"$f":"SUMIF('Planned Maint v6.2 CSV File'!A:A,J46,'Planned Maint v6.2 CSV File'!I:I)","v":55.060514999999995},55.060514999999995,{"$f":"IF(J46=\"Prov Sum\",\"\",IF(MATCH(J46,'Packet Rate Library'!J:J,0),VLOOKUP(J46,'Packet Rate Library'!J:T,9,FALSE),\"\"))","v":0},55.060514999999995,55.060514999999995]
[null,"REPB42122","FRA WORKS","D","Test:Carry out test of domestic installation to occupied property complete comprising continuity, insulation resistance, polarity, earth fault loop impedance and operation of residual current operated device, disconnect, repair and renew as necessary after removal of illegal wiring and components, and provide report and NICEIC/ECA test certificate to the Client’s Representative, and remove waste and debris.",null,null,186,null,"8950AA","Item",1,86.88,86.88,null,{"$f":"SUMIF('Planned Maint v6.2 CSV File'!A:A,J47,'Planned Maint v6.2 CSV File'!I:I)","v":69.504000000000005},69.504000000000005,{"$f":"IF(J47=\"Prov Sum\",\"\",IF(MATCH(J47,'Packet Rate Library'!J:J,0),VLOOKUP(J47,'Packet Rate Library'!J:T,9,FALSE),\"\"))","v":0},69.504000000000005,69.504000000000005]
[null,"REPB42122","FRA WORKS","D","Provisional Sum: Allow provisional sum for additional works to the fire alarm system.",null,null,190,null,"PROV SUM","Item",1,1500,1500,null,{"$f":"SUMIF('Planned Maint v6.2 CSV File'!A:A,J48,'Planned Maint v6.2 CSV File'!I:I)","v":0},1500,{"$f":"IF(J48=\"Prov Sum\",\"\",IF(MATCH(J48,'Packet Rate Library'!J:J,0),VLOOKUP(J48,'Packet Rate Library'!J:T,9,FALSE),\"\"))","v":""},"",1500]
[null,"REPB42122","FRA WORKS","D","Provisional Sum: Allow provisional sum for additional works to clear waste and debris from fire escape routes. ",null,null,191,null,"PROV SUM","Item",1,100,100,null,{"$f":"SUMIF('Planned Maint v6.2 CSV File'!A:A,J49,'Planned Maint v6.2 CSV File'!I:I)","v":0},100,{"$f":"IF(J49=\"Prov Sum\",\"\",IF(MATCH(J49,'Packet Rate Library'!J:J,0),VLOOKUP(J49,'Packet Rate Library'!J:T,9,FALSE),\"\"))","v":""},"",100]
[null,"REPB42122","FRA WORKS","D","Provisional Sum: Allow provisional sum for additional fire stopping works",null,null,192,null,"PROV SUM","Item",1,100,100,null,{"$f":"SUMIF('Planned Maint v6.2 CSV File'!A:A,J50,'Planned Maint v6.2 CSV File'!I:I)","v":0},100,{"$f":"IF(J50=\"Prov Sum\",\"\",IF(MATCH(J50,'Packet Rate Library'!J:J,0),VLOOKUP(J50,'Packet Rate Library'!J:T,9,FALSE),\"\"))","v":""},"",100]
[null,"REPB42122","FRA WORKS","D","Provisional Sum: Allow provisional sum for additional signage",null,null,193,null,"PROV SUM","Item",1,100,100,null,{"$f":"SUMIF('Planned Maint v6.2 CSV File'!A:A,J51,'Planned Maint v6.2 CSV File'!I:I)","v":0},100,{"$f":"IF(J51=\"Prov Sum\",\"\",IF(MATCH(J51,'Packet Rate Library'!J:J,0),VLOOKUP(J51,'Packet Rate Library'!J:T,9,FALSE),\"\"))","v":""},"",100]
[null,"REPB42122","FRA WORKS","D","Provisional Sum: Allow provisional sum for additional electrical works",null,null,194,null,"PROV SUM","Item",1,350,350,null,{"$f":"SUMIF('Planned Maint v6.2 CSV File'!A:A,J52,'Planned Maint v6.2 CSV File'!I:I)","v":0},350,{"$f":"IF(J52=\"Prov Sum\",\"\",IF(MATCH(J52,'Packet Rate Library'!J:J,0),VLOOKUP(J52,'Packet Rate Library'!J:T,9,FALSE),\"\"))","v":""},"",350]

{"sheet":"11 Gillies Street A-B","index":11,"n_rows":55,"n_cols":20,"rows_kept":55,"cut":false,"hidden":false,"merged":[[4,15,4,19]]}
[null,null,null,null,null,null,null,null,null,null,null,null,null,null,null,{"$f":"SUMIF('Planned Maint v6.2 CSV File'!A:A,J1,'Planned Maint v6.2 CSV File'!I:I)","v":0},{"$f":"IF(J1=\"PROV SUM\",N1,L1*P1)","v":0},{"$f":"IF(J1=\"Prov Sum\",\"\",IF(MATCH(J1,'Packet Rate Library'!J:J,0),VLOOKUP(J1,'Packet Rate Library'!J:T,9,FALSE),\"\"))","v":{"$error":"#N/A"}},{"$f":"IF(R1>0,R1,P1)","v":{"$error":"#N/A"}},{"$f":"IF(J1=\"SC024\",N1,IF(ISERROR(S1),\"\",IF(J1=\"PROV SUM\",N1,L1*S1)))","v":""}]
[]
[]
["11 GILLIES STREET FLATS A-B"]
[]
["Requirement","REPB42154","Requirement Type","Rowtype (H=Header, D=Detail)","Description","Works Order Commencement Date","Works Order Completion Date","Specification  Ref. Item No.'s","Works Order Delivery Date","SOR Code","SOR Unit","SOR Qty","SOR Cost","Total Cost",null,"Rate (max)","Cost (max)","Modified price","Tendered rate","Tendered total"]
[]
[" ","REPB42154","ENERGY EFFICIENY","H"]
[null,"REPB42154","ENERGY EFFICIENY","D","Contractor to access and undertake survey of loft space in accordance with the Project Brief in order to assess level of current loft insulation. Including submittion of a survey report supported by photographic evidance to CM/PM. Where insulation levels are less then 200mm, Contractor to provide cost proposal to upgrade insulation in accordance with NHF SoR Planned Maintenance Version 6.2.",null,null,9.1,null,"ADD001","IT",1,null,null,null,{"$f":"SUMIF('Planned Maint v6.2 CSV File'!A:A,J9,'Planned Maint v6.2 CSV File'!I:I)","v":0},{"$f":"IF(J9=\"PROV SUM\",N9,L9*P9)","v":0},{"$f":"IF(J9=\"Prov Sum\",\"\",IF(MATCH(J9,'Packet Rate Library'!J:J,0),VLOOKUP(J9,'Packet Rate Library'!J:T,9,FALSE),\"\"))","v":0},{"$f":"IF(R9>0,R9,P9)","v":0},{"$f":"IF(J9=\"SC024\",N9,IF(ISERROR(S9),\"\",IF(J9=\"PROV SUM\",N9,L9*S9)))","v":0}]
[null,"REPB42154","ENERGY EFFICIENY","D","Insulation:Supply and lay ne 270mm thick insulation quilt to loft area including gain access and moving/replacing contents within loft area in order to undertake work. Item 2270AA",null,null,9.1999999999999993,null,"2270AA","SM",46.04,10.86,{"$f":"M10*L10","v":499.99439999999998},null,{"$f":"SUMIF('Planned Maint v6.2 CSV File'!A:A,J10,'Planned Maint v6.2 CSV File'!I:I)","v":8.6880000000000006},{"$f":"IF(J10=\"PROV SUM\",N10,L10*P10)","v":399.99552},{"$f":"IF(J10=\"Prov Sum\",\"\",IF(MATCH(J10,'Packet Rate Library'!J:J,0),VLOOKUP(J10,'Packet Rate Library'!J:T,9,FALSE),\"\"))","v":0},{"$f":"IF(R10>0,R10,P10)","v":8.6880000000000006},{"$f":"IF(J10=\"SC024\",N10,IF(ISERROR(S10),\"\",IF(J10=\"PROV SUM\",N10,L10*S10)))","v":399.99552}]
[null,"REPB42154","ASBESTOS","H"]
[null,"REPB42154","ASBESTOS","D","Refurbishment and Demolition  Survey to Full Property (with upto 5 Nr samples) , flat or house any size",null,null,1.3,null,"A003","Item",1,234,234,null,{"$f":"SUMIF('Planned Maint v6.2 CSV File'!A:A,J12,'Planned Maint v6.2 CSV File'!I:I)","v":222.29999999999998},{"$f":"IF(J12=\"PROV SUM\",N12,L12*P12)","v":222.29999999999998},{"$f":"IF(J12=\"Prov Sum\",\"\",IF(MATCH(J12,'Packet Rate Library'!J:J,0),VLOOKUP(J12,'Packet Rate Library'!J:T,9,FALSE),\"\"))","v":0},{"$f":"IF(R12>0,R12,P12)","v":222.29999999999998},{"$f":"IF(J12=\"SC024\",N12,IF(ISERROR(S12),\"\",IF(J12=\"PROV SUM\",N12,L12*S12)))","v":222.29999999999998}]
[null,"REPB42154","ASBESTOS","D","PROVISIONAL SUM: Allow Provisional Sum for asbestos removal.",null,null,1.47,null,"PROV SUM","SUM",1,1000,1000,null,{"$f":"SUMIF('Planned Maint v6.2 CSV File'!A:A,J13,'Planned Maint v6.2 CSV File'!I:I)","v":0},{"$f":"IF(J13=\"PROV SUM\",N13,L13*P13)","v":1000},{"$f":"IF(J13=\"Prov Sum\",\"\",IF(MATCH(J13,'Packet Rate Library'!J:J,0),VLOOKUP(J13,'Packet Rate Library'!J:T,9,FALSE),\"\"))","v":""},{"$f":"IF(R13>0,R13,P13)","v":""},{"$f":"IF(J13=\"SC024\",N13,IF(ISERROR(S13),\"\",IF(J13=\"PROV SUM\",N13,L13*S13)))","v":1000}]
[null,"REPB42154","COMMUNAL WORKS","H"]
[null,"REPB42154","COMMUNAL WORKS","D","Hall: Thoroughly clean down all wall and ceiling surfaces to common areas to remove dirt, grease and surface containments, scrape and remove all loose and defective coatings, prime bare areas with one coat of fire retardant primer and apply two coats of Class ‘O’ fire retardant matt paint, prepare and apply two coats of polyurethane lacquer or one undercoat and one gloss coat to all previously decorated timber surfaces to lobby, hall or corridor over 3.00sm ceiling area complete (classified as a single area).",null,null,5.0999999999999996,null,"4540AC","IT",1,480,480,null,{"$f":"SUMIF('Planned Maint v6.2 CSV File'!A:A,J15,'Planned Maint v6.2 CSV File'!I:I)","v":408},{"$f":"IF(J15=\"PROV SUM\",N15,L15*P15)","v":408},{"$f":"IF(J15=\"Prov Sum\",\"\",IF(MATCH(J15,'Packet Rate Library'!J:J,0),VLOOKUP(J15,'Packet Rate Library'!J:T,9,FALSE),\"\"))","v":0},{"$f":"IF(R15>0,R15,P15)","v":408},{"$f":"IF(J15=\"SC024\",N15,IF(ISERROR(S15),\"\",IF(J15=\"PROV SUM\",N15,L15*S15)))","v":408}]
[null,"REPB42154","COMMUNAL WORKS","D","Skirting: Renew any size softwood plain, moulded or chamfered skirting plugged to brickwork, including all ends and angles and prepare for redecoration, and remove waste and debris.",null,null,5.9099999999999797,null,"3810AA","LM",2,14.7,29.4,null,{"$f":"SUMIF('Planned Maint v6.2 CSV File'!A:A,J16,'Planned Maint v6.2 CSV File'!I:I)","v":13.031549999999999},{"$f":"IF(J16=\"PROV SUM\",N16,L16*P16)","v":26.063099999999999},{"$f":"IF(J16=\"Prov Sum\",\"\",IF(MATCH(J16,'Packet Rate Library'!J:J,0),VLOOKUP(J16,'Packet Rate Library'!J:T,9,FALSE),\"\"))","v":0},{"$f":"IF(R16>0,R16,P16)","v":13.031549999999999},{"$f":"IF(J16=\"SC024\",N16,IF(ISERROR(S16),\"\",IF(J16=\"PROV SUM\",N16,L16*S16)))","v":26.063099999999999}]
[null,"REPB42154","COMMUNAL WORKS","D","Carpet: Renew tight woven medium contract grade carpet to domestic areas, take up existing and dispose to tip, prepare sub-base, lay underlay secure all edges with gripper or proprietary adhesive tape, cut and fit around pipes, into alcoves, door openings and the like including all necessary door strips etc., and remove waste and debris.",null,null,5.1540000000000203,null,"4328AC","SM",6,16.28,97.68,null,{"$f":"SUMIF('Planned Maint v6.2 CSV File'!A:A,J17,'Planned Maint v6.2 CSV File'!I:I)","v":13.714272000000001},{"$f":"IF(J17=\"PROV SUM\",N17,L17*P17)","v":82.285632000000007},{"$f":"IF(J17=\"Prov Sum\",\"\",IF(MATCH(J17,'Packet Rate Library'!J:J,0),VLOOKUP(J17,'Packet Rate Library'!J:T,9,FALSE),\"\"))","v":0},{"$f":"IF(R17>0,R17,P17)","v":13.714272000000001},{"$f":"IF(J17=\"SC024\",N17,IF(ISERROR(S17),\"\",IF(J17=\"PROV SUM\",N17,L17*S17)))","v":82.285632000000007}]
[null,"REPB42154","COMMUNAL WORKS","D","Wall: Hack off any thickness of render from walls, rake out and prepare brickwork or blockwork to receive rendering and remove waste and debris.",null,null,5.1730000000000196,null,"4210AA","SM",1,12.5,12.5,null,{"$f":"SUMIF('Planned Maint v6.2 CSV File'!A:A,J18,'Planned Maint v6.2 CSV File'!I:I)","v":9.0625},{"$f":"IF(J18=\"PROV SUM\",N18,L18*P18)","v":9.0625},{"$f":"IF(J18=\"Prov Sum\",\"\",IF(MATCH(J18,'Packet Rate Library'!J:J,0),VLOOKUP(J18,'Packet Rate Library'!J:T,9,FALSE),\"\"))","v":0},{"$f":"IF(R18>0,R18,P18)","v":9.0625},{"$f":"IF(J18=\"SC024\",N18,IF(ISERROR(S18),\"\",IF(J18=\"PROV SUM\",N18,L18*S18)))","v":9.0625}]
[null,"REPB42154","EXTREP","H"]
[null,"REPB42154","EXTREP","D","Wall: Rake out existing joints of brickwork min 12mm and repoint brickwork in mortar to match existing and remove waste and debris.",null,null,6.91,null,"1021AA","SM",5,20.13,100.65,null,{"$f":"SUMIF('Planned Maint v6.2 CSV File'!A:A,J20,'Planned Maint v6.2 CSV File'!I:I)","v":14.594249999999999},{"$f":"IF(J20=\"PROV SUM\",N20,L20*P20)","v":72.971249999999998},{"$f":"IF(J20=\"Prov Sum\",\"\",IF(MATCH(J20,'Packet Rate Library'!J:J,0),VLOOKUP(J20,'Packet Rate Library'!J:T,9,FALSE),\"\"))","v":0},{"$f":"IF(R20>0,R20,P20)","v":14.594249999999999},{"$f":"IF(J20=\"SC024\",N20,IF(ISERROR(S20),\"\",IF(J20=\"PROV SUM\",N20,L20*S20)))","v":72.971249999999998}]
[null,"REPB42154","EXTREP","D","Gates: Wire brush, prepare for and apply one undercoat and two coats of gloss paint to both sides of existing painted surface of any size/type single metal gate including all edges and all surfaces of posts.",null,null,6.2140000000000404,null,"4363DA","IT",1,16.98,16.98,null,{"$f":"SUMIF('Planned Maint v6.2 CSV File'!A:A,J21,'Planned Maint v6.2 CSV File'!I:I)","v":14.433},{"$f":"IF(J21=\"PROV SUM\",N21,L21*P21)","v":14.433},{"$f":"IF(J21=\"Prov Sum\",\"\",IF(MATCH(J21,'Packet Rate Library'!J:J,0),VLOOKUP(J21,'Packet Rate Library'!J:T,9,FALSE),\"\"))","v":0},{"$f":"IF(R21>0,R21,P21)","v":14.433},{"$f":"IF(J21=\"SC024\",N21,IF(ISERROR(S21),\"\",IF(J21=\"PROV SUM\",N21,L21*S21)))","v":14.433}]
[null,"REPB42154","EXTREP","D","Window: Rub down, prepare and apply one coat of primer, one undercoat and two coats of gloss paint on surfaces of wooden windowsl (one side and edges).",null,null,6.2360000000000504,null,"4380BA","SM",28,25.87,724.36,null,{"$f":"SUMIF('Planned Maint v6.2 CSV File'!A:A,J22,'Planned Maint v6.2 CSV File'!I:I)","v":21.9895},{"$f":"IF(J22=\"PROV SUM\",N22,L22*P22)","v":615.70600000000002},{"$f":"IF(J22=\"Prov Sum\",\"\",IF(MATCH(J22,'Packet Rate Library'!J:J,0),VLOOKUP(J22,'Packet Rate Library'!J:T,9,FALSE),\"\"))","v":0},{"$f":"IF(R22>0,R22,P22)","v":21.9895},{"$f":"IF(J22=\"SC024\",N22,IF(ISERROR(S22),\"\",IF(J22=\"PROV SUM\",N22,L22*S22)))","v":615.70600000000002}]
[null,"REPB42154","EXTREP","D","Frame: Rub down, prepare and apply one coat of primer, one undercoat and two coats of gloss paint on timber frame ne 300mm girth.",null,null,6.2370000000000498,null,"4380CA","LM",6,6.28,37.68,null,{"$f":"SUMIF('Planned Maint v6.2 CSV File'!A:A,J23,'Planned Maint v6.2 CSV File'!I:I)","v":5.3380000000000001},{"$f":"IF(J23=\"PROV SUM\",N23,L23*P23)","v":32.027999999999999},{"$f":"IF(J23=\"Prov Sum\",\"\",IF(MATCH(J23,'Packet Rate Library'!J:J,0),VLOOKUP(J23,'Packet Rate Library'!J:T,9,FALSE),\"\"))","v":0},{"$f":"IF(R23>0,R23,P23)","v":5.3380000000000001},{"$f":"IF(J23=\"SC024\",N23,IF(ISERROR(S23),\"\",IF(J23=\"PROV SUM\",N23,L23*S23)))","v":32.027999999999999}]
[null,"REPB42154","EXTREP","D","Door: Rub down, prepare for and apply one coat of primer, one undercoat and two coats of gloss paint to all surfaces of any type or size of single timber door. (both sides and edges).",null,null,6.2410000000000503,null,"4380DD","IT",2,45.53,91.06,null,{"$f":"SUMIF('Planned Maint v6.2 CSV File'!A:A,J24,'Planned Maint v6.2 CSV File'!I:I)","v":38.700499999999998},{"$f":"IF(J24=\"PROV SUM\",N24,L24*P24)","v":77.400999999999996},{"$f":"IF(J24=\"Prov Sum\",\"\",IF(MATCH(J24,'Packet Rate Library'!J:J,0),VLOOKUP(J24,'Packet Rate Library'!J:T,9,FALSE),\"\"))","v":0},{"$f":"IF(R24>0,R24,P24)","v":38.700499999999998},{"$f":"IF(J24=\"SC024\",N24,IF(ISERROR(S24),\"\",IF(J24=\"PROV SUM\",N24,L24*S24)))","v":77.400999999999996}]
[null,"REPB42154","ROOF","H"]
[null,"REPB42154","ROOF","D","Fascia/Barge: Renew fascia or barge with preservative treated softwood, ne 300mm wide, fixed to roof timbers, apply preservative to cut ends, remove/refix rainwater goods and any cabling, adjust roof tiles and felt, renewal of any support battens and all mitred joints and prepare for redecoration.",null,null,3.44,null,"3030AA","LM",10,21.94,219.4,null,{"$f":"SUMIF('Planned Maint v6.2 CSV File'!A:A,J26,'Planned Maint v6.2 CSV File'!I:I)","v":19.449809999999999},{"$f":"IF(J26=\"PROV SUM\",N26,L26*P26)","v":194.49809999999999},{"$f":"IF(J26=\"Prov Sum\",\"\",IF(MATCH(J26,'Packet Rate Library'!J:J,0),VLOOKUP(J26,'Packet Rate Library'!J:T,9,FALSE),\"\"))","v":0},{"$f":"IF(R26>0,R26,P26)","v":19.449809999999999},{"$f":"IF(J26=\"SC024\",N26,IF(ISERROR(S26),\"\",IF(J26=\"PROV SUM\",N26,L26*S26)))","v":194.49809999999999}]
[null,"REPB42154","ROOF","D","Slate: Renew any size and type of fibre cement roof slates including double course at eaves cloaked verges, ridge, hips and valley tiles, supply and install proprietary ventilation units in roof, renew all code 6 lead flashings, aprons chimney gutters and the like wedged and pointed, renew valley gutter and valley board as necessary including all labours, cutting etc including renew roofing felt and battens, install ‘glidevale’ secret gutter to abutment to adjacent property, and remove waste and debris.",null,null,3.2179999999999902,null,"2034AB","SM",50,134.04,6702,null,{"$f":"SUMIF('Planned Maint v6.2 CSV File'!A:A,J27,'Planned Maint v6.2 CSV File'!I:I)","v":107.232},{"$f":"IF(J27=\"PROV SUM\",N27,L27*P27)","v":5361.6},{"$f":"IF(J27=\"Prov Sum\",\"\",IF(MATCH(J27,'Packet Rate Library'!J:J,0),VLOOKUP(J27,'Packet Rate Library'!J:T,9,FALSE),\"\"))","v":0},{"$f":"IF(R27>0,R27,P27)","v":107.232},{"$f":"IF(J27=\"SC024\",N27,IF(ISERROR(S27),\"\",IF(J27=\"PROV SUM\",N27,L27*S27)))","v":5361.6}]
[null,"REPB42154","ROOF","D","Ridge: Renew half round ridge or hip tile fixed with galvanised steel clips and roofing screws with plastic washers including bedding in mastic as per manufacturers instructions, and remove waste and debris.",null,null,3.2209999999999899,null,"2035AA","LM",5,61.15,305.75,null,{"$f":"SUMIF('Planned Maint v6.2 CSV File'!A:A,J28,'Planned Maint v6.2 CSV File'!I:I)","v":48.92},{"$f":"IF(J28=\"PROV SUM\",N28,L28*P28)","v":244.60000000000002},{"$f":"IF(J28=\"Prov Sum\",\"\",IF(MATCH(J28,'Packet Rate Library'!J:J,0),VLOOKUP(J28,'Packet Rate Library'!J:T,9,FALSE),\"\"))","v":0},{"$f":"IF(R28>0,R28,P28)","v":48.92},{"$f":"IF(J28=\"SC024\",N28,IF(ISERROR(S28),\"\",IF(J28=\"PROV SUM\",N28,L28*S28)))","v":244.60000000000002}]
[null,"REPB42154","ROOF","D","Gutter: Renew ne 112mm PVCu gutter outlet of any profile, including remaking joints and line and level, and remove waste and debris.",null,null,3.3259999999999899,null,"6031CC","NO",2,10.41,20.82,null,{"$f":"SUMIF('Planned Maint v6.2 CSV File'!A:A,J29,'Planned Maint v6.2 CSV File'!I:I)","v":7.7148510000000003},{"$f":"IF(J29=\"PROV SUM\",N29,L29*P29)","v":15.429702000000001},{"$f":"IF(J29=\"Prov Sum\",\"\",IF(MATCH(J29,'Packet Rate Library'!J:J,0),VLOOKUP(J29,'Packet Rate Library'!J:T,9,FALSE),\"\"))","v":0},{"$f":"IF(R29>0,R29,P29)","v":7.7148510000000003},{"$f":"IF(J29=\"SC024\",N29,IF(ISERROR(S29),\"\",IF(J29=\"PROV SUM\",N29,L29*S29)))","v":15.429702000000001}]
[null,"REPB42154","WINDOWS","H"]
[null,"REPB42154","WINDOWS","D","Window: Renew window with purpose made softwood double hung cased box frame and sashes complete with 2 sashes, factory applied base stain or primer finish, compressible weatherstripping, glazing beads, ironmongery, remove existing and fix new into prepared opening, bed in mortar, point with sealant, double glazed and make good all finishes, decorate to match existing internally and prepare for redecoration externally, and remove waste and debris.",null,null,4.28,null,"3105AC","SM",2,434.56,869.12,null,{"$f":"SUMIF('Planned Maint v6.2 CSV File'!A:A,J31,'Planned Maint v6.2 CSV File'!I:I)","v":385.23743999999999},{"$f":"IF(J31=\"PROV SUM\",N31,L31*P31)","v":770.47487999999998},{"$f":"IF(J31=\"Prov Sum\",\"\",IF(MATCH(J31,'Packet Rate Library'!J:J,0),VLOOKUP(J31,'Packet Rate Library'!J:T,9,FALSE),\"\"))","v":0},{"$f":"IF(R31>0,R31,P31)","v":385.23743999999999},{"$f":"IF(J31=\"SC024\",N31,IF(ISERROR(S31),\"\",IF(J31=\"PROV SUM\",N31,L31*S31)))","v":770.47487999999998}]
[null,"REPB42154","WINDOWS","D","Window: Overhaul timber sash window, renew staff and parting beads, take out sashes and later rehang on appropriate sized new undyed plaited nylon sash cords, renew pocket pieces, wedge and cramp loose sash frames, oil pulleys, ease and adjust sashes, remove, refit or renew ironmongery, rake out and renew defective putty and mastic, touch up decorations internally to match existing and prepare for redecoration externally, and remove waste and debris.",null,null,4.8999999999999799,null,"3150CA","NO",9,35.61,320.49,null,{"$f":"SUMIF('Planned Maint v6.2 CSV File'!A:A,J32,'Planned Maint v6.2 CSV File'!I:I)","v":31.568264999999997},{"$f":"IF(J32=\"PROV SUM\",N32,L32*P32)","v":284.11438499999997},{"$f":"IF(J32=\"Prov Sum\",\"\",IF(MATCH(J32,'Packet Rate Library'!J:J,0),VLOOKUP(J32,'Packet Rate Library'!J:T,9,FALSE),\"\"))","v":0},{"$f":"IF(R32>0,R32,P32)","v":31.568264999999997},{"$f":"IF(J32=\"SC024\",N32,IF(ISERROR(S32),\"\",IF(J32=\"PROV SUM\",N32,L32*S32)))","v":284.11438499999997}]
[null,"REPB42154","SCAFFOLD","H"]
[null,"REPB42154","SCAFFOLD","D","Standard Scaffold item: erect; dismantle; basic independent tied working scaffolding; 5 boards wide, including hire period; completely accessible; debris netting to all elevations; double boarded and polythene included as necessary, any fan(s) included as required; rope plus wheel for lifting operations; 3rd handrail included whenever necessary; as per applicable regulations (applies to up to 5 storeys). Measured up to second handrail and by the middle of the scaffold (equidistant from the inside/outside face) including design when required. Rate to include for 12 week hire",null,null,2.1,null,"SC001","M2",151,12.92,1950.92,null,{"$f":"SUMIF('Planned Maint v6.2 CSV File'!A:A,J34,'Planned Maint v6.2 CSV File'!I:I)","v":16.4084},{"$f":"IF(J34=\"PROV SUM\",N34,L34*P34)","v":2477.6684},{"$f":"IF(J34=\"Prov Sum\",\"\",IF(MATCH(J34,'Packet Rate Library'!J:J,0),VLOOKUP(J34,'Packet Rate Library'!J:T,9,FALSE),\"\"))","v":0},{"$f":"IF(R34>0,R34,P34)","v":16.4084},{"$f":"IF(J34=\"SC024\",N34,IF(ISERROR(S34),\"\",IF(J34=\"PROV SUM\",N34,L34*S34)))","v":2477.6684}]
[null,"REPB42154","SCAFFOLD","D","Scaffold alarm - 1 x sounder, 2 x PIR 1 X key pad (Divided by Number of properties if continuous scaffolds)",null,null,2.5,null,"SC005","unit",1,420,420,null,{"$f":"SUMIF('Planned Maint v6.2 CSV File'!A:A,J35,'Planned Maint v6.2 CSV File'!I:I)","v":533.4},{"$f":"IF(J35=\"PROV SUM\",N35,L35*P35)","v":533.4},{"$f":"IF(J35=\"Prov Sum\",\"\",IF(MATCH(J35,'Packet Rate Library'!J:J,0),VLOOKUP(J35,'Packet Rate Library'!J:T,9,FALSE),\"\"))","v":0},{"$f":"IF(R35>0,R35,P35)","v":533.4},{"$f":"IF(J35=\"SC024\",N35,IF(ISERROR(S35),\"\",IF(J35=\"PROV SUM\",N35,L35*S35)))","v":533.4}]
[null,"REPB42154","SCAFFOLD","D","E/O for additional PIRS",null,null,2.6,null,"SC007","unit",1,50,50,null,{"$f":"SUMIF('Planned Maint v6.2 CSV File'!A:A,J36,'Planned Maint v6.2 CSV File'!I:I)","v":63.5},{"$f":"IF(J36=\"PROV SUM\",N36,L36*P36)","v":63.5},{"$f":"IF(J36=\"Prov Sum\",\"\",IF(MATCH(J36,'Packet Rate Library'!J:J,0),VLOOKUP(J36,'Packet Rate Library'!J:T,9,FALSE),\"\"))","v":0},{"$f":"IF(R36>0,R36,P36)","v":63.5},{"$f":"IF(J36=\"SC024\",N36,IF(ISERROR(S36),\"\",IF(J36=\"PROV SUM\",N36,L36*S36)))","v":63.5}]
[null,"REPB42154","SCAFFOLD","D","Scaffold taken through property (protection to surfaces included)",null,null,2.16,null,"SC016","unit",1,379.8,379.8,null,{"$f":"SUMIF('Planned Maint v6.2 CSV File'!A:A,J37,'Planned Maint v6.2 CSV File'!I:I)","v":482.346},{"$f":"IF(J37=\"PROV SUM\",N37,L37*P37)","v":482.346},{"$f":"IF(J37=\"Prov Sum\",\"\",IF(MATCH(J37,'Packet Rate Library'!J:J,0),VLOOKUP(J37,'Packet Rate Library'!J:T,9,FALSE),\"\"))","v":0},{"$f":"IF(R37>0,R37,P37)","v":482.346},{"$f":"IF(J37=\"SC024\",N37,IF(ISERROR(S37),\"\",IF(J37=\"PROV SUM\",N37,L37*S37)))","v":482.346}]
[null,"REPB42154","SCAFFOLD","D","Additional Hire if required - % per week of total scaffolding costs.  This is to be applied in the event an agreed programme exceeding the duration set out above. An example would be large low level blocks of 4 storeys requiring a large programme duration",null,null,null,null,"SC024","unit",null,4.8300000000000003E-2,{"$f":"VLOOKUP(B38,'Project Overheads & Scaffold'!$W:$AI,13,FALSE)","v":0},null,{"$f":"SUMIF('Planned Maint v6.2 CSV File'!A:A,J38,'Planned Maint v6.2 CSV File'!I:I)","v":4.8300000000000003E-2},{"$f":"IF(J38=\"PROV SUM\",N38,L38*P38)","v":0},{"$f":"IF(J38=\"Prov Sum\",\"\",IF(MATCH(J38,'Packet Rate Library'!J:J,0),VLOOKUP(J38,'Packet Rate Library'!J:T,9,FALSE),\"\"))","v":{"$error":"#N/A"}},{"$f":"IF(R38>0,R38,P38)","v":{"$error":"#N/A"}},{"$f":"IF(J38=\"SC024\",N38,IF(ISERROR(S38),\"\",IF(J38=\"PROV SUM\",N38,L38*S38)))","v":0}]
[null,"REPB42154","ESTATE WORKS","H"]
[null,"REPB42154","ESTATE WORKS","D","PROVISIONAL SUM: Allow for unforeseen estate works.",null,null,7.3159999999999998,null,"PROV SUM","SUM",1,500,500,null,{"$f":"SUMIF('Planned Maint v6.2 CSV File'!A:A,J40,'Planned Maint v6.2 CSV File'!I:I)","v":0},{"$f":"IF(J40=\"PROV SUM\",N40,L40*P40)","v":500},{"$f":"IF(J40=\"Prov Sum\",\"\",IF(MATCH(J40,'Packet Rate Library'!J:J,0),VLOOKUP(J40,'Packet Rate Library'!J:T,9,FALSE),\"\"))","v":""},{"$f":"IF(R40>0,R40,P40)","v":""},{"$f":"IF(J40=\"SC024\",N40,IF(ISERROR(S40),\"\",IF(J40=\"PROV SUM\",N40,L40*S40)))","v":500}]
[null,"REPB42154","FRA WORKS","H"]
[null,"REPB42154","FRA WORKS","D","Door:Renew internal door with any size single half-hour fire check glazed door having 3.2mm luan, white Meranti or other approved plywood facing both sides and 9mm hardwood lipping on long edges, including remove existing door and hinges, remove and refit door stops as necessary, fit and hang new door on 1.50 pairs of 100mm steel butt hinges, make good or alter recesses on frame, door complete with all ironmongery, intumescent strips and smoke seals, glazed, redecorate to match existing and remove waste and debris.",null,null,13,null,"3300FC","Item",2,222.2,444.4,null,{"$f":"SUMIF('Planned Maint v6.2 CSV File'!A:A,J42,'Planned Maint v6.2 CSV File'!I:I)","v":196.98029999999997},{"$f":"IF(J42=\"PROV SUM\",N42,L42*P42)","v":393.96059999999994},{"$f":"IF(J42=\"Prov Sum\",\"\",IF(MATCH(J42,'Packet Rate Library'!J:J,0),VLOOKUP(J42,'Packet Rate Library'!J:T,9,FALSE),\"\"))","v":0},{"$f":"IF(R42>0,R42,P42)","v":196.98029999999997},{"$f":"IF(J42=\"SC024\",N42,IF(ISERROR(S42),\"\",IF(J42=\"PROV SUM\",N42,L42*S42)))","v":393.96059999999994}]
[null,"REPB42154","FRA WORKS","D","Fire Upgrading Coating:Remove all existing defective paint to plastered or rendered wall surfaces back to a solid edge, feather off and repair any defective areas with a high quality filler as necessary, spot prime filled or bare areas with afire upgrading primer, remove any existing graffiti with a graffiti removal system, wash down, rinse, clean off and apply one full coat of fire upgrading primer at a coverage rate of 10sm per litre, apply two full coats of fire upgrading finish at a coverage rate of 10sm per litre.",null,null,27,null,"4801AB","Item",1,22.53,22.53,null,{"$f":"SUMIF('Planned Maint v6.2 CSV File'!A:A,J43,'Planned Maint v6.2 CSV File'!I:I)","v":19.150500000000001},19.150500000000001,{"$f":"IF(J43=\"Prov Sum\",\"\",IF(MATCH(J43,'Packet Rate Library'!J:J,0),VLOOKUP(J43,'Packet Rate Library'!J:T,9,FALSE),\"\"))","v":0},19.150500000000001,19.150500000000001]
[null,"REPB42154","FRA WORKS","D","Fire Upgrading Coating:Strip off existing multi layer paint coatings to existing plastered or rendered soffits with a proprietary paint stripper, scrape off or remove with a proprietary paint scraper, wash down,rinse,  spot prime filled or bare areas with afire upgrading primer, remove any existing graffiti with a graffiti removal system, clean off and apply one full coat of primer at a coverage rate of 10sm per litre, apply one full coats of colourcoat complete with decorative flakes, and apply one full coat of gloss or satin lacquer finish at a coverage rate of 10sm per litre.",null,null,41,null,"4804AD","Item",1,29.34,29.34,null,{"$f":"SUMIF('Planned Maint v6.2 CSV File'!A:A,J44,'Planned Maint v6.2 CSV File'!I:I)","v":24.939},24.939,{"$f":"IF(J44=\"Prov Sum\",\"\",IF(MATCH(J44,'Packet Rate Library'!J:J,0),VLOOKUP(J44,'Packet Rate Library'!J:T,9,FALSE),\"\"))","v":0},24.939,24.939]
[null,"REPB42154","FRA WORKS","D","Fire Alarm:Install L2 type fire alarm installation complete to BS5839:Part6 1995, control panel, circuits, call points, automatic detectors and sounders, builders work, make good, test, commission, and remove waste and debris.",null,null,93,null,"8711GA","Item",1,550,550,null,{"$f":"SUMIF('Planned Maint v6.2 CSV File'!A:A,J45,'Planned Maint v6.2 CSV File'!I:I)","v":440},440,{"$f":"IF(J45=\"Prov Sum\",\"\",IF(MATCH(J45,'Packet Rate Library'!J:J,0),VLOOKUP(J45,'Packet Rate Library'!J:T,9,FALSE),\"\"))","v":0},440,440]
[null,"REPB42154","FRA WORKS","D","Intumescent Strip:Renew or supply and fix new 22x4mm intumescent strip, half hour application, with integral cold smoke seal and setting into groove in timber frame or door.",null,null,104,null,"3431AC","Item",2,3.44,6.88,null,{"$f":"SUMIF('Planned Maint v6.2 CSV File'!A:A,J46,'Planned Maint v6.2 CSV File'!I:I)","v":3.0495599999999996},6.0991199999999992,{"$f":"IF(J46=\"Prov Sum\",\"\",IF(MATCH(J46,'Packet Rate Library'!J:J,0),VLOOKUP(J46,'Packet Rate Library'!J:T,9,FALSE),\"\"))","v":0},3.0495599999999996,6.0991199999999992]
[null,"REPB42154","FRA WORKS","D","Smoke Detector:Renew existing with mains operated optical smoke detector with rechargeable DC battery or condensor back up self contained type to BS 5446 kitemark certified with hush button, including back plate and all necessary connections to existing wiring, test and make good on completion, where interlinked detectors are replaced new detectors must be compatible with existing, and remove waste and debris.",null,null,115,null,"8720FA","Item",2,70.11,140.22,null,{"$f":"SUMIF('Planned Maint v6.2 CSV File'!A:A,J47,'Planned Maint v6.2 CSV File'!I:I)","v":56.088000000000001},112.176,{"$f":"IF(J47=\"Prov Sum\",\"\",IF(MATCH(J47,'Packet Rate Library'!J:J,0),VLOOKUP(J47,'Packet Rate Library'!J:T,9,FALSE),\"\"))","v":0},56.088000000000001,112.176]
[null,"REPB42154","FRA WORKS","D","Closer:Renew or supply and fix Perko type concealed door closer screwed to door and frame, including remove and refix door or door stop as necessary.",null,null,175,null,"3905BA","Item",2,9.81,19.62,null,{"$f":"SUMIF('Planned Maint v6.2 CSV File'!A:A,J48,'Planned Maint v6.2 CSV File'!I:I)","v":8.6965649999999997},17.393129999999999,{"$f":"IF(J48=\"Prov Sum\",\"\",IF(MATCH(J48,'Packet Rate Library'!J:J,0),VLOOKUP(J48,'Packet Rate Library'!J:T,9,FALSE),\"\"))","v":0},8.6965649999999997,17.393129999999999]
[null,"REPB42154","FRA WORKS","D","Partition:Supply and erect or renew stud partition comprising ne 50x100mm sole and head plate, noggins and studs fixed with nails or plugged and screwed to walls, and pack out and scribe, 12.5mm butt jointed plasterboard and 3mm plaster skim coat and all labours to both faces.",null,null,180,null,"3013AB","Item",1,62.11,62.11,null,{"$f":"SUMIF('Planned Maint v6.2 CSV File'!A:A,J49,'Planned Maint v6.2 CSV File'!I:I)","v":55.060514999999995},55.060514999999995,{"$f":"IF(J49=\"Prov Sum\",\"\",IF(MATCH(J49,'Packet Rate Library'!J:J,0),VLOOKUP(J49,'Packet Rate Library'!J:T,9,FALSE),\"\"))","v":0},55.060514999999995,55.060514999999995]
[null,"REPB42154","FRA WORKS","D","Test:Carry out test of domestic installation to occupied property complete comprising continuity, insulation resistance, polarity, earth fault loop impedance and operation of residual current operated device, disconnect, repair and renew as necessary after removal of illegal wiring and components, and provide report and NICEIC/ECA test certificate to the Client’s Representative, and remove waste and debris.",null,null,186,null,"8950AA","Item",1,86.88,86.88,null,{"$f":"SUMIF('Planned Maint v6.2 CSV File'!A:A,J50,'Planned Maint v6.2 CSV File'!I:I)","v":69.504000000000005},69.504000000000005,{"$f":"IF(J50=\"Prov Sum\",\"\",IF(MATCH(J50,'Packet Rate Library'!J:J,0),VLOOKUP(J50,'Packet Rate Library'!J:T,9,FALSE),\"\"))","v":0},69.504000000000005,69.504000000000005]
[null,"REPB42154","FRA WORKS","D","Provisional Sum: Allow provisional sum for additional works to the fire alarm system.",null,null,190,null,"PROV SUM","Item",1,1500,1500,null,{"$f":"SUMIF('Planned Maint v6.2 CSV File'!A:A,J51,'Planned Maint v6.2 CSV File'!I:I)","v":0},1500,{"$f":"IF(J51=\"Prov Sum\",\"\",IF(MATCH(J51,'Packet Rate Library'!J:J,0),VLOOKUP(J51,'Packet Rate Library'!J:T,9,FALSE),\"\"))","v":""},"",1500]
[null,"REPB42154","FRA WORKS","D","Provisional Sum: Allow provisional sum for additional works to clear waste and debris from fire escape routes. ",null,null,191,null,"PROV SUM","Item",1,100,100,null,{"$f":"SUMIF('Planned Maint v6.2 CSV File'!A:A,J52,'Planned Maint v6.2 CSV File'!I:I)","v":0},100,{"$f":"IF(J52=\"Prov Sum\",\"\",IF(MATCH(J52,'Packet Rate Library'!J:J,0),VLOOKUP(J52,'Packet Rate Library'!J:T,9,FALSE),\"\"))","v":""},"",100]
[null,"REPB42154","FRA WORKS","D","Provisional Sum: Allow provisional sum for additional fire stopping works",null,null,192,null,"PROV SUM","Item",1,100,100,null,{"$f":"SUMIF('Planned Maint v6.2 CSV File'!A:A,J53,'Planned Maint v6.2 CSV File'!I:I)","v":0},100,{"$f":"IF(J53=\"Prov Sum\",\"\",IF(MATCH(J53,'Packet Rate Library'!J:J,0),VLOOKUP(J53,'Packet Rate Library'!J:T,9,FALSE),\"\"))","v":""},"",100]
[null,"REPB42154","FRA WORKS","D","Provisional Sum: Allow provisional sum for additional signage",null,null,193,null,"PROV SUM","Item",1,100,100,null,{"$f":"SUMIF('Planned Maint v6.2 CSV File'!A:A,J54,'Planned Maint v6.2 CSV File'!I:I)","v":0},100,{"$f":"IF(J54=\"Prov Sum\",\"\",IF(MATCH(J54,'Packet Rate Library'!J:J,0),VLOOKUP(J54,'Packet Rate Library'!J:T,9,FALSE),\"\"))","v":""},"",100]
[null,"REPB42154","FRA WORKS","D","Provisional Sum: Allow provisional sum for additional electrical works",null,null,194,null,"PROV SUM","Item",1,350,350,null,{"$f":"SUMIF('Planned Maint v6.2 CSV File'!A:A,J55,'Planned Maint v6.2 CSV File'!I:I)","v":0},350,{"$f":"IF(J55=\"Prov Sum\",\"\",IF(MATCH(J55,'Packet Rate Library'!J:J,0),VLOOKUP(J55,'Packet Rate Library'!J:T,9,FALSE),\"\"))","v":""},"",350]

{"sheet":"30 Grove Terrace Flats A-C","index":12,"n_rows":46,"n_cols":20,"rows_kept":46,"cut":false,"hidden":false,"merged":[[4,15,4,19]]}
[null,null,null,null,null,null,null,null,null,null,null,null,null,null,null,{"$f":"SUMIF('Planned Maint v6.2 CSV File'!A:A,J1,'Planned Maint v6.2 CSV File'!I:I)","v":0},{"$f":"IF(J1=\"PROV SUM\",N1,L1*P1)","v":0},{"$f":"IF(J1=\"Prov Sum\",\"\",IF(MATCH(J1,'Packet Rate Library'!J:J,0),VLOOKUP(J1,'Packet Rate Library'!J:T,9,FALSE),\"\"))","v":{"$error":"#N/A"}},{"$f":"IF(R1>0,R1,P1)","v":{"$error":"#N/A"}},{"$f":"IF(J1=\"SC024\",N1,IF(ISERROR(S1),\"\",IF(J1=\"PROV SUM\",N1,L1*S1)))","v":""}]
[]
[]
["30 GROVE TERRACE FLATS A-C"]
[]
["Requirement","REPB47495","Requirement Type","Rowtype (H=Header, D=Detail)","Description","Works Order Commencement Date","Works Order Completion Date","Specification  Ref. Item No.'s","Works Order Delivery Date","SOR Code","SOR Unit","SOR Qty","SOR Cost","Total Cost",null,"Rate (max)","Cost (max)","Modified price","Tendered rate","Tendered total"]
[]
[" ","REPB47495","ENERGY EFFICIENY","H"]
[null,"REPB47495","ENERGY EFFICIENY","D","Contractor to access and undertake survey of loft space in accordance with the Project Brief in order to assess level of current loft insulation. Including submittion of a survey report supported by photographic evidance to CM/PM. Where insulation levels are less then 200mm, Contractor to provide cost proposal to upgrade insulation in accordance with NHF SoR Planned Maintenance Version 6.2.",null,null,9.1,null,"ADD001","IT",1,null,null,null,{"$f":"SUMIF('Planned Maint v6.2 CSV File'!A:A,J9,'Planned Maint v6.2 CSV File'!I:I)","v":0},{"$f":"IF(J9=\"PROV SUM\",N9,L9*P9)","v":0},{"$f":"IF(J9=\"Prov Sum\",\"\",IF(MATCH(J9,'Packet Rate Library'!J:J,0),VLOOKUP(J9,'Packet Rate Library'!J:T,9,FALSE),\"\"))","v":0},{"$f":"IF(R9>0,R9,P9)","v":0},{"$f":"IF(J9=\"SC024\",N9,IF(ISERROR(S9),\"\",IF(J9=\"PROV SUM\",N9,L9*S9)))","v":0}]
[null,"REPB47495","ENERGY EFFICIENY","D","Insulation:Supply and lay ne 270mm thick insulation quilt to loft area including gain access and moving/replacing contents within loft area in order to undertake work. Item 2270AA",null,null,9.1999999999999993,null,"2270AA","SM",46.04,10.86,{"$f":"M10*L10","v":499.99439999999998},null,{"$f":"SUMIF('Planned Maint v6.2 CSV File'!A:A,J10,'Planned Maint v6.2 CSV File'!I:I)","v":8.6880000000000006},{"$f":"IF(J10=\"PROV SUM\",N10,L10*P10)","v":399.99552},{"$f":"IF(J10=\"Prov Sum\",\"\",IF(MATCH(J10,'Packet Rate Library'!J:J,0),VLOOKUP(J10,'Packet Rate Library'!J:T,9,FALSE),\"\"))","v":0},{"$f":"IF(R10>0,R10,P10)","v":8.6880000000000006},{"$f":"IF(J10=\"SC024\",N10,IF(ISERROR(S10),\"\",IF(J10=\"PROV SUM\",N10,L10*S10)))","v":399.99552}]
[null,"REPB47495","ASBESTOS","H"]
[null,"REPB47495","ASBESTOS","D","Refurbishment and Demolition  Survey to Full Property (with upto 5 Nr samples) , flat or house any size",null,null,1.3,null,"A003","Item",1,234,234,null,{"$f":"SUMIF('Planned Maint v6.2 CSV File'!A:A,J12,'Planned Maint v6.2 CSV File'!I:I)","v":222.29999999999998},{"$f":"IF(J12=\"PROV SUM\",N12,L12*P12)","v":222.29999999999998},{"$f":"IF(J12=\"Prov Sum\",\"\",IF(MATCH(J12,'Packet Rate Library'!J:J,0),VLOOKUP(J12,'Packet Rate Library'!J:T,9,FALSE),\"\"))","v":0},{"$f":"IF(R12>0,R12,P12)","v":222.29999999999998},{"$f":"IF(J12=\"SC024\",N12,IF(ISERROR(S12),\"\",IF(J12=\"PROV SUM\",N12,L12*S12)))","v":222.29999999999998}]
[null,"REPB47495","COMMUNAL WORKS","H"]
[null,"REPB47495","COMMUNAL WORKS","D","Hall: Thoroughly clean down all wall and ceiling surfaces to common areas to remove dirt, grease and surface containments, scrape and remove all loose and defective coatings, prime bare areas with one coat of fire retardant primer and apply two coats of Class ‘O’ fire retardant matt paint, prepare and apply two coats of polyurethane lacquer or one undercoat and one gloss coat to all previously decorated timber surfaces to lobby, hall or corridor over 3.00sm ceiling area complete (classified as a single area).",null,null,5.0999999999999996,null,"4540AC","IT",1,480,480,null,{"$f":"SUMIF('Planned Maint v6.2 CSV File'!A:A,J14,'Planned Maint v6.2 CSV File'!I:I)","v":408},{"$f":"IF(J14=\"PROV SUM\",N14,L14*P14)","v":408},{"$f":"IF(J14=\"Prov Sum\",\"\",IF(MATCH(J14,'Packet Rate Library'!J:J,0),VLOOKUP(J14,'Packet Rate Library'!J:T,9,FALSE),\"\"))","v":0},{"$f":"IF(R14>0,R14,P14)","v":408},{"$f":"IF(J14=\"SC024\",N14,IF(ISERROR(S14),\"\",IF(J14=\"PROV SUM\",N14,L14*S14)))","v":408}]
[null,"REPB47495","COMMUNAL WORKS","D","PROVISIONAL SUM: Skirting Board: Decorate skirting board of wood. ",null,null,5.3860000000000001,null,"PROV SUM","SUM",1,150,150,null,{"$f":"SUMIF('Planned Maint v6.2 CSV File'!A:A,J15,'Planned Maint v6.2 CSV File'!I:I)","v":0},{"$f":"IF(J15=\"PROV SUM\",N15,L15*P15)","v":150},{"$f":"IF(J15=\"Prov Sum\",\"\",IF(MATCH(J15,'Packet Rate Library'!J:J,0),VLOOKUP(J15,'Packet Rate Library'!J:T,9,FALSE),\"\"))","v":""},{"$f":"IF(R15>0,R15,P15)","v":""},{"$f":"IF(J15=\"SC024\",N15,IF(ISERROR(S15),\"\",IF(J15=\"PROV SUM\",N15,L15*S15)))","v":150}]
[null,"REPB47495","COMMUNAL WORKS","D","PROVISIONAL SUM: Take up and renew linoleum floor covering.",null,null,5.3869999999999996,null,"PROV SUM","SUM",1,700,700,null,{"$f":"SUMIF('Planned Maint v6.2 CSV File'!A:A,J16,'Planned Maint v6.2 CSV File'!I:I)","v":0},{"$f":"IF(J16=\"PROV SUM\",N16,L16*P16)","v":700},{"$f":"IF(J16=\"Prov Sum\",\"\",IF(MATCH(J16,'Packet Rate Library'!J:J,0),VLOOKUP(J16,'Packet Rate Library'!J:T,9,FALSE),\"\"))","v":""},{"$f":"IF(R16>0,R16,P16)","v":""},{"$f":"IF(J16=\"SC024\",N16,IF(ISERROR(S16),\"\",IF(J16=\"PROV SUM\",N16,L16*S16)))","v":700}]
[null,"REPB47495","EXTREP","H"]
[null,"REPB47495","EXTREP","D","Moulding Repairs  0-5no. per property\nFosroc repair mortar or equivalent\nInsitu repairs using straight edge to form moulding repair. \n\n(Girth NE300mm Length NE300mm)",null,null,6.11,null,"FAB071","no",5,79.14,395.7,null,{"$f":"SUMIF('Planned Maint v6.2 CSV File'!A:A,J18,'Planned Maint v6.2 CSV File'!I:I)","v":63.312000000000005},{"$f":"IF(J18=\"PROV SUM\",N18,L18*P18)","v":316.56},{"$f":"IF(J18=\"Prov Sum\",\"\",IF(MATCH(J18,'Packet Rate Library'!J:J,0),VLOOKUP(J18,'Packet Rate Library'!J:T,9,FALSE),\"\"))","v":0},{"$f":"IF(R18>0,R18,P18)","v":63.312000000000005},{"$f":"IF(J18=\"SC024\",N18,IF(ISERROR(S18),\"\",IF(J18=\"PROV SUM\",N18,L18*S18)))","v":316.56}]
[null,"REPB47495","EXTREP","D","Fracture: Remove any applied finish and cut out bricks as necessary to either side of fracture, one face only, stitch in new bricks, bed and point to match existing in cement lime mortar (1:1:6), and make good any applied finishes, and remove waste and debris (measured over mean general line of fracture).",null,null,6.82,null,"1019AA","LM",41,44.12,1808.92,null,{"$f":"SUMIF('Planned Maint v6.2 CSV File'!A:A,J19,'Planned Maint v6.2 CSV File'!I:I)","v":31.986999999999998},1311.4669999999999,{"$f":"IF(J19=\"Prov Sum\",\"\",IF(MATCH(J19,'Packet Rate Library'!J:J,0),VLOOKUP(J19,'Packet Rate Library'!J:T,9,FALSE),\"\"))","v":0},31.986999999999998,1311.4669999999999]
[null,"REPB47495","EXTREP","D","Cills: Prepare, clean off all dust and debris, fill in or resurface cracks or spalled surfaces of concrete with epoxy mortar in surfaces of cills, not exceeding 300mm girth, repair over 5 and ne 10mm deep, and remove waste and debris.",null,null,6.16100000000002,null,"1460AF","LM",12,38.25,459,null,{"$f":"SUMIF('Planned Maint v6.2 CSV File'!A:A,J20,'Planned Maint v6.2 CSV File'!I:I)","v":27.731249999999999},332.77499999999998,{"$f":"IF(J20=\"Prov Sum\",\"\",IF(MATCH(J20,'Packet Rate Library'!J:J,0),VLOOKUP(J20,'Packet Rate Library'!J:T,9,FALSE),\"\"))","v":0},27.731249999999999,332.77499999999998]
[null,"REPB47495","EXTREP","D","Walls: Wash down, fill in cracks and holes, sand smooth and apply two coats of smooth finish masonry paint to rendered or concrete surfaces of walls.",null,null,6.1940000000000301,null,"4360BA","SM",33,7.02,231.66,null,{"$f":"SUMIF('Planned Maint v6.2 CSV File'!A:A,J21,'Planned Maint v6.2 CSV File'!I:I)","v":5.9669999999999996},196.911,{"$f":"IF(J21=\"Prov Sum\",\"\",IF(MATCH(J21,'Packet Rate Library'!J:J,0),VLOOKUP(J21,'Packet Rate Library'!J:T,9,FALSE),\"\"))","v":0},5.9669999999999996,196.911]
[null,"REPB47495","EXTREP","D","Balustrading: Wire brush, prepare for and apply one coat of primer, one undercoat, two coats of gloss paint on ornamental metal balustrading, railings or gates (measured both sides).",null,null,6.2040000000000299,null,"4362EA","SM",12,20.51,246.12,null,{"$f":"SUMIF('Planned Maint v6.2 CSV File'!A:A,J22,'Planned Maint v6.2 CSV File'!I:I)","v":17.433500000000002},209.20200000000003,{"$f":"IF(J22=\"Prov Sum\",\"\",IF(MATCH(J22,'Packet Rate Library'!J:J,0),VLOOKUP(J22,'Packet Rate Library'!J:T,9,FALSE),\"\"))","v":0},17.433500000000002,209.20200000000003]
[null,"REPB47495","EXTREP","D","Window: Rub down, prepare and apply one undercoat and one coat of gloss paint on existing painted surfaces of wooden windows (one side and edges).",null,null,6.2620000000000502,null,"4381JB","SM",34,16.86,573.24,null,{"$f":"SUMIF('Planned Maint v6.2 CSV File'!A:A,J23,'Planned Maint v6.2 CSV File'!I:I)","v":14.331},487.25399999999996,{"$f":"IF(J23=\"Prov Sum\",\"\",IF(MATCH(J23,'Packet Rate Library'!J:J,0),VLOOKUP(J23,'Packet Rate Library'!J:T,9,FALSE),\"\"))","v":0},14.331,487.25399999999996]
[null,"REPB47495","EXTREP","D","Door: Rub down, prepare for and apply one undercoat and one coat of gloss paint to all existing painted surfaces of any size or type of single glazed timber door (both sides and edges).",null,null,6.2650000000000503,null,"4381LB","IT",1,19.34,19.34,null,{"$f":"SUMIF('Planned Maint v6.2 CSV File'!A:A,J24,'Planned Maint v6.2 CSV File'!I:I)","v":16.439},16.439,{"$f":"IF(J24=\"Prov Sum\",\"\",IF(MATCH(J24,'Packet Rate Library'!J:J,0),VLOOKUP(J24,'Packet Rate Library'!J:T,9,FALSE),\"\"))","v":0},16.439,16.439]
[null,"REPB47495","EXTREP","D","PROVISIONAL SUM: Rear wall: Complete pebbledash rendering to lower section  of wall SM 8.",null,null,6.399,null,"PROV SUM","SUM",1,400,400,null,{"$f":"SUMIF('Planned Maint v6.2 CSV File'!A:A,J25,'Planned Maint v6.2 CSV File'!I:I)","v":0},400,{"$f":"IF(J25=\"Prov Sum\",\"\",IF(MATCH(J25,'Packet Rate Library'!J:J,0),VLOOKUP(J25,'Packet Rate Library'!J:T,9,FALSE),\"\"))","v":""},"",400]
[null,"REPB47495","ROOF","H"]
[null,"REPB47495","ROOF","D","Moss: Carefully remove moss/lichen growth on roof covering of any kind and dispose of debris off site, reistate all disturbed surfaces, replace broken tiles, slates and the like, thoroughly clean out valleys, gutters, downpipes, hoppers etc, prepare and treat the complete roof area with a diluted fungicide solution AKZO or other equal and approved applied strictly in accordance with the manufacturer’s instructions, thoroughly clean out all gutters and the like to remove all chemical residue arising upon completion of the works, and remove waste and debris.",null,null,3.1799999999999899,null,"2115AA","SM",55,10.17,559.35,null,{"$f":"SUMIF('Planned Maint v6.2 CSV File'!A:A,J27,'Planned Maint v6.2 CSV File'!I:I)","v":8.136000000000001},{"$f":"IF(J27=\"PROV SUM\",N27,L27*P27)","v":447.48000000000008},{"$f":"IF(J27=\"Prov Sum\",\"\",IF(MATCH(J27,'Packet Rate Library'!J:J,0),VLOOKUP(J27,'Packet Rate Library'!J:T,9,FALSE),\"\"))","v":0},{"$f":"IF(R27>0,R27,P27)","v":8.136000000000001},{"$f":"IF(J27=\"SC024\",N27,IF(ISERROR(S27),\"\",IF(J27=\"PROV SUM\",N27,L27*S27)))","v":447.48000000000008}]
[null,"REPB47495","ROOF","D","Roofing: Apply sealing compound to cracks to roof or leadwork.",null,null,3.1819999999999902,null,"2150AB","LM",8,5.4,43.2,null,{"$f":"SUMIF('Planned Maint v6.2 CSV File'!A:A,J28,'Planned Maint v6.2 CSV File'!I:I)","v":4.32},34.56,{"$f":"IF(J28=\"Prov Sum\",\"\",IF(MATCH(J28,'Packet Rate Library'!J:J,0),VLOOKUP(J28,'Packet Rate Library'!J:T,9,FALSE),\"\"))","v":0},4.32,34.56]
[null,"REPB47495","ROOF","D","Slate: Overhaul fibre cement slate roof, refix loose slates, renew broken or missing slates to match existing, redress, rewedge and repoint all flashings, aprons, chimney gutters etc, cut out and make good cement weather fillets, repoint in cement mortar (1:3) to all hips, ridges and verges, make good, and remove waste and debris.",null,null,3.2069999999999901,null,"2031CA","SM",3,30.56,91.68,null,{"$f":"SUMIF('Planned Maint v6.2 CSV File'!A:A,J29,'Planned Maint v6.2 CSV File'!I:I)","v":24.448},73.343999999999994,{"$f":"IF(J29=\"Prov Sum\",\"\",IF(MATCH(J29,'Packet Rate Library'!J:J,0),VLOOKUP(J29,'Packet Rate Library'!J:T,9,FALSE),\"\"))","v":0},24.448,73.343999999999994]
[null,"REPB47495","ROOF","D","Downpipe: Take down any PVCu downpipe, remove and refix pipe brackets, plugged and screwed to brickwork and refix downpipes including all hopperheads offsets, shoes and remake all joints, make good to structure and finishes, and remove waste and debris.",null,null,3.2929999999999802,null,"6011CA","LM",24,13.68,328.32,null,{"$f":"SUMIF('Planned Maint v6.2 CSV File'!A:A,J30,'Planned Maint v6.2 CSV File'!I:I)","v":10.138247999999999},243.31795199999999,{"$f":"IF(J30=\"Prov Sum\",\"\",IF(MATCH(J30,'Packet Rate Library'!J:J,0),VLOOKUP(J30,'Packet Rate Library'!J:T,9,FALSE),\"\"))","v":0},10.138247999999999,243.31795199999999]
[null,"REPB47495","ROOF","D","Gutter: Take down any PVCu gutter, remove and refix brackets to fascia and refix gutter to brackets to line and level including all angles, outlets and stop ends and remake all joints.",null,null,3.3239999999999901,null,"6031CA","LM",12,7.33,87.96,null,{"$f":"SUMIF('Planned Maint v6.2 CSV File'!A:A,J31,'Planned Maint v6.2 CSV File'!I:I)","v":5.4322629999999998},65.187156000000002,{"$f":"IF(J31=\"Prov Sum\",\"\",IF(MATCH(J31,'Packet Rate Library'!J:J,0),VLOOKUP(J31,'Packet Rate Library'!J:T,9,FALSE),\"\"))","v":0},5.4322629999999998,65.187156000000002]
[null,"REPB47495","ROOF","D","PROVISIONAL SUM: Decorate soil pipe at rear elevation.",null,null,3.4340000000000002,null,"PROV SUM","SUM",1,150,150,null,{"$f":"SUMIF('Planned Maint v6.2 CSV File'!A:A,J32,'Planned Maint v6.2 CSV File'!I:I)","v":0},150,{"$f":"IF(J32=\"Prov Sum\",\"\",IF(MATCH(J32,'Packet Rate Library'!J:J,0),VLOOKUP(J32,'Packet Rate Library'!J:T,9,FALSE),\"\"))","v":""},"",150]
[null,"REPB47495","WINDOWS","H"]
[null,"REPB47495","WINDOWS","D","7. Timber repair system; using window care dry fix/dry flex RP; Conservation Joint;\n\nup to 100mm ",null,null,4.1399999999999997,null,"WIND023","Nr",30,6.75,202.5,null,{"$f":"SUMIF('Planned Maint v6.2 CSV File'!A:A,J34,'Planned Maint v6.2 CSV File'!I:I)","v":6.4124999999999996},{"$f":"IF(J34=\"PROV SUM\",N34,L34*P34)","v":192.375},{"$f":"IF(J34=\"Prov Sum\",\"\",IF(MATCH(J34,'Packet Rate Library'!J:J,0),VLOOKUP(J34,'Packet Rate Library'!J:T,9,FALSE),\"\"))","v":0},{"$f":"IF(R34>0,R34,P34)","v":6.4124999999999996},{"$f":"IF(J34=\"SC024\",N34,IF(ISERROR(S34),\"\",IF(J34=\"PROV SUM\",N34,L34*S34)))","v":192.375}]
[null,"REPB47495","WINDOWS","D","Window: Overhaul timber casement window, dismantle as necessary and subsequently reassemble including freeing, easing and adjusting casements to give correct operation, renew sealing gaskets, renew fixing screws, remove, refit or renew ironmongery as necessary, rake out and renew defective putty and mastic, touch up decorations internally to match existing and prepare for redecoration externally, and remove waste and debris.",null,null,4.8899999999999801,null,"3150BA","NO",4,29.05,116.2,null,{"$f":"SUMIF('Planned Maint v6.2 CSV File'!A:A,J35,'Planned Maint v6.2 CSV File'!I:I)","v":25.752824999999998},{"$f":"IF(J35=\"PROV SUM\",N35,L35*P35)","v":103.01129999999999},{"$f":"IF(J35=\"Prov Sum\",\"\",IF(MATCH(J35,'Packet Rate Library'!J:J,0),VLOOKUP(J35,'Packet Rate Library'!J:T,9,FALSE),\"\"))","v":0},{"$f":"IF(R35>0,R35,P35)","v":25.752824999999998},{"$f":"IF(J35=\"SC024\",N35,IF(ISERROR(S35),\"\",IF(J35=\"PROV SUM\",N35,L35*S35)))","v":103.01129999999999}]
[null,"REPB47495","WINDOWS","D","Window: Overhaul timber sash window, renew staff and parting beads, take out sashes and later rehang on appropriate sized new undyed plaited nylon sash cords, renew pocket pieces, wedge and cramp loose sash frames, oil pulleys, ease and adjust sashes, remove, refit or renew ironmongery, rake out and renew defective putty and mastic, touch up decorations internally to match existing and prepare for redecoration externally, and remove waste and debris.",null,null,4.8999999999999799,null,"3150CA","NO",26,35.61,925.86,null,{"$f":"SUMIF('Planned Maint v6.2 CSV File'!A:A,J36,'Planned Maint v6.2 CSV File'!I:I)","v":31.568264999999997},{"$f":"IF(J36=\"PROV SUM\",N36,L36*P36)","v":820.77488999999991},{"$f":"IF(J36=\"Prov Sum\",\"\",IF(MATCH(J36,'Packet Rate Library'!J:J,0),VLOOKUP(J36,'Packet Rate Library'!J:T,9,FALSE),\"\"))","v":0},{"$f":"IF(R36>0,R36,P36)","v":31.568264999999997},{"$f":"IF(J36=\"SC024\",N36,IF(ISERROR(S36),\"\",IF(J36=\"PROV SUM\",N36,L36*S36)))","v":820.77488999999991}]
[null,"REPB47495","SCAFFOLD","H"]
[null,"REPB47495","SCAFFOLD","D","Standard Scaffold item: erect; dismantle; basic independent tied working scaffolding; 5 boards wide, including hire period; completely accessible; debris netting to all elevations; double boarded and polythene included as necessary, any fan(s) included as required; rope plus wheel for lifting operations; 3rd handrail included whenever necessary; as per applicable regulations (applies to up to 5 storeys). Measured up to second handrail and by the middle of the scaffold (equidistant from the inside/outside face) including design when required. Rate to include for 12 week hire",null,null,2.1,null,"SC001","M2",256,12.92,3307.52,null,{"$f":"SUMIF('Planned Maint v6.2 CSV File'!A:A,J38,'Planned Maint v6.2 CSV File'!I:I)","v":16.4084},{"$f":"IF(J38=\"PROV SUM\",N38,L38*P38)","v":4200.5504000000001},{"$f":"IF(J38=\"Prov Sum\",\"\",IF(MATCH(J38,'Packet Rate Library'!J:J,0),VLOOKUP(J38,'Packet Rate Library'!J:T,9,FALSE),\"\"))","v":0},{"$f":"IF(R38>0,R38,P38)","v":16.4084},{"$f":"IF(J38=\"SC024\",N38,IF(ISERROR(S38),\"\",IF(J38=\"PROV SUM\",N38,L38*S38)))","v":4200.5504000000001}]
[null,"REPB47495","SCAFFOLD","D","Scaffold alarm - 1 x sounder, 2 x PIR 1 X key pad (Divided by Number of properties if continuous scaffolds)",null,null,2.5,null,"SC005","unit",1,420,420,null,{"$f":"SUMIF('Planned Maint v6.2 CSV File'!A:A,J39,'Planned Maint v6.2 CSV File'!I:I)","v":533.4},{"$f":"IF(J39=\"PROV SUM\",N39,L39*P39)","v":533.4},{"$f":"IF(J39=\"Prov Sum\",\"\",IF(MATCH(J39,'Packet Rate Library'!J:J,0),VLOOKUP(J39,'Packet Rate Library'!J:T,9,FALSE),\"\"))","v":0},{"$f":"IF(R39>0,R39,P39)","v":533.4},{"$f":"IF(J39=\"SC024\",N39,IF(ISERROR(S39),\"\",IF(J39=\"PROV SUM\",N39,L39*S39)))","v":533.4}]
[null,"REPB47495","SCAFFOLD","D","E/O for additional PIRS",null,null,2.6,null,"SC007","unit",2,50,100,null,{"$f":"SUMIF('Planned Maint v6.2 CSV File'!A:A,J40,'Planned Maint v6.2 CSV File'!I:I)","v":63.5},{"$f":"IF(J40=\"PROV SUM\",N40,L40*P40)","v":127},{"$f":"IF(J40=\"Prov Sum\",\"\",IF(MATCH(J40,'Packet Rate Library'!J:J,0),VLOOKUP(J40,'Packet Rate Library'!J:T,9,FALSE),\"\"))","v":0},{"$f":"IF(R40>0,R40,P40)","v":63.5},{"$f":"IF(J40=\"SC024\",N40,IF(ISERROR(S40),\"\",IF(J40=\"PROV SUM\",N40,L40*S40)))","v":127}]
[null,"REPB47495","SCAFFOLD","D","Scaffold taken through property (protection to surfaces included)",null,null,2.16,null,"SC016","unit",1,379.8,379.8,null,{"$f":"SUMIF('Planned Maint v6.2 CSV File'!A:A,J41,'Planned Maint v6.2 CSV File'!I:I)","v":482.346},{"$f":"IF(J41=\"PROV SUM\",N41,L41*P41)","v":482.346},{"$f":"IF(J41=\"Prov Sum\",\"\",IF(MATCH(J41,'Packet Rate Library'!J:J,0),VLOOKUP(J41,'Packet Rate Library'!J:T,9,FALSE),\"\"))","v":0},{"$f":"IF(R41>0,R41,P41)","v":482.346},{"$f":"IF(J41=\"SC024\",N41,IF(ISERROR(S41),\"\",IF(J41=\"PROV SUM\",N41,L41*S41)))","v":482.346}]
[null,"REPB47495","SCAFFOLD","D","Additional Hire if required - % per week of total scaffolding costs.  This is to be applied in the event an agreed programme exceeding the duration set out above. An example would be large low level blocks of 4 storeys requiring a large programme duration",null,null,null,null,"SC024","unit",null,4.8300000000000003E-2,{"$f":"VLOOKUP(B42,'Project Overheads & Scaffold'!$W:$AI,13,FALSE)","v":0},null,{"$f":"SUMIF('Planned Maint v6.2 CSV File'!A:A,J42,'Planned Maint v6.2 CSV File'!I:I)","v":4.8300000000000003E-2},{"$f":"IF(J42=\"PROV SUM\",N42,L42*P42)","v":0},{"$f":"IF(J42=\"Prov Sum\",\"\",IF(MATCH(J42,'Packet Rate Library'!J:J,0),VLOOKUP(J42,'Packet Rate Library'!J:T,9,FALSE),\"\"))","v":{"$error":"#N/A"}},{"$f":"IF(R42>0,R42,P42)","v":{"$error":"#N/A"}},{"$f":"IF(J42=\"SC024\",N42,IF(ISERROR(S42),\"\",IF(J42=\"PROV SUM\",N42,L42*S42)))","v":0}]
[null,"REPB47495","ESTATE WORKS","H"]
[null,"REPB47495","ESTATE WORKS","D","Fencing: Renew or provide new 1.65m tanalised timber vertical board fencing including for taking down remnants of existing fence and posts set in concrete, remove from site to approved tip, and set 125x125mm x 2.65m long softwood posts in concrete at ne 1.80m centres with three 69x44mm softwood rails bolted to posts and 144x20mm vertical boards nailed to rails, softwood gravel board with centre prop (measured per metre run of fencing).",null,null,7.79,null,"0171AD","LM",7,93.18,652.26,null,{"$f":"SUMIF('Planned Maint v6.2 CSV File'!A:A,J44,'Planned Maint v6.2 CSV File'!I:I)","v":76.500780000000006},{"$f":"IF(J44=\"PROV SUM\",N44,L44*P44)","v":535.50546000000008},{"$f":"IF(J44=\"Prov Sum\",\"\",IF(MATCH(J44,'Packet Rate Library'!J:J,0),VLOOKUP(J44,'Packet Rate Library'!J:T,9,FALSE),\"\"))","v":0},{"$f":"IF(R44>0,R44,P44)","v":76.500780000000006},{"$f":"IF(J44=\"SC024\",N44,IF(ISERROR(S44),\"\",IF(J44=\"PROV SUM\",N44,L44*S44)))","v":535.50546000000008}]
[null,"REPB47495","ESTATE WORKS","D","Fracture: Remove any applied finish and cut out bricks as necessary to either side of fracture, one face only, stitch in new bricks, bed and point to match existing in cement lime mortar (1:1:6), and make good any applied finishes, and remove waste and debris (measured over mean general line of fracture).",null,null,7.2440000000000504,null,"1019AA","LM",17,44.12,750.04,null,{"$f":"SUMIF('Planned Maint v6.2 CSV File'!A:A,J45,'Planned Maint v6.2 CSV File'!I:I)","v":31.986999999999998},{"$f":"IF(J45=\"PROV SUM\",N45,L45*P45)","v":543.779},{"$f":"IF(J45=\"Prov Sum\",\"\",IF(MATCH(J45,'Packet Rate Library'!J:J,0),VLOOKUP(J45,'Packet Rate Library'!J:T,9,FALSE),\"\"))","v":0},{"$f":"IF(R45>0,R45,P45)","v":31.986999999999998},{"$f":"IF(J45=\"SC024\",N45,IF(ISERROR(S45),\"\",IF(J45=\"PROV SUM\",N45,L45*S45)))","v":543.779}]
[null,"REPB47495","ESTATE WORKS","D","PROVISIONAL SUM: Paving slab: Repair minor cracks and re-allign to attain even surfcace. SM 3.",null,null,7.3159999999999998,null,"PROV SUM","SUM",1,300,300,null,{"$f":"SUMIF('Planned Maint v6.2 CSV File'!A:A,J46,'Planned Maint v6.2 CSV File'!I:I)","v":0},{"$f":"IF(J46=\"PROV SUM\",N46,L46*P46)","v":300},{"$f":"IF(J46=\"Prov Sum\",\"\",IF(MATCH(J46,'Packet Rate Library'!J:J,0),VLOOKUP(J46,'Packet Rate Library'!J:T,9,FALSE),\"\"))","v":""},{"$f":"IF(R46>0,R46,P46)","v":""},{"$f":"IF(J46=\"SC024\",N46,IF(ISERROR(S46),\"\",IF(J46=\"PROV SUM\",N46,L46*S46)))","v":300}]

{"sheet":"25 Elaine Grove","index":13,"n_rows":57,"n_cols":20,"rows_kept":57,"cut":false,"hidden":false,"merged":[[4,15,4,19]]}
[null,null,null,null,null,null,null,null,null,null,null,null,null,null,null,{"$f":"SUMIF('Planned Maint v6.2 CSV File'!A:A,J1,'Planned Maint v6.2 CSV File'!I:I)","v":0},{"$f":"IF(J1=\"PROV SUM\",N1,L1*P1)","v":0},{"$f":"IF(J1=\"Prov Sum\",\"\",IF(MATCH(J1,'Packet Rate Library'!J:J,0),VLOOKUP(J1,'Packet Rate Library'!J:T,9,FALSE),\"\"))","v":{"$error":"#N/A"}},{"$f":"IF(R1>0,R1,P1)","v":{"$error":"#N/A"}},{"$f":"IF(J1=\"SC024\",N1,IF(ISERROR(S1),\"\",IF(J1=\"PROV SUM\",N1,L1*S1)))","v":""}]
[]
[]
["25 ELAINE GROVE, (FLATS A-B)"]
[]
["Requirement","REPB42129","Requirement Type","Rowtype (H=Header, D=Detail)","Description","Works Order Commencement Date","Works Order Completion Date","Specification  Ref. Item No.'s","Works Order Delivery Date","SOR Code","SOR Unit","SOR Qty","SOR Cost","Total Cost",null,"Rate (max)","Cost (max)","Modified price","Tendered rate","Tendered total"]
[]
[" ","REPB42129","ENERGY EFFICIENY","H"]
[null,"REPB42129","ENERGY EFFICIENY","D","Contractor to access and undertake survey of loft space in accordance with the Project Brief in order to assess level of current loft insulation. Including submittion of a survey report supported by photographic evidance to CM/PM. Where insulation levels are less then 200mm, Contractor to provide cost proposal to upgrade insulation in accordance with NHF SoR Planned Maintenance Version 6.2.",null,null,9.1,null,"ADD001","IT",1,null,null,null,{"$f":"SUMIF('Planned Maint v6.2 CSV File'!A:A,J9,'Planned Maint v6.2 CSV File'!I:I)","v":0},{"$f":"IF(J9=\"PROV SUM\",N9,L9*P9)","v":0},{"$f":"IF(J9=\"Prov Sum\",\"\",IF(MATCH(J9,'Packet Rate Library'!J:J,0),VLOOKUP(J9,'Packet Rate Library'!J:T,9,FALSE),\"\"))","v":0},{"$f":"IF(R9>0,R9,P9)","v":0},{"$f":"IF(J9=\"SC024\",N9,IF(ISERROR(S9),\"\",IF(J9=\"PROV SUM\",N9,L9*S9)))","v":0}]
[null,"REPB42129","ENERGY EFFICIENY","D","Insulation:Supply and lay ne 270mm thick insulation quilt to loft area including gain access and moving/replacing contents within loft area in order to undertake work. Item 2270AA",null,null,9.1999999999999993,null,"2270AA","SM",46.04,10.86,{"$f":"M10*L10","v":499.99439999999998},null,{"$f":"SUMIF('Planned Maint v6.2 CSV File'!A:A,J10,'Planned Maint v6.2 CSV File'!I:I)","v":8.6880000000000006},{"$f":"IF(J10=\"PROV SUM\",N10,L10*P10)","v":399.99552},{"$f":"IF(J10=\"Prov Sum\",\"\",IF(MATCH(J10,'Packet Rate Library'!J:J,0),VLOOKUP(J10,'Packet Rate Library'!J:T,9,FALSE),\"\"))","v":0},{"$f":"IF(R10>0,R10,P10)","v":8.6880000000000006},{"$f":"IF(J10=\"SC024\",N10,IF(ISERROR(S10),\"\",IF(J10=\"PROV SUM\",N10,L10*S10)))","v":399.99552}]
[null,"REPB42129","ASBESTOS","H"]
[null,"REPB42129","ASBESTOS","D","Refurbishment and Demolition  Survey to Full Property (with upto 5 Nr samples) , flat or house any size",null,null,1.3,null,"A003","Item",1,234,234,null,{"$f":"SUMIF('Planned Maint v6.2 CSV File'!A:A,J12,'Planned Maint v6.2 CSV File'!I:I)","v":222.29999999999998},{"$f":"IF(J12=\"PROV SUM\",N12,L12*P12)","v":222.29999999999998},{"$f":"IF(J12=\"Prov Sum\",\"\",IF(MATCH(J12,'Packet Rate Library'!J:J,0),VLOOKUP(J12,'Packet Rate Library'!J:T,9,FALSE),\"\"))","v":0},{"$f":"IF(R12>0,R12,P12)","v":222.29999999999998},{"$f":"IF(J12=\"SC024\",N12,IF(ISERROR(S12),\"\",IF(J12=\"PROV SUM\",N12,L12*S12)))","v":222.29999999999998}]
[null,"REPB42129","COMMUNAL WORKS","H"]
[null,"REPB42129"]
[null,"REPB42129","EXTREP","H"]
[null,"REPB42129","EXTREP","D","Wall: Rake out existing joints of brickwork min 12mm and repoint brickwork in mortar to match existing and remove waste and debris.",null,null,6.91,null,"1021AA","SM",6,20.13,120.78,null,{"$f":"SUMIF('Planned Maint v6.2 CSV File'!A:A,J16,'Planned Maint v6.2 CSV File'!I:I)","v":14.594249999999999},{"$f":"IF(J16=\"PROV SUM\",N16,L16*P16)","v":87.565499999999986},{"$f":"IF(J16=\"Prov Sum\",\"\",IF(MATCH(J16,'Packet Rate Library'!J:J,0),VLOOKUP(J16,'Packet Rate Library'!J:T,9,FALSE),\"\"))","v":0},{"$f":"IF(R16>0,R16,P16)","v":14.594249999999999},{"$f":"IF(J16=\"SC024\",N16,IF(ISERROR(S16),\"\",IF(J16=\"PROV SUM\",N16,L16*S16)))","v":87.565499999999986}]
[null,"REPB42129","EXTREP","D","Coping: Take off precast coping ne 300mm wide, clean mortar from top of wall and coping, bed and point in cement lime mortar (1:1:6) with bonding agent and remove waste and debris.",null,null,6.1270000000000104,null,"1033CA","LM",12,6.04,72.48,null,{"$f":"SUMIF('Planned Maint v6.2 CSV File'!A:A,J17,'Planned Maint v6.2 CSV File'!I:I)","v":4.3789999999999996},52.547999999999995,{"$f":"IF(J17=\"Prov Sum\",\"\",IF(MATCH(J17,'Packet Rate Library'!J:J,0),VLOOKUP(J17,'Packet Rate Library'!J:T,9,FALSE),\"\"))","v":0},4.3789999999999996,52.547999999999995]
[null,"REPB42129","EXTREP","D","Walls: Wash down, fill in cracks and holes, sand smooth and apply two coats of smooth finish masonry paint to rendered or concrete surfaces of walls.",null,null,6.1940000000000301,null,"4360BA","SM",50,7.02,351,null,{"$f":"SUMIF('Planned Maint v6.2 CSV File'!A:A,J18,'Planned Maint v6.2 CSV File'!I:I)","v":5.9669999999999996},298.34999999999997,{"$f":"IF(J18=\"Prov Sum\",\"\",IF(MATCH(J18,'Packet Rate Library'!J:J,0),VLOOKUP(J18,'Packet Rate Library'!J:T,9,FALSE),\"\"))","v":0},5.9669999999999996,298.34999999999997]
[null,"REPB42129","EXTREP","D","Fascias, soffits, Bargeboards and the like: Rub down, prepare for, and apply one coat primer, one undercoat, two coats of gloss paint on surfaces of facias, soffits, bargeboards and the like ne 300mm girth.",null,null,6.2350000000000403,null,"4380AB","LM",28,5.28,147.84,null,{"$f":"SUMIF('Planned Maint v6.2 CSV File'!A:A,J19,'Planned Maint v6.2 CSV File'!I:I)","v":4.4880000000000004},125.66400000000002,{"$f":"IF(J19=\"Prov Sum\",\"\",IF(MATCH(J19,'Packet Rate Library'!J:J,0),VLOOKUP(J19,'Packet Rate Library'!J:T,9,FALSE),\"\"))","v":0},4.4880000000000004,125.66400000000002]
[null,"REPB42129","EXTREP","D","Window: Rub down, prepare and apply one coat of primer, one undercoat and two coats of gloss paint on surfaces of wooden windowsl (one side and edges).",null,null,6.2360000000000504,null,"4380BA","SM",19,25.87,491.53,null,{"$f":"SUMIF('Planned Maint v6.2 CSV File'!A:A,J20,'Planned Maint v6.2 CSV File'!I:I)","v":21.9895},417.8005,{"$f":"IF(J20=\"Prov Sum\",\"\",IF(MATCH(J20,'Packet Rate Library'!J:J,0),VLOOKUP(J20,'Packet Rate Library'!J:T,9,FALSE),\"\"))","v":0},21.9895,417.8005]
[null,"REPB42129","EXTREP","D","Frame: Rub down, prepare and apply one coat of primer, one undercoat and two coats of gloss paint on timber frame ne 300mm girth.",null,null,6.2370000000000498,null,"4380CA","LM",30,6.28,188.4,null,{"$f":"SUMIF('Planned Maint v6.2 CSV File'!A:A,J21,'Planned Maint v6.2 CSV File'!I:I)","v":5.3380000000000001},160.14000000000001,{"$f":"IF(J21=\"Prov Sum\",\"\",IF(MATCH(J21,'Packet Rate Library'!J:J,0),VLOOKUP(J21,'Packet Rate Library'!J:T,9,FALSE),\"\"))","v":0},5.3380000000000001,160.14000000000001]
[null,"REPB42129","EXTREP","D","Door: Rub down, prepare for and apply one coat of primer, one undercoat and two coats of gloss paint to all surfaces of any size or type of single glazed timber door. (one sides and edges).",null,null,6.2380000000000502,null,"4380DA","IT",5,20.71,103.55,null,{"$f":"SUMIF('Planned Maint v6.2 CSV File'!A:A,J22,'Planned Maint v6.2 CSV File'!I:I)","v":17.6035},88.017499999999998,{"$f":"IF(J22=\"Prov Sum\",\"\",IF(MATCH(J22,'Packet Rate Library'!J:J,0),VLOOKUP(J22,'Packet Rate Library'!J:T,9,FALSE),\"\"))","v":0},17.6035,88.017499999999998]
[null,"REPB42129","EXTREP","D","Wall: Apply 12mm cement and sand render (1:3) with waterproofing agent to external walls including ‘Rough Sandtex’ finish, dub out as necessary with cement and sand and all labours and remove waste and debris.",null,null,6.3050000000000699,null,"4210AF","SM",1,33.5,33.5,null,{"$f":"SUMIF('Planned Maint v6.2 CSV File'!A:A,J23,'Planned Maint v6.2 CSV File'!I:I)","v":24.287499999999998},24.287499999999998,{"$f":"IF(J23=\"Prov Sum\",\"\",IF(MATCH(J23,'Packet Rate Library'!J:J,0),VLOOKUP(J23,'Packet Rate Library'!J:T,9,FALSE),\"\"))","v":0},24.287499999999998,24.287499999999998]
[null,"REPB42129","ROOF","H"]
[null,"REPB42129","ROOF","D","Slate: Renew any size and type of natural roof slates including double course at eaves cloaked verges, ridge, hips and valley tiles, supply and install proprietary ventilation units in roof, renew all code 6 lead flashings, aprons chimney gutters and the like wedged and pointed, renew valley gutter and valley board as necessary including all labours, cutting etc including renew roofing felt and battens and install restraint straps to gables and elevational gables, and remove waste and debris.",null,null,3.2189999999999901,null,"2034AC","SM",40,133.30000000000001,5332,null,{"$f":"SUMIF('Planned Maint v6.2 CSV File'!A:A,J25,'Planned Maint v6.2 CSV File'!I:I)","v":106.64000000000001},{"$f":"IF(J25=\"PROV SUM\",N25,L25*P25)","v":4265.6000000000004},{"$f":"IF(J25=\"Prov Sum\",\"\",IF(MATCH(J25,'Packet Rate Library'!J:J,0),VLOOKUP(J25,'Packet Rate Library'!J:T,9,FALSE),\"\"))","v":0},{"$f":"IF(R25>0,R25,P25)","v":106.64000000000001},{"$f":"IF(J25=\"SC024\",N25,IF(ISERROR(S25),\"\",IF(J25=\"PROV SUM\",N25,L25*S25)))","v":4265.6000000000004}]
[null,"REPB42129","ROOF","D","Downpipe: Clear blockage from downpipe any 2 to 4 storey including gain access, rod, flush out and test including clean out gulley and remove debris from site on completion (not to be claimed with 6039BA).",null,null,3.3630000000000102,null,"6039AD","IT",2,20.13,40.26,null,{"$f":"SUMIF('Planned Maint v6.2 CSV File'!A:A,J26,'Planned Maint v6.2 CSV File'!I:I)","v":14.918342999999998},{"$f":"IF(J26=\"PROV SUM\",N26,L26*P26)","v":29.836685999999997},{"$f":"IF(J26=\"Prov Sum\",\"\",IF(MATCH(J26,'Packet Rate Library'!J:J,0),VLOOKUP(J26,'Packet Rate Library'!J:T,9,FALSE),\"\"))","v":0},{"$f":"IF(R26>0,R26,P26)","v":14.918342999999998},{"$f":"IF(J26=\"SC024\",N26,IF(ISERROR(S26),\"\",IF(J26=\"PROV SUM\",N26,L26*S26)))","v":29.836685999999997}]
[null,"REPB42129","ROOF","D","Gutter: Clean out debris from gutters to any type of property including flush out and test, rod downpipe including clean out gulley and remove debris from site on completion (per elevation).",null,null,3.3640000000000101,null,"6039BA","IT",20,20.13,402.6,null,{"$f":"SUMIF('Planned Maint v6.2 CSV File'!A:A,J27,'Planned Maint v6.2 CSV File'!I:I)","v":14.918342999999998},{"$f":"IF(J27=\"PROV SUM\",N27,L27*P27)","v":298.36685999999997},{"$f":"IF(J27=\"Prov Sum\",\"\",IF(MATCH(J27,'Packet Rate Library'!J:J,0),VLOOKUP(J27,'Packet Rate Library'!J:T,9,FALSE),\"\"))","v":0},{"$f":"IF(R27>0,R27,P27)","v":14.918342999999998},{"$f":"IF(J27=\"SC024\",N27,IF(ISERROR(S27),\"\",IF(J27=\"PROV SUM\",N27,L27*S27)))","v":298.36685999999997}]
[null,"REPB42129","WINDOWS","H"]
[null,"REPB42129","WINDOWS","D","Soft wood timber splice with resin; face splice repair method no. 5.\nRemove old and loose paint as necessary. Cut out decayed timber from windows and frames, piecing in or frame in new wrought softwood with resin to match existing. Leave ready to decorate. \n\nSplice not exc 500 to 1000mm",null,null,4.1100000000000003,null,"WIND017","Nr",5,36.75,183.75,null,{"$f":"SUMIF('Planned Maint v6.2 CSV File'!A:A,J29,'Planned Maint v6.2 CSV File'!I:I)","v":34.912500000000001},{"$f":"IF(J29=\"PROV SUM\",N29,L29*P29)","v":174.5625},{"$f":"IF(J29=\"Prov Sum\",\"\",IF(MATCH(J29,'Packet Rate Library'!J:J,0),VLOOKUP(J29,'Packet Rate Library'!J:T,9,FALSE),\"\"))","v":0},{"$f":"IF(R29>0,R29,P29)","v":34.912500000000001},{"$f":"IF(J29=\"SC024\",N29,IF(ISERROR(S29),\"\",IF(J29=\"PROV SUM\",N29,L29*S29)))","v":174.5625}]
[null,"REPB42129","WINDOWS","D","7. Timber repair system; using window care dry fix/dry flex RP; Conservation Joint; \n\nUp to 50mm ",null,null,4.13,null,"WIND022","Nr",70,4.25,297.5,null,{"$f":"SUMIF('Planned Maint v6.2 CSV File'!A:A,J30,'Planned Maint v6.2 CSV File'!I:I)","v":4.0374999999999996},{"$f":"IF(J30=\"PROV SUM\",N30,L30*P30)","v":282.625},{"$f":"IF(J30=\"Prov Sum\",\"\",IF(MATCH(J30,'Packet Rate Library'!J:J,0),VLOOKUP(J30,'Packet Rate Library'!J:T,9,FALSE),\"\"))","v":0},{"$f":"IF(R30>0,R30,P30)","v":4.0374999999999996},{"$f":"IF(J30=\"SC024\",N30,IF(ISERROR(S30),\"\",IF(J30=\"PROV SUM\",N30,L30*S30)))","v":282.625}]
[null,"REPB42129","WINDOWS","D","7. Timber repair system; using window care dry fix/dry flex RP; Conservation Joint;\n\nup to 100mm ",null,null,4.1399999999999997,null,"WIND023","Nr",10,6.75,67.5,null,{"$f":"SUMIF('Planned Maint v6.2 CSV File'!A:A,J31,'Planned Maint v6.2 CSV File'!I:I)","v":6.4124999999999996},{"$f":"IF(J31=\"PROV SUM\",N31,L31*P31)","v":64.125},{"$f":"IF(J31=\"Prov Sum\",\"\",IF(MATCH(J31,'Packet Rate Library'!J:J,0),VLOOKUP(J31,'Packet Rate Library'!J:T,9,FALSE),\"\"))","v":0},{"$f":"IF(R31>0,R31,P31)","v":6.4124999999999996},{"$f":"IF(J31=\"SC024\",N31,IF(ISERROR(S31),\"\",IF(J31=\"PROV SUM\",N31,L31*S31)))","v":64.125}]
[null,"REPB42129","WINDOWS","D","Window: Overhaul timber sash window, renew staff and parting beads, take out sashes and later rehang on appropriate sized new undyed plaited nylon sash cords, renew pocket pieces, wedge and cramp loose sash frames, oil pulleys, ease and adjust sashes, remove, refit or renew ironmongery, rake out and renew defective putty and mastic, touch up decorations internally to match existing and prepare for redecoration externally, and remove waste and debris.",null,null,4.8999999999999799,null,"3150CA","NO",6,35.61,213.66,null,{"$f":"SUMIF('Planned Maint v6.2 CSV File'!A:A,J32,'Planned Maint v6.2 CSV File'!I:I)","v":31.568264999999997},{"$f":"IF(J32=\"PROV SUM\",N32,L32*P32)","v":189.40958999999998},{"$f":"IF(J32=\"Prov Sum\",\"\",IF(MATCH(J32,'Packet Rate Library'!J:J,0),VLOOKUP(J32,'Packet Rate Library'!J:T,9,FALSE),\"\"))","v":0},{"$f":"IF(R32>0,R32,P32)","v":31.568264999999997},{"$f":"IF(J32=\"SC024\",N32,IF(ISERROR(S32),\"\",IF(J32=\"PROV SUM\",N32,L32*S32)))","v":189.40958999999998}]
[null,"REPB42129","WINDOWS","D","Pane: Reglaze single pane in 4mm clear or obscure glass, over 1.00sm, hack out and glaze with putty, sprigs, clips or beads at any level, touch up paintwork to match existing, and remove waste and debris.",null,null,4.2309999999999297,null,"5150AD","SM",1,67.930000000000007,67.930000000000007,null,{"$f":"SUMIF('Planned Maint v6.2 CSV File'!A:A,J33,'Planned Maint v6.2 CSV File'!I:I)","v":55.797702000000008},{"$f":"IF(J33=\"PROV SUM\",N33,L33*P33)","v":55.797702000000008},{"$f":"IF(J33=\"Prov Sum\",\"\",IF(MATCH(J33,'Packet Rate Library'!J:J,0),VLOOKUP(J33,'Packet Rate Library'!J:T,9,FALSE),\"\"))","v":0},{"$f":"IF(R33>0,R33,P33)","v":55.797702000000008},{"$f":"IF(J33=\"SC024\",N33,IF(ISERROR(S33),\"\",IF(J33=\"PROV SUM\",N33,L33*S33)))","v":55.797702000000008}]
[null,"REPB42129","SCAFFOLD","H"]
[null,"REPB42129","SCAFFOLD","D","Standard Scaffold item: erect; dismantle; basic independent tied working scaffolding; 5 boards wide, including hire period; completely accessible; debris netting to all elevations; double boarded and polythene included as necessary, any fan(s) included as required; rope plus wheel for lifting operations; 3rd handrail included whenever necessary; as per applicable regulations (applies to up to 5 storeys). Measured up to second handrail and by the middle of the scaffold (equidistant from the inside/outside face) including design when required. Rate to include for 12 week hire",null,null,2.1,null,"SC001","M2",170,12.92,2196.4,null,{"$f":"SUMIF('Planned Maint v6.2 CSV File'!A:A,J35,'Planned Maint v6.2 CSV File'!I:I)","v":16.4084},{"$f":"IF(J35=\"PROV SUM\",N35,L35*P35)","v":2789.4279999999999},{"$f":"IF(J35=\"Prov Sum\",\"\",IF(MATCH(J35,'Packet Rate Library'!J:J,0),VLOOKUP(J35,'Packet Rate Library'!J:T,9,FALSE),\"\"))","v":0},{"$f":"IF(R35>0,R35,P35)","v":16.4084},{"$f":"IF(J35=\"SC024\",N35,IF(ISERROR(S35),\"\",IF(J35=\"PROV SUM\",N35,L35*S35)))","v":2789.4279999999999}]
[null,"REPB42129","SCAFFOLD","D","Scaffold alarm - 1 x sounder, 2 x PIR 1 X key pad (Divided by Number of properties if continuous scaffolds)",null,null,2.5,null,"SC005","unit",1,420,420,null,{"$f":"SUMIF('Planned Maint v6.2 CSV File'!A:A,J36,'Planned Maint v6.2 CSV File'!I:I)","v":533.4},533.4,{"$f":"IF(J36=\"Prov Sum\",\"\",IF(MATCH(J36,'Packet Rate Library'!J:J,0),VLOOKUP(J36,'Packet Rate Library'!J:T,9,FALSE),\"\"))","v":0},533.4,533.4]
[null,"REPB42129","SCAFFOLD","D","E/O for additional PIRS",null,null,2.6,null,"SC007","unit",1,50,50,null,{"$f":"SUMIF('Planned Maint v6.2 CSV File'!A:A,J37,'Planned Maint v6.2 CSV File'!I:I)","v":63.5},63.5,{"$f":"IF(J37=\"Prov Sum\",\"\",IF(MATCH(J37,'Packet Rate Library'!J:J,0),VLOOKUP(J37,'Packet Rate Library'!J:T,9,FALSE),\"\"))","v":0},63.5,63.5]
[null,"REPB42129","SCAFFOLD","D","Scaffold taken up&over the roof",null,null,2.17,null,"SC017","unit",1,842,842,null,{"$f":"SUMIF('Planned Maint v6.2 CSV File'!A:A,J38,'Planned Maint v6.2 CSV File'!I:I)","v":1069.3399999999999},1069.3399999999999,{"$f":"IF(J38=\"Prov Sum\",\"\",IF(MATCH(J38,'Packet Rate Library'!J:J,0),VLOOKUP(J38,'Packet Rate Library'!J:T,9,FALSE),\"\"))","v":0},1069.3399999999999,1069.3399999999999]
[null,"REPB42129","SCAFFOLD","D","Modular Beams (Measured as lm include inside/outside face of scaffold- 1 beam included)",null,null,2.19,null,"SC019","lm",10,31.75,317.5,null,{"$f":"SUMIF('Planned Maint v6.2 CSV File'!A:A,J39,'Planned Maint v6.2 CSV File'!I:I)","v":40.322499999999998},403.22499999999997,{"$f":"IF(J39=\"Prov Sum\",\"\",IF(MATCH(J39,'Packet Rate Library'!J:J,0),VLOOKUP(J39,'Packet Rate Library'!J:T,9,FALSE),\"\"))","v":0},40.322499999999998,403.22499999999997]
[null,"REPB42129","SCAFFOLD","D","Additional Hire if required - % per week of total scaffolding costs.  This is to be applied in the event an agreed programme exceeding the duration set out above. An example would be large low level blocks of 4 storeys requiring a large programme duration",null,null,null,null,"SC024","unit",null,4.8300000000000003E-2,{"$f":"VLOOKUP(B40,'Project Overheads & Scaffold'!$W:$AI,13,FALSE)","v":0},null,{"$f":"SUMIF('Planned Maint v6.2 CSV File'!A:A,J40,'Planned Maint v6.2 CSV File'!I:I)","v":4.8300000000000003E-2},0,{"$f":"IF(J40=\"Prov Sum\",\"\",IF(MATCH(J40,'Packet Rate Library'!J:J,0),VLOOKUP(J40,'Packet Rate Library'!J:T,9,FALSE),\"\"))","v":{"$error":"#N/A"}},{"$error":"#N/A"},0]
[null,"REPB42129","ESTATE WORKS","H"]
[null,"REPB42129","ESTATE WORKS","D","Flag: Lift any size existing precast concrete paving flag, fill and compact hardcore to soft spots and rebed existing flag on 25mm bed of cement mortar (1:4) and point up joints.",null,null,7.55000000000003,null,"0070BF","NO",15,6.68,100.2,null,{"$f":"SUMIF('Planned Maint v6.2 CSV File'!A:A,J42,'Planned Maint v6.2 CSV File'!I:I)","v":5.4929639999999997},{"$f":"IF(J42=\"PROV SUM\",N42,L42*P42)","v":82.394459999999995},{"$f":"IF(J42=\"Prov Sum\",\"\",IF(MATCH(J42,'Packet Rate Library'!J:J,0),VLOOKUP(J42,'Packet Rate Library'!J:T,9,FALSE),\"\"))","v":0},{"$f":"IF(R42>0,R42,P42)","v":5.4929639999999997},{"$f":"IF(J42=\"SC024\",N42,IF(ISERROR(S42),\"\",IF(J42=\"PROV SUM\",N42,L42*S42)))","v":82.394459999999995}]
[null,"REPB42129","FRA WORKS","H"]
[null,"REPB42129","FRA WORKS","D","Door:Renew internal door with any size single half-hour fire check glazed door having 3.2mm luan, white Meranti or other approved plywood facing both sides and 9mm hardwood lipping on long edges, including remove existing door and hinges, remove and refit door stops as necessary, fit and hang new door on 1.50 pairs of 100mm steel butt hinges, make good or alter recesses on frame, door complete with all ironmongery, intumescent strips and smoke seals, glazed, redecorate to match existing and remove waste and debris.",null,null,13,null,"3300FC","Item",2,222.2,444.4,null,{"$f":"SUMIF('Planned Maint v6.2 CSV File'!A:A,J44,'Planned Maint v6.2 CSV File'!I:I)","v":196.98029999999997},{"$f":"IF(J44=\"PROV SUM\",N44,L44*P44)","v":393.96059999999994},{"$f":"IF(J44=\"Prov Sum\",\"\",IF(MATCH(J44,'Packet Rate Library'!J:J,0),VLOOKUP(J44,'Packet Rate Library'!J:T,9,FALSE),\"\"))","v":0},{"$f":"IF(R44>0,R44,P44)","v":196.98029999999997},{"$f":"IF(J44=\"SC024\",N44,IF(ISERROR(S44),\"\",IF(J44=\"PROV SUM\",N44,L44*S44)))","v":393.96059999999994}]
[null,"REPB42129","FRA WORKS","D","Fire Upgrading Coating:Remove all existing defective paint to plastered or rendered wall surfaces back to a solid edge, feather off and repair any defective areas with a high quality filler as necessary, spot prime filled or bare areas with afire upgrading primer, remove any existing graffiti with a graffiti removal system, wash down, rinse, clean off and apply one full coat of fire upgrading primer at a coverage rate of 10sm per litre, apply two full coats of fire upgrading finish at a coverage rate of 10sm per litre.",null,null,27,null,"4801AB","Item",1,22.53,22.53,null,{"$f":"SUMIF('Planned Maint v6.2 CSV File'!A:A,J45,'Planned Maint v6.2 CSV File'!I:I)","v":19.150500000000001},19.150500000000001,{"$f":"IF(J45=\"Prov Sum\",\"\",IF(MATCH(J45,'Packet Rate Library'!J:J,0),VLOOKUP(J45,'Packet Rate Library'!J:T,9,FALSE),\"\"))","v":0},19.150500000000001,19.150500000000001]
[null,"REPB42129","FRA WORKS","D","Fire Upgrading Coating:Strip off existing multi layer paint coatings to existing plastered or rendered soffits with a proprietary paint stripper, scrape off or remove with a proprietary paint scraper, wash down,rinse,  spot prime filled or bare areas with afire upgrading primer, remove any existing graffiti with a graffiti removal system, clean off and apply one full coat of primer at a coverage rate of 10sm per litre, apply one full coats of colourcoat complete with decorative flakes, and apply one full coat of gloss or satin lacquer finish at a coverage rate of 10sm per litre.",null,null,41,null,"4804AD","Item",1,29.34,29.34,null,{"$f":"SUMIF('Planned Maint v6.2 CSV File'!A:A,J46,'Planned Maint v6.2 CSV File'!I:I)","v":24.939},24.939,{"$f":"IF(J46=\"Prov Sum\",\"\",IF(MATCH(J46,'Packet Rate Library'!J:J,0),VLOOKUP(J46,'Packet Rate Library'!J:T,9,FALSE),\"\"))","v":0},24.939,24.939]
[null,"REPB42129","FRA WORKS","D","Fire Alarm:Install L2 type fire alarm installation complete to BS5839:Part6 1995, control panel, circuits, call points, automatic detectors and sounders, builders work, make good, test, commission, and remove waste and debris.",null,null,93,null,"8711GA","Item",1,550,550,null,{"$f":"SUMIF('Planned Maint v6.2 CSV File'!A:A,J47,'Planned Maint v6.2 CSV File'!I:I)","v":440},440,{"$f":"IF(J47=\"Prov Sum\",\"\",IF(MATCH(J47,'Packet Rate Library'!J:J,0),VLOOKUP(J47,'Packet Rate Library'!J:T,9,FALSE),\"\"))","v":0},440,440]
[null,"REPB42129","FRA WORKS","D","Intumescent Strip:Renew or supply and fix new 22x4mm intumescent strip, half hour application, with integral cold smoke seal and setting into groove in timber frame or door.",null,null,104,null,"3431AC","Item",2,3.44,6.88,null,{"$f":"SUMIF('Planned Maint v6.2 CSV File'!A:A,J48,'Planned Maint v6.2 CSV File'!I:I)","v":3.0495599999999996},6.0991199999999992,{"$f":"IF(J48=\"Prov Sum\",\"\",IF(MATCH(J48,'Packet Rate Library'!J:J,0),VLOOKUP(J48,'Packet Rate Library'!J:T,9,FALSE),\"\"))","v":0},3.0495599999999996,6.0991199999999992]
[null,"REPB42129","FRA WORKS","D","Smoke Detector:Renew existing with mains operated optical smoke detector with rechargeable DC battery or condensor back up self contained type to BS 5446 kitemark certified with hush button, including back plate and all necessary connections to existing wiring, test and make good on completion, where interlinked detectors are replaced new detectors must be compatible with existing, and remove waste and debris.",null,null,115,null,"8720FA","Item",2,70.11,140.22,null,{"$f":"SUMIF('Planned Maint v6.2 CSV File'!A:A,J49,'Planned Maint v6.2 CSV File'!I:I)","v":56.088000000000001},112.176,{"$f":"IF(J49=\"Prov Sum\",\"\",IF(MATCH(J49,'Packet Rate Library'!J:J,0),VLOOKUP(J49,'Packet Rate Library'!J:T,9,FALSE),\"\"))","v":0},56.088000000000001,112.176]
[null,"REPB42129","FRA WORKS","D","Closer:Renew or supply and fix Perko type concealed door closer screwed to door and frame, including remove and refix door or door stop as necessary.",null,null,175,null,"3905BA","Item",2,9.81,19.62,null,{"$f":"SUMIF('Planned Maint v6.2 CSV File'!A:A,J50,'Planned Maint v6.2 CSV File'!I:I)","v":8.6965649999999997},17.393129999999999,{"$f":"IF(J50=\"Prov Sum\",\"\",IF(MATCH(J50,'Packet Rate Library'!J:J,0),VLOOKUP(J50,'Packet Rate Library'!J:T,9,FALSE),\"\"))","v":0},8.6965649999999997,17.393129999999999]
[null,"REPB42129","FRA WORKS","D","Partition:Supply and erect or renew stud partition comprising ne 50x100mm sole and head plate, noggins and studs fixed with nails or plugged and screwed to walls, and pack out and scribe, 12.5mm butt jointed plasterboard and 3mm plaster skim coat and all labours to both faces.",null,null,180,null,"3013AB","Item",1,62.11,62.11,null,{"$f":"SUMIF('Planned Maint v6.2 CSV File'!A:A,J51,'Planned Maint v6.2 CSV File'!I:I)","v":55.060514999999995},55.060514999999995,{"$f":"IF(J51=\"Prov Sum\",\"\",IF(MATCH(J51,'Packet Rate Library'!J:J,0),VLOOKUP(J51,'Packet Rate Library'!J:T,9,FALSE),\"\"))","v":0},55.060514999999995,55.060514999999995]
[null,"REPB42129","FRA WORKS","D","Test:Carry out test of domestic installation to occupied property complete comprising continuity, insulation resistance, polarity, earth fault loop impedance and operation of residual current operated device, disconnect, repair and renew as necessary after removal of illegal wiring and components, and provide report and NICEIC/ECA test certificate to the Client’s Representative, and remove waste and debris.",null,null,186,null,"8950AA","Item",1,86.88,86.88,null,{"$f":"SUMIF('Planned Maint v6.2 CSV File'!A:A,J52,'Planned Maint v6.2 CSV File'!I:I)","v":69.504000000000005},69.504000000000005,{"$f":"IF(J52=\"Prov Sum\",\"\",IF(MATCH(J52,'Packet Rate Library'!J:J,0),VLOOKUP(J52,'Packet Rate Library'!J:T,9,FALSE),\"\"))","v":0},69.504000000000005,69.504000000000005]
[null,"REPB42129","FRA WORKS","D","Provisional Sum: Allow provisional sum for additional works to the fire alarm system.",null,null,190,null,"PROV SUM","Item",1,1500,1500,null,{"$f":"SUMIF('Planned Maint v6.2 CSV File'!A:A,J53,'Planned Maint v6.2 CSV File'!I:I)","v":0},1500,{"$f":"IF(J53=\"Prov Sum\",\"\",IF(MATCH(J53,'Packet Rate Library'!J:J,0),VLOOKUP(J53,'Packet Rate Library'!J:T,9,FALSE),\"\"))","v":""},"",1500]
[null,"REPB42129","FRA WORKS","D","Provisional Sum: Allow provisional sum for additional works to clear waste and debris from fire escape routes. ",null,null,191,null,"PROV SUM","Item",1,100,100,null,{"$f":"SUMIF('Planned Maint v6.2 CSV File'!A:A,J54,'Planned Maint v6.2 CSV File'!I:I)","v":0},100,{"$f":"IF(J54=\"Prov Sum\",\"\",IF(MATCH(J54,'Packet Rate Library'!J:J,0),VLOOKUP(J54,'Packet Rate Library'!J:T,9,FALSE),\"\"))","v":""},"",100]
[null,"REPB42129","FRA WORKS","D","Provisional Sum: Allow provisional sum for additional fire stopping works",null,null,192,null,"PROV SUM","Item",1,100,100,null,{"$f":"SUMIF('Planned Maint v6.2 CSV File'!A:A,J55,'Planned Maint v6.2 CSV File'!I:I)","v":0},100,{"$f":"IF(J55=\"Prov Sum\",\"\",IF(MATCH(J55,'Packet Rate Library'!J:J,0),VLOOKUP(J55,'Packet Rate Library'!J:T,9,FALSE),\"\"))","v":""},"",100]
[null,"REPB42129","FRA WORKS","D","Provisional Sum: Allow provisional sum for additional signage",null,null,193,null,"PROV SUM","Item",1,100,100,null,{"$f":"SUMIF('Planned Maint v6.2 CSV File'!A:A,J56,'Planned Maint v6.2 CSV File'!I:I)","v":0},100,{"$f":"IF(J56=\"Prov Sum\",\"\",IF(MATCH(J56,'Packet Rate Library'!J:J,0),VLOOKUP(J56,'Packet Rate Library'!J:T,9,FALSE),\"\"))","v":""},"",100]
[null,"REPB42129","FRA WORKS","D","Provisional Sum: Allow provisional sum for additional electrical works",null,null,194,null,"PROV SUM","Item",1,350,350,null,{"$f":"SUMIF('Planned Maint v6.2 CSV File'!A:A,J57,'Planned Maint v6.2 CSV File'!I:I)","v":0},350,{"$f":"IF(J57=\"Prov Sum\",\"\",IF(MATCH(J57,'Packet Rate Library'!J:J,0),VLOOKUP(J57,'Packet Rate Library'!J:T,9,FALSE),\"\"))","v":""},"",350]

{"sheet":"130 Prince of Wales Road","index":14,"n_rows":59,"n_cols":20,"rows_kept":59,"cut":false,"hidden":false,"merged":[[4,15,4,19]]}
[null,null,null,null,null,null,null,null,null,null,null,null,null,null,null,{"$f":"SUMIF('Planned Maint v6.2 CSV File'!A:A,J1,'Planned Maint v6.2 CSV File'!I:I)","v":0},{"$f":"IF(J1=\"PROV SUM\",N1,L1*P1)","v":0},{"$f":"IF(J1=\"Prov Sum\",\"\",IF(MATCH(J1,'Packet Rate Library'!J:J,0),VLOOKUP(J1,'Packet Rate Library'!J:T,9,FALSE),\"\"))","v":{"$error":"#N/A"}},{"$f":"IF(R1>0,R1,P1)","v":{"$error":"#N/A"}},{"$f":"IF(J1=\"SC024\",N1,IF(ISERROR(S1),\"\",IF(J1=\"PROV SUM\",N1,L1*S1)))","v":""}]
[]
[]
["130 PRINCE OF WALES ROAD"]
[]
["Requirement","REPB42458","Requirement Type","Rowtype (H=Header, D=Detail)","Description","Works Order Commencement Date","Works Order Completion Date","Specification  Ref. Item No.'s","Works Order Delivery Date","SOR Code","SOR Unit","SOR Qty","SOR Cost","Total Cost",null,"Rate (max)","Cost (max)","Modified price","Tendered rate","Tendered total"]
[]
[" ","REPB42458","ENERGY EFFICIENY","H"]
[null,"REPB42458","ENERGY EFFICIENY","D","Contractor to access and undertake survey of loft space in accordance with the Project Brief in order to assess level of current loft insulation. Including submittion of a survey report supported by photographic evidance to CM/PM. Where insulation levels are less then 200mm, Contractor to provide cost proposal to upgrade insulation in accordance with NHF SoR Planned Maintenance Version 6.2.",null,null,9.1,null,"ADD001","IT",1,null,null,null,{"$f":"SUMIF('Planned Maint v6.2 CSV File'!A:A,J9,'Planned Maint v6.2 CSV File'!I:I)","v":0},{"$f":"IF(J9=\"PROV SUM\",N9,L9*P9)","v":0},{"$f":"IF(J9=\"Prov Sum\",\"\",IF(MATCH(J9,'Packet Rate Library'!J:J,0),VLOOKUP(J9,'Packet Rate Library'!J:T,9,FALSE),\"\"))","v":0},{"$f":"IF(R9>0,R9,P9)","v":0},{"$f":"IF(J9=\"SC024\",N9,IF(ISERROR(S9),\"\",IF(J9=\"PROV SUM\",N9,L9*S9)))","v":0}]
[null,"REPB42458","ENERGY EFFICIENY","D","Insulation:Supply and lay ne 270mm thick insulation quilt to loft area including gain access and moving/replacing contents within loft area in order to undertake work. Item 2270AA",null,null,9.1999999999999993,null,"2270AA","SM",46.04,10.86,{"$f":"M10*L10","v":499.99439999999998},null,{"$f":"SUMIF('Planned Maint v6.2 CSV File'!A:A,J10,'Planned Maint v6.2 CSV File'!I:I)","v":8.6880000000000006},{"$f":"IF(J10=\"PROV SUM\",N10,L10*P10)","v":399.99552},{"$f":"IF(J10=\"Prov Sum\",\"\",IF(MATCH(J10,'Packet Rate Library'!J:J,0),VLOOKUP(J10,'Packet Rate Library'!J:T,9,FALSE),\"\"))","v":0},{"$f":"IF(R10>0,R10,P10)","v":8.6880000000000006},{"$f":"IF(J10=\"SC024\",N10,IF(ISERROR(S10),\"\",IF(J10=\"PROV SUM\",N10,L10*S10)))","v":399.99552}]
[null,"REPB42458","ASBESTOS","H"]
[null,"REPB42458","ASBESTOS","D","Refurbishment and Demolition  Survey to Full Property (with upto 5 Nr samples) , flat or house any size",null,null,1.3,null,"A003","Item",1,234,234,null,{"$f":"SUMIF('Planned Maint v6.2 CSV File'!A:A,J12,'Planned Maint v6.2 CSV File'!I:I)","v":222.29999999999998},{"$f":"IF(J12=\"PROV SUM\",N12,L12*P12)","v":222.29999999999998},{"$f":"IF(J12=\"Prov Sum\",\"\",IF(MATCH(J12,'Packet Rate Library'!J:J,0),VLOOKUP(J12,'Packet Rate Library'!J:T,9,FALSE),\"\"))","v":0},{"$f":"IF(R12>0,R12,P12)","v":222.29999999999998},{"$f":"IF(J12=\"SC024\",N12,IF(ISERROR(S12),\"\",IF(J12=\"PROV SUM\",N12,L12*S12)))","v":222.29999999999998}]
[null,"REPB42458","COMMUNAL WORKS","H"]
[null,"REPB42458"]
[null,"REPB42458","EXTREP","H"]
[null,"REPB42458","EXTREP","D","Wall: Rake out existing joints of brickwork min 12mm and repoint brickwork in mortar to match existing and remove waste and debris.",null,null,6.91,null,"1021AA","SM",10,20.13,201.3,null,{"$f":"SUMIF('Planned Maint v6.2 CSV File'!A:A,J16,'Planned Maint v6.2 CSV File'!I:I)","v":14.594249999999999},{"$f":"IF(J16=\"PROV SUM\",N16,L16*P16)","v":145.9425},{"$f":"IF(J16=\"Prov Sum\",\"\",IF(MATCH(J16,'Packet Rate Library'!J:J,0),VLOOKUP(J16,'Packet Rate Library'!J:T,9,FALSE),\"\"))","v":0},{"$f":"IF(R16>0,R16,P16)","v":14.594249999999999},{"$f":"IF(J16=\"SC024\",N16,IF(ISERROR(S16),\"\",IF(J16=\"PROV SUM\",N16,L16*S16)))","v":145.9425}]
[null,"REPB42458","EXTREP","D","Coping: Take off precast coping ne 300mm wide, clean mortar from top of wall and coping, bed and point in cement lime mortar (1:1:6) with bonding agent and remove waste and debris.",null,null,6.1270000000000104,null,"1033CA","LM",12,6.04,72.48,null,{"$f":"SUMIF('Planned Maint v6.2 CSV File'!A:A,J17,'Planned Maint v6.2 CSV File'!I:I)","v":4.3789999999999996},52.547999999999995,{"$f":"IF(J17=\"Prov Sum\",\"\",IF(MATCH(J17,'Packet Rate Library'!J:J,0),VLOOKUP(J17,'Packet Rate Library'!J:T,9,FALSE),\"\"))","v":0},4.3789999999999996,52.547999999999995]
[null,"REPB42458","EXTREP","D","Walls: Wash down, fill in cracks and holes, sand smooth and apply two coats of smooth finish masonry paint to rendered or concrete surfaces of walls.",null,null,6.1940000000000301,null,"4360BA","SM",110,7.02,772.2,null,{"$f":"SUMIF('Planned Maint v6.2 CSV File'!A:A,J18,'Planned Maint v6.2 CSV File'!I:I)","v":5.9669999999999996},656.37,{"$f":"IF(J18=\"Prov Sum\",\"\",IF(MATCH(J18,'Packet Rate Library'!J:J,0),VLOOKUP(J18,'Packet Rate Library'!J:T,9,FALSE),\"\"))","v":0},5.9669999999999996,656.37]
[null,"REPB42458","EXTREP","D","Balustrading: Wire brush, prepare for and apply one undercoat and two coats of gloss paint on existing painted surfaces ornamental metal balustrading, railings or gates (measured both sides).",null,null,6.2150000000000398,null,"4363EA","SM",18,16.079999999999998,289.44,null,{"$f":"SUMIF('Planned Maint v6.2 CSV File'!A:A,J19,'Planned Maint v6.2 CSV File'!I:I)","v":13.667999999999997},246.02399999999994,{"$f":"IF(J19=\"Prov Sum\",\"\",IF(MATCH(J19,'Packet Rate Library'!J:J,0),VLOOKUP(J19,'Packet Rate Library'!J:T,9,FALSE),\"\"))","v":0},13.667999999999997,246.02399999999994]
[null,"REPB42458","EXTREP","D","Window: Rub down, prepare and apply one coat of primer, one undercoat and two coats of gloss paint on surfaces of wooden windowsl (one side and edges).",null,null,6.2360000000000504,null,"4380BA","SM",18,25.87,465.66,null,{"$f":"SUMIF('Planned Maint v6.2 CSV File'!A:A,J20,'Planned Maint v6.2 CSV File'!I:I)","v":21.9895},395.81099999999998,{"$f":"IF(J20=\"Prov Sum\",\"\",IF(MATCH(J20,'Packet Rate Library'!J:J,0),VLOOKUP(J20,'Packet Rate Library'!J:T,9,FALSE),\"\"))","v":0},21.9895,395.81099999999998]
[null,"REPB42458","EXTREP","D","Frame: Rub down, prepare and apply one coat of primer, one undercoat and two coats of gloss paint on timber frame ne 300mm girth.",null,null,6.2370000000000498,null,"4380CA","LM",30,6.28,188.4,null,{"$f":"SUMIF('Planned Maint v6.2 CSV File'!A:A,J21,'Planned Maint v6.2 CSV File'!I:I)","v":5.3380000000000001},160.14000000000001,{"$f":"IF(J21=\"Prov Sum\",\"\",IF(MATCH(J21,'Packet Rate Library'!J:J,0),VLOOKUP(J21,'Packet Rate Library'!J:T,9,FALSE),\"\"))","v":0},5.3380000000000001,160.14000000000001]
[null,"REPB42458","EXTREP","D","Door: Rub down, prepare for and apply one coat of primer, one undercoat and two coats of gloss paint to all surfaces of any size or type of single glazed timber door. (one sides and edges).",null,null,6.2380000000000502,null,"4380DA","IT",5,20.71,103.55,null,{"$f":"SUMIF('Planned Maint v6.2 CSV File'!A:A,J22,'Planned Maint v6.2 CSV File'!I:I)","v":17.6035},88.017499999999998,{"$f":"IF(J22=\"Prov Sum\",\"\",IF(MATCH(J22,'Packet Rate Library'!J:J,0),VLOOKUP(J22,'Packet Rate Library'!J:T,9,FALSE),\"\"))","v":0},17.6035,88.017499999999998]
[null,"REPB42458","EXTREP","D","Wall: Apply 12mm cement and sand render (1:3) with waterproofing agent to external walls including ‘Rough Sandtex’ finish, dub out as necessary with cement and sand and all labours and remove waste and debris.",null,null,6.3050000000000699,null,"4210AF","SM",2,33.5,67,null,{"$f":"SUMIF('Planned Maint v6.2 CSV File'!A:A,J23,'Planned Maint v6.2 CSV File'!I:I)","v":24.287499999999998},48.574999999999996,{"$f":"IF(J23=\"Prov Sum\",\"\",IF(MATCH(J23,'Packet Rate Library'!J:J,0),VLOOKUP(J23,'Packet Rate Library'!J:T,9,FALSE),\"\"))","v":0},24.287499999999998,48.574999999999996]
[null,"REPB42458","EXTREP","D","Render Repairs: Repair crack in any external render including carefully hack out and make good with cement and sand including applying finish to match existing, and remove waste and debris.",null,null,6.3060000000000702,null,"4230ZA","LM",2,6.87,13.74,null,{"$f":"SUMIF('Planned Maint v6.2 CSV File'!A:A,J24,'Planned Maint v6.2 CSV File'!I:I)","v":4.9807499999999996},9.9614999999999991,{"$f":"IF(J24=\"Prov Sum\",\"\",IF(MATCH(J24,'Packet Rate Library'!J:J,0),VLOOKUP(J24,'Packet Rate Library'!J:T,9,FALSE),\"\"))","v":0},4.9807499999999996,9.9614999999999991]
[null,"REPB42458","ROOF","H"]
[null,"REPB42458","ROOF","D","PROVISIONAL SUM: Slate: Remove any size natural slates and carefully stack, renew roofing felt and battens and refix slates with clips or copper nails, and remove waste and debris.",null,null,3.4340000000000002,null,"PROV SUM","SUM",1,2200,2200,null,{"$f":"SUMIF('Planned Maint v6.2 CSV File'!A:A,J26,'Planned Maint v6.2 CSV File'!I:I)","v":0},{"$f":"IF(J26=\"PROV SUM\",N26,L26*P26)","v":2200},{"$f":"IF(J26=\"Prov Sum\",\"\",IF(MATCH(J26,'Packet Rate Library'!J:J,0),VLOOKUP(J26,'Packet Rate Library'!J:T,9,FALSE),\"\"))","v":""},{"$f":"IF(R26>0,R26,P26)","v":""},{"$f":"IF(J26=\"SC024\",N26,IF(ISERROR(S26),\"\",IF(J26=\"PROV SUM\",N26,L26*S26)))","v":2200}]
[null,"REPB42458","ROOF","D","PROVISIONAL SUM: Slate: Overhaul natural slate roof, refix loose slates, renew broken or missing slates to match existing, redress, rewedge and repoint all flashings, aprons, chimney gutters etc, cut out and make good cement weather fillets, repoint in cement mortar (1:3) to all hips, ridges and verges, make good, and remove waste and debris.",null,null,3.4350000000000001,null,"PROV SUM","SUM",1,1300,1300,null,{"$f":"SUMIF('Planned Maint v6.2 CSV File'!A:A,J27,'Planned Maint v6.2 CSV File'!I:I)","v":0},{"$f":"IF(J27=\"PROV SUM\",N27,L27*P27)","v":1300},{"$f":"IF(J27=\"Prov Sum\",\"\",IF(MATCH(J27,'Packet Rate Library'!J:J,0),VLOOKUP(J27,'Packet Rate Library'!J:T,9,FALSE),\"\"))","v":""},{"$f":"IF(R27>0,R27,P27)","v":""},{"$f":"IF(J27=\"SC024\",N27,IF(ISERROR(S27),\"\",IF(J27=\"PROV SUM\",N27,L27*S27)))","v":1300}]
[null,"REPB42458","ROOF","D","PROVISIONAL SUM: Roof Covering: Extra over any renewal or refixing of natural slates for renew roofing felt and battens.",null,null,3.4359999999999999,null,"PROV SUM","SUM",1,900,900,null,{"$f":"SUMIF('Planned Maint v6.2 CSV File'!A:A,J28,'Planned Maint v6.2 CSV File'!I:I)","v":0},{"$f":"IF(J28=\"PROV SUM\",N28,L28*P28)","v":900},{"$f":"IF(J28=\"Prov Sum\",\"\",IF(MATCH(J28,'Packet Rate Library'!J:J,0),VLOOKUP(J28,'Packet Rate Library'!J:T,9,FALSE),\"\"))","v":""},{"$f":"IF(R28>0,R28,P28)","v":""},{"$f":"IF(J28=\"SC024\",N28,IF(ISERROR(S28),\"\",IF(J28=\"PROV SUM\",N28,L28*S28)))","v":900}]
[null,"REPB42458","WINDOWS","H"]
[null,"REPB42458","WINDOWS","D","Soft wood timber splice with resin; face splice repair method no. 5.\nRemove old and loose paint as necessary. Cut out decayed timber from windows and frames, piecing in or frame in new wrought softwood with resin to match existing. Leave ready to decorate. \n\nSplice not exc 500 to 1000mm",null,null,4.1100000000000003,null,"WIND017","Nr",5,36.75,183.75,null,{"$f":"SUMIF('Planned Maint v6.2 CSV File'!A:A,J30,'Planned Maint v6.2 CSV File'!I:I)","v":34.912500000000001},{"$f":"IF(J30=\"PROV SUM\",N30,L30*P30)","v":174.5625},{"$f":"IF(J30=\"Prov Sum\",\"\",IF(MATCH(J30,'Packet Rate Library'!J:J,0),VLOOKUP(J30,'Packet Rate Library'!J:T,9,FALSE),\"\"))","v":0},{"$f":"IF(R30>0,R30,P30)","v":34.912500000000001},{"$f":"IF(J30=\"SC024\",N30,IF(ISERROR(S30),\"\",IF(J30=\"PROV SUM\",N30,L30*S30)))","v":174.5625}]
[null,"REPB42458","WINDOWS","D","7. Timber repair system; using window care dry fix/dry flex RP; Conservation Joint; \n\nUp to 50mm ",null,null,4.13,null,"WIND022","Nr",60,4.25,255,null,{"$f":"SUMIF('Planned Maint v6.2 CSV File'!A:A,J31,'Planned Maint v6.2 CSV File'!I:I)","v":4.0374999999999996},{"$f":"IF(J31=\"PROV SUM\",N31,L31*P31)","v":242.24999999999997},{"$f":"IF(J31=\"Prov Sum\",\"\",IF(MATCH(J31,'Packet Rate Library'!J:J,0),VLOOKUP(J31,'Packet Rate Library'!J:T,9,FALSE),\"\"))","v":0},{"$f":"IF(R31>0,R31,P31)","v":4.0374999999999996},{"$f":"IF(J31=\"SC024\",N31,IF(ISERROR(S31),\"\",IF(J31=\"PROV SUM\",N31,L31*S31)))","v":242.24999999999997}]
[null,"REPB42458","WINDOWS","D","7. Timber repair system; using window care dry fix/dry flex RP; Conservation Joint;\n\nup to 100mm ",null,null,4.1399999999999997,null,"WIND023","Nr",10,6.75,67.5,null,{"$f":"SUMIF('Planned Maint v6.2 CSV File'!A:A,J32,'Planned Maint v6.2 CSV File'!I:I)","v":6.4124999999999996},{"$f":"IF(J32=\"PROV SUM\",N32,L32*P32)","v":64.125},{"$f":"IF(J32=\"Prov Sum\",\"\",IF(MATCH(J32,'Packet Rate Library'!J:J,0),VLOOKUP(J32,'Packet Rate Library'!J:T,9,FALSE),\"\"))","v":0},{"$f":"IF(R32>0,R32,P32)","v":6.4124999999999996},{"$f":"IF(J32=\"SC024\",N32,IF(ISERROR(S32),\"\",IF(J32=\"PROV SUM\",N32,L32*S32)))","v":64.125}]
[null,"REPB42458","WINDOWS","D","Window: Overhaul timber sash window, renew staff and parting beads, take out sashes and later rehang on appropriate sized new undyed plaited nylon sash cords, renew pocket pieces, wedge and cramp loose sash frames, oil pulleys, ease and adjust sashes, remove, refit or renew ironmongery, rake out and renew defective putty and mastic, touch up decorations internally to match existing and prepare for redecoration externally, and remove waste and debris.",null,null,4.8999999999999799,null,"3150CA","NO",6,35.61,213.66,null,{"$f":"SUMIF('Planned Maint v6.2 CSV File'!A:A,J33,'Planned Maint v6.2 CSV File'!I:I)","v":31.568264999999997},{"$f":"IF(J33=\"PROV SUM\",N33,L33*P33)","v":189.40958999999998},{"$f":"IF(J33=\"Prov Sum\",\"\",IF(MATCH(J33,'Packet Rate Library'!J:J,0),VLOOKUP(J33,'Packet Rate Library'!J:T,9,FALSE),\"\"))","v":0},{"$f":"IF(R33>0,R33,P33)","v":31.568264999999997},{"$f":"IF(J33=\"SC024\",N33,IF(ISERROR(S33),\"\",IF(J33=\"PROV SUM\",N33,L33*S33)))","v":189.40958999999998}]
[null,"REPB42458","WINDOWS","D","Pane: Reglaze single pane in 4mm clear or obscure glass, over 1.00sm, hack out and glaze with putty, sprigs, clips or beads at any level, touch up paintwork to match existing, and remove waste and debris.",null,null,4.2309999999999297,null,"5150AD","SM",1,67.930000000000007,67.930000000000007,null,{"$f":"SUMIF('Planned Maint v6.2 CSV File'!A:A,J34,'Planned Maint v6.2 CSV File'!I:I)","v":55.797702000000008},{"$f":"IF(J34=\"PROV SUM\",N34,L34*P34)","v":55.797702000000008},{"$f":"IF(J34=\"Prov Sum\",\"\",IF(MATCH(J34,'Packet Rate Library'!J:J,0),VLOOKUP(J34,'Packet Rate Library'!J:T,9,FALSE),\"\"))","v":0},{"$f":"IF(R34>0,R34,P34)","v":55.797702000000008},{"$f":"IF(J34=\"SC024\",N34,IF(ISERROR(S34),\"\",IF(J34=\"PROV SUM\",N34,L34*S34)))","v":55.797702000000008}]
[null,"REPB42458","SCAFFOLD","H"]
[null,"REPB42458","SCAFFOLD","D","Standard Scaffold item: erect; dismantle; basic independent tied working scaffolding; 5 boards wide, including hire period; completely accessible; debris netting to all elevations; double boarded and polythene included as necessary, any fan(s) included as required; rope plus wheel for lifting operations; 3rd handrail included whenever necessary; as per applicable regulations (applies to up to 5 storeys). Measured up to second handrail and by the middle of the scaffold (equidistant from the inside/outside face) including design when required. Rate to include for 12 week hire",null,null,2.1,null,"SC001","M2",120,12.92,1550.4,null,{"$f":"SUMIF('Planned Maint v6.2 CSV File'!A:A,J36,'Planned Maint v6.2 CSV File'!I:I)","v":16.4084},{"$f":"IF(J36=\"PROV SUM\",N36,L36*P36)","v":1969.008},{"$f":"IF(J36=\"Prov Sum\",\"\",IF(MATCH(J36,'Packet Rate Library'!J:J,0),VLOOKUP(J36,'Packet Rate Library'!J:T,9,FALSE),\"\"))","v":0},{"$f":"IF(R36>0,R36,P36)","v":16.4084},{"$f":"IF(J36=\"SC024\",N36,IF(ISERROR(S36),\"\",IF(J36=\"PROV SUM\",N36,L36*S36)))","v":1969.008}]
[null,"REPB42458","SCAFFOLD","D","Scaffold alarm - 1 x sounder, 2 x PIR 1 X key pad (Divided by Number of properties if continuous scaffolds)",null,null,2.5,null,"SC005","unit",1,420,420,null,{"$f":"SUMIF('Planned Maint v6.2 CSV File'!A:A,J37,'Planned Maint v6.2 CSV File'!I:I)","v":533.4},{"$f":"IF(J37=\"PROV SUM\",N37,L37*P37)","v":533.4},{"$f":"IF(J37=\"Prov Sum\",\"\",IF(MATCH(J37,'Packet Rate Library'!J:J,0),VLOOKUP(J37,'Packet Rate Library'!J:T,9,FALSE),\"\"))","v":0},{"$f":"IF(R37>0,R37,P37)","v":533.4},{"$f":"IF(J37=\"SC024\",N37,IF(ISERROR(S37),\"\",IF(J37=\"PROV SUM\",N37,L37*S37)))","v":533.4}]
[null,"REPB42458","SCAFFOLD","D","E/O for additional PIRS",null,null,2.6,null,"SC007","unit",1,50,50,null,{"$f":"SUMIF('Planned Maint v6.2 CSV File'!A:A,J38,'Planned Maint v6.2 CSV File'!I:I)","v":63.5},{"$f":"IF(J38=\"PROV SUM\",N38,L38*P38)","v":63.5},{"$f":"IF(J38=\"Prov Sum\",\"\",IF(MATCH(J38,'Packet Rate Library'!J:J,0),VLOOKUP(J38,'Packet Rate Library'!J:T,9,FALSE),\"\"))","v":0},{"$f":"IF(R38>0,R38,P38)","v":63.5},{"$f":"IF(J38=\"SC024\",N38,IF(ISERROR(S38),\"\",IF(J38=\"PROV SUM\",N38,L38*S38)))","v":63.5}]
[null,"REPB42458","SCAFFOLD","D","Scaffold taken up&over the roof",null,null,2.17,null,"SC017","unit",1,842,842,null,{"$f":"SUMIF('Planned Maint v6.2 CSV File'!A:A,J39,'Planned Maint v6.2 CSV File'!I:I)","v":1069.3399999999999},{"$f":"IF(J39=\"PROV SUM\",N39,L39*P39)","v":1069.3399999999999},{"$f":"IF(J39=\"Prov Sum\",\"\",IF(MATCH(J39,'Packet Rate Library'!J:J,0),VLOOKUP(J39,'Packet Rate Library'!J:T,9,FALSE),\"\"))","v":0},{"$f":"IF(R39>0,R39,P39)","v":1069.3399999999999},{"$f":"IF(J39=\"SC024\",N39,IF(ISERROR(S39),\"\",IF(J39=\"PROV SUM\",N39,L39*S39)))","v":1069.3399999999999}]
[null,"REPB42458","SCAFFOLD","D","Additional Hire if required - % per week of total scaffolding costs.  This is to be applied in the event an agreed programme exceeding the duration set out above. An example would be large low level blocks of 4 storeys requiring a large programme duration",null,null,null,null,"SC024","unit",null,4.8300000000000003E-2,{"$f":"VLOOKUP(B40,'Project Overheads & Scaffold'!$W:$AI,13,FALSE)","v":0},null,{"$f":"SUMIF('Planned Maint v6.2 CSV File'!A:A,J40,'Planned Maint v6.2 CSV File'!I:I)","v":4.8300000000000003E-2},{"$f":"IF(J40=\"PROV SUM\",N40,L40*P40)","v":0},{"$f":"IF(J40=\"Prov Sum\",\"\",IF(MATCH(J40,'Packet Rate Library'!J:J,0),VLOOKUP(J40,'Packet Rate Library'!J:T,9,FALSE),\"\"))","v":{"$error":"#N/A"}},{"$f":"IF(R40>0,R40,P40)","v":{"$error":"#N/A"}},{"$f":"IF(J40=\"SC024\",N40,IF(ISERROR(S40),\"\",IF(J40=\"PROV SUM\",N40,L40*S40)))","v":0}]
[null,"REPB42458","ESTATE WORKS","H"]
[null,"REPB42458","ESTATE WORKS","D","PROVISIONAL SUM: Paving: Supply and lay new brick paving including excavate to level, lay 100mm hardcore bed and lay new paving on 25mm bed of cement mortar (1:4) or 50mm sand bed including all pointing and cutting and bonding.",null,null,7.3159999999999998,null,"PROV SUM","SUM",1,240,240,null,{"$f":"SUMIF('Planned Maint v6.2 CSV File'!A:A,J42,'Planned Maint v6.2 CSV File'!I:I)","v":0},{"$f":"IF(J42=\"PROV SUM\",N42,L42*P42)","v":240},{"$f":"IF(J42=\"Prov Sum\",\"\",IF(MATCH(J42,'Packet Rate Library'!J:J,0),VLOOKUP(J42,'Packet Rate Library'!J:T,9,FALSE),\"\"))","v":""},{"$f":"IF(R42>0,R42,P42)","v":""},{"$f":"IF(J42=\"SC024\",N42,IF(ISERROR(S42),\"\",IF(J42=\"PROV SUM\",N42,L42*S42)))","v":240}]
[null,"REPB42458","ESTATE WORKS","D","PROVISIONAL SUM: Fencing: Renew or provide new 1.65m tanalised timber vertical board fencing including for taking down remnants of existing fence and posts set in concrete, remove from site to approved tip, and set 125x125mm x 2.65m long softwood posts in concrete at ne 1.80m centres with three 69x44mm softwood rails bolted to posts and 144x20mm vertical boards nailed to rails, softwood gravel board with centre prop (measured per metre run of fencing).",null,null,7.3170000000000002,null,"PROV SUM","SUM",1,450,450,null,{"$f":"SUMIF('Planned Maint v6.2 CSV File'!A:A,J43,'Planned Maint v6.2 CSV File'!I:I)","v":0},{"$f":"IF(J43=\"PROV SUM\",N43,L43*P43)","v":450},{"$f":"IF(J43=\"Prov Sum\",\"\",IF(MATCH(J43,'Packet Rate Library'!J:J,0),VLOOKUP(J43,'Packet Rate Library'!J:T,9,FALSE),\"\"))","v":""},{"$f":"IF(R43>0,R43,P43)","v":""},{"$f":"IF(J43=\"SC024\",N43,IF(ISERROR(S43),\"\",IF(J43=\"PROV SUM\",N43,L43*S43)))","v":450}]
[null,"REPB42458","ESTATE WORKS","D","PROVISIONAL SUM: Fence Post: Renew tanalised softwood fence post set in hardcore or concrete size 100x100mm and ne 2.40m long including any struts, excavate hole, place hardcore and or concrete, backfill, remove and refix fencing, and remove waste and debris, reinstate paving, gardens and the like as necessary.",null,null,7.3179999999999996,null,"PROV SUM","SUM",1,150,150,null,{"$f":"SUMIF('Planned Maint v6.2 CSV File'!A:A,J44,'Planned Maint v6.2 CSV File'!I:I)","v":0},{"$f":"IF(J44=\"PROV SUM\",N44,L44*P44)","v":150},{"$f":"IF(J44=\"Prov Sum\",\"\",IF(MATCH(J44,'Packet Rate Library'!J:J,0),VLOOKUP(J44,'Packet Rate Library'!J:T,9,FALSE),\"\"))","v":""},{"$f":"IF(R44>0,R44,P44)","v":""},{"$f":"IF(J44=\"SC024\",N44,IF(ISERROR(S44),\"\",IF(J44=\"PROV SUM\",N44,L44*S44)))","v":150}]
[null,"REPB42458","ESTATE WORKS","D","PROVISIONAL SUM: Wall: Demolish as necessary, clean off and clear away, rebuild one brick wall in common bricks, bed and point in cement lime mortar (1:1:6) to match existing and remove waste and debris.",null,null,7.319,null,"PROV SUM","SUM",1,1000,1000,null,{"$f":"SUMIF('Planned Maint v6.2 CSV File'!A:A,J45,'Planned Maint v6.2 CSV File'!I:I)","v":0},{"$f":"IF(J45=\"PROV SUM\",N45,L45*P45)","v":1000},{"$f":"IF(J45=\"Prov Sum\",\"\",IF(MATCH(J45,'Packet Rate Library'!J:J,0),VLOOKUP(J45,'Packet Rate Library'!J:T,9,FALSE),\"\"))","v":""},{"$f":"IF(R45>0,R45,P45)","v":""},{"$f":"IF(J45=\"SC024\",N45,IF(ISERROR(S45),\"\",IF(J45=\"PROV SUM\",N45,L45*S45)))","v":1000}]
[null,"REPB42458","FRA WORKS","H"]
[null,"REPB42458","FRA WORKS","D","Door:Renew internal door with any size single half-hour fire check glazed door having 3.2mm luan, white Meranti or other approved plywood facing both sides and 9mm hardwood lipping on long edges, including remove existing door and hinges, remove and refit door stops as necessary, fit and hang new door on 1.50 pairs of 100mm steel butt hinges, make good or alter recesses on frame, door complete with all ironmongery, intumescent strips and smoke seals, glazed, redecorate to match existing and remove waste and debris.",null,null,13,null,"3300FC","Item",2,222.2,444.4,null,{"$f":"SUMIF('Planned Maint v6.2 CSV File'!A:A,J47,'Planned Maint v6.2 CSV File'!I:I)","v":196.98029999999997},{"$f":"IF(J47=\"PROV SUM\",N47,L47*P47)","v":393.96059999999994},{"$f":"IF(J47=\"Prov Sum\",\"\",IF(MATCH(J47,'Packet Rate Library'!J:J,0),VLOOKUP(J47,'Packet Rate Library'!J:T,9,FALSE),\"\"))","v":0},{"$f":"IF(R47>0,R47,P47)","v":196.98029999999997},{"$f":"IF(J47=\"SC024\",N47,IF(ISERROR(S47),\"\",IF(J47=\"PROV SUM\",N47,L47*S47)))","v":393.96059999999994}]
[null,"REPB42458","FRA WORKS","D","Fire Upgrading Coating:Remove all existing defective paint to plastered or rendered wall surfaces back to a solid edge, feather off and repair any defective areas with a high quality filler as necessary, spot prime filled or bare areas with afire upgrading primer, remove any existing graffiti with a graffiti removal system, wash down, rinse, clean off and apply one full coat of fire upgrading primer at a coverage rate of 10sm per litre, apply two full coats of fire upgrading finish at a coverage rate of 10sm per litre.",null,null,27,null,"4801AB","Item",1,22.53,22.53,null,{"$f":"SUMIF('Planned Maint v6.2 CSV File'!A:A,J48,'Planned Maint v6.2 CSV File'!I:I)","v":19.150500000000001},19.150500000000001,{"$f":"IF(J48=\"Prov Sum\",\"\",IF(MATCH(J48,'Packet Rate Library'!J:J,0),VLOOKUP(J48,'Packet Rate Library'!J:T,9,FALSE),\"\"))","v":0},19.150500000000001,19.150500000000001]
[null,"REPB42458","FRA WORKS","D","Fire Upgrading Coating:Strip off existing multi layer paint coatings to existing plastered or rendered soffits with a proprietary paint stripper, scrape off or remove with a proprietary paint scraper, wash down,rinse,  spot prime filled or bare areas with afire upgrading primer, remove any existing graffiti with a graffiti removal system, clean off and apply one full coat of primer at a coverage rate of 10sm per litre, apply one full coats of colourcoat complete with decorative flakes, and apply one full coat of gloss or satin lacquer finish at a coverage rate of 10sm per litre.",null,null,41,null,"4804AD","Item",1,29.34,29.34,null,{"$f":"SUMIF('Planned Maint v6.2 CSV File'!A:A,J49,'Planned Maint v6.2 CSV File'!I:I)","v":24.939},24.939,{"$f":"IF(J49=\"Prov Sum\",\"\",IF(MATCH(J49,'Packet Rate Library'!J:J,0),VLOOKUP(J49,'Packet Rate Library'!J:T,9,FALSE),\"\"))","v":0},24.939,24.939]
[null,"REPB42458","FRA WORKS","D","Fire Alarm:Install L2 type fire alarm installation complete to BS5839:Part6 1995, control panel, circuits, call points, automatic detectors and sounders, builders work, make good, test, commission, and remove waste and debris.",null,null,93,null,"8711GA","Item",1,550,550,null,{"$f":"SUMIF('Planned Maint v6.2 CSV File'!A:A,J50,'Planned Maint v6.2 CSV File'!I:I)","v":440},440,{"$f":"IF(J50=\"Prov Sum\",\"\",IF(MATCH(J50,'Packet Rate Library'!J:J,0),VLOOKUP(J50,'Packet Rate Library'!J:T,9,FALSE),\"\"))","v":0},440,440]
[null,"REPB42458","FRA WORKS","D","Intumescent Strip:Renew or supply and fix new 22x4mm intumescent strip, half hour application, with integral cold smoke seal and setting into groove in timber frame or door.",null,null,104,null,"3431AC","Item",2,3.44,6.88,null,{"$f":"SUMIF('Planned Maint v6.2 CSV File'!A:A,J51,'Planned Maint v6.2 CSV File'!I:I)","v":3.0495599999999996},6.0991199999999992,{"$f":"IF(J51=\"Prov Sum\",\"\",IF(MATCH(J51,'Packet Rate Library'!J:J,0),VLOOKUP(J51,'Packet Rate Library'!J:T,9,FALSE),\"\"))","v":0},3.0495599999999996,6.0991199999999992]
[null,"REPB42458","FRA WORKS","D","Smoke Detector:Renew existing with mains operated optical smoke detector with rechargeable DC battery or condensor back up self contained type to BS 5446 kitemark certified with hush button, including back plate and all necessary connections to existing wiring, test and make good on completion, where interlinked detectors are replaced new detectors must be compatible with existing, and remove waste and debris.",null,null,115,null,"8720FA","Item",2,70.11,140.22,null,{"$f":"SUMIF('Planned Maint v6.2 CSV File'!A:A,J52,'Planned Maint v6.2 CSV File'!I:I)","v":56.088000000000001},112.176,{"$f":"IF(J52=\"Prov Sum\",\"\",IF(MATCH(J52,'Packet Rate Library'!J:J,0),VLOOKUP(J52,'Packet Rate Library'!J:T,9,FALSE),\"\"))","v":0},56.088000000000001,112.176]
[null,"REPB42458","FRA WORKS","D","Partition:Supply and erect or renew stud partition comprising ne 50x100mm sole and head plate, noggins and studs fixed with nails or plugged and screwed to walls, and pack out and scribe, 12.5mm butt jointed plasterboard and 3mm plaster skim coat and all labours to both faces.",null,null,180,null,"3013AB","Item",1,62.11,62.11,null,{"$f":"SUMIF('Planned Maint v6.2 CSV File'!A:A,J53,'Planned Maint v6.2 CSV File'!I:I)","v":55.060514999999995},55.060514999999995,{"$f":"IF(J53=\"Prov Sum\",\"\",IF(MATCH(J53,'Packet Rate Library'!J:J,0),VLOOKUP(J53,'Packet Rate Library'!J:T,9,FALSE),\"\"))","v":0},55.060514999999995,55.060514999999995]
[null,"REPB42458","FRA WORKS","D","Test:Carry out test of domestic installation to occupied property complete comprising continuity, insulation resistance, polarity, earth fault loop impedance and operation of residual current operated device, disconnect, repair and renew as necessary after removal of illegal wiring and components, and provide report and NICEIC/ECA test certificate to the Client’s Representative, and remove waste and debris.",null,null,186,null,"8950AA","Item",1,86.88,86.88,null,{"$f":"SUMIF('Planned Maint v6.2 CSV File'!A:A,J54,'Planned Maint v6.2 CSV File'!I:I)","v":69.504000000000005},69.504000000000005,{"$f":"IF(J54=\"Prov Sum\",\"\",IF(MATCH(J54,'Packet Rate Library'!J:J,0),VLOOKUP(J54,'Packet Rate Library'!J:T,9,FALSE),\"\"))","v":0},69.504000000000005,69.504000000000005]
[null,"REPB42458","FRA WORKS","D","Provisional Sum: Allow provisional sum for additional works to the fire alarm system.",null,null,190,null,"PROV SUM","Item",1,1500,1500,null,{"$f":"SUMIF('Planned Maint v6.2 CSV File'!A:A,J55,'Planned Maint v6.2 CSV File'!I:I)","v":0},1500,{"$f":"IF(J55=\"Prov Sum\",\"\",IF(MATCH(J55,'Packet Rate Library'!J:J,0),VLOOKUP(J55,'Packet Rate Library'!J:T,9,FALSE),\"\"))","v":""},"",1500]
[null,"REPB42458","FRA WORKS","D","Provisional Sum: Allow provisional sum for additional works to clear waste and debris from fire escape routes. ",null,null,191,null,"PROV SUM","Item",1,100,100,null,{"$f":"SUMIF('Planned Maint v6.2 CSV File'!A:A,J56,'Planned Maint v6.2 CSV File'!I:I)","v":0},100,{"$f":"IF(J56=\"Prov Sum\",\"\",IF(MATCH(J56,'Packet Rate Library'!J:J,0),VLOOKUP(J56,'Packet Rate Library'!J:T,9,FALSE),\"\"))","v":""},"",100]
[null,"REPB42458","FRA WORKS","D","Provisional Sum: Allow provisional sum for additional fire stopping works",null,null,192,null,"PROV SUM","Item",1,100,100,null,{"$f":"SUMIF('Planned Maint v6.2 CSV File'!A:A,J57,'Planned Maint v6.2 CSV File'!I:I)","v":0},100,{"$f":"IF(J57=\"Prov Sum\",\"\",IF(MATCH(J57,'Packet Rate Library'!J:J,0),VLOOKUP(J57,'Packet Rate Library'!J:T,9,FALSE),\"\"))","v":""},"",100]
[null,"REPB42458","FRA WORKS","D","Provisional Sum: Allow provisional sum for additional signage",null,null,193,null,"PROV SUM","Item",1,100,100,null,{"$f":"SUMIF('Planned Maint v6.2 CSV File'!A:A,J58,'Planned Maint v6.2 CSV File'!I:I)","v":0},100,{"$f":"IF(J58=\"Prov Sum\",\"\",IF(MATCH(J58,'Packet Rate Library'!J:J,0),VLOOKUP(J58,'Packet Rate Library'!J:T,9,FALSE),\"\"))","v":""},"",100]
[null,"REPB42458","FRA WORKS","D","Provisional Sum: Allow provisional sum for additional electrical works",null,null,194,null,"PROV SUM","Item",1,350,350,null,{"$f":"SUMIF('Planned Maint v6.2 CSV File'!A:A,J59,'Planned Maint v6.2 CSV File'!I:I)","v":0},350,{"$f":"IF(J59=\"Prov Sum\",\"\",IF(MATCH(J59,'Packet Rate Library'!J:J,0),VLOOKUP(J59,'Packet Rate Library'!J:T,9,FALSE),\"\"))","v":""},"",350]

{"sheet":"25 Herbert Street Flats A-B","index":15,"n_rows":48,"n_cols":20,"rows_kept":48,"cut":false,"hidden":false,"merged":[[4,15,4,19]]}
[null,null,null,null,null,null,null,null,null,null,null,null,null,null,null,{"$f":"SUMIF('Planned Maint v6.2 CSV File'!A:A,J1,'Planned Maint v6.2 CSV File'!I:I)","v":0},{"$f":"IF(J1=\"PROV SUM\",N1,L1*P1)","v":0},{"$f":"IF(J1=\"Prov Sum\",\"\",IF(MATCH(J1,'Packet Rate Library'!J:J,0),VLOOKUP(J1,'Packet Rate Library'!J:T,9,FALSE),\"\"))","v":{"$error":"#N/A"}},{"$f":"IF(R1>0,R1,P1)","v":{"$error":"#N/A"}},{"$f":"IF(J1=\"SC024\",N1,IF(ISERROR(S1),\"\",IF(J1=\"PROV SUM\",N1,L1*S1)))","v":""}]
[]
[]
["25 HERBERT STREET FLATS A-B"]
[]
["Requirement","REPB42313","Requirement Type","Rowtype (H=Header, D=Detail)","Description","Works Order Commencement Date","Works Order Completion Date","Specification  Ref. Item No.'s","Works Order Delivery Date","SOR Code","SOR Unit","SOR Qty","SOR Cost","Total Cost",null,"Rate (max)","Cost (max)","Modified price","Tendered rate","Tendered total"]
[]
[" ","REPB42313","ENERGY EFFICIENY","H"]
[null,"REPB42313","ENERGY EFFICIENY","D","Contractor to access and undertake survey of loft space in accordance with the Project Brief in order to assess level of current loft insulation. Including submittion of a survey report supported by photographic evidance to CM/PM. Where insulation levels are less then 200mm, Contractor to provide cost proposal to upgrade insulation in accordance with NHF SoR Planned Maintenance Version 6.2.",null,null,9.1,null,"ADD001","IT",1,null,null,null,{"$f":"SUMIF('Planned Maint v6.2 CSV File'!A:A,J9,'Planned Maint v6.2 CSV File'!I:I)","v":0},{"$f":"IF(J9=\"PROV SUM\",N9,L9*P9)","v":0},{"$f":"IF(J9=\"Prov Sum\",\"\",IF(MATCH(J9,'Packet Rate Library'!J:J,0),VLOOKUP(J9,'Packet Rate Library'!J:T,9,FALSE),\"\"))","v":0},{"$f":"IF(R9>0,R9,P9)","v":0},{"$f":"IF(J9=\"SC024\",N9,IF(ISERROR(S9),\"\",IF(J9=\"PROV SUM\",N9,L9*S9)))","v":0}]
[null,"REPB42313","ENERGY EFFICIENY","D","Insulation:Supply and lay ne 270mm thick insulation quilt to loft area including gain access and moving/replacing contents within loft area in order to undertake work. Item 2270AA",null,null,9.1999999999999993,null,"2270AA","SM",46.04,10.86,{"$f":"M10*L10","v":499.99439999999998},null,{"$f":"SUMIF('Planned Maint v6.2 CSV File'!A:A,J10,'Planned Maint v6.2 CSV File'!I:I)","v":8.6880000000000006},{"$f":"IF(J10=\"PROV SUM\",N10,L10*P10)","v":399.99552},{"$f":"IF(J10=\"Prov Sum\",\"\",IF(MATCH(J10,'Packet Rate Library'!J:J,0),VLOOKUP(J10,'Packet Rate Library'!J:T,9,FALSE),\"\"))","v":0},{"$f":"IF(R10>0,R10,P10)","v":8.6880000000000006},{"$f":"IF(J10=\"SC024\",N10,IF(ISERROR(S10),\"\",IF(J10=\"PROV SUM\",N10,L10*S10)))","v":399.99552}]
[null,"REPB42313","ASBESTOS","H"]
[null,"REPB42313","ASBESTOS","D","Refurbishment and Demolition  Survey to Full Property (with upto 5 Nr samples) , flat or house any size",null,null,1.3,null,"A003","Item",1,234,234,null,{"$f":"SUMIF('Planned Maint v6.2 CSV File'!A:A,J12,'Planned Maint v6.2 CSV File'!I:I)","v":222.29999999999998},{"$f":"IF(J12=\"PROV SUM\",N12,L12*P12)","v":222.29999999999998},{"$f":"IF(J12=\"Prov Sum\",\"\",IF(MATCH(J12,'Packet Rate Library'!J:J,0),VLOOKUP(J12,'Packet Rate Library'!J:T,9,FALSE),\"\"))","v":0},{"$f":"IF(R12>0,R12,P12)","v":222.29999999999998},{"$f":"IF(J12=\"SC024\",N12,IF(ISERROR(S12),\"\",IF(J12=\"PROV SUM\",N12,L12*S12)))","v":222.29999999999998}]
[null,"REPB42313","COMMUNAL WORKS","H"]
[null,"REPB42313","COMMUNAL WORKS","D","Hall: Thoroughly clean down all wall and ceiling surfaces to common areas to remove dirt, grease and surface containments, scrape and remove all loose and defective coatings, prime bare areas with one coat of fire retardant primer and apply two coats of Class ‘O’ fire retardant matt paint, prepare and apply two coats of polyurethane lacquer or one undercoat and one gloss coat to all previously decorated timber surfaces to lobby, hall or corridor over 3.00sm ceiling area complete (classified as a single area).",null,null,5.0999999999999996,null,"4540AC","IT",1,480,480,null,{"$f":"SUMIF('Planned Maint v6.2 CSV File'!A:A,J14,'Planned Maint v6.2 CSV File'!I:I)","v":408},{"$f":"IF(J14=\"PROV SUM\",N14,L14*P14)","v":408},{"$f":"IF(J14=\"Prov Sum\",\"\",IF(MATCH(J14,'Packet Rate Library'!J:J,0),VLOOKUP(J14,'Packet Rate Library'!J:T,9,FALSE),\"\"))","v":0},{"$f":"IF(R14>0,R14,P14)","v":408},{"$f":"IF(J14=\"SC024\",N14,IF(ISERROR(S14),\"\",IF(J14=\"PROV SUM\",N14,L14*S14)))","v":408}]
[null,"REPB42313","COMMUNAL WORKS","D","Carpet: Renew or supply and fit new tight woven heavy contract grade carpet tile flooring, take up existing and dispose to tip, prepare sub-base, and lay carpet tiles, including cut and fit around pipes, into alcoves, door openings and the like including all necessary door strips etc., and remove waste and debris.",null,null,5.1650000000000196,null,"4328BC","SM",4,38.130000000000003,152.52000000000001,null,{"$f":"SUMIF('Planned Maint v6.2 CSV File'!A:A,J15,'Planned Maint v6.2 CSV File'!I:I)","v":32.120712000000005},{"$f":"IF(J15=\"PROV SUM\",N15,L15*P15)","v":128.48284800000002},{"$f":"IF(J15=\"Prov Sum\",\"\",IF(MATCH(J15,'Packet Rate Library'!J:J,0),VLOOKUP(J15,'Packet Rate Library'!J:T,9,FALSE),\"\"))","v":0},{"$f":"IF(R15>0,R15,P15)","v":32.120712000000005},{"$f":"IF(J15=\"SC024\",N15,IF(ISERROR(S15),\"\",IF(J15=\"PROV SUM\",N15,L15*S15)))","v":128.48284800000002}]
[null,"REPB42313","COMMUNAL WORKS","D","Wall: Hack off any thickness of render from walls, rake out and prepare brickwork or blockwork to receive rendering and remove waste and debris.",null,null,5.1730000000000196,null,"4210AA","SM",2,12.5,25,null,{"$f":"SUMIF('Planned Maint v6.2 CSV File'!A:A,J16,'Planned Maint v6.2 CSV File'!I:I)","v":9.0625},{"$f":"IF(J16=\"PROV SUM\",N16,L16*P16)","v":18.125},{"$f":"IF(J16=\"Prov Sum\",\"\",IF(MATCH(J16,'Packet Rate Library'!J:J,0),VLOOKUP(J16,'Packet Rate Library'!J:T,9,FALSE),\"\"))","v":0},{"$f":"IF(R16>0,R16,P16)","v":9.0625},{"$f":"IF(J16=\"SC024\",N16,IF(ISERROR(S16),\"\",IF(J16=\"PROV SUM\",N16,L16*S16)))","v":18.125}]
[null,"REPB42313","COMMUNAL WORKS","D","Wall: Apply 12mm cement and sand render (1:3) with waterproofing agent to external walls trowelled smooth, dub out as necessary with cement and sand, including all labours and remove waste and debris.",null,null,5.1740000000000199,null,"4210AB","SM",2,20.440000000000001,40.880000000000003,null,{"$f":"SUMIF('Planned Maint v6.2 CSV File'!A:A,J17,'Planned Maint v6.2 CSV File'!I:I)","v":14.819000000000001},{"$f":"IF(J17=\"PROV SUM\",N17,L17*P17)","v":29.638000000000002},{"$f":"IF(J17=\"Prov Sum\",\"\",IF(MATCH(J17,'Packet Rate Library'!J:J,0),VLOOKUP(J17,'Packet Rate Library'!J:T,9,FALSE),\"\"))","v":0},{"$f":"IF(R17>0,R17,P17)","v":14.819000000000001},{"$f":"IF(J17=\"SC024\",N17,IF(ISERROR(S17),\"\",IF(J17=\"PROV SUM\",N17,L17*S17)))","v":29.638000000000002}]
[null,"REPB42313","EXTREP","H"]
[null,"REPB42313","EXTREP","D","Wall: Rake out existing joints of brickwork min 12mm and repoint brickwork in mortar to match existing and remove waste and debris.",null,null,6.91,null,"1021AA","SM",3,20.13,60.39,null,{"$f":"SUMIF('Planned Maint v6.2 CSV File'!A:A,J19,'Planned Maint v6.2 CSV File'!I:I)","v":14.594249999999999},{"$f":"IF(J19=\"PROV SUM\",N19,L19*P19)","v":43.782749999999993},{"$f":"IF(J19=\"Prov Sum\",\"\",IF(MATCH(J19,'Packet Rate Library'!J:J,0),VLOOKUP(J19,'Packet Rate Library'!J:T,9,FALSE),\"\"))","v":0},{"$f":"IF(R19>0,R19,P19)","v":14.594249999999999},{"$f":"IF(J19=\"SC024\",N19,IF(ISERROR(S19),\"\",IF(J19=\"PROV SUM\",N19,L19*S19)))","v":43.782749999999993}]
[null,"REPB42313","EXTREP","D","Walls: Prepare and apply two coats smooth or textured masonry paint to external rendered surfaces of walls.",null,null,6.1790000000000296,null,"4356AA","SM",1,10.36,10.36,null,{"$f":"SUMIF('Planned Maint v6.2 CSV File'!A:A,J20,'Planned Maint v6.2 CSV File'!I:I)","v":8.8059999999999992},{"$f":"IF(J20=\"PROV SUM\",N20,L20*P20)","v":8.8059999999999992},{"$f":"IF(J20=\"Prov Sum\",\"\",IF(MATCH(J20,'Packet Rate Library'!J:J,0),VLOOKUP(J20,'Packet Rate Library'!J:T,9,FALSE),\"\"))","v":0},{"$f":"IF(R20>0,R20,P20)","v":8.8059999999999992},{"$f":"IF(J20=\"SC024\",N20,IF(ISERROR(S20),\"\",IF(J20=\"PROV SUM\",N20,L20*S20)))","v":8.8059999999999992}]
[null,"REPB42313","EXTREP","D","Gates: Wire brush, prepare for, and apply one coat primer, one undercoat, two coats of gloss paint to both sides of any size type single metal gate including all edges and all surfaces of posts.",null,null,6.2030000000000296,null,"4362DA","IT",1,21.61,21.61,null,{"$f":"SUMIF('Planned Maint v6.2 CSV File'!A:A,J21,'Planned Maint v6.2 CSV File'!I:I)","v":18.368499999999997},{"$f":"IF(J21=\"PROV SUM\",N21,L21*P21)","v":18.368499999999997},{"$f":"IF(J21=\"Prov Sum\",\"\",IF(MATCH(J21,'Packet Rate Library'!J:J,0),VLOOKUP(J21,'Packet Rate Library'!J:T,9,FALSE),\"\"))","v":0},{"$f":"IF(R21>0,R21,P21)","v":18.368499999999997},{"$f":"IF(J21=\"SC024\",N21,IF(ISERROR(S21),\"\",IF(J21=\"PROV SUM\",N21,L21*S21)))","v":18.368499999999997}]
[null,"REPB42313","EXTREP","D","Window: Rub down, prepare and apply one coat of primer, one undercoat and two coats of gloss paint on surfaces of wooden windowsl (one side and edges).",null,null,6.2360000000000504,null,"4380BA","SM",22,25.87,569.14,null,{"$f":"SUMIF('Planned Maint v6.2 CSV File'!A:A,J22,'Planned Maint v6.2 CSV File'!I:I)","v":21.9895},{"$f":"IF(J22=\"PROV SUM\",N22,L22*P22)","v":483.76900000000001},{"$f":"IF(J22=\"Prov Sum\",\"\",IF(MATCH(J22,'Packet Rate Library'!J:J,0),VLOOKUP(J22,'Packet Rate Library'!J:T,9,FALSE),\"\"))","v":0},{"$f":"IF(R22>0,R22,P22)","v":21.9895},{"$f":"IF(J22=\"SC024\",N22,IF(ISERROR(S22),\"\",IF(J22=\"PROV SUM\",N22,L22*S22)))","v":483.76900000000001}]
[null,"REPB42313","EXTREP","D","Frame: Rub down, prepare and apply one coat of primer, one undercoat and two coats of gloss paint on timber frame ne 300mm girth.",null,null,6.2370000000000498,null,"4380CA","LM",6,6.28,37.68,null,{"$f":"SUMIF('Planned Maint v6.2 CSV File'!A:A,J23,'Planned Maint v6.2 CSV File'!I:I)","v":5.3380000000000001},{"$f":"IF(J23=\"PROV SUM\",N23,L23*P23)","v":32.027999999999999},{"$f":"IF(J23=\"Prov Sum\",\"\",IF(MATCH(J23,'Packet Rate Library'!J:J,0),VLOOKUP(J23,'Packet Rate Library'!J:T,9,FALSE),\"\"))","v":0},{"$f":"IF(R23>0,R23,P23)","v":5.3380000000000001},{"$f":"IF(J23=\"SC024\",N23,IF(ISERROR(S23),\"\",IF(J23=\"PROV SUM\",N23,L23*S23)))","v":32.027999999999999}]
[null,"REPB42313","ROOF","H"]
[null,"REPB42313","ROOF","D","Felt: Renew two layer felt to any girth gutter including remove defective felt and lay new felt bedded in hot bitumen, and remove waste and debris.",null,null,3.14,null,"2170EA","LM",4,22.84,91.36,null,{"$f":"SUMIF('Planned Maint v6.2 CSV File'!A:A,J25,'Planned Maint v6.2 CSV File'!I:I)","v":18.272000000000002},{"$f":"IF(J25=\"PROV SUM\",N25,L25*P25)","v":73.088000000000008},{"$f":"IF(J25=\"Prov Sum\",\"\",IF(MATCH(J25,'Packet Rate Library'!J:J,0),VLOOKUP(J25,'Packet Rate Library'!J:T,9,FALSE),\"\"))","v":0},{"$f":"IF(R25>0,R25,P25)","v":18.272000000000002},{"$f":"IF(J25=\"SC024\",N25,IF(ISERROR(S25),\"\",IF(J25=\"PROV SUM\",N25,L25*S25)))","v":73.088000000000008}]
[null,"REPB42313","ROOF","D","Valley: Renew lead valley gutter not exceeding 800mm girth, remove and refix roof tiles or slates and battens as required, including all necessary labours and remove waste and debris.",null,null,3.17099999999999,null,"2310CC","LM",2,91.63,183.26,null,{"$f":"SUMIF('Planned Maint v6.2 CSV File'!A:A,J26,'Planned Maint v6.2 CSV File'!I:I)","v":73.304000000000002},{"$f":"IF(J26=\"PROV SUM\",N26,L26*P26)","v":146.608},{"$f":"IF(J26=\"Prov Sum\",\"\",IF(MATCH(J26,'Packet Rate Library'!J:J,0),VLOOKUP(J26,'Packet Rate Library'!J:T,9,FALSE),\"\"))","v":0},{"$f":"IF(R26>0,R26,P26)","v":73.304000000000002},{"$f":"IF(J26=\"SC024\",N26,IF(ISERROR(S26),\"\",IF(J26=\"PROV SUM\",N26,L26*S26)))","v":146.608}]
[null,"REPB42313","ROOF","D","Slate: Overhaul natural slate roof, refix loose slates, renew broken or missing slates to match existing, redress, rewedge and repoint all flashings, aprons, chimney gutters etc, cut out and make good cement weather fillets, repoint in cement mortar (1:3) to all hips, ridges and verges, make good, and remove waste and debris.",null,null,3.2149999999999901,null,"2033CA","SM",5,30.56,152.80000000000001,null,{"$f":"SUMIF('Planned Maint v6.2 CSV File'!A:A,J27,'Planned Maint v6.2 CSV File'!I:I)","v":24.448},{"$f":"IF(J27=\"PROV SUM\",N27,L27*P27)","v":122.24000000000001},{"$f":"IF(J27=\"Prov Sum\",\"\",IF(MATCH(J27,'Packet Rate Library'!J:J,0),VLOOKUP(J27,'Packet Rate Library'!J:T,9,FALSE),\"\"))","v":0},{"$f":"IF(R27>0,R27,P27)","v":24.448},{"$f":"IF(J27=\"SC024\",N27,IF(ISERROR(S27),\"\",IF(J27=\"PROV SUM\",N27,L27*S27)))","v":122.24000000000001}]
[null,"REPB42313","WINDOWS","H"]
[null,"REPB42313","WINDOWS","D","Window: Overhaul timber sash window, renew staff and parting beads, take out sashes and later rehang on appropriate sized new undyed plaited nylon sash cords, renew pocket pieces, wedge and cramp loose sash frames, oil pulleys, ease and adjust sashes, remove, refit or renew ironmongery, rake out and renew defective putty and mastic, touch up decorations internally to match existing and prepare for redecoration externally, and remove waste and debris.",null,null,4.8999999999999799,null,"3150CA","NO",6,35.61,213.66,null,{"$f":"SUMIF('Planned Maint v6.2 CSV File'!A:A,J29,'Planned Maint v6.2 CSV File'!I:I)","v":31.568264999999997},{"$f":"IF(J29=\"PROV SUM\",N29,L29*P29)","v":189.40958999999998},{"$f":"IF(J29=\"Prov Sum\",\"\",IF(MATCH(J29,'Packet Rate Library'!J:J,0),VLOOKUP(J29,'Packet Rate Library'!J:T,9,FALSE),\"\"))","v":0},{"$f":"IF(R29>0,R29,P29)","v":31.568264999999997},{"$f":"IF(J29=\"SC024\",N29,IF(ISERROR(S29),\"\",IF(J29=\"PROV SUM\",N29,L29*S29)))","v":189.40958999999998}]
[null,"REPB42313","WINDOWS","D","Window: Overhaul sash window, renew staff and parting beads, take out sashes and later rehang on spiral sash balances, renew pocket pieces, wedge and cramp loose sash frames, ease and adjust sashes, remove, refit or renew ironmongery, rake out and renew defective putty and mastic, touch up decorations internally to match existing and prepare for redecoration externally, and remove waste and debris.",null,null,4.9099999999999797,null,"3150CB","NO",3,98.99,296.97000000000003,null,{"$f":"SUMIF('Planned Maint v6.2 CSV File'!A:A,J30,'Planned Maint v6.2 CSV File'!I:I)","v":87.754634999999993},{"$f":"IF(J30=\"PROV SUM\",N30,L30*P30)","v":263.26390499999997},{"$f":"IF(J30=\"Prov Sum\",\"\",IF(MATCH(J30,'Packet Rate Library'!J:J,0),VLOOKUP(J30,'Packet Rate Library'!J:T,9,FALSE),\"\"))","v":0},{"$f":"IF(R30>0,R30,P30)","v":87.754634999999993},{"$f":"IF(J30=\"SC024\",N30,IF(ISERROR(S30),\"\",IF(J30=\"PROV SUM\",N30,L30*S30)))","v":263.26390499999997}]
[null,"REPB42313","SCAFFOLD","H"]
[null,"REPB42313","SCAFFOLD","D","Standard Scaffold item: erect; dismantle; basic independent tied working scaffolding; 5 boards wide, including hire period; completely accessible; debris netting to all elevations; double boarded and polythene included as necessary, any fan(s) included as required; rope plus wheel for lifting operations; 3rd handrail included whenever necessary; as per applicable regulations (applies to up to 5 storeys). Measured up to second handrail and by the middle of the scaffold (equidistant from the inside/outside face) including design when required. Rate to include for 12 week hire",null,null,2.1,null,"SC001","M2",99,12.92,1279.08,null,{"$f":"SUMIF('Planned Maint v6.2 CSV File'!A:A,J32,'Planned Maint v6.2 CSV File'!I:I)","v":16.4084},{"$f":"IF(J32=\"PROV SUM\",N32,L32*P32)","v":1624.4316000000001},{"$f":"IF(J32=\"Prov Sum\",\"\",IF(MATCH(J32,'Packet Rate Library'!J:J,0),VLOOKUP(J32,'Packet Rate Library'!J:T,9,FALSE),\"\"))","v":0},{"$f":"IF(R32>0,R32,P32)","v":16.4084},{"$f":"IF(J32=\"SC024\",N32,IF(ISERROR(S32),\"\",IF(J32=\"PROV SUM\",N32,L32*S32)))","v":1624.4316000000001}]
[null,"REPB42313","SCAFFOLD","D","Scaffold alarm - 1 x sounder, 2 x PIR 1 X key pad (Divided by Number of properties if continuous scaffolds)",null,null,2.5,null,"SC005","unit",1,420,420,null,{"$f":"SUMIF('Planned Maint v6.2 CSV File'!A:A,J33,'Planned Maint v6.2 CSV File'!I:I)","v":533.4},{"$f":"IF(J33=\"PROV SUM\",N33,L33*P33)","v":533.4},{"$f":"IF(J33=\"Prov Sum\",\"\",IF(MATCH(J33,'Packet Rate Library'!J:J,0),VLOOKUP(J33,'Packet Rate Library'!J:T,9,FALSE),\"\"))","v":0},{"$f":"IF(R33>0,R33,P33)","v":533.4},{"$f":"IF(J33=\"SC024\",N33,IF(ISERROR(S33),\"\",IF(J33=\"PROV SUM\",N33,L33*S33)))","v":533.4}]
[null,"REPB42313","SCAFFOLD","D","E/O for additional PIRS",null,null,2.6,null,"SC007","unit",1,50,50,null,{"$f":"SUMIF('Planned Maint v6.2 CSV File'!A:A,J34,'Planned Maint v6.2 CSV File'!I:I)","v":63.5},{"$f":"IF(J34=\"PROV SUM\",N34,L34*P34)","v":63.5},{"$f":"IF(J34=\"Prov Sum\",\"\",IF(MATCH(J34,'Packet Rate Library'!J:J,0),VLOOKUP(J34,'Packet Rate Library'!J:T,9,FALSE),\"\"))","v":0},{"$f":"IF(R34>0,R34,P34)","v":63.5},{"$f":"IF(J34=\"SC024\",N34,IF(ISERROR(S34),\"\",IF(J34=\"PROV SUM\",N34,L34*S34)))","v":63.5}]
[null,"REPB42313","SCAFFOLD","D","Scaffold taken through property (protection to surfaces included)",null,null,2.16,null,"SC016","unit",1,379.8,379.8,null,{"$f":"SUMIF('Planned Maint v6.2 CSV File'!A:A,J35,'Planned Maint v6.2 CSV File'!I:I)","v":482.346},{"$f":"IF(J35=\"PROV SUM\",N35,L35*P35)","v":482.346},{"$f":"IF(J35=\"Prov Sum\",\"\",IF(MATCH(J35,'Packet Rate Library'!J:J,0),VLOOKUP(J35,'Packet Rate Library'!J:T,9,FALSE),\"\"))","v":0},{"$f":"IF(R35>0,R35,P35)","v":482.346},{"$f":"IF(J35=\"SC024\",N35,IF(ISERROR(S35),\"\",IF(J35=\"PROV SUM\",N35,L35*S35)))","v":482.346}]
[null,"REPB42313","SCAFFOLD","D","Additional Hire if required - % per week of total scaffolding costs.  This is to be applied in the event an agreed programme exceeding the duration set out above. An example would be large low level blocks of 4 storeys requiring a large programme duration",null,null,null,null,"SC024","unit",null,4.8300000000000003E-2,{"$f":"VLOOKUP(B36,'Project Overheads & Scaffold'!$W:$AI,13,FALSE)","v":0},null,{"$f":"SUMIF('Planned Maint v6.2 CSV File'!A:A,J36,'Planned Maint v6.2 CSV File'!I:I)","v":4.8300000000000003E-2},{"$f":"IF(J36=\"PROV SUM\",N36,L36*P36)","v":0},{"$f":"IF(J36=\"Prov Sum\",\"\",IF(MATCH(J36,'Packet Rate Library'!J:J,0),VLOOKUP(J36,'Packet Rate Library'!J:T,9,FALSE),\"\"))","v":{"$error":"#N/A"}},{"$f":"IF(R36>0,R36,P36)","v":{"$error":"#N/A"}},{"$f":"IF(J36=\"SC024\",N36,IF(ISERROR(S36),\"\",IF(J36=\"PROV SUM\",N36,L36*S36)))","v":0}]
[null,"REPB42313","ESTATE WORKS","H"]
[null,"REPB42313","ESTATE WORKS","D","PROVISIONAL SUM: Allow provisional sum for unforeseen works, as no access to rear made.",null,null,7.3159999999999998,null,"PROV SUM","SUM",1,400,400,null,{"$f":"SUMIF('Planned Maint v6.2 CSV File'!A:A,J38,'Planned Maint v6.2 CSV File'!I:I)","v":0},{"$f":"IF(J38=\"PROV SUM\",N38,L38*P38)","v":400},{"$f":"IF(J38=\"Prov Sum\",\"\",IF(MATCH(J38,'Packet Rate Library'!J:J,0),VLOOKUP(J38,'Packet Rate Library'!J:T,9,FALSE),\"\"))","v":""},{"$f":"IF(R38>0,R38,P38)","v":""},{"$f":"IF(J38=\"SC024\",N38,IF(ISERROR(S38),\"\",IF(J38=\"PROV SUM\",N38,L38*S38)))","v":400}]
[null,"REPB42313","FRA WORKS","H"]
[null,"REPB42313","FRA WORKS","D","Intumescent Strip:Renew or supply and fix new 22x4mm intumescent strip, half hour application, with integral cold smoke seal and setting into groove in timber frame or door.",null,null,104,null,"3431AC","Item",2,3.44,6.88,null,{"$f":"SUMIF('Planned Maint v6.2 CSV File'!A:A,J40,'Planned Maint v6.2 CSV File'!I:I)","v":3.0495599999999996},{"$f":"IF(J40=\"PROV SUM\",N40,L40*P40)","v":6.0991199999999992},{"$f":"IF(J40=\"Prov Sum\",\"\",IF(MATCH(J40,'Packet Rate Library'!J:J,0),VLOOKUP(J40,'Packet Rate Library'!J:T,9,FALSE),\"\"))","v":0},{"$f":"IF(R40>0,R40,P40)","v":3.0495599999999996},{"$f":"IF(J40=\"SC024\",N40,IF(ISERROR(S40),\"\",IF(J40=\"PROV SUM\",N40,L40*S40)))","v":6.0991199999999992}]
[null,"REPB42313","FRA WORKS","D","Smoke Detector:Renew existing with mains operated optical smoke detector with rechargeable DC battery or condensor back up self contained type to BS 5446 kitemark certified with hush button, including back plate and all necessary connections to existing wiring, test and make good on completion, where interlinked detectors are replaced new detectors must be compatible with existing, and remove waste and debris.",null,null,115,null,"8720FA","Item",2,70.11,140.22,null,{"$f":"SUMIF('Planned Maint v6.2 CSV File'!A:A,J41,'Planned Maint v6.2 CSV File'!I:I)","v":56.088000000000001},112.176,{"$f":"IF(J41=\"Prov Sum\",\"\",IF(MATCH(J41,'Packet Rate Library'!J:J,0),VLOOKUP(J41,'Packet Rate Library'!J:T,9,FALSE),\"\"))","v":0},56.088000000000001,112.176]
[null,"REPB42313","FRA WORKS","D","Test:Carry out test of domestic installation to occupied property complete comprising continuity, insulation resistance, polarity, earth fault loop impedance and operation of residual current operated device, disconnect, repair and renew as necessary after removal of illegal wiring and components, and provide report and NICEIC/ECA test certificate to the Client’s Representative, and remove waste and debris.",null,null,186,null,"8950AA","Item",1,86.88,86.88,null,{"$f":"SUMIF('Planned Maint v6.2 CSV File'!A:A,J42,'Planned Maint v6.2 CSV File'!I:I)","v":69.504000000000005},69.504000000000005,{"$f":"IF(J42=\"Prov Sum\",\"\",IF(MATCH(J42,'Packet Rate Library'!J:J,0),VLOOKUP(J42,'Packet Rate Library'!J:T,9,FALSE),\"\"))","v":0},69.504000000000005,69.504000000000005]
[null,"REPB42313","FRA WORKS","D","Door and Frame:Renew internal door and frincluding remove existing door, hinges and frame, install 32mm door frame with 25x32mm stops, fit and hang new any size FD30S plywood faced fire check flush door on 1.5 pairs of 100mm steel hinges, make good or alter recesses on frame, door complete with all ironmongery, intumescent strips and smoke seals, make good and prepare door and frame for decoration and remove waste and debris.",null,null,189,null,"3300DA","Item",1,152.85,152.85,null,{"$f":"SUMIF('Planned Maint v6.2 CSV File'!A:A,J43,'Planned Maint v6.2 CSV File'!I:I)","v":135.50152499999999},135.50152499999999,{"$f":"IF(J43=\"Prov Sum\",\"\",IF(MATCH(J43,'Packet Rate Library'!J:J,0),VLOOKUP(J43,'Packet Rate Library'!J:T,9,FALSE),\"\"))","v":0},135.50152499999999,135.50152499999999]
[null,"REPB42313","FRA WORKS","D","Provisional Sum: Allow provisional sum for additional works to the fire alarm system.",null,null,190,null,"PROV SUM","Item",1,1500,1500,null,{"$f":"SUMIF('Planned Maint v6.2 CSV File'!A:A,J44,'Planned Maint v6.2 CSV File'!I:I)","v":0},1500,{"$f":"IF(J44=\"Prov Sum\",\"\",IF(MATCH(J44,'Packet Rate Library'!J:J,0),VLOOKUP(J44,'Packet Rate Library'!J:T,9,FALSE),\"\"))","v":""},"",1500]
[null,"REPB42313","FRA WORKS","D","Provisional Sum: Allow provisional sum for additional works to clear waste and debris from fire escape routes. ",null,null,191,null,"PROV SUM","Item",1,100,100,null,{"$f":"SUMIF('Planned Maint v6.2 CSV File'!A:A,J45,'Planned Maint v6.2 CSV File'!I:I)","v":0},100,{"$f":"IF(J45=\"Prov Sum\",\"\",IF(MATCH(J45,'Packet Rate Library'!J:J,0),VLOOKUP(J45,'Packet Rate Library'!J:T,9,FALSE),\"\"))","v":""},"",100]
[null,"REPB42313","FRA WORKS","D","Provisional Sum: Allow provisional sum for additional fire stopping works",null,null,192,null,"PROV SUM","Item",1,100,100,null,{"$f":"SUMIF('Planned Maint v6.2 CSV File'!A:A,J46,'Planned Maint v6.2 CSV File'!I:I)","v":0},100,{"$f":"IF(J46=\"Prov Sum\",\"\",IF(MATCH(J46,'Packet Rate Library'!J:J,0),VLOOKUP(J46,'Packet Rate Library'!J:T,9,FALSE),\"\"))","v":""},"",100]
[null,"REPB42313","FRA WORKS","D","Provisional Sum: Allow provisional sum for additional signage",null,null,193,null,"PROV SUM","Item",1,100,100,null,{"$f":"SUMIF('Planned Maint v6.2 CSV File'!A:A,J47,'Planned Maint v6.2 CSV File'!I:I)","v":0},100,{"$f":"IF(J47=\"Prov Sum\",\"\",IF(MATCH(J47,'Packet Rate Library'!J:J,0),VLOOKUP(J47,'Packet Rate Library'!J:T,9,FALSE),\"\"))","v":""},"",100]
[null,"REPB42313","FRA WORKS","D","Provisional Sum: Allow provisional sum for additional electrical works",null,null,194,null,"PROV SUM","Item",1,350,350,null,{"$f":"SUMIF('Planned Maint v6.2 CSV File'!A:A,J48,'Planned Maint v6.2 CSV File'!I:I)","v":0},350,{"$f":"IF(J48=\"Prov Sum\",\"\",IF(MATCH(J48,'Packet Rate Library'!J:J,0),VLOOKUP(J48,'Packet Rate Library'!J:T,9,FALSE),\"\"))","v":""},"",350]

{"sheet":"128 Prince of Wales","index":16,"n_rows":49,"n_cols":20,"rows_kept":49,"cut":false,"hidden":false,"merged":[[4,15,4,19]]}
[null,null,null,null,null,null,null,null,null,null,null,null,null,null,null,{"$f":"SUMIF('Planned Maint v6.2 CSV File'!A:A,J1,'Planned Maint v6.2 CSV File'!I:I)","v":0},{"$f":"IF(J1=\"PROV SUM\",N1,L1*P1)","v":0},{"$f":"IF(J1=\"Prov Sum\",\"\",IF(MATCH(J1,'Packet Rate Library'!J:J,0),VLOOKUP(J1,'Packet Rate Library'!J:T,9,FALSE),\"\"))","v":{"$error":"#N/A"}},{"$f":"IF(R1>0,R1,P1)","v":{"$error":"#N/A"}},{"$f":"IF(J1=\"SC024\",N1,IF(ISERROR(S1),\"\",IF(J1=\"PROV SUM\",N1,L1*S1)))","v":""}]
[]
[]
["128 PRINCE OF WALES ROAD"]
[]
["Requirement","REPB42457","Requirement Type","Rowtype (H=Header, D=Detail)","Description","Works Order Commencement Date","Works Order Completion Date","Specification  Ref. Item No.'s","Works Order Delivery Date","SOR Code","SOR Unit","SOR Qty","SOR Cost","Total Cost",null,"Rate (max)","Cost (max)","Modified price","Tendered rate","Tendered total"]
[]
[" ","REPB42457","ENERGY EFFICIENY","H"]
[null,"REPB42457","ENERGY EFFICIENY","D","Contractor to access and undertake survey of loft space in accordance with the Project Brief in order to assess level of current loft insulation. Including submittion of a survey report supported by photographic evidance to CM/PM. Where insulation levels are less then 200mm, Contractor to provide cost proposal to upgrade insulation in accordance with NHF SoR Planned Maintenance Version 6.2.",null,null,9.1,null,"ADD001","IT",1,null,null,null,{"$f":"SUMIF('Planned Maint v6.2 CSV File'!A:A,J9,'Planned Maint v6.2 CSV File'!I:I)","v":0},{"$f":"IF(J9=\"PROV SUM\",N9,L9*P9)","v":0},{"$f":"IF(J9=\"Prov Sum\",\"\",IF(MATCH(J9,'Packet Rate Library'!J:J,0),VLOOKUP(J9,'Packet Rate Library'!J:T,9,FALSE),\"\"))","v":0},{"$f":"IF(R9>0,R9,P9)","v":0},{"$f":"IF(J9=\"SC024\",N9,IF(ISERROR(S9),\"\",IF(J9=\"PROV SUM\",N9,L9*S9)))","v":0}]
[null,"REPB42457","ENERGY EFFICIENY","D","Insulation:Supply and lay ne 270mm thick insulation quilt to loft area including gain access and moving/replacing contents within loft area in order to undertake work. Item 2270AA",null,null,9.1999999999999993,null,"2270AA","SM",46.04,10.86,{"$f":"M10*L10","v":499.99439999999998},null,{"$f":"SUMIF('Planned Maint v6.2 CSV File'!A:A,J10,'Planned Maint v6.2 CSV File'!I:I)","v":8.6880000000000006},{"$f":"IF(J10=\"PROV SUM\",N10,L10*P10)","v":399.99552},{"$f":"IF(J10=\"Prov Sum\",\"\",IF(MATCH(J10,'Packet Rate Library'!J:J,0),VLOOKUP(J10,'Packet Rate Library'!J:T,9,FALSE),\"\"))","v":0},{"$f":"IF(R10>0,R10,P10)","v":8.6880000000000006},{"$f":"IF(J10=\"SC024\",N10,IF(ISERROR(S10),\"\",IF(J10=\"PROV SUM\",N10,L10*S10)))","v":399.99552}]
[null,"REPB42457","ASBESTOS","H"]
[null,"REPB42457","ASBESTOS","D","Refurbishment and Demolition  Survey to Full Property (with upto 5 Nr samples) , flat or house any size",null,null,1.3,null,"A003","Item",1,234,234,null,{"$f":"SUMIF('Planned Maint v6.2 CSV File'!A:A,J12,'Planned Maint v6.2 CSV File'!I:I)","v":222.29999999999998},{"$f":"IF(J12=\"PROV SUM\",N12,L12*P12)","v":222.29999999999998},{"$f":"IF(J12=\"Prov Sum\",\"\",IF(MATCH(J12,'Packet Rate Library'!J:J,0),VLOOKUP(J12,'Packet Rate Library'!J:T,9,FALSE),\"\"))","v":0},{"$f":"IF(R12>0,R12,P12)","v":222.29999999999998},{"$f":"IF(J12=\"SC024\",N12,IF(ISERROR(S12),\"\",IF(J12=\"PROV SUM\",N12,L12*S12)))","v":222.29999999999998}]
[null,"REPB42457","COMMUNAL WORKS","H"]
[null,"REPB42457","COMMUNAL WORKS","D","Hall: Thoroughly clean down all wall and ceiling surfaces to common areas to remove dirt, grease and surface containments, scrape and remove all loose and defective coatings, prime bare areas with one coat of fire retardant primer and apply two coats of Class ‘O’ fire retardant matt paint, prepare and apply two coats of polyurethane lacquer or one undercoat and one gloss coat to all previously decorated timber surfaces to lobby, hall or corridor over 3.00sm ceiling area complete (classified as a single area).",null,null,5.0999999999999996,null,"4540AC","IT",1,480,480,null,{"$f":"SUMIF('Planned Maint v6.2 CSV File'!A:A,J14,'Planned Maint v6.2 CSV File'!I:I)","v":408},{"$f":"IF(J14=\"PROV SUM\",N14,L14*P14)","v":408},{"$f":"IF(J14=\"Prov Sum\",\"\",IF(MATCH(J14,'Packet Rate Library'!J:J,0),VLOOKUP(J14,'Packet Rate Library'!J:T,9,FALSE),\"\"))","v":0},{"$f":"IF(R14>0,R14,P14)","v":408},{"$f":"IF(J14=\"SC024\",N14,IF(ISERROR(S14),\"\",IF(J14=\"PROV SUM\",N14,L14*S14)))","v":408}]
[null,"REPB42457","COMMUNAL WORKS","D","Sheet Flooring: Supply and lay 'Polysafe' or other equal and approved proprietary safety flooring with adhesive to and including supply and lay approved sheet sub base, including all necessary cutting, all labours, upstands and clean off, and remove waste and debris.",null,null,5.1480000000000201,null,"4326BB","SM",2,40.94,81.88,null,{"$f":"SUMIF('Planned Maint v6.2 CSV File'!A:A,J15,'Planned Maint v6.2 CSV File'!I:I)","v":34.487856000000001},{"$f":"IF(J15=\"PROV SUM\",N15,L15*P15)","v":68.975712000000001},{"$f":"IF(J15=\"Prov Sum\",\"\",IF(MATCH(J15,'Packet Rate Library'!J:J,0),VLOOKUP(J15,'Packet Rate Library'!J:T,9,FALSE),\"\"))","v":0},{"$f":"IF(R15>0,R15,P15)","v":34.487856000000001},{"$f":"IF(J15=\"SC024\",N15,IF(ISERROR(S15),\"\",IF(J15=\"PROV SUM\",N15,L15*S15)))","v":68.975712000000001}]
[null,"REPB42457","EXTREP","H"]
[null,"REPB42457","EXTREP","D","Wall: Rake out existing joints of brickwork min 12mm and repoint brickwork in mortar to match existing and remove waste and debris.",null,null,6.91,null,"1021AA","SM",2,20.13,40.26,null,{"$f":"SUMIF('Planned Maint v6.2 CSV File'!A:A,J17,'Planned Maint v6.2 CSV File'!I:I)","v":14.594249999999999},{"$f":"IF(J17=\"PROV SUM\",N17,L17*P17)","v":29.188499999999998},{"$f":"IF(J17=\"Prov Sum\",\"\",IF(MATCH(J17,'Packet Rate Library'!J:J,0),VLOOKUP(J17,'Packet Rate Library'!J:T,9,FALSE),\"\"))","v":0},{"$f":"IF(R17>0,R17,P17)","v":14.594249999999999},{"$f":"IF(J17=\"SC024\",N17,IF(ISERROR(S17),\"\",IF(J17=\"PROV SUM\",N17,L17*S17)))","v":29.188499999999998}]
[null,"REPB42457","EXTREP","D","Walls:Wash down, fill in cracks and holes, sand down and apply one undercoat and one coat of gloss paint to rendered or concrete walls.",null,null,6.1970000000000303,null,"4361AB","SM",8,15.71,125.68,null,{"$f":"SUMIF('Planned Maint v6.2 CSV File'!A:A,J18,'Planned Maint v6.2 CSV File'!I:I)","v":13.3535},106.828,{"$f":"IF(J18=\"Prov Sum\",\"\",IF(MATCH(J18,'Packet Rate Library'!J:J,0),VLOOKUP(J18,'Packet Rate Library'!J:T,9,FALSE),\"\"))","v":0},13.3535,106.828]
[null,"REPB42457","EXTREP","D","Gates: Wire brush, prepare for, and apply one coat primer, one undercoat, two coats of gloss paint to both sides of any size type single metal gate including all edges and all surfaces of posts.",null,null,6.2030000000000296,null,"4362DA","IT",1,21.61,21.61,null,{"$f":"SUMIF('Planned Maint v6.2 CSV File'!A:A,J19,'Planned Maint v6.2 CSV File'!I:I)","v":18.368499999999997},18.368499999999997,{"$f":"IF(J19=\"Prov Sum\",\"\",IF(MATCH(J19,'Packet Rate Library'!J:J,0),VLOOKUP(J19,'Packet Rate Library'!J:T,9,FALSE),\"\"))","v":0},18.368499999999997,18.368499999999997]
[null,"REPB42457","EXTREP","D","Balustrading: Wire brush, prepare for and apply one coat of primer, one undercoat, two coats of gloss paint on ornamental metal balustrading, railings or gates (measured both sides).",null,null,6.2040000000000299,null,"4362EA","SM",8,20.51,164.08,null,{"$f":"SUMIF('Planned Maint v6.2 CSV File'!A:A,J20,'Planned Maint v6.2 CSV File'!I:I)","v":17.433500000000002},139.46800000000002,{"$f":"IF(J20=\"Prov Sum\",\"\",IF(MATCH(J20,'Packet Rate Library'!J:J,0),VLOOKUP(J20,'Packet Rate Library'!J:T,9,FALSE),\"\"))","v":0},17.433500000000002,139.46800000000002]
[null,"REPB42457","EXTREP","D","Window: Rub down, prepare and apply one coat of primer, one undercoat and two coats of gloss paint on surfaces of wooden windowsl (one side and edges).",null,null,6.2360000000000504,null,"4380BA","SM",10,25.87,258.7,null,{"$f":"SUMIF('Planned Maint v6.2 CSV File'!A:A,J21,'Planned Maint v6.2 CSV File'!I:I)","v":21.9895},219.89499999999998,{"$f":"IF(J21=\"Prov Sum\",\"\",IF(MATCH(J21,'Packet Rate Library'!J:J,0),VLOOKUP(J21,'Packet Rate Library'!J:T,9,FALSE),\"\"))","v":0},21.9895,219.89499999999998]
[null,"REPB42457","EXTREP","D","Frame: Rub down, prepare and apply one coat of primer, one undercoat and two coats of gloss paint on timber frame ne 300mm girth.",null,null,6.2370000000000498,null,"4380CA","LM",14,6.28,87.92,null,{"$f":"SUMIF('Planned Maint v6.2 CSV File'!A:A,J22,'Planned Maint v6.2 CSV File'!I:I)","v":5.3380000000000001},74.731999999999999,{"$f":"IF(J22=\"Prov Sum\",\"\",IF(MATCH(J22,'Packet Rate Library'!J:J,0),VLOOKUP(J22,'Packet Rate Library'!J:T,9,FALSE),\"\"))","v":0},5.3380000000000001,74.731999999999999]
[null,"REPB42457","EXTREP","D","Door: Rub down, prepare for and apply one coat of primer, one undercoat and two coats of gloss paint to all surfaces of any size or type of single glazed timber door. (one sides and edges).",null,null,6.2380000000000502,null,"4380DA","IT",3,20.71,62.13,null,{"$f":"SUMIF('Planned Maint v6.2 CSV File'!A:A,J23,'Planned Maint v6.2 CSV File'!I:I)","v":17.6035},52.810500000000005,{"$f":"IF(J23=\"Prov Sum\",\"\",IF(MATCH(J23,'Packet Rate Library'!J:J,0),VLOOKUP(J23,'Packet Rate Library'!J:T,9,FALSE),\"\"))","v":0},17.6035,52.810500000000005]
[null,"REPB42457","ROOF","H"]
[null,"REPB42457"]
[null,"REPB42457","WINDOWS","H"]
[null,"REPB42457","WINDOWS","D","Window: Overhaul timber casement window, dismantle as necessary and subsequently reassemble including freeing, easing and adjusting casements to give correct operation, renew sealing gaskets, renew fixing screws, remove, refit or renew ironmongery as necessary, rake out and renew defective putty and mastic, touch up decorations internally to match existing and prepare for redecoration externally, and remove waste and debris.",null,null,4.8899999999999801,null,"3150BA","NO",1,29.05,29.05,null,{"$f":"SUMIF('Planned Maint v6.2 CSV File'!A:A,J27,'Planned Maint v6.2 CSV File'!I:I)","v":25.752824999999998},{"$f":"IF(J27=\"PROV SUM\",N27,L27*P27)","v":25.752824999999998},{"$f":"IF(J27=\"Prov Sum\",\"\",IF(MATCH(J27,'Packet Rate Library'!J:J,0),VLOOKUP(J27,'Packet Rate Library'!J:T,9,FALSE),\"\"))","v":0},{"$f":"IF(R27>0,R27,P27)","v":25.752824999999998},{"$f":"IF(J27=\"SC024\",N27,IF(ISERROR(S27),\"\",IF(J27=\"PROV SUM\",N27,L27*S27)))","v":25.752824999999998}]
[null,"REPB42457","WINDOWS","D","Window: Overhaul timber sash window, renew staff and parting beads, take out sashes and later rehang on appropriate sized new undyed plaited nylon sash cords, renew pocket pieces, wedge and cramp loose sash frames, oil pulleys, ease and adjust sashes, remove, refit or renew ironmongery, rake out and renew defective putty and mastic, touch up decorations internally to match existing and prepare for redecoration externally, and remove waste and debris.",null,null,4.8999999999999799,null,"3150CA","NO",5,35.61,178.05,null,{"$f":"SUMIF('Planned Maint v6.2 CSV File'!A:A,J28,'Planned Maint v6.2 CSV File'!I:I)","v":31.568264999999997},{"$f":"IF(J28=\"PROV SUM\",N28,L28*P28)","v":157.84132499999998},{"$f":"IF(J28=\"Prov Sum\",\"\",IF(MATCH(J28,'Packet Rate Library'!J:J,0),VLOOKUP(J28,'Packet Rate Library'!J:T,9,FALSE),\"\"))","v":0},{"$f":"IF(R28>0,R28,P28)","v":31.568264999999997},{"$f":"IF(J28=\"SC024\",N28,IF(ISERROR(S28),\"\",IF(J28=\"PROV SUM\",N28,L28*S28)))","v":157.84132499999998}]
[null,"REPB42457","SCAFFOLD","H"]
[null,"REPB42457","SCAFFOLD","D","Standard Scaffold item: erect; dismantle; basic independent tied working scaffolding; 5 boards wide, including hire period; completely accessible; debris netting to all elevations; double boarded and polythene included as necessary, any fan(s) included as required; rope plus wheel for lifting operations; 3rd handrail included whenever necessary; as per applicable regulations (applies to up to 5 storeys). Measured up to second handrail and by the middle of the scaffold (equidistant from the inside/outside face) including design when required. Rate to include for 12 week hire",null,null,2.1,null,"SC001","M2",140,12.92,1808.8,null,{"$f":"SUMIF('Planned Maint v6.2 CSV File'!A:A,J30,'Planned Maint v6.2 CSV File'!I:I)","v":16.4084},{"$f":"IF(J30=\"PROV SUM\",N30,L30*P30)","v":2297.1759999999999},{"$f":"IF(J30=\"Prov Sum\",\"\",IF(MATCH(J30,'Packet Rate Library'!J:J,0),VLOOKUP(J30,'Packet Rate Library'!J:T,9,FALSE),\"\"))","v":0},{"$f":"IF(R30>0,R30,P30)","v":16.4084},{"$f":"IF(J30=\"SC024\",N30,IF(ISERROR(S30),\"\",IF(J30=\"PROV SUM\",N30,L30*S30)))","v":2297.1759999999999}]
[null,"REPB42457","SCAFFOLD","D","Scaffold alarm - 1 x sounder, 2 x PIR 1 X key pad (Divided by Number of properties if continuous scaffolds)",null,null,2.5,null,"SC005","unit",1,420,420,null,{"$f":"SUMIF('Planned Maint v6.2 CSV File'!A:A,J31,'Planned Maint v6.2 CSV File'!I:I)","v":533.4},{"$f":"IF(J31=\"PROV SUM\",N31,L31*P31)","v":533.4},{"$f":"IF(J31=\"Prov Sum\",\"\",IF(MATCH(J31,'Packet Rate Library'!J:J,0),VLOOKUP(J31,'Packet Rate Library'!J:T,9,FALSE),\"\"))","v":0},{"$f":"IF(R31>0,R31,P31)","v":533.4},{"$f":"IF(J31=\"SC024\",N31,IF(ISERROR(S31),\"\",IF(J31=\"PROV SUM\",N31,L31*S31)))","v":533.4}]
[null,"REPB42457","SCAFFOLD","D","E/O for additional PIRS",null,null,2.6,null,"SC007","unit",1,50,50,null,{"$f":"SUMIF('Planned Maint v6.2 CSV File'!A:A,J32,'Planned Maint v6.2 CSV File'!I:I)","v":63.5},{"$f":"IF(J32=\"PROV SUM\",N32,L32*P32)","v":63.5},{"$f":"IF(J32=\"Prov Sum\",\"\",IF(MATCH(J32,'Packet Rate Library'!J:J,0),VLOOKUP(J32,'Packet Rate Library'!J:T,9,FALSE),\"\"))","v":0},{"$f":"IF(R32>0,R32,P32)","v":63.5},{"$f":"IF(J32=\"SC024\",N32,IF(ISERROR(S32),\"\",IF(J32=\"PROV SUM\",N32,L32*S32)))","v":63.5}]
[null,"REPB42457","SCAFFOLD","D","Additional Hire if required - % per week of total scaffolding costs.  This is to be applied in the event an agreed programme exceeding the duration set out above. An example would be large low level blocks of 4 storeys requiring a large programme duration",null,null,null,null,"SC024","unit",null,4.8300000000000003E-2,{"$f":"VLOOKUP(B33,'Project Overheads & Scaffold'!$W:$AI,13,FALSE)","v":0},null,{"$f":"SUMIF('Planned Maint v6.2 CSV File'!A:A,J33,'Planned Maint v6.2 CSV File'!I:I)","v":4.8300000000000003E-2},{"$f":"IF(J33=\"PROV SUM\",N33,L33*P33)","v":0},{"$f":"IF(J33=\"Prov Sum\",\"\",IF(MATCH(J33,'Packet Rate Library'!J:J,0),VLOOKUP(J33,'Packet Rate Library'!J:T,9,FALSE),\"\"))","v":{"$error":"#N/A"}},{"$f":"IF(R33>0,R33,P33)","v":{"$error":"#N/A"}},{"$f":"IF(J33=\"SC024\",N33,IF(ISERROR(S33),\"\",IF(J33=\"PROV SUM\",N33,L33*S33)))","v":0}]
[null,"REPB42457","ESTATE WORKS","H"]
[null,"REPB42457","FRA WORKS","H"]
[null,"REPB42457","FRA WORKS","D","Door:Renew internal door with any size single half-hour fire check glazed door having 3.2mm luan, white Meranti or other approved plywood facing both sides and 9mm hardwood lipping on long edges, including remove existing door and hinges, remove and refit door stops as necessary, fit and hang new door on 1.50 pairs of 100mm steel butt hinges, make good or alter recesses on frame, door complete with all ironmongery, intumescent strips and smoke seals, glazed, redecorate to match existing and remove waste and debris.",null,null,13,null,"3300FC","Item",2,222.2,444.4,null,{"$f":"SUMIF('Planned Maint v6.2 CSV File'!A:A,J36,'Planned Maint v6.2 CSV File'!I:I)","v":196.98029999999997},{"$f":"IF(J36=\"PROV SUM\",N36,L36*P36)","v":393.96059999999994},{"$f":"IF(J36=\"Prov Sum\",\"\",IF(MATCH(J36,'Packet Rate Library'!J:J,0),VLOOKUP(J36,'Packet Rate Library'!J:T,9,FALSE),\"\"))","v":0},{"$f":"IF(R36>0,R36,P36)","v":196.98029999999997},{"$f":"IF(J36=\"SC024\",N36,IF(ISERROR(S36),\"\",IF(J36=\"PROV SUM\",N36,L36*S36)))","v":393.96059999999994}]
[null,"REPB42457","FRA WORKS","D","Fire Upgrading Coating:Remove all existing defective paint to plastered or rendered wall surfaces back to a solid edge, feather off and repair any defective areas with a high quality filler as necessary, spot prime filled or bare areas with afire upgrading primer, remove any existing graffiti with a graffiti removal system, wash down, rinse, clean off and apply one full coat of fire upgrading primer at a coverage rate of 10sm per litre, apply two full coats of fire upgrading finish at a coverage rate of 10sm per litre.",null,null,27,null,"4801AB","Item",1,22.53,22.53,null,{"$f":"SUMIF('Planned Maint v6.2 CSV File'!A:A,J37,'Planned Maint v6.2 CSV File'!I:I)","v":19.150500000000001},19.150500000000001,{"$f":"IF(J37=\"Prov Sum\",\"\",IF(MATCH(J37,'Packet Rate Library'!J:J,0),VLOOKUP(J37,'Packet Rate Library'!J:T,9,FALSE),\"\"))","v":0},19.150500000000001,19.150500000000001]
[null,"REPB42457","FRA WORKS","D","Fire Upgrading Coating:Strip off existing multi layer paint coatings to existing plastered or rendered soffits with a proprietary paint stripper, scrape off or remove with a proprietary paint scraper, wash down,rinse,  spot prime filled or bare areas with afire upgrading primer, remove any existing graffiti with a graffiti removal system, clean off and apply one full coat of primer at a coverage rate of 10sm per litre, apply one full coats of colourcoat complete with decorative flakes, and apply one full coat of gloss or satin lacquer finish at a coverage rate of 10sm per litre.",null,null,41,null,"4804AD","Item",1,29.34,29.34,null,{"$f":"SUMIF('Planned Maint v6.2 CSV File'!A:A,J38,'Planned Maint v6.2 CSV File'!I:I)","v":24.939},24.939,{"$f":"IF(J38=\"Prov Sum\",\"\",IF(MATCH(J38,'Packet Rate Library'!J:J,0),VLOOKUP(J38,'Packet Rate Library'!J:T,9,FALSE),\"\"))","v":0},24.939,24.939]
[null,"REPB42457","FRA WORKS","D","Fire Alarm:Install L2 type fire alarm installation complete to BS5839:Part6 1995, control panel, circuits, call points, automatic detectors and sounders, builders work, make good, test, commission, and remove waste and debris.",null,null,93,null,"8711GA","Item",1,550,550,null,{"$f":"SUMIF('Planned Maint v6.2 CSV File'!A:A,J39,'Planned Maint v6.2 CSV File'!I:I)","v":440},440,{"$f":"IF(J39=\"Prov Sum\",\"\",IF(MATCH(J39,'Packet Rate Library'!J:J,0),VLOOKUP(J39,'Packet Rate Library'!J:T,9,FALSE),\"\"))","v":0},440,440]
[null,"REPB42457","FRA WORKS","D","Intumescent Strip:Renew or supply and fix new 22x4mm intumescent strip, half hour application, with integral cold smoke seal and setting into groove in timber frame or door.",null,null,104,null,"3431AC","Item",2,3.44,6.88,null,{"$f":"SUMIF('Planned Maint v6.2 CSV File'!A:A,J40,'Planned Maint v6.2 CSV File'!I:I)","v":3.0495599999999996},6.0991199999999992,{"$f":"IF(J40=\"Prov Sum\",\"\",IF(MATCH(J40,'Packet Rate Library'!J:J,0),VLOOKUP(J40,'Packet Rate Library'!J:T,9,FALSE),\"\"))","v":0},3.0495599999999996,6.0991199999999992]
[null,"REPB42457","FRA WORKS","D","Smoke Detector:Renew existing with mains operated optical smoke detector with rechargeable DC battery or condensor back up self contained type to BS 5446 kitemark certified with hush button, including back plate and all necessary connections to existing wiring, test and make good on completion, where interlinked detectors are replaced new detectors must be compatible with existing, and remove waste and debris.",null,null,115,null,"8720FA","Item",2,70.11,140.22,null,{"$f":"SUMIF('Planned Maint v6.2 CSV File'!A:A,J41,'Planned Maint v6.2 CSV File'!I:I)","v":56.088000000000001},112.176,{"$f":"IF(J41=\"Prov Sum\",\"\",IF(MATCH(J41,'Packet Rate Library'!J:J,0),VLOOKUP(J41,'Packet Rate Library'!J:T,9,FALSE),\"\"))","v":0},56.088000000000001,112.176]
[null,"REPB42457","FRA WORKS","D","Closer:Renew or supply and fix Perko type concealed door closer screwed to door and frame, including remove and refix door or door stop as necessary.",null,null,175,null,"3905BA","Item",2,9.81,19.62,null,{"$f":"SUMIF('Planned Maint v6.2 CSV File'!A:A,J42,'Planned Maint v6.2 CSV File'!I:I)","v":8.6965649999999997},17.393129999999999,{"$f":"IF(J42=\"Prov Sum\",\"\",IF(MATCH(J42,'Packet Rate Library'!J:J,0),VLOOKUP(J42,'Packet Rate Library'!J:T,9,FALSE),\"\"))","v":0},8.6965649999999997,17.393129999999999]
[null,"REPB42457","FRA WORKS","D","Partition:Supply and erect or renew stud partition comprising ne 50x100mm sole and head plate, noggins and studs fixed with nails or plugged and screwed to walls, and pack out and scribe, 12.5mm butt jointed plasterboard and 3mm plaster skim coat and all labours to both faces.",null,null,180,null,"3013AB","Item",1,62.11,62.11,null,{"$f":"SUMIF('Planned Maint v6.2 CSV File'!A:A,J43,'Planned Maint v6.2 CSV File'!I:I)","v":55.060514999999995},55.060514999999995,{"$f":"IF(J43=\"Prov Sum\",\"\",IF(MATCH(J43,'Packet Rate Library'!J:J,0),VLOOKUP(J43,'Packet Rate Library'!J:T,9,FALSE),\"\"))","v":0},55.060514999999995,55.060514999999995]
[null,"REPB42457","FRA WORKS","D","Test:Carry out test of domestic installation to occupied property complete comprising continuity, insulation resistance, polarity, earth fault loop impedance and operation of residual current operated device, disconnect, repair and renew as necessary after removal of illegal wiring and components, and provide report and NICEIC/ECA test certificate to the Client’s Representative, and remove waste and debris.",null,null,186,null,"8950AA","Item",1,86.88,86.88,null,{"$f":"SUMIF('Planned Maint v6.2 CSV File'!A:A,J44,'Planned Maint v6.2 CSV File'!I:I)","v":69.504000000000005},69.504000000000005,{"$f":"IF(J44=\"Prov Sum\",\"\",IF(MATCH(J44,'Packet Rate Library'!J:J,0),VLOOKUP(J44,'Packet Rate Library'!J:T,9,FALSE),\"\"))","v":0},69.504000000000005,69.504000000000005]
[null,"REPB42457","FRA WORKS","D","Provisional Sum: Allow provisional sum for additional works to the fire alarm system.",null,null,190,null,"PROV SUM","Item",1,1500,1500,null,{"$f":"SUMIF('Planned Maint v6.2 CSV File'!A:A,J45,'Planned Maint v6.2 CSV File'!I:I)","v":0},1500,{"$f":"IF(J45=\"Prov Sum\",\"\",IF(MATCH(J45,'Packet Rate Library'!J:J,0),VLOOKUP(J45,'Packet Rate Library'!J:T,9,FALSE),\"\"))","v":""},"",1500]
[null,"REPB42457","FRA WORKS","D","Provisional Sum: Allow provisional sum for additional works to clear waste and debris from fire escape routes. ",null,null,191,null,"PROV SUM","Item",1,100,100,null,{"$f":"SUMIF('Planned Maint v6.2 CSV File'!A:A,J46,'Planned Maint v6.2 CSV File'!I:I)","v":0},100,{"$f":"IF(J46=\"Prov Sum\",\"\",IF(MATCH(J46,'Packet Rate Library'!J:J,0),VLOOKUP(J46,'Packet Rate Library'!J:T,9,FALSE),\"\"))","v":""},"",100]
[null,"REPB42457","FRA WORKS","D","Provisional Sum: Allow provisional sum for additional fire stopping works",null,null,192,null,"PROV SUM","Item",1,100,100,null,{"$f":"SUMIF('Planned Maint v6.2 CSV File'!A:A,J47,'Planned Maint v6.2 CSV File'!I:I)","v":0},100,{"$f":"IF(J47=\"Prov Sum\",\"\",IF(MATCH(J47,'Packet Rate Library'!J:J,0),VLOOKUP(J47,'Packet Rate Library'!J:T,9,FALSE),\"\"))","v":""},"",100]
[null,"REPB42457","FRA WORKS","D","Provisional Sum: Allow provisional sum for additional signage",null,null,193,null,"PROV SUM","Item",1,100,100,null,{"$f":"SUMIF('Planned Maint v6.2 CSV File'!A:A,J48,'Planned Maint v6.2 CSV File'!I:I)","v":0},100,{"$f":"IF(J48=\"Prov Sum\",\"\",IF(MATCH(J48,'Packet Rate Library'!J:J,0),VLOOKUP(J48,'Packet Rate Library'!J:T,9,FALSE),\"\"))","v":""},"",100]
[null,"REPB42457","FRA WORKS","D","Provisional Sum: Allow provisional sum for additional electrical works",null,null,194,null,"PROV SUM","Item",1,350,350,null,{"$f":"SUMIF('Planned Maint v6.2 CSV File'!A:A,J49,'Planned Maint v6.2 CSV File'!I:I)","v":0},350,{"$f":"IF(J49=\"Prov Sum\",\"\",IF(MATCH(J49,'Packet Rate Library'!J:J,0),VLOOKUP(J49,'Packet Rate Library'!J:T,9,FALSE),\"\"))","v":""},"",350]

{"sheet":"10 Gillies Street","index":17,"n_rows":33,"n_cols":20,"rows_kept":33,"cut":false,"hidden":false,"merged":[[4,15,4,19]]}
[null,null,null,null,null,null,null,null,null,null,null,null,null,null,null,{"$f":"SUMIF('Planned Maint v6.2 CSV File'!A:A,J1,'Planned Maint v6.2 CSV File'!I:I)","v":0},{"$f":"IF(J1=\"PROV SUM\",N1,L1*P1)","v":0},{"$f":"IF(J1=\"Prov Sum\",\"\",IF(MATCH(J1,'Packet Rate Library'!J:J,0),VLOOKUP(J1,'Packet Rate Library'!J:T,9,FALSE),\"\"))","v":{"$error":"#N/A"}},{"$f":"IF(R1>0,R1,P1)","v":{"$error":"#N/A"}},{"$f":"IF(J1=\"SC024\",N1,IF(ISERROR(S1),\"\",IF(J1=\"PROV SUM\",N1,L1*S1)))","v":""}]
[]
[]
["10 Gillies Street, NW5 4DL"]
[]
["Requirement","REPB42153","Requirement Type","Rowtype (H=Header, D=Detail)","Description","Works Order Commencement Date","Works Order Completion Date","Specification  Ref. Item No.'s","Works Order Delivery Date","SOR Code","SOR Unit","SOR Qty","SOR Cost","Total Cost",null,"Rate (max)","Cost (max)","Modified price","Tendered rate","Tendered total"]
[]
[" ","REPB42153","ENERGY EFFICIENY","H"]
[null,"REPB42153","ENERGY EFFICIENY","D","Contractor to access and undertake survey of loft space in accordance with the Project Brief in order to assess level of current loft insulation. Including submittion of a survey report supported by photographic evidance to CM/PM. Where insulation levels are less then 200mm, Contractor to provide cost proposal to upgrade insulation in accordance with NHF SoR Planned Maintenance Version 6.2.",null,null,9.1,null,"ADD001","IT",1,null,null,null,{"$f":"SUMIF('Planned Maint v6.2 CSV File'!A:A,J9,'Planned Maint v6.2 CSV File'!I:I)","v":0},{"$f":"IF(J9=\"PROV SUM\",N9,L9*P9)","v":0},{"$f":"IF(J9=\"Prov Sum\",\"\",IF(MATCH(J9,'Packet Rate Library'!J:J,0),VLOOKUP(J9,'Packet Rate Library'!J:T,9,FALSE),\"\"))","v":0},{"$f":"IF(R9>0,R9,P9)","v":0},{"$f":"IF(J9=\"SC024\",N9,IF(ISERROR(S9),\"\",IF(J9=\"PROV SUM\",N9,L9*S9)))","v":0}]
[null,"REPB42153","ENERGY EFFICIENY","D","Insulation:Supply and lay ne 270mm thick insulation quilt to loft area including gain access and moving/replacing contents within loft area in order to undertake work. Item 2270AA",null,null,9.1999999999999993,null,"2270AA","SM",46.04,10.86,{"$f":"M10*L10","v":499.99439999999998},null,{"$f":"SUMIF('Planned Maint v6.2 CSV File'!A:A,J10,'Planned Maint v6.2 CSV File'!I:I)","v":8.6880000000000006},{"$f":"IF(J10=\"PROV SUM\",N10,L10*P10)","v":399.99552},{"$f":"IF(J10=\"Prov Sum\",\"\",IF(MATCH(J10,'Packet Rate Library'!J:J,0),VLOOKUP(J10,'Packet Rate Library'!J:T,9,FALSE),\"\"))","v":0},{"$f":"IF(R10>0,R10,P10)","v":8.6880000000000006},{"$f":"IF(J10=\"SC024\",N10,IF(ISERROR(S10),\"\",IF(J10=\"PROV SUM\",N10,L10*S10)))","v":399.99552}]
[null,"REPB42153","ASBESTOS","H"]
[null,"REPB42153","ASBESTOS","D","Refurbishment and Demolition  Survey to Full Property (with upto 5 Nr samples) , flat or house any size",null,null,1.3,null,"A003","Item",1,234,234,null,{"$f":"SUMIF('Planned Maint v6.2 CSV File'!A:A,J12,'Planned Maint v6.2 CSV File'!I:I)","v":222.29999999999998},{"$f":"IF(J12=\"PROV SUM\",N12,L12*P12)","v":222.29999999999998},{"$f":"IF(J12=\"Prov Sum\",\"\",IF(MATCH(J12,'Packet Rate Library'!J:J,0),VLOOKUP(J12,'Packet Rate Library'!J:T,9,FALSE),\"\"))","v":0},{"$f":"IF(R12>0,R12,P12)","v":222.29999999999998},{"$f":"IF(J12=\"SC024\",N12,IF(ISERROR(S12),\"\",IF(J12=\"PROV SUM\",N12,L12*S12)))","v":222.29999999999998}]
[null,"REPB42153","COMMUNAL WORKS","H"]
[null,"REPB42153","EXTREP","H"]
[null,"REPB42153","EXTREP","D","Wall: Rake out existing joints of brickwork min 12mm and repoint brickwork in mortar to match existing and remove waste and debris.",null,null,6.91,null,"1021AA","SM",12,20.13,241.56,null,{"$f":"SUMIF('Planned Maint v6.2 CSV File'!A:A,J15,'Planned Maint v6.2 CSV File'!I:I)","v":14.594249999999999},{"$f":"IF(J15=\"PROV SUM\",N15,L15*P15)","v":175.13099999999997},{"$f":"IF(J15=\"Prov Sum\",\"\",IF(MATCH(J15,'Packet Rate Library'!J:J,0),VLOOKUP(J15,'Packet Rate Library'!J:T,9,FALSE),\"\"))","v":0},{"$f":"IF(R15>0,R15,P15)","v":14.594249999999999},{"$f":"IF(J15=\"SC024\",N15,IF(ISERROR(S15),\"\",IF(J15=\"PROV SUM\",N15,L15*S15)))","v":175.13099999999997}]
[null,"REPB42153","EXTREP","D","Gates:Wire brush, prepare for, and apply one coat primer, one undercoat, two coats of gloss paint to both sides of any size type single metal gate including all edges and all surfaces of posts.",null,null,6.2030000000000296,null,"4362DA","IT",1,21.61,21.61,null,{"$f":"SUMIF('Planned Maint v6.2 CSV File'!A:A,J16,'Planned Maint v6.2 CSV File'!I:I)","v":18.368499999999997},{"$f":"IF(J16=\"PROV SUM\",N16,L16*P16)","v":18.368499999999997},{"$f":"IF(J16=\"Prov Sum\",\"\",IF(MATCH(J16,'Packet Rate Library'!J:J,0),VLOOKUP(J16,'Packet Rate Library'!J:T,9,FALSE),\"\"))","v":0},{"$f":"IF(R16>0,R16,P16)","v":18.368499999999997},{"$f":"IF(J16=\"SC024\",N16,IF(ISERROR(S16),\"\",IF(J16=\"PROV SUM\",N16,L16*S16)))","v":18.368499999999997}]
[null,"REPB42153","EXTREP","D","Window:Rub down, prepare and apply one undercoat and one coat of gloss paint on existing painted surfaces of wooden windows (one side and edges).",null,null,6.2620000000000502,null,"4381JB","SM",22,16.86,370.92,null,{"$f":"SUMIF('Planned Maint v6.2 CSV File'!A:A,J17,'Planned Maint v6.2 CSV File'!I:I)","v":14.331},{"$f":"IF(J17=\"PROV SUM\",N17,L17*P17)","v":315.28199999999998},{"$f":"IF(J17=\"Prov Sum\",\"\",IF(MATCH(J17,'Packet Rate Library'!J:J,0),VLOOKUP(J17,'Packet Rate Library'!J:T,9,FALSE),\"\"))","v":0},{"$f":"IF(R17>0,R17,P17)","v":14.331},{"$f":"IF(J17=\"SC024\",N17,IF(ISERROR(S17),\"\",IF(J17=\"PROV SUM\",N17,L17*S17)))","v":315.28199999999998}]
[null,"REPB42153","EXTREP","D","Frame:Rub down, prepare and apply one undercoat and one coat of gloss paint on existing painted timber frame ne 300mm girth.",null,null,6.2630000000000496,null,"4381KA","LM",44,3.81,167.64,null,{"$f":"SUMIF('Planned Maint v6.2 CSV File'!A:A,J18,'Planned Maint v6.2 CSV File'!I:I)","v":3.2385000000000002},{"$f":"IF(J18=\"PROV SUM\",N18,L18*P18)","v":142.494},{"$f":"IF(J18=\"Prov Sum\",\"\",IF(MATCH(J18,'Packet Rate Library'!J:J,0),VLOOKUP(J18,'Packet Rate Library'!J:T,9,FALSE),\"\"))","v":0},{"$f":"IF(R18>0,R18,P18)","v":3.2385000000000002},{"$f":"IF(J18=\"SC024\",N18,IF(ISERROR(S18),\"\",IF(J18=\"PROV SUM\",N18,L18*S18)))","v":142.494}]
[null,"REPB42153","EXTREP","D","Door:Rub down, prepare for and apply one undercoat and one coat of gloss paint to all existing painted surfaces of any size or type of single glazed timber door (one sides and edges).",null,null,6.26400000000005,null,"4381LA","IT",2,9.67,19.34,null,{"$f":"SUMIF('Planned Maint v6.2 CSV File'!A:A,J19,'Planned Maint v6.2 CSV File'!I:I)","v":8.2195},{"$f":"IF(J19=\"PROV SUM\",N19,L19*P19)","v":16.439},{"$f":"IF(J19=\"Prov Sum\",\"\",IF(MATCH(J19,'Packet Rate Library'!J:J,0),VLOOKUP(J19,'Packet Rate Library'!J:T,9,FALSE),\"\"))","v":0},{"$f":"IF(R19>0,R19,P19)","v":8.2195},{"$f":"IF(J19=\"SC024\",N19,IF(ISERROR(S19),\"\",IF(J19=\"PROV SUM\",N19,L19*S19)))","v":16.439}]
[null,"REPB42153","ROOF","H"]
[null,"REPB42153","ROOF","D","Moss:Carefully remove moss/lichen growth on roof covering of any kind and dispose of debris off site, reistate all disturbed surfaces, replace broken tiles, slates and the like, thoroughly clean out valleys, gutters, downpipes, hoppers etc, prepare and treat the complete roof area with a diluted fungicide solution AKZO or other equal and approved applied strictly in accordance with the manufacturer’s instructions, thoroughly clean out all gutters and the like to remove all chemical residue arising upon completion of the works, and remove waste and debris.",null,null,3.1799999999999899,null,"2115AA","SM",2,10.17,20.34,null,{"$f":"SUMIF('Planned Maint v6.2 CSV File'!A:A,J21,'Planned Maint v6.2 CSV File'!I:I)","v":8.136000000000001},{"$f":"IF(J21=\"PROV SUM\",N21,L21*P21)","v":16.272000000000002},{"$f":"IF(J21=\"Prov Sum\",\"\",IF(MATCH(J21,'Packet Rate Library'!J:J,0),VLOOKUP(J21,'Packet Rate Library'!J:T,9,FALSE),\"\"))","v":0},{"$f":"IF(R21>0,R21,P21)","v":8.136000000000001},{"$f":"IF(J21=\"SC024\",N21,IF(ISERROR(S21),\"\",IF(J21=\"PROV SUM\",N21,L21*S21)))","v":16.272000000000002}]
[null,"REPB42153","ROOF","D","Gutter:Clean out debris from gutters to any type of property including flush out and test, rod downpipe including clean out gulley and remove debris from site on completion (per elevation).",null,null,3.3640000000000101,null,"6039BA","IT",2,20.13,40.26,null,{"$f":"SUMIF('Planned Maint v6.2 CSV File'!A:A,J22,'Planned Maint v6.2 CSV File'!I:I)","v":14.918342999999998},{"$f":"IF(J22=\"PROV SUM\",N22,L22*P22)","v":29.836685999999997},{"$f":"IF(J22=\"Prov Sum\",\"\",IF(MATCH(J22,'Packet Rate Library'!J:J,0),VLOOKUP(J22,'Packet Rate Library'!J:T,9,FALSE),\"\"))","v":0},{"$f":"IF(R22>0,R22,P22)","v":14.918342999999998},{"$f":"IF(J22=\"SC024\",N22,IF(ISERROR(S22),\"\",IF(J22=\"PROV SUM\",N22,L22*S22)))","v":29.836685999999997}]
[null,"REPB42153","WINDOWS","H"]
[null,"REPB42153","WINDOWS","D","Window: Overhaul timber casement window, dismantle as necessary and subsequently reassemble including freeing, easing and adjusting casements to give correct operation, renew sealing gaskets, renew fixing screws, remove, refit or renew ironmongery as necessary, rake out and renew defective putty and mastic, touch up decorations internally to match existing and prepare for redecoration externally, and remove waste and debris.",null,null,4.8899999999999801,null,"3150BA","NO",6,29.05,174.3,null,{"$f":"SUMIF('Planned Maint v6.2 CSV File'!A:A,J24,'Planned Maint v6.2 CSV File'!I:I)","v":25.752824999999998},{"$f":"IF(J24=\"PROV SUM\",N24,L24*P24)","v":154.51694999999998},{"$f":"IF(J24=\"Prov Sum\",\"\",IF(MATCH(J24,'Packet Rate Library'!J:J,0),VLOOKUP(J24,'Packet Rate Library'!J:T,9,FALSE),\"\"))","v":0},{"$f":"IF(R24>0,R24,P24)","v":25.752824999999998},{"$f":"IF(J24=\"SC024\",N24,IF(ISERROR(S24),\"\",IF(J24=\"PROV SUM\",N24,L24*S24)))","v":154.51694999999998}]
[null,"REPB42153","WINDOWS","D","Window: Overhaul sash window, renew staff and parting beads, take out sashes and later rehang on spiral sash balances, renew pocket pieces, wedge and cramp loose sash frames, ease and adjust sashes, remove, refit or renew ironmongery, rake out and renew defective putty and mastic, touch up decorations internally to match existing and prepare for redecoration externally, and remove waste and debris.",null,null,4.9099999999999797,null,"3150CB","NO",5,98.99,494.95,null,{"$f":"SUMIF('Planned Maint v6.2 CSV File'!A:A,J25,'Planned Maint v6.2 CSV File'!I:I)","v":87.754634999999993},{"$f":"IF(J25=\"PROV SUM\",N25,L25*P25)","v":438.77317499999998},{"$f":"IF(J25=\"Prov Sum\",\"\",IF(MATCH(J25,'Packet Rate Library'!J:J,0),VLOOKUP(J25,'Packet Rate Library'!J:T,9,FALSE),\"\"))","v":0},{"$f":"IF(R25>0,R25,P25)","v":87.754634999999993},{"$f":"IF(J25=\"SC024\",N25,IF(ISERROR(S25),\"\",IF(J25=\"PROV SUM\",N25,L25*S25)))","v":438.77317499999998}]
[null,"REPB42153","SCAFFOLD","H"]
[null,"REPB42153","SCAFFOLD","D","Standard Scaffold item: erect; dismantle; basic independent tied working scaffolding; 5 boards wide, including hire period; completely accessible; debris netting to all elevations; double boarded and polythene included as necessary, any fan(s) included as required; rope plus wheel for lifting operations; 3rd handrail included whenever necessary; as per applicable regulations (applies to up to 5 storeys). Measured up to second handrail and by the middle of the scaffold (equidistant from the inside/outside face) including design when required. Rate to include for 12 week hire",null,null,2.1,null,"SC001","M2",100,12.92,1292,null,{"$f":"SUMIF('Planned Maint v6.2 CSV File'!A:A,J27,'Planned Maint v6.2 CSV File'!I:I)","v":16.4084},{"$f":"IF(J27=\"PROV SUM\",N27,L27*P27)","v":1640.8400000000001},{"$f":"IF(J27=\"Prov Sum\",\"\",IF(MATCH(J27,'Packet Rate Library'!J:J,0),VLOOKUP(J27,'Packet Rate Library'!J:T,9,FALSE),\"\"))","v":0},{"$f":"IF(R27>0,R27,P27)","v":16.4084},{"$f":"IF(J27=\"SC024\",N27,IF(ISERROR(S27),\"\",IF(J27=\"PROV SUM\",N27,L27*S27)))","v":1640.8400000000001}]
[null,"REPB42153","SCAFFOLD","D","Scaffold alarm - 1 x sounder, 2 x PIR 1 X key pad (Divided by Number of properties if continuous scaffolds)",null,null,2.5,null,"SC005","unit",1,420,420,null,{"$f":"SUMIF('Planned Maint v6.2 CSV File'!A:A,J28,'Planned Maint v6.2 CSV File'!I:I)","v":533.4},{"$f":"IF(J28=\"PROV SUM\",N28,L28*P28)","v":533.4},{"$f":"IF(J28=\"Prov Sum\",\"\",IF(MATCH(J28,'Packet Rate Library'!J:J,0),VLOOKUP(J28,'Packet Rate Library'!J:T,9,FALSE),\"\"))","v":0},{"$f":"IF(R28>0,R28,P28)","v":533.4},{"$f":"IF(J28=\"SC024\",N28,IF(ISERROR(S28),\"\",IF(J28=\"PROV SUM\",N28,L28*S28)))","v":533.4}]
[null,"REPB42153","SCAFFOLD","D","E/O for additional PIRS",null,null,2.6,null,"SC007","unit",1,50,50,null,{"$f":"SUMIF('Planned Maint v6.2 CSV File'!A:A,J29,'Planned Maint v6.2 CSV File'!I:I)","v":63.5},{"$f":"IF(J29=\"PROV SUM\",N29,L29*P29)","v":63.5},{"$f":"IF(J29=\"Prov Sum\",\"\",IF(MATCH(J29,'Packet Rate Library'!J:J,0),VLOOKUP(J29,'Packet Rate Library'!J:T,9,FALSE),\"\"))","v":0},{"$f":"IF(R29>0,R29,P29)","v":63.5},{"$f":"IF(J29=\"SC024\",N29,IF(ISERROR(S29),\"\",IF(J29=\"PROV SUM\",N29,L29*S29)))","v":63.5}]
[null,"REPB42153","SCAFFOLD","D","Scaffold taken up&over the roof",null,null,2.17,null,"SC017","unit",1,842,842,null,{"$f":"SUMIF('Planned Maint v6.2 CSV File'!A:A,J30,'Planned Maint v6.2 CSV File'!I:I)","v":1069.3399999999999},{"$f":"IF(J30=\"PROV SUM\",N30,L30*P30)","v":1069.3399999999999},{"$f":"IF(J30=\"Prov Sum\",\"\",IF(MATCH(J30,'Packet Rate Library'!J:J,0),VLOOKUP(J30,'Packet Rate Library'!J:T,9,FALSE),\"\"))","v":0},{"$f":"IF(R30>0,R30,P30)","v":1069.3399999999999},{"$f":"IF(J30=\"SC024\",N30,IF(ISERROR(S30),\"\",IF(J30=\"PROV SUM\",N30,L30*S30)))","v":1069.3399999999999}]
[null,"REPB42153","SCAFFOLD","D","Additional Hire if required - % per week of total scaffolding costs.  This is to be applied in the event an agreed programme exceeding the duration set out above. An example would be large low level blocks of 4 storeys requiring a large programme duration",null,null,null,null,"SC024","unit",null,4.8300000000000003E-2,{"$f":"VLOOKUP(B31,'Project Overheads & Scaffold'!$W:$AI,13,FALSE)","v":0},null,{"$f":"SUMIF('Planned Maint v6.2 CSV File'!A:A,J31,'Planned Maint v6.2 CSV File'!I:I)","v":4.8300000000000003E-2},{"$f":"IF(J31=\"PROV SUM\",N31,L31*P31)","v":0},{"$f":"IF(J31=\"Prov Sum\",\"\",IF(MATCH(J31,'Packet Rate Library'!J:J,0),VLOOKUP(J31,'Packet Rate Library'!J:T,9,FALSE),\"\"))","v":{"$error":"#N/A"}},{"$f":"IF(R31>0,R31,P31)","v":{"$error":"#N/A"}},{"$f":"IF(J31=\"SC024\",N31,IF(ISERROR(S31),\"\",IF(J31=\"PROV SUM\",N31,L31*S31)))","v":0}]
[null,"REPB42153","ESTATE WORKS","H"]
[null,"REPB42153","ESTATE WORKS","D","Path:Excavate 250mm below required finished level, remove waste and debris, level and compact bottoms of excavations and fill, 150mm hardcore bed, blinded and ne 100mm concrete trowelled smooth including dishing to gullies and the like and all formwork.",null,null,7.4000000000000199,null,"0030AA","SM",18,58.8,1058.4000000000001,null,{"$f":"SUMIF('Planned Maint v6.2 CSV File'!A:A,J33,'Planned Maint v6.2 CSV File'!I:I)","v":48.351239999999997},{"$f":"IF(J33=\"PROV SUM\",N33,L33*P33)","v":870.32231999999999},{"$f":"IF(J33=\"Prov Sum\",\"\",IF(MATCH(J33,'Packet Rate Library'!J:J,0),VLOOKUP(J33,'Packet Rate Library'!J:T,9,FALSE),\"\"))","v":0},{"$f":"IF(R33>0,R33,P33)","v":48.351239999999997},{"$f":"IF(J33=\"SC024\",N33,IF(ISERROR(S33),\"\",IF(J33=\"PROV SUM\",N33,L33*S33)))","v":870.32231999999999}]

{"sheet":"17 Ascham Street","index":18,"n_rows":50,"n_cols":20,"rows_kept":50,"cut":false,"hidden":false,"merged":[[4,15,4,19]]}
[null,null,null,null,null,null,null,null,null,null,null,null,null,null,null,{"$f":"SUMIF('Planned Maint v6.2 CSV File'!A:A,J1,'Planned Maint v6.2 CSV File'!I:I)","v":0},{"$f":"IF(J1=\"PROV SUM\",N1,L1*P1)","v":0},{"$f":"IF(J1=\"Prov Sum\",\"\",IF(MATCH(J1,'Packet Rate Library'!J:J,0),VLOOKUP(J1,'Packet Rate Library'!J:T,9,FALSE),\"\"))","v":{"$error":"#N/A"}},{"$f":"IF(R1>0,R1,P1)","v":{"$error":"#N/A"}},{"$f":"IF(J1=\"SC024\",N1,IF(ISERROR(S1),\"\",IF(J1=\"PROV SUM\",N1,L1*S1)))","v":""}]
[]
[]
["17 ASCHAM STREET FLATS A-B"]
[]
["Requirement","REPB47024","Requirement Type","Rowtype (H=Header, D=Detail)","Description","Works Order Commencement Date","Works Order Completion Date","Specification  Ref. Item No.'s","Works Order Delivery Date","SOR Code","SOR Unit","SOR Qty","SOR Cost","Total Cost",null,"Rate (max)","Cost (max)","Modified price","Tendered rate","Tendered total"]
[]
[" ","REPB47024","ENERGY EFFICIENY","H"]
[null,"REPB47024","ENERGY EFFICIENY","D","Contractor to access and undertake survey of loft space in accordance with the Project Brief in order to assess level of current loft insulation. Including submittion of a survey report supported by photographic evidance to CM/PM. Where insulation levels are less then 200mm, Contractor to provide cost proposal to upgrade insulation in accordance with NHF SoR Planned Maintenance Version 6.2.",null,null,9.1,null,"ADD001","IT",1,null,null,null,{"$f":"SUMIF('Planned Maint v6.2 CSV File'!A:A,J9,'Planned Maint v6.2 CSV File'!I:I)","v":0},{"$f":"IF(J9=\"PROV SUM\",N9,L9*P9)","v":0},{"$f":"IF(J9=\"Prov Sum\",\"\",IF(MATCH(J9,'Packet Rate Library'!J:J,0),VLOOKUP(J9,'Packet Rate Library'!J:T,9,FALSE),\"\"))","v":0},{"$f":"IF(R9>0,R9,P9)","v":0},{"$f":"IF(J9=\"SC024\",N9,IF(ISERROR(S9),\"\",IF(J9=\"PROV SUM\",N9,L9*S9)))","v":0}]
[null,"REPB47024","ENERGY EFFICIENY","D","Insulation:Supply and lay ne 270mm thick insulation quilt to loft area including gain access and moving/replacing contents within loft area in order to undertake work. Item 2270AA",null,null,9.1999999999999993,null,"2270AA","SM",46.04,10.86,{"$f":"M10*L10","v":499.99439999999998},null,{"$f":"SUMIF('Planned Maint v6.2 CSV File'!A:A,J10,'Planned Maint v6.2 CSV File'!I:I)","v":8.6880000000000006},{"$f":"IF(J10=\"PROV SUM\",N10,L10*P10)","v":399.99552},{"$f":"IF(J10=\"Prov Sum\",\"\",IF(MATCH(J10,'Packet Rate Library'!J:J,0),VLOOKUP(J10,'Packet Rate Library'!J:T,9,FALSE),\"\"))","v":0},{"$f":"IF(R10>0,R10,P10)","v":8.6880000000000006},{"$f":"IF(J10=\"SC024\",N10,IF(ISERROR(S10),\"\",IF(J10=\"PROV SUM\",N10,L10*S10)))","v":399.99552}]
[null,"REPB47024","ASBESTOS","H"]
[null,"REPB47024","ASBESTOS","D","Refurbishment and Demolition  Survey to Full Property (with upto 5 Nr samples) , flat or house any size",null,null,1.3,null,"A003","Item",1,234,234,null,{"$f":"SUMIF('Planned Maint v6.2 CSV File'!A:A,J12,'Planned Maint v6.2 CSV File'!I:I)","v":222.29999999999998},{"$f":"IF(J12=\"PROV SUM\",N12,L12*P12)","v":222.29999999999998},{"$f":"IF(J12=\"Prov Sum\",\"\",IF(MATCH(J12,'Packet Rate Library'!J:J,0),VLOOKUP(J12,'Packet Rate Library'!J:T,9,FALSE),\"\"))","v":0},{"$f":"IF(R12>0,R12,P12)","v":222.29999999999998},{"$f":"IF(J12=\"SC024\",N12,IF(ISERROR(S12),\"\",IF(J12=\"PROV SUM\",N12,L12*S12)))","v":222.29999999999998}]
[null,"REPB47024","COMMUNAL WORKS","H"]
[null,"REPB47024","COMMUNAL WORKS","D","Hall: Thoroughly clean down all wall and ceiling surfaces to common areas to remove dirt, grease and surface containments, scrape and remove all loose and defective coatings, prime bare areas with one coat of fire retardant primer and apply two coats of Class ‘O’ fire retardant matt paint, prepare and apply two coats of polyurethane lacquer or one undercoat and one gloss coat to all previously decorated timber surfaces to lobby, hall or corridor over 3.00sm ceiling area complete (classified as a single area).",null,null,5.0999999999999996,null,"4540AC","IT",1,480,480,null,{"$f":"SUMIF('Planned Maint v6.2 CSV File'!A:A,J14,'Planned Maint v6.2 CSV File'!I:I)","v":408},{"$f":"IF(J14=\"PROV SUM\",N14,L14*P14)","v":408},{"$f":"IF(J14=\"Prov Sum\",\"\",IF(MATCH(J14,'Packet Rate Library'!J:J,0),VLOOKUP(J14,'Packet Rate Library'!J:T,9,FALSE),\"\"))","v":0},{"$f":"IF(R14>0,R14,P14)","v":408},{"$f":"IF(J14=\"SC024\",N14,IF(ISERROR(S14),\"\",IF(J14=\"PROV SUM\",N14,L14*S14)))","v":408}]
[null,"REPB47024","COMMUNAL WORKS","D","Carpet: Renew tight woven medium contract grade carpet to domestic areas, take up existing and dispose to tip, prepare sub-base, lay underlay secure all edges with gripper or proprietary adhesive tape, cut and fit around pipes, into alcoves, door openings and the like including all necessary door strips etc., and remove waste and debris.",null,null,5.1540000000000203,null,"4328AC","SM",6,16.28,97.68,null,{"$f":"SUMIF('Planned Maint v6.2 CSV File'!A:A,J15,'Planned Maint v6.2 CSV File'!I:I)","v":13.714272000000001},{"$f":"IF(J15=\"PROV SUM\",N15,L15*P15)","v":82.285632000000007},{"$f":"IF(J15=\"Prov Sum\",\"\",IF(MATCH(J15,'Packet Rate Library'!J:J,0),VLOOKUP(J15,'Packet Rate Library'!J:T,9,FALSE),\"\"))","v":0},{"$f":"IF(R15>0,R15,P15)","v":13.714272000000001},{"$f":"IF(J15=\"SC024\",N15,IF(ISERROR(S15),\"\",IF(J15=\"PROV SUM\",N15,L15*S15)))","v":82.285632000000007}]
[null,"REPB47024","EXTREP","H"]
[null,"REPB47024","EXTREP","D","Fracture: Remove any applied finish and cut out bricks as necessary to either side of fracture, one face only, stitch in new bricks, bed and point to match existing in cement lime mortar (1:1:6), and make good any applied finishes, and remove waste and debris (measured over mean general line of fracture).",null,null,6.82,null,"1019AA","LM",4,44.12,176.48,null,{"$f":"SUMIF('Planned Maint v6.2 CSV File'!A:A,J17,'Planned Maint v6.2 CSV File'!I:I)","v":31.986999999999998},{"$f":"IF(J17=\"PROV SUM\",N17,L17*P17)","v":127.94799999999999},{"$f":"IF(J17=\"Prov Sum\",\"\",IF(MATCH(J17,'Packet Rate Library'!J:J,0),VLOOKUP(J17,'Packet Rate Library'!J:T,9,FALSE),\"\"))","v":0},{"$f":"IF(R17>0,R17,P17)","v":31.986999999999998},{"$f":"IF(J17=\"SC024\",N17,IF(ISERROR(S17),\"\",IF(J17=\"PROV SUM\",N17,L17*S17)))","v":127.94799999999999}]
[null,"REPB47024","EXTREP","D","Wall: Rake out existing joints of brickwork min 12mm and repoint brickwork in mortar to match existing and remove waste and debris.",null,null,6.91,null,"1021AA","SM",8,20.13,161.04,null,{"$f":"SUMIF('Planned Maint v6.2 CSV File'!A:A,J18,'Planned Maint v6.2 CSV File'!I:I)","v":14.594249999999999},116.75399999999999,{"$f":"IF(J18=\"Prov Sum\",\"\",IF(MATCH(J18,'Packet Rate Library'!J:J,0),VLOOKUP(J18,'Packet Rate Library'!J:T,9,FALSE),\"\"))","v":0},14.594249999999999,116.75399999999999]
[null,"REPB47024","EXTREP","D","Walls: Wash down, fill in cracks and holes, sand down and apply two coats of smooth or textured masonry paint to brickwork surfaces of walls.",null,null,6.1820000000000297,null,"4356AD","SM",6,10.17,61.02,null,{"$f":"SUMIF('Planned Maint v6.2 CSV File'!A:A,J19,'Planned Maint v6.2 CSV File'!I:I)","v":8.644499999999999},51.86699999999999,{"$f":"IF(J19=\"Prov Sum\",\"\",IF(MATCH(J19,'Packet Rate Library'!J:J,0),VLOOKUP(J19,'Packet Rate Library'!J:T,9,FALSE),\"\"))","v":0},8.644499999999999,51.86699999999999]
[null,"REPB47024","EXTREP","D","Gates: Wire brush, prepare for and apply one undercoat and two coats of gloss paint to both sides of existing painted surface of any size/type single metal gate including all edges and all surfaces of posts.",null,null,6.2140000000000404,null,"4363DA","IT",1,16.98,16.98,null,{"$f":"SUMIF('Planned Maint v6.2 CSV File'!A:A,J20,'Planned Maint v6.2 CSV File'!I:I)","v":14.433},14.433,{"$f":"IF(J20=\"Prov Sum\",\"\",IF(MATCH(J20,'Packet Rate Library'!J:J,0),VLOOKUP(J20,'Packet Rate Library'!J:T,9,FALSE),\"\"))","v":0},14.433,14.433]
[null,"REPB47024","EXTREP","D","Frame: Rub down, prepare and apply one coat of primer, one undercoat and two coats of gloss paint on timber frame ne 300mm girth.",null,null,6.2370000000000498,null,"4380CA","LM",6,6.28,37.68,null,{"$f":"SUMIF('Planned Maint v6.2 CSV File'!A:A,J21,'Planned Maint v6.2 CSV File'!I:I)","v":5.3380000000000001},32.027999999999999,{"$f":"IF(J21=\"Prov Sum\",\"\",IF(MATCH(J21,'Packet Rate Library'!J:J,0),VLOOKUP(J21,'Packet Rate Library'!J:T,9,FALSE),\"\"))","v":0},5.3380000000000001,32.027999999999999]
[null,"REPB47024","EXTREP","D","Door: Rub down, prepare for and apply one coat of primer, one undercoat and two coats of gloss paint to all surfaces of any size or type of single glazed timber door (both sides and edges).",null,null,6.2390000000000496,null,"4380DB","IT",2,39.28,78.56,null,{"$f":"SUMIF('Planned Maint v6.2 CSV File'!A:A,J22,'Planned Maint v6.2 CSV File'!I:I)","v":33.387999999999998},66.775999999999996,{"$f":"IF(J22=\"Prov Sum\",\"\",IF(MATCH(J22,'Packet Rate Library'!J:J,0),VLOOKUP(J22,'Packet Rate Library'!J:T,9,FALSE),\"\"))","v":0},33.387999999999998,66.775999999999996]
[null,"REPB47024","EXTREP","D","Window: Rub down, prepare and apply one undercoat and one coat of gloss paint on existing painted surfaces of wooden windows (one side and edges).",null,null,6.2620000000000502,null,"4381JB","SM",16,16.86,269.76,null,{"$f":"SUMIF('Planned Maint v6.2 CSV File'!A:A,J23,'Planned Maint v6.2 CSV File'!I:I)","v":14.331},229.29599999999999,{"$f":"IF(J23=\"Prov Sum\",\"\",IF(MATCH(J23,'Packet Rate Library'!J:J,0),VLOOKUP(J23,'Packet Rate Library'!J:T,9,FALSE),\"\"))","v":0},14.331,229.29599999999999]
[null,"REPB47024","ROOF","H"]
[null,"REPB47024","ROOF","D","Slate: Overhaul natural slate roof, refix loose slates, renew broken or missing slates to match existing, redress, rewedge and repoint all flashings, aprons, chimney gutters etc, cut out and make good cement weather fillets, repoint in cement mortar (1:3) to all hips, ridges and verges, make good, and remove waste and debris.",null,null,3.2149999999999901,null,"2033CA","SM",50,30.56,1528,null,{"$f":"SUMIF('Planned Maint v6.2 CSV File'!A:A,J25,'Planned Maint v6.2 CSV File'!I:I)","v":24.448},{"$f":"IF(J25=\"PROV SUM\",N25,L25*P25)","v":1222.4000000000001},{"$f":"IF(J25=\"Prov Sum\",\"\",IF(MATCH(J25,'Packet Rate Library'!J:J,0),VLOOKUP(J25,'Packet Rate Library'!J:T,9,FALSE),\"\"))","v":0},{"$f":"IF(R25>0,R25,P25)","v":24.448},{"$f":"IF(J25=\"SC024\",N25,IF(ISERROR(S25),\"\",IF(J25=\"PROV SUM\",N25,L25*S25)))","v":1222.4000000000001}]
[null,"REPB47024","WINDOWS","H"]
[null,"REPB47024","WINDOWS","D","Window: Overhaul timber sash window, renew staff and parting beads, take out sashes and later rehang on appropriate sized new undyed plaited nylon sash cords, renew pocket pieces, wedge and cramp loose sash frames, oil pulleys, ease and adjust sashes, remove, refit or renew ironmongery, rake out and renew defective putty and mastic, touch up decorations internally to match existing and prepare for redecoration externally, and remove waste and debris.",null,null,4.8999999999999799,null,"3150CA","NO",40,35.61,1424.4,null,{"$f":"SUMIF('Planned Maint v6.2 CSV File'!A:A,J27,'Planned Maint v6.2 CSV File'!I:I)","v":31.568264999999997},{"$f":"IF(J27=\"PROV SUM\",N27,L27*P27)","v":1262.7305999999999},{"$f":"IF(J27=\"Prov Sum\",\"\",IF(MATCH(J27,'Packet Rate Library'!J:J,0),VLOOKUP(J27,'Packet Rate Library'!J:T,9,FALSE),\"\"))","v":0},{"$f":"IF(R27>0,R27,P27)","v":31.568264999999997},{"$f":"IF(J27=\"SC024\",N27,IF(ISERROR(S27),\"\",IF(J27=\"PROV SUM\",N27,L27*S27)))","v":1262.7305999999999}]
[null,"REPB47024","SCAFFOLD","H"]
[null,"REPB47024","SCAFFOLD","D","Standard Scaffold item: erect; dismantle; basic independent tied working scaffolding; 5 boards wide, including hire period; completely accessible; debris netting to all elevations; double boarded and polythene included as necessary, any fan(s) included as required; rope plus wheel for lifting operations; 3rd handrail included whenever necessary; as per applicable regulations (applies to up to 5 storeys). Measured up to second handrail and by the middle of the scaffold (equidistant from the inside/outside face) including design when required. Rate to include for 12 week hire",null,null,2.1,null,"SC001","M2",106,12.92,1369.52,null,{"$f":"SUMIF('Planned Maint v6.2 CSV File'!A:A,J29,'Planned Maint v6.2 CSV File'!I:I)","v":16.4084},{"$f":"IF(J29=\"PROV SUM\",N29,L29*P29)","v":1739.2904000000001},{"$f":"IF(J29=\"Prov Sum\",\"\",IF(MATCH(J29,'Packet Rate Library'!J:J,0),VLOOKUP(J29,'Packet Rate Library'!J:T,9,FALSE),\"\"))","v":0},{"$f":"IF(R29>0,R29,P29)","v":16.4084},{"$f":"IF(J29=\"SC024\",N29,IF(ISERROR(S29),\"\",IF(J29=\"PROV SUM\",N29,L29*S29)))","v":1739.2904000000001}]
[null,"REPB47024","SCAFFOLD","D","Scaffold alarm - 1 x sounder, 2 x PIR 1 X key pad (Divided by Number of properties if continuous scaffolds)",null,null,2.5,null,"SC005","unit",1,420,420,null,{"$f":"SUMIF('Planned Maint v6.2 CSV File'!A:A,J30,'Planned Maint v6.2 CSV File'!I:I)","v":533.4},{"$f":"IF(J30=\"PROV SUM\",N30,L30*P30)","v":533.4},{"$f":"IF(J30=\"Prov Sum\",\"\",IF(MATCH(J30,'Packet Rate Library'!J:J,0),VLOOKUP(J30,'Packet Rate Library'!J:T,9,FALSE),\"\"))","v":0},{"$f":"IF(R30>0,R30,P30)","v":533.4},{"$f":"IF(J30=\"SC024\",N30,IF(ISERROR(S30),\"\",IF(J30=\"PROV SUM\",N30,L30*S30)))","v":533.4}]
[null,"REPB47024","SCAFFOLD","D","E/O for additional PIRS",null,null,2.6,null,"SC007","unit",1,50,50,null,{"$f":"SUMIF('Planned Maint v6.2 CSV File'!A:A,J31,'Planned Maint v6.2 CSV File'!I:I)","v":63.5},{"$f":"IF(J31=\"PROV SUM\",N31,L31*P31)","v":63.5},{"$f":"IF(J31=\"Prov Sum\",\"\",IF(MATCH(J31,'Packet Rate Library'!J:J,0),VLOOKUP(J31,'Packet Rate Library'!J:T,9,FALSE),\"\"))","v":0},{"$f":"IF(R31>0,R31,P31)","v":63.5},{"$f":"IF(J31=\"SC024\",N31,IF(ISERROR(S31),\"\",IF(J31=\"PROV SUM\",N31,L31*S31)))","v":63.5}]
[null,"REPB47024","SCAFFOLD","D","Up&over boarded walkway bridge (over the roof) boarded and handrails included",null,null,2.15,null,"SC015","unit",1,1310,1310,null,{"$f":"SUMIF('Planned Maint v6.2 CSV File'!A:A,J32,'Planned Maint v6.2 CSV File'!I:I)","v":1663.7},{"$f":"IF(J32=\"PROV SUM\",N32,L32*P32)","v":1663.7},{"$f":"IF(J32=\"Prov Sum\",\"\",IF(MATCH(J32,'Packet Rate Library'!J:J,0),VLOOKUP(J32,'Packet Rate Library'!J:T,9,FALSE),\"\"))","v":0},{"$f":"IF(R32>0,R32,P32)","v":1663.7},{"$f":"IF(J32=\"SC024\",N32,IF(ISERROR(S32),\"\",IF(J32=\"PROV SUM\",N32,L32*S32)))","v":1663.7}]
[null,"REPB47024","SCAFFOLD","D","Additional Hire if required - % per week of total scaffolding costs.  This is to be applied in the event an agreed programme exceeding the duration set out above. An example would be large low level blocks of 4 storeys requiring a large programme duration",null,null,null,null,"SC024","unit",null,4.8300000000000003E-2,{"$f":"VLOOKUP(B33,'Project Overheads & Scaffold'!$W:$AI,13,FALSE)","v":0},null,{"$f":"SUMIF('Planned Maint v6.2 CSV File'!A:A,J33,'Planned Maint v6.2 CSV File'!I:I)","v":4.8300000000000003E-2},{"$f":"IF(J33=\"PROV SUM\",N33,L33*P33)","v":0},{"$f":"IF(J33=\"Prov Sum\",\"\",IF(MATCH(J33,'Packet Rate Library'!J:J,0),VLOOKUP(J33,'Packet Rate Library'!J:T,9,FALSE),\"\"))","v":{"$error":"#N/A"}},{"$f":"IF(R33>0,R33,P33)","v":{"$error":"#N/A"}},{"$f":"IF(J33=\"SC024\",N33,IF(ISERROR(S33),\"\",IF(J33=\"PROV SUM\",N33,L33*S33)))","v":0}]
[null,"REPB47024","ESTATE WORKS","H"]
[null,"REPB47024","ESTATE WORKS","D","Wall: Take down one and a half brick wall and remove waste and debris.",null,null,7.1900000000000297,null,"1011AC","SM",4,39.57,158.28,null,{"$f":"SUMIF('Planned Maint v6.2 CSV File'!A:A,J35,'Planned Maint v6.2 CSV File'!I:I)","v":28.68825},{"$f":"IF(J35=\"PROV SUM\",N35,L35*P35)","v":114.753},{"$f":"IF(J35=\"Prov Sum\",\"\",IF(MATCH(J35,'Packet Rate Library'!J:J,0),VLOOKUP(J35,'Packet Rate Library'!J:T,9,FALSE),\"\"))","v":0},{"$f":"IF(R35>0,R35,P35)","v":28.68825},{"$f":"IF(J35=\"SC024\",N35,IF(ISERROR(S35),\"\",IF(J35=\"PROV SUM\",N35,L35*S35)))","v":114.753}]
[null,"REPB47024","ESTATE WORKS","D","Wall: Supply and lay new facing bricks in one brick wall bedded and pointed in cement lime mortar (1:1:6) as the work proceeds.",null,null,7.2020000000000302,null,"1013BB","SM",6,133.12,798.72,null,{"$f":"SUMIF('Planned Maint v6.2 CSV File'!A:A,J36,'Planned Maint v6.2 CSV File'!I:I)","v":96.512},{"$f":"IF(J36=\"PROV SUM\",N36,L36*P36)","v":579.072},{"$f":"IF(J36=\"Prov Sum\",\"\",IF(MATCH(J36,'Packet Rate Library'!J:J,0),VLOOKUP(J36,'Packet Rate Library'!J:T,9,FALSE),\"\"))","v":0},{"$f":"IF(R36>0,R36,P36)","v":96.512},{"$f":"IF(J36=\"SC024\",N36,IF(ISERROR(S36),\"\",IF(J36=\"PROV SUM\",N36,L36*S36)))","v":579.072}]
[null,"REPB47024","ESTATE WORKS","D","Pier: Demolish as necessary, clean off and clear away, rebuild attached pier in common bricks, one brick wide x half brick projection, bedded and pointed in cement lime mortar (1:1:6) to match existing and remove waste and debris.",null,null,7.2360000000000504,null,"1017AA","LM",1,21.51,21.51,null,{"$f":"SUMIF('Planned Maint v6.2 CSV File'!A:A,J37,'Planned Maint v6.2 CSV File'!I:I)","v":15.594750000000001},{"$f":"IF(J37=\"PROV SUM\",N37,L37*P37)","v":15.594750000000001},{"$f":"IF(J37=\"Prov Sum\",\"\",IF(MATCH(J37,'Packet Rate Library'!J:J,0),VLOOKUP(J37,'Packet Rate Library'!J:T,9,FALSE),\"\"))","v":0},{"$f":"IF(R37>0,R37,P37)","v":15.594750000000001},{"$f":"IF(J37=\"SC024\",N37,IF(ISERROR(S37),\"\",IF(J37=\"PROV SUM\",N37,L37*S37)))","v":15.594750000000001}]
[null,"REPB47024","ESTATE WORKS","D","PROVISIONAL SUM: Allow provisional sum for any unforeseen works to rear elevation.",null,null,7.3159999999999998,null,"PROV SUM","SUM",1,400,400,null,{"$f":"SUMIF('Planned Maint v6.2 CSV File'!A:A,J38,'Planned Maint v6.2 CSV File'!I:I)","v":0},{"$f":"IF(J38=\"PROV SUM\",N38,L38*P38)","v":400},{"$f":"IF(J38=\"Prov Sum\",\"\",IF(MATCH(J38,'Packet Rate Library'!J:J,0),VLOOKUP(J38,'Packet Rate Library'!J:T,9,FALSE),\"\"))","v":""},{"$f":"IF(R38>0,R38,P38)","v":""},{"$f":"IF(J38=\"SC024\",N38,IF(ISERROR(S38),\"\",IF(J38=\"PROV SUM\",N38,L38*S38)))","v":400}]
[null,"REPB47024","FRA WORKS","H"]
[null,"REPB47024","FRA WORKS","D","Door:Renew internal door with any size single half-hour fire check glazed door having 3.2mm luan, white Meranti or other approved plywood facing both sides and 9mm hardwood lipping on long edges, including remove existing door and hinges, remove and refit door stops as necessary, fit and hang new door on 1.50 pairs of 100mm steel butt hinges, make good or alter recesses on frame, door complete with all ironmongery, intumescent strips and smoke seals, glazed, redecorate to match existing and remove waste and debris.",null,null,13,null,"3300FC","Item",2,222.2,444.4,null,{"$f":"SUMIF('Planned Maint v6.2 CSV File'!A:A,J40,'Planned Maint v6.2 CSV File'!I:I)","v":196.98029999999997},{"$f":"IF(J40=\"PROV SUM\",N40,L40*P40)","v":393.96059999999994},{"$f":"IF(J40=\"Prov Sum\",\"\",IF(MATCH(J40,'Packet Rate Library'!J:J,0),VLOOKUP(J40,'Packet Rate Library'!J:T,9,FALSE),\"\"))","v":0},{"$f":"IF(R40>0,R40,P40)","v":196.98029999999997},{"$f":"IF(J40=\"SC024\",N40,IF(ISERROR(S40),\"\",IF(J40=\"PROV SUM\",N40,L40*S40)))","v":393.96059999999994}]
[null,"REPB47024","FRA WORKS","D","Fire Upgrading Coating:Remove all existing defective paint to plastered or rendered wall surfaces back to a solid edge, feather off and repair any defective areas with a high quality filler as necessary, spot prime filled or bare areas with afire upgrading primer, remove any existing graffiti with a graffiti removal system, wash down, rinse, clean off and apply one full coat of fire upgrading primer at a coverage rate of 10sm per litre, apply two full coats of fire upgrading finish at a coverage rate of 10sm per litre.",null,null,27,null,"4801AB","Item",1,22.53,22.53,null,{"$f":"SUMIF('Planned Maint v6.2 CSV File'!A:A,J41,'Planned Maint v6.2 CSV File'!I:I)","v":19.150500000000001},19.150500000000001,{"$f":"IF(J41=\"Prov Sum\",\"\",IF(MATCH(J41,'Packet Rate Library'!J:J,0),VLOOKUP(J41,'Packet Rate Library'!J:T,9,FALSE),\"\"))","v":0},19.150500000000001,19.150500000000001]
[null,"REPB47024","FRA WORKS","D","Fire Upgrading Coating:Strip off existing multi layer paint coatings to existing plastered or rendered soffits with a proprietary paint stripper, scrape off or remove with a proprietary paint scraper, wash down,rinse,  spot prime filled or bare areas with afire upgrading primer, remove any existing graffiti with a graffiti removal system, clean off and apply one full coat of primer at a coverage rate of 10sm per litre, apply one full coats of colourcoat complete with decorative flakes, and apply one full coat of gloss or satin lacquer finish at a coverage rate of 10sm per litre.",null,null,41,null,"4804AD","Item",1,29.34,29.34,null,{"$f":"SUMIF('Planned Maint v6.2 CSV File'!A:A,J42,'Planned Maint v6.2 CSV File'!I:I)","v":24.939},24.939,{"$f":"IF(J42=\"Prov Sum\",\"\",IF(MATCH(J42,'Packet Rate Library'!J:J,0),VLOOKUP(J42,'Packet Rate Library'!J:T,9,FALSE),\"\"))","v":0},24.939,24.939]
[null,"REPB47024","FRA WORKS","D","Smoke Detector:Renew existing with mains operated optical smoke detector with rechargeable DC battery or condensor back up self contained type to BS 5446 kitemark certified with hush button, including back plate and all necessary connections to existing wiring, test and make good on completion, where interlinked detectors are replaced new detectors must be compatible with existing, and remove waste and debris.",null,null,115,null,"8720FA","Item",2,70.11,140.22,null,{"$f":"SUMIF('Planned Maint v6.2 CSV File'!A:A,J43,'Planned Maint v6.2 CSV File'!I:I)","v":56.088000000000001},112.176,{"$f":"IF(J43=\"Prov Sum\",\"\",IF(MATCH(J43,'Packet Rate Library'!J:J,0),VLOOKUP(J43,'Packet Rate Library'!J:T,9,FALSE),\"\"))","v":0},56.088000000000001,112.176]
[null,"REPB47024","FRA WORKS","D","Partition:Supply and erect or renew stud partition comprising ne 50x100mm sole and head plate, noggins and studs fixed with nails or plugged and screwed to walls, and pack out and scribe, 12.5mm butt jointed plasterboard and 3mm plaster skim coat and all labours to both faces.",null,null,180,null,"3013AB","Item",1,62.11,62.11,null,{"$f":"SUMIF('Planned Maint v6.2 CSV File'!A:A,J44,'Planned Maint v6.2 CSV File'!I:I)","v":55.060514999999995},55.060514999999995,{"$f":"IF(J44=\"Prov Sum\",\"\",IF(MATCH(J44,'Packet Rate Library'!J:J,0),VLOOKUP(J44,'Packet Rate Library'!J:T,9,FALSE),\"\"))","v":0},55.060514999999995,55.060514999999995]
[null,"REPB47024","FRA WORKS","D","Test:Carry out test of domestic installation to occupied property complete comprising continuity, insulation resistance, polarity, earth fault loop impedance and operation of residual current operated device, disconnect, repair and renew as necessary after removal of illegal wiring and components, and provide report and NICEIC/ECA test certificate to the Client’s Representative, and remove waste and debris.",null,null,186,null,"8950AA","Item",1,86.88,86.88,null,{"$f":"SUMIF('Planned Maint v6.2 CSV File'!A:A,J45,'Planned Maint v6.2 CSV File'!I:I)","v":69.504000000000005},69.504000000000005,{"$f":"IF(J45=\"Prov Sum\",\"\",IF(MATCH(J45,'Packet Rate Library'!J:J,0),VLOOKUP(J45,'Packet Rate Library'!J:T,9,FALSE),\"\"))","v":0},69.504000000000005,69.504000000000005]
[null,"REPB47024","FRA WORKS","D","Provisional Sum: Allow provisional sum for additional works to the fire alarm system.",null,null,190,null,"PROV SUM","Item",1,1500,1500,null,{"$f":"SUMIF('Planned Maint v6.2 CSV File'!A:A,J46,'Planned Maint v6.2 CSV File'!I:I)","v":0},1500,{"$f":"IF(J46=\"Prov Sum\",\"\",IF(MATCH(J46,'Packet Rate Library'!J:J,0),VLOOKUP(J46,'Packet Rate Library'!J:T,9,FALSE),\"\"))","v":""},"",1500]
[null,"REPB47024","FRA WORKS","D","Provisional Sum: Allow provisional sum for additional works to clear waste and debris from fire escape routes. ",null,null,191,null,"PROV SUM","Item",1,100,100,null,{"$f":"SUMIF('Planned Maint v6.2 CSV File'!A:A,J47,'Planned Maint v6.2 CSV File'!I:I)","v":0},100,{"$f":"IF(J47=\"Prov Sum\",\"\",IF(MATCH(J47,'Packet Rate Library'!J:J,0),VLOOKUP(J47,'Packet Rate Library'!J:T,9,FALSE),\"\"))","v":""},"",100]
[null,"REPB47024","FRA WORKS","D","Provisional Sum: Allow provisional sum for additional fire stopping works",null,null,192,null,"PROV SUM","Item",1,100,100,null,{"$f":"SUMIF('Planned Maint v6.2 CSV File'!A:A,J48,'Planned Maint v6.2 CSV File'!I:I)","v":0},100,{"$f":"IF(J48=\"Prov Sum\",\"\",IF(MATCH(J48,'Packet Rate Library'!J:J,0),VLOOKUP(J48,'Packet Rate Library'!J:T,9,FALSE),\"\"))","v":""},"",100]
[null,"REPB47024","FRA WORKS","D","Provisional Sum: Allow provisional sum for additional signage",null,null,193,null,"PROV SUM","Item",1,100,100,null,{"$f":"SUMIF('Planned Maint v6.2 CSV File'!A:A,J49,'Planned Maint v6.2 CSV File'!I:I)","v":0},100,{"$f":"IF(J49=\"Prov Sum\",\"\",IF(MATCH(J49,'Packet Rate Library'!J:J,0),VLOOKUP(J49,'Packet Rate Library'!J:T,9,FALSE),\"\"))","v":""},"",100]
[null,"REPB47024","FRA WORKS","D","Provisional Sum: Allow provisional sum for additional electrical works",null,null,194,null,"PROV SUM","Item",1,350,350,null,{"$f":"SUMIF('Planned Maint v6.2 CSV File'!A:A,J50,'Planned Maint v6.2 CSV File'!I:I)","v":0},350,{"$f":"IF(J50=\"Prov Sum\",\"\",IF(MATCH(J50,'Packet Rate Library'!J:J,0),VLOOKUP(J50,'Packet Rate Library'!J:T,9,FALSE),\"\"))","v":""},"",350]

{"sheet":"13 Doynton Street","index":19,"n_rows":43,"n_cols":20,"rows_kept":43,"cut":false,"hidden":false,"merged":[[4,15,4,19]]}
[null,null,null,null,null,null,null,null,null,null,null,null,null,null,null,{"$f":"SUMIF('Planned Maint v6.2 CSV File'!A:A,J1,'Planned Maint v6.2 CSV File'!I:I)","v":0},{"$f":"IF(J1=\"PROV SUM\",N1,L1*P1)","v":0},{"$f":"IF(J1=\"Prov Sum\",\"\",IF(MATCH(J1,'Packet Rate Library'!J:J,0),VLOOKUP(J1,'Packet Rate Library'!J:T,9,FALSE),\"\"))","v":{"$error":"#N/A"}},{"$f":"IF(R1>0,R1,P1)","v":{"$error":"#N/A"}},{"$f":"IF(J1=\"SC024\",N1,IF(ISERROR(S1),\"\",IF(J1=\"PROV SUM\",N1,L1*S1)))","v":""}]
[]
[]
["13 DOYNTON STREET (FLATS A-B)"]
[]
["Requirement","REPB47344","Requirement Type","Rowtype (H=Header, D=Detail)","Description","Works Order Commencement Date","Works Order Completion Date","Specification  Ref. Item No.'s","Works Order Delivery Date","SOR Code","SOR Unit","SOR Qty","SOR Cost","Total Cost",null,"Rate (max)","Cost (max)","Modified price","Tendered rate","Tendered total"]
[]
[" ","REPB47344","ENERGY EFFICIENY","H"]
[null,"REPB47344","ENERGY EFFICIENY","D","Contractor to access and undertake survey of loft space in accordance with the Project Brief in order to assess level of current loft insulation. Including submittion of a survey report supported by photographic evidance to CM/PM. Where insulation levels are less then 200mm, Contractor to provide cost proposal to upgrade insulation in accordance with NHF SoR Planned Maintenance Version 6.2.",null,null,9.1,null,"ADD001","IT",1,null,null,null,{"$f":"SUMIF('Planned Maint v6.2 CSV File'!A:A,J9,'Planned Maint v6.2 CSV File'!I:I)","v":0},{"$f":"IF(J9=\"PROV SUM\",N9,L9*P9)","v":0},{"$f":"IF(J9=\"Prov Sum\",\"\",IF(MATCH(J9,'Packet Rate Library'!J:J,0),VLOOKUP(J9,'Packet Rate Library'!J:T,9,FALSE),\"\"))","v":0},{"$f":"IF(R9>0,R9,P9)","v":0},{"$f":"IF(J9=\"SC024\",N9,IF(ISERROR(S9),\"\",IF(J9=\"PROV SUM\",N9,L9*S9)))","v":0}]
[null,"REPB47344","ENERGY EFFICIENY","D","Insulation:Supply and lay ne 270mm thick insulation quilt to loft area including gain access and moving/replacing contents within loft area in order to undertake work. Item 2270AA",null,null,9.1999999999999993,null,"2270AA","SM",46.04,10.86,{"$f":"M10*L10","v":499.99439999999998},null,{"$f":"SUMIF('Planned Maint v6.2 CSV File'!A:A,J10,'Planned Maint v6.2 CSV File'!I:I)","v":8.6880000000000006},{"$f":"IF(J10=\"PROV SUM\",N10,L10*P10)","v":399.99552},{"$f":"IF(J10=\"Prov Sum\",\"\",IF(MATCH(J10,'Packet Rate Library'!J:J,0),VLOOKUP(J10,'Packet Rate Library'!J:T,9,FALSE),\"\"))","v":0},{"$f":"IF(R10>0,R10,P10)","v":8.6880000000000006},{"$f":"IF(J10=\"SC024\",N10,IF(ISERROR(S10),\"\",IF(J10=\"PROV SUM\",N10,L10*S10)))","v":399.99552}]
[null,"REPB47344","ASBESTOS","H"]
[null,"REPB47344","ASBESTOS","D","Refurbishment and Demolition  Survey to Full Property (with upto 5 Nr samples) , flat or house any size",null,null,1.3,null,"A003","Item",1,234,234,null,{"$f":"SUMIF('Planned Maint v6.2 CSV File'!A:A,J12,'Planned Maint v6.2 CSV File'!I:I)","v":222.29999999999998},{"$f":"IF(J12=\"PROV SUM\",N12,L12*P12)","v":222.29999999999998},{"$f":"IF(J12=\"Prov Sum\",\"\",IF(MATCH(J12,'Packet Rate Library'!J:J,0),VLOOKUP(J12,'Packet Rate Library'!J:T,9,FALSE),\"\"))","v":0},{"$f":"IF(R12>0,R12,P12)","v":222.29999999999998},{"$f":"IF(J12=\"SC024\",N12,IF(ISERROR(S12),\"\",IF(J12=\"PROV SUM\",N12,L12*S12)))","v":222.29999999999998}]
[null,"REPB47344","COMMUNAL WORKS","H"]
[null,"REPB47344"]
[null,"REPB47344","EXTREP","H"]
[null,"REPB47344","EXTREP","D","Wall: Rake out existing joints of brickwork min 12mm and repoint brickwork in mortar to match existing and remove waste and debris.",null,null,6.91,null,"1021AA","SM",2,20.13,40.26,null,{"$f":"SUMIF('Planned Maint v6.2 CSV File'!A:A,J16,'Planned Maint v6.2 CSV File'!I:I)","v":14.594249999999999},{"$f":"IF(J16=\"PROV SUM\",N16,L16*P16)","v":29.188499999999998},{"$f":"IF(J16=\"Prov Sum\",\"\",IF(MATCH(J16,'Packet Rate Library'!J:J,0),VLOOKUP(J16,'Packet Rate Library'!J:T,9,FALSE),\"\"))","v":0},{"$f":"IF(R16>0,R16,P16)","v":14.594249999999999},{"$f":"IF(J16=\"SC024\",N16,IF(ISERROR(S16),\"\",IF(J16=\"PROV SUM\",N16,L16*S16)))","v":29.188499999999998}]
[null,"REPB47344","EXTREP","D","Cill: Cut out and remove existing cill from brick wall, prepare and lay precast concrete splay rebated twice grooved, finished fair cill with stooled ends reinforced with 2 No. 6mm diameter bars bedded in cement lime mortar (1:1:6) renew dpc and make good brickwork, plasterwork, sealant and or cement fillets and remove waste and debris.",null,null,6.1170000000000098,null,"1031CA","LM",4,38.380000000000003,153.52000000000001,null,{"$f":"SUMIF('Planned Maint v6.2 CSV File'!A:A,J17,'Planned Maint v6.2 CSV File'!I:I)","v":27.825500000000002},111.30200000000001,{"$f":"IF(J17=\"Prov Sum\",\"\",IF(MATCH(J17,'Packet Rate Library'!J:J,0),VLOOKUP(J17,'Packet Rate Library'!J:T,9,FALSE),\"\"))","v":0},27.825500000000002,111.30200000000001]
[null,"REPB47344","EXTREP","D","Walls: Wash down, fill in cracks and holes, sand down and apply one undercoat and one coat of gloss paint to rendered or concrete walls.",null,null,6.1970000000000303,null,"4361AB","SM",20,15.71,314.2,null,{"$f":"SUMIF('Planned Maint v6.2 CSV File'!A:A,J18,'Planned Maint v6.2 CSV File'!I:I)","v":13.3535},267.07,{"$f":"IF(J18=\"Prov Sum\",\"\",IF(MATCH(J18,'Packet Rate Library'!J:J,0),VLOOKUP(J18,'Packet Rate Library'!J:T,9,FALSE),\"\"))","v":0},13.3535,267.07]
[null,"REPB47344","EXTREP","D","Balustrading: Wire brush, prepare for and apply one coat of primer, one undercoat, two coats of gloss paint on ornamental metal balustrading, railings or gates (measured both sides).",null,null,6.2040000000000299,null,"4362EA","SM",8,20.51,164.08,null,{"$f":"SUMIF('Planned Maint v6.2 CSV File'!A:A,J19,'Planned Maint v6.2 CSV File'!I:I)","v":17.433500000000002},139.46800000000002,{"$f":"IF(J19=\"Prov Sum\",\"\",IF(MATCH(J19,'Packet Rate Library'!J:J,0),VLOOKUP(J19,'Packet Rate Library'!J:T,9,FALSE),\"\"))","v":0},17.433500000000002,139.46800000000002]
[null,"REPB47344","EXTREP","D","Window: Rub down, prepare and apply one coat of primer, one undercoat and two coats of gloss paint on surfaces of wooden windowsl (one side and edges).",null,null,6.2360000000000504,null,"4380BA","SM",24,25.87,620.88,null,{"$f":"SUMIF('Planned Maint v6.2 CSV File'!A:A,J20,'Planned Maint v6.2 CSV File'!I:I)","v":21.9895},527.74800000000005,{"$f":"IF(J20=\"Prov Sum\",\"\",IF(MATCH(J20,'Packet Rate Library'!J:J,0),VLOOKUP(J20,'Packet Rate Library'!J:T,9,FALSE),\"\"))","v":0},21.9895,527.74800000000005]
[null,"REPB47344","EXTREP","D","Frame: Rub down, prepare and apply one coat of primer, one undercoat and two coats of gloss paint on timber frame ne 300mm girth.",null,null,6.2370000000000498,null,"4380CA","LM",28,6.28,175.84,null,{"$f":"SUMIF('Planned Maint v6.2 CSV File'!A:A,J21,'Planned Maint v6.2 CSV File'!I:I)","v":5.3380000000000001},149.464,{"$f":"IF(J21=\"Prov Sum\",\"\",IF(MATCH(J21,'Packet Rate Library'!J:J,0),VLOOKUP(J21,'Packet Rate Library'!J:T,9,FALSE),\"\"))","v":0},5.3380000000000001,149.464]
[null,"REPB47344","EXTREP","D","Door: Rub down, prepare for and apply one coat of primer, one undercoat and two coats of gloss paint to all surfaces of any size or type of single glazed timber door. (one sides and edges).",null,null,6.2380000000000502,null,"4380DA","IT",4,20.71,82.84,null,{"$f":"SUMIF('Planned Maint v6.2 CSV File'!A:A,J22,'Planned Maint v6.2 CSV File'!I:I)","v":17.6035},70.414000000000001,{"$f":"IF(J22=\"Prov Sum\",\"\",IF(MATCH(J22,'Packet Rate Library'!J:J,0),VLOOKUP(J22,'Packet Rate Library'!J:T,9,FALSE),\"\"))","v":0},17.6035,70.414000000000001]
[null,"REPB47344","ROOF","H"]
[null,"REPB47344","ROOF","D","PROV SUM: Slate: Overhaul natural slate roof, refix loose slates, renew broken or missing slates to match existing, redress, rewedge and repoint all flashings, aprons, chimney gutters etc, cut out and make good cement weather fillets, repoint in cement mortar (1:3) to all hips, ridges and verges, make good, and remove waste and debris. Code  2033CA",null,null,3.4340000000000002,null,"PROV SUM","SM",30,30.56,916.8,null,{"$f":"SUMIF('Planned Maint v6.2 CSV File'!A:A,J24,'Planned Maint v6.2 CSV File'!I:I)","v":0},{"$f":"IF(J24=\"PROV SUM\",N24,L24*P24)","v":916.8},{"$f":"IF(J24=\"Prov Sum\",\"\",IF(MATCH(J24,'Packet Rate Library'!J:J,0),VLOOKUP(J24,'Packet Rate Library'!J:T,9,FALSE),\"\"))","v":""},{"$f":"IF(R24>0,R24,P24)","v":""},{"$f":"IF(J24=\"SC024\",N24,IF(ISERROR(S24),\"\",IF(J24=\"PROV SUM\",N24,L24*S24)))","v":916.8}]
[null,"REPB47344","WINDOWS","H"]
[null,"REPB47344","WINDOWS","D","Window: Overhaul timber casement window, dismantle as necessary and subsequently reassemble including freeing, easing and adjusting casements to give correct operation, renew sealing gaskets, renew fixing screws, remove, refit or renew ironmongery as necessary, rake out and renew defective putty and mastic, touch up decorations internally to match existing and prepare for redecoration externally, and remove waste and debris.",null,null,4.8899999999999801,null,"3150BA","NO",2,29.05,58.1,null,{"$f":"SUMIF('Planned Maint v6.2 CSV File'!A:A,J26,'Planned Maint v6.2 CSV File'!I:I)","v":25.752824999999998},{"$f":"IF(J26=\"PROV SUM\",N26,L26*P26)","v":51.505649999999996},{"$f":"IF(J26=\"Prov Sum\",\"\",IF(MATCH(J26,'Packet Rate Library'!J:J,0),VLOOKUP(J26,'Packet Rate Library'!J:T,9,FALSE),\"\"))","v":0},{"$f":"IF(R26>0,R26,P26)","v":25.752824999999998},{"$f":"IF(J26=\"SC024\",N26,IF(ISERROR(S26),\"\",IF(J26=\"PROV SUM\",N26,L26*S26)))","v":51.505649999999996}]
[null,"REPB47344","WINDOWS","D","Window: Overhaul timber sash window, renew staff and parting beads, take out sashes and later rehang on appropriate sized new undyed plaited nylon sash cords, renew pocket pieces, wedge and cramp loose sash frames, oil pulleys, ease and adjust sashes, remove, refit or renew ironmongery, rake out and renew defective putty and mastic, touch up decorations internally to match existing and prepare for redecoration externally, and remove waste and debris.",null,null,4.8999999999999799,null,"3150CA","NO",10,35.61,356.1,null,{"$f":"SUMIF('Planned Maint v6.2 CSV File'!A:A,J27,'Planned Maint v6.2 CSV File'!I:I)","v":31.568264999999997},{"$f":"IF(J27=\"PROV SUM\",N27,L27*P27)","v":315.68264999999997},{"$f":"IF(J27=\"Prov Sum\",\"\",IF(MATCH(J27,'Packet Rate Library'!J:J,0),VLOOKUP(J27,'Packet Rate Library'!J:T,9,FALSE),\"\"))","v":0},{"$f":"IF(R27>0,R27,P27)","v":31.568264999999997},{"$f":"IF(J27=\"SC024\",N27,IF(ISERROR(S27),\"\",IF(J27=\"PROV SUM\",N27,L27*S27)))","v":315.68264999999997}]
[null,"REPB47344","SCAFFOLD","H"]
[null,"REPB47344","SCAFFOLD","D","Standard Scaffold item: erect; dismantle; basic independent tied working scaffolding; 5 boards wide, including hire period; completely accessible; debris netting to all elevations; double boarded and polythene included as necessary, any fan(s) included as required; rope plus wheel for lifting operations; 3rd handrail included whenever necessary; as per applicable regulations (applies to up to 5 storeys). Measured up to second handrail and by the middle of the scaffold (equidistant from the inside/outside face) including design when required. Rate to include for 12 week hire",null,null,2.1,null,"SC001","M2",70,12.92,904.4,null,{"$f":"SUMIF('Planned Maint v6.2 CSV File'!A:A,J29,'Planned Maint v6.2 CSV File'!I:I)","v":16.4084},{"$f":"IF(J29=\"PROV SUM\",N29,L29*P29)","v":1148.588},{"$f":"IF(J29=\"Prov Sum\",\"\",IF(MATCH(J29,'Packet Rate Library'!J:J,0),VLOOKUP(J29,'Packet Rate Library'!J:T,9,FALSE),\"\"))","v":0},{"$f":"IF(R29>0,R29,P29)","v":16.4084},{"$f":"IF(J29=\"SC024\",N29,IF(ISERROR(S29),\"\",IF(J29=\"PROV SUM\",N29,L29*S29)))","v":1148.588}]
[null,"REPB47344","SCAFFOLD","D","Scaffold alarm - 1 x sounder, 2 x PIR 1 X key pad (Divided by Number of properties if continuous scaffolds)",null,null,2.5,null,"SC005","unit",1,420,420,null,{"$f":"SUMIF('Planned Maint v6.2 CSV File'!A:A,J30,'Planned Maint v6.2 CSV File'!I:I)","v":533.4},{"$f":"IF(J30=\"PROV SUM\",N30,L30*P30)","v":533.4},{"$f":"IF(J30=\"Prov Sum\",\"\",IF(MATCH(J30,'Packet Rate Library'!J:J,0),VLOOKUP(J30,'Packet Rate Library'!J:T,9,FALSE),\"\"))","v":0},{"$f":"IF(R30>0,R30,P30)","v":533.4},{"$f":"IF(J30=\"SC024\",N30,IF(ISERROR(S30),\"\",IF(J30=\"PROV SUM\",N30,L30*S30)))","v":533.4}]
[null,"REPB47344","SCAFFOLD","D","Additional Hire if required - % per week of total scaffolding costs.  This is to be applied in the event an agreed programme exceeding the duration set out above. An example would be large low level blocks of 4 storeys requiring a large programme duration",null,null,null,null,"SC024","unit",null,4.8300000000000003E-2,{"$f":"VLOOKUP(B31,'Project Overheads & Scaffold'!$W:$AI,13,FALSE)","v":0},null,{"$f":"SUMIF('Planned Maint v6.2 CSV File'!A:A,J31,'Planned Maint v6.2 CSV File'!I:I)","v":4.8300000000000003E-2},{"$f":"IF(J31=\"PROV SUM\",N31,L31*P31)","v":0},{"$f":"IF(J31=\"Prov Sum\",\"\",IF(MATCH(J31,'Packet Rate Library'!J:J,0),VLOOKUP(J31,'Packet Rate Library'!J:T,9,FALSE),\"\"))","v":{"$error":"#N/A"}},{"$f":"IF(R31>0,R31,P31)","v":{"$error":"#N/A"}},{"$f":"IF(J31=\"SC024\",N31,IF(ISERROR(S31),\"\",IF(J31=\"PROV SUM\",N31,L31*S31)))","v":0}]
[null,"REPB47344","ESTATE WORKS","H"]
[null,"REPB47344","FRA WORKS","H"]
[null,"REPB47344","FRA WORKS","D","Fire Alarm:Install L2 type fire alarm installation complete to BS5839:Part6 1995, control panel, circuits, call points, automatic detectors and sounders, builders work, make good, test, commission, and remove waste and debris.",null,null,93,null,"8711GA","Item",1,550,550,null,{"$f":"SUMIF('Planned Maint v6.2 CSV File'!A:A,J34,'Planned Maint v6.2 CSV File'!I:I)","v":440},{"$f":"IF(J34=\"PROV SUM\",N34,L34*P34)","v":440},{"$f":"IF(J34=\"Prov Sum\",\"\",IF(MATCH(J34,'Packet Rate Library'!J:J,0),VLOOKUP(J34,'Packet Rate Library'!J:T,9,FALSE),\"\"))","v":0},{"$f":"IF(R34>0,R34,P34)","v":440},{"$f":"IF(J34=\"SC024\",N34,IF(ISERROR(S34),\"\",IF(J34=\"PROV SUM\",N34,L34*S34)))","v":440}]
[null,"REPB47344","FRA WORKS","D","Intumescent Strip:Renew or supply and fix new 22x4mm intumescent strip, half hour application, with integral cold smoke seal and setting into groove in timber frame or door.",null,null,104,null,"3431AC","Item",2,3.44,6.88,null,{"$f":"SUMIF('Planned Maint v6.2 CSV File'!A:A,J35,'Planned Maint v6.2 CSV File'!I:I)","v":3.0495599999999996},6.0991199999999992,{"$f":"IF(J35=\"Prov Sum\",\"\",IF(MATCH(J35,'Packet Rate Library'!J:J,0),VLOOKUP(J35,'Packet Rate Library'!J:T,9,FALSE),\"\"))","v":0},3.0495599999999996,6.0991199999999992]
[null,"REPB47344","FRA WORKS","D","Smoke Detector:Renew existing with mains operated optical smoke detector with rechargeable DC battery or condensor back up self contained type to BS 5446 kitemark certified with hush button, including back plate and all necessary connections to existing wiring, test and make good on completion, where interlinked detectors are replaced new detectors must be compatible with existing, and remove waste and debris.",null,null,115,null,"8720FA","Item",2,70.11,140.22,null,{"$f":"SUMIF('Planned Maint v6.2 CSV File'!A:A,J36,'Planned Maint v6.2 CSV File'!I:I)","v":56.088000000000001},112.176,{"$f":"IF(J36=\"Prov Sum\",\"\",IF(MATCH(J36,'Packet Rate Library'!J:J,0),VLOOKUP(J36,'Packet Rate Library'!J:T,9,FALSE),\"\"))","v":0},56.088000000000001,112.176]
[null,"REPB47344","FRA WORKS","D","Closer:Renew or supply and fix Perko type concealed door closer screwed to door and frame, including remove and refix door or door stop as necessary.",null,null,175,null,"3905BA","Item",1,9.81,9.81,null,{"$f":"SUMIF('Planned Maint v6.2 CSV File'!A:A,J37,'Planned Maint v6.2 CSV File'!I:I)","v":8.6965649999999997},8.6965649999999997,{"$f":"IF(J37=\"Prov Sum\",\"\",IF(MATCH(J37,'Packet Rate Library'!J:J,0),VLOOKUP(J37,'Packet Rate Library'!J:T,9,FALSE),\"\"))","v":0},8.6965649999999997,8.6965649999999997]
[null,"REPB47344","FRA WORKS","D","Test:Carry out test of domestic installation to occupied property complete comprising continuity, insulation resistance, polarity, earth fault loop impedance and operation of residual current operated device, disconnect, repair and renew as necessary after removal of illegal wiring and components, and provide report and NICEIC/ECA test certificate to the Client’s Representative, and remove waste and debris.",null,null,186,null,"8950AA","Item",1,86.88,86.88,null,{"$f":"SUMIF('Planned Maint v6.2 CSV File'!A:A,J38,'Planned Maint v6.2 CSV File'!I:I)","v":69.504000000000005},69.504000000000005,{"$f":"IF(J38=\"Prov Sum\",\"\",IF(MATCH(J38,'Packet Rate Library'!J:J,0),VLOOKUP(J38,'Packet Rate Library'!J:T,9,FALSE),\"\"))","v":0},69.504000000000005,69.504000000000005]
[null,"REPB47344","FRA WORKS","D","Provisional Sum: Allow provisional sum for additional works to the fire alarm system.",null,null,190,null,"PROV SUM","Item",1,1500,1500,null,{"$f":"SUMIF('Planned Maint v6.2 CSV File'!A:A,J39,'Planned Maint v6.2 CSV File'!I:I)","v":0},1500,{"$f":"IF(J39=\"Prov Sum\",\"\",IF(MATCH(J39,'Packet Rate Library'!J:J,0),VLOOKUP(J39,'Packet Rate Library'!J:T,9,FALSE),\"\"))","v":""},"",1500]
[null,"REPB47344","FRA WORKS","D","Provisional Sum: Allow provisional sum for additional works to clear waste and debris from fire escape routes. ",null,null,191,null,"PROV SUM","Item",1,100,100,null,{"$f":"SUMIF('Planned Maint v6.2 CSV File'!A:A,J40,'Planned Maint v6.2 CSV File'!I:I)","v":0},100,{"$f":"IF(J40=\"Prov Sum\",\"\",IF(MATCH(J40,'Packet Rate Library'!J:J,0),VLOOKUP(J40,'Packet Rate Library'!J:T,9,FALSE),\"\"))","v":""},"",100]
[null,"REPB47344","FRA WORKS","D","Provisional Sum: Allow provisional sum for additional fire stopping works",null,null,192,null,"PROV SUM","Item",1,100,100,null,{"$f":"SUMIF('Planned Maint v6.2 CSV File'!A:A,J41,'Planned Maint v6.2 CSV File'!I:I)","v":0},100,{"$f":"IF(J41=\"Prov Sum\",\"\",IF(MATCH(J41,'Packet Rate Library'!J:J,0),VLOOKUP(J41,'Packet Rate Library'!J:T,9,FALSE),\"\"))","v":""},"",100]
[null,"REPB47344","FRA WORKS","D","Provisional Sum: Allow provisional sum for additional signage",null,null,193,null,"PROV SUM","Item",1,100,100,null,{"$f":"SUMIF('Planned Maint v6.2 CSV File'!A:A,J42,'Planned Maint v6.2 CSV File'!I:I)","v":0},100,{"$f":"IF(J42=\"Prov Sum\",\"\",IF(MATCH(J42,'Packet Rate Library'!J:J,0),VLOOKUP(J42,'Packet Rate Library'!J:T,9,FALSE),\"\"))","v":""},"",100]
[null,"REPB47344","FRA WORKS","D","Provisional Sum: Allow provisional sum for additional electrical works",null,null,194,null,"PROV SUM","Item",1,350,350,null,{"$f":"SUMIF('Planned Maint v6.2 CSV File'!A:A,J43,'Planned Maint v6.2 CSV File'!I:I)","v":0},350,{"$f":"IF(J43=\"Prov Sum\",\"\",IF(MATCH(J43,'Packet Rate Library'!J:J,0),VLOOKUP(J43,'Packet Rate Library'!J:T,9,FALSE),\"\"))","v":""},"",350]

{"sheet":"111 Chetwynd Road","index":20,"n_rows":65,"n_cols":20,"rows_kept":65,"cut":false,"hidden":false,"merged":[[4,15,4,19]]}
[null,null,null,null,null,null,null,null,null,null,null,null,null,null,null,{"$f":"SUMIF('Planned Maint v6.2 CSV File'!A:A,J1,'Planned Maint v6.2 CSV File'!I:I)","v":0},{"$f":"IF(J1=\"PROV SUM\",N1,L1*P1)","v":0},{"$f":"IF(J1=\"Prov Sum\",\"\",IF(MATCH(J1,'Packet Rate Library'!J:J,0),VLOOKUP(J1,'Packet Rate Library'!J:T,9,FALSE),\"\"))","v":{"$error":"#N/A"}},{"$f":"IF(R1>0,R1,P1)","v":{"$error":"#N/A"}},{"$f":"IF(J1=\"SC024\",N1,IF(ISERROR(S1),\"\",IF(J1=\"PROV SUM\",N1,L1*S1)))","v":""}]
[]
[]
["111 CHETWYND ROAD FLATS A-C"]
[]
["Requirement","REPB47293","Requirement Type","Rowtype (H=Header, D=Detail)","Description","Works Order Commencement Date","Works Order Completion Date","Specification  Ref. Item No.'s","Works Order Delivery Date","SOR Code","SOR Unit","SOR Qty","SOR Cost","Total Cost",null,"Rate (max)","Cost (max)","Modified price","Tendered rate","Tendered total"]
[]
[" ","REPB47293","ENERGY EFFICIENY","H"]
[null,"REPB47293","ENERGY EFFICIENY","D","Contractor to access and undertake survey of loft space in accordance with the Project Brief in order to assess level of current loft insulation. Including submittion of a survey report supported by photographic evidance to CM/PM. Where insulation levels are less then 200mm, Contractor to provide cost proposal to upgrade insulation in accordance with NHF SoR Planned Maintenance Version 6.2.",null,null,9.1,null,"ADD001","IT",1,null,null,null,{"$f":"SUMIF('Planned Maint v6.2 CSV File'!A:A,J9,'Planned Maint v6.2 CSV File'!I:I)","v":0},{"$f":"IF(J9=\"PROV SUM\",N9,L9*P9)","v":0},{"$f":"IF(J9=\"Prov Sum\",\"\",IF(MATCH(J9,'Packet Rate Library'!J:J,0),VLOOKUP(J9,'Packet Rate Library'!J:T,9,FALSE),\"\"))","v":0},{"$f":"IF(R9>0,R9,P9)","v":0},{"$f":"IF(J9=\"SC024\",N9,IF(ISERROR(S9),\"\",IF(J9=\"PROV SUM\",N9,L9*S9)))","v":0}]
[null,"REPB47293","ENERGY EFFICIENY","D","Insulation:Supply and lay ne 270mm thick insulation quilt to loft area including gain access and moving/replacing contents within loft area in order to undertake work. Item 2270AA",null,null,9.1999999999999993,null,"2270AA","SM",46.04,10.86,{"$f":"M10*L10","v":499.99439999999998},null,{"$f":"SUMIF('Planned Maint v6.2 CSV File'!A:A,J10,'Planned Maint v6.2 CSV File'!I:I)","v":8.6880000000000006},{"$f":"IF(J10=\"PROV SUM\",N10,L10*P10)","v":399.99552},{"$f":"IF(J10=\"Prov Sum\",\"\",IF(MATCH(J10,'Packet Rate Library'!J:J,0),VLOOKUP(J10,'Packet Rate Library'!J:T,9,FALSE),\"\"))","v":0},{"$f":"IF(R10>0,R10,P10)","v":8.6880000000000006},{"$f":"IF(J10=\"SC024\",N10,IF(ISERROR(S10),\"\",IF(J10=\"PROV SUM\",N10,L10*S10)))","v":399.99552}]
[null,"REPB47293","ASBESTOS","H"]
[null,"REPB47293","ASBESTOS","D","Refurbishment and Demolition  Survey to Full Property (with upto 5 Nr samples) , flat or house any size",null,null,1.3,null,"A003","Item",1,234,234,null,{"$f":"SUMIF('Planned Maint v6.2 CSV File'!A:A,J12,'Planned Maint v6.2 CSV File'!I:I)","v":222.29999999999998},{"$f":"IF(J12=\"PROV SUM\",N12,L12*P12)","v":222.29999999999998},{"$f":"IF(J12=\"Prov Sum\",\"\",IF(MATCH(J12,'Packet Rate Library'!J:J,0),VLOOKUP(J12,'Packet Rate Library'!J:T,9,FALSE),\"\"))","v":0},{"$f":"IF(R12>0,R12,P12)","v":222.29999999999998},{"$f":"IF(J12=\"SC024\",N12,IF(ISERROR(S12),\"\",IF(J12=\"PROV SUM\",N12,L12*S12)))","v":222.29999999999998}]
[null,"REPB47293","COMMUNAL WORKS","H"]
[null,"REPB47293","COMMUNAL WORKS","D","Door: Renew front door with any size 44mm hardwood panelled, glazed or part glazed door prepared for glazing, hang on 1.5 pair butts, fix new mortice lock, furniture, keep, pair of bolts, cylinder latch and pull, security restraint device, letter plate including cutting mortice in door to suit, numerals, hardwood weathermould, adjust stops, ease rebates, cut out and make good to frame to suit new position of butts, weathermould, lock and latch, rebate door bottom as necessary and fit new waterbar if required, double glazed and decorate to match existing internally and prepare for redecoration externally, and remove waste and debris.",null,null,5.3260000000000698,null,"3211BA","NO",1,461.13,461.13,null,{"$f":"SUMIF('Planned Maint v6.2 CSV File'!A:A,J14,'Planned Maint v6.2 CSV File'!I:I)","v":408.79174499999999},{"$f":"IF(J14=\"PROV SUM\",N14,L14*P14)","v":408.79174499999999},{"$f":"IF(J14=\"Prov Sum\",\"\",IF(MATCH(J14,'Packet Rate Library'!J:J,0),VLOOKUP(J14,'Packet Rate Library'!J:T,9,FALSE),\"\"))","v":0},{"$f":"IF(R14>0,R14,P14)","v":408.79174499999999},{"$f":"IF(J14=\"SC024\",N14,IF(ISERROR(S14),\"\",IF(J14=\"PROV SUM\",N14,L14*S14)))","v":408.79174499999999}]
[null,"REPB47293","COMMUNAL WORKS","D","PROVISIONAL SUM: Skirting Board: decorate skirting boardoftwood (LM 25). ",null,null,5.3860000000000001,null,"PROV SUM","SUM",1,150,150,null,{"$f":"SUMIF('Planned Maint v6.2 CSV File'!A:A,J15,'Planned Maint v6.2 CSV File'!I:I)","v":0},{"$f":"IF(J15=\"PROV SUM\",N15,L15*P15)","v":150},{"$f":"IF(J15=\"Prov Sum\",\"\",IF(MATCH(J15,'Packet Rate Library'!J:J,0),VLOOKUP(J15,'Packet Rate Library'!J:T,9,FALSE),\"\"))","v":""},{"$f":"IF(R15>0,R15,P15)","v":""},{"$f":"IF(J15=\"SC024\",N15,IF(ISERROR(S15),\"\",IF(J15=\"PROV SUM\",N15,L15*S15)))","v":150}]
[null,"REPB47293","COMMUNAL WORKS","D","PROVISIONAL SUM: Take up and renew existing floor covering (SM 20).",null,null,5.3869999999999996,null,"PROV SUM","SUM",1,200,200,null,{"$f":"SUMIF('Planned Maint v6.2 CSV File'!A:A,J16,'Planned Maint v6.2 CSV File'!I:I)","v":0},{"$f":"IF(J16=\"PROV SUM\",N16,L16*P16)","v":200},{"$f":"IF(J16=\"Prov Sum\",\"\",IF(MATCH(J16,'Packet Rate Library'!J:J,0),VLOOKUP(J16,'Packet Rate Library'!J:T,9,FALSE),\"\"))","v":""},{"$f":"IF(R16>0,R16,P16)","v":""},{"$f":"IF(J16=\"SC024\",N16,IF(ISERROR(S16),\"\",IF(J16=\"PROV SUM\",N16,L16*S16)))","v":200}]
[null,"REPB47293","COMMUNAL WORKS","D","PROV SUM: Hall: Thoroughly clean down all wall and ceiling surfaces to common areas to remove dirt, grease and surface containments, scrape and remove all loose and defective coatings, prime bare areas with one coat of fire retardant primer and apply two coats of Class ‘O’ fire retardant matt paint, prepare and apply two coats of polyurethane lacquer or one undercoat and one gloss coat to all previously decorated timber surfaces to lobby, hall or corridor over 3.00sm ceiling area complete (classified as a single area). Code 4540AC",null,null,5.3879999999999999,null,"PROV SUM","IT",1,480,480,null,{"$f":"SUMIF('Planned Maint v6.2 CSV File'!A:A,J17,'Planned Maint v6.2 CSV File'!I:I)","v":0},{"$f":"IF(J17=\"PROV SUM\",N17,L17*P17)","v":480},{"$f":"IF(J17=\"Prov Sum\",\"\",IF(MATCH(J17,'Packet Rate Library'!J:J,0),VLOOKUP(J17,'Packet Rate Library'!J:T,9,FALSE),\"\"))","v":""},{"$f":"IF(R17>0,R17,P17)","v":""},{"$f":"IF(J17=\"SC024\",N17,IF(ISERROR(S17),\"\",IF(J17=\"PROV SUM\",N17,L17*S17)))","v":480}]
[null,"REPB47293","EXTREP","H"]
[null,"REPB47293","EXTREP","D","Moulding Repairs  0-5no. per property\nFosroc repair mortar or equivalent\nInsitu repairs using straight edge to form moulding repair. \n\n(Girth NE300mm Length NE300mm)",null,null,6.11,null,"FAB071","no",1,79.14,79.14,null,{"$f":"SUMIF('Planned Maint v6.2 CSV File'!A:A,J19,'Planned Maint v6.2 CSV File'!I:I)","v":63.312000000000005},{"$f":"IF(J19=\"PROV SUM\",N19,L19*P19)","v":63.312000000000005},{"$f":"IF(J19=\"Prov Sum\",\"\",IF(MATCH(J19,'Packet Rate Library'!J:J,0),VLOOKUP(J19,'Packet Rate Library'!J:T,9,FALSE),\"\"))","v":0},{"$f":"IF(R19>0,R19,P19)","v":63.312000000000005},{"$f":"IF(J19=\"SC024\",N19,IF(ISERROR(S19),\"\",IF(J19=\"PROV SUM\",N19,L19*S19)))","v":63.312000000000005}]
[null,"REPB47293","EXTREP","D","Fracture: Remove any applied finish and cut out bricks as necessary to either side of fracture, one face only, stitch in new bricks, bed and point to match existing in cement lime mortar (1:1:6), and make good any applied finishes, and remove waste and debris (measured over mean general line of fracture).",null,null,6.82,null,"1019AA","LM",40,44.12,1764.8,null,{"$f":"SUMIF('Planned Maint v6.2 CSV File'!A:A,J20,'Planned Maint v6.2 CSV File'!I:I)","v":31.986999999999998},1279.48,{"$f":"IF(J20=\"Prov Sum\",\"\",IF(MATCH(J20,'Packet Rate Library'!J:J,0),VLOOKUP(J20,'Packet Rate Library'!J:T,9,FALSE),\"\"))","v":0},31.986999999999998,1279.48]
[null,"REPB47293","EXTREP","D","Cills: Prepare, clean off all dust and debris, fill in or resurface cracks or spalled surfaces of concrete with epoxy mortar in surfaces of cills, not exceeding 300mm girth, repair over 5 and ne 10mm deep, and remove waste and debris.",null,null,6.16100000000002,null,"1460AF","LM",22,38.25,841.5,null,{"$f":"SUMIF('Planned Maint v6.2 CSV File'!A:A,J21,'Planned Maint v6.2 CSV File'!I:I)","v":27.731249999999999},610.08749999999998,{"$f":"IF(J21=\"Prov Sum\",\"\",IF(MATCH(J21,'Packet Rate Library'!J:J,0),VLOOKUP(J21,'Packet Rate Library'!J:T,9,FALSE),\"\"))","v":0},27.731249999999999,610.08749999999998]
[null,"REPB47293","EXTREP","D","Walls: Wash down, fill in cracks and holes, sand smooth and apply two coats of smooth finish masonry paint to rendered or concrete surfaces of walls.",null,null,6.1940000000000301,null,"4360BA","SM",25,7.02,175.5,null,{"$f":"SUMIF('Planned Maint v6.2 CSV File'!A:A,J22,'Planned Maint v6.2 CSV File'!I:I)","v":5.9669999999999996},149.17499999999998,{"$f":"IF(J22=\"Prov Sum\",\"\",IF(MATCH(J22,'Packet Rate Library'!J:J,0),VLOOKUP(J22,'Packet Rate Library'!J:T,9,FALSE),\"\"))","v":0},5.9669999999999996,149.17499999999998]
[null,"REPB47293","EXTREP","D","Gates: Wire brush, prepare for and apply one undercoat, one coat of gloss paint to both sides of existing painted any size/type single metal gate including all edges and all surfaces of posts.",null,null,6.2240000000000402,null,"4364CA","IT",1,12.36,12.36,null,{"$f":"SUMIF('Planned Maint v6.2 CSV File'!A:A,J23,'Planned Maint v6.2 CSV File'!I:I)","v":10.505999999999998},10.505999999999998,{"$f":"IF(J23=\"Prov Sum\",\"\",IF(MATCH(J23,'Packet Rate Library'!J:J,0),VLOOKUP(J23,'Packet Rate Library'!J:T,9,FALSE),\"\"))","v":0},10.505999999999998,10.505999999999998]
[null,"REPB47293","EXTREP","D","Fascias, soffits, Bargeboards and the like:Rub down, prepare for, and apply one undercoat, two coats of gloss paint on existing painted surfaces of facias, soffits, bargeboards and the like ne 300mm girth.",null,null,6.2600000000000504,null,"4381HB","LM",29,3.74,108.46,null,{"$f":"SUMIF('Planned Maint v6.2 CSV File'!A:A,J24,'Planned Maint v6.2 CSV File'!I:I)","v":3.1790000000000003},92.191000000000003,{"$f":"IF(J24=\"Prov Sum\",\"\",IF(MATCH(J24,'Packet Rate Library'!J:J,0),VLOOKUP(J24,'Packet Rate Library'!J:T,9,FALSE),\"\"))","v":0},3.1790000000000003,92.191000000000003]
[null,"REPB47293","EXTREP","D","Window: Rub down, prepare and apply one undercoat and one coat of gloss paint on existing painted surfaces of wooden windows (one side and edges).",null,null,6.2620000000000502,null,"4381JB","SM",31,16.86,522.66,null,{"$f":"SUMIF('Planned Maint v6.2 CSV File'!A:A,J25,'Planned Maint v6.2 CSV File'!I:I)","v":14.331},444.26099999999997,{"$f":"IF(J25=\"Prov Sum\",\"\",IF(MATCH(J25,'Packet Rate Library'!J:J,0),VLOOKUP(J25,'Packet Rate Library'!J:T,9,FALSE),\"\"))","v":0},14.331,444.26099999999997]
[null,"REPB47293","ROOF","H"]
[null,"REPB47293","ROOF","D","Gutter: Clean out debris from gutters to any type of property including flush out and test, rod downpipe including clean out gulley and remove debris from site on completion (per elevation).",null,null,3.3640000000000101,null,"6039BA","IT",3,20.13,60.39,null,{"$f":"SUMIF('Planned Maint v6.2 CSV File'!A:A,J27,'Planned Maint v6.2 CSV File'!I:I)","v":14.918342999999998},{"$f":"IF(J27=\"PROV SUM\",N27,L27*P27)","v":44.755028999999993},{"$f":"IF(J27=\"Prov Sum\",\"\",IF(MATCH(J27,'Packet Rate Library'!J:J,0),VLOOKUP(J27,'Packet Rate Library'!J:T,9,FALSE),\"\"))","v":0},{"$f":"IF(R27>0,R27,P27)","v":14.918342999999998},{"$f":"IF(J27=\"SC024\",N27,IF(ISERROR(S27),\"\",IF(J27=\"PROV SUM\",N27,L27*S27)))","v":44.755028999999993}]
[null,"REPB47293","ROOF","D","Chimney: Renew facing bricks in chimney stack in area ne 0.50sm, cut out defective bricks, lay new facing bricks bedded and pointed in mortar to match existing and remove waste and debris.",null,null,3.4220000000000201,null,"1200AN","NO",1,66.790000000000006,66.790000000000006,null,{"$f":"SUMIF('Planned Maint v6.2 CSV File'!A:A,J28,'Planned Maint v6.2 CSV File'!I:I)","v":48.422750000000001},{"$f":"IF(J28=\"PROV SUM\",N28,L28*P28)","v":48.422750000000001},{"$f":"IF(J28=\"Prov Sum\",\"\",IF(MATCH(J28,'Packet Rate Library'!J:J,0),VLOOKUP(J28,'Packet Rate Library'!J:T,9,FALSE),\"\"))","v":0},{"$f":"IF(R28>0,R28,P28)","v":48.422750000000001},{"$f":"IF(J28=\"SC024\",N28,IF(ISERROR(S28),\"\",IF(J28=\"PROV SUM\",N28,L28*S28)))","v":48.422750000000001}]
[null,"REPB47293","WINDOWS","H"]
[null,"REPB47293","WINDOWS","D","Window: Renew window with purpose made hardwood double hung cased box frame and sashes complete with 2 sashes, factory applied base stain, compressible weatherstripping, glazing beads, ironmongery, remove existing and fix new into prepared opening, bed in mortar, point with sealant, double glazed and make good all finishes, decorate to match existing internally and prepare for redecoration externally, and remove waste and debris.",null,null,4.4199999999999902,null,"3115AA","SM",21,698.79,14674.59,null,{"$f":"SUMIF('Planned Maint v6.2 CSV File'!A:A,J30,'Planned Maint v6.2 CSV File'!I:I)","v":619.47733499999993},{"$f":"IF(J30=\"PROV SUM\",N30,L30*P30)","v":13009.024034999999},{"$f":"IF(J30=\"Prov Sum\",\"\",IF(MATCH(J30,'Packet Rate Library'!J:J,0),VLOOKUP(J30,'Packet Rate Library'!J:T,9,FALSE),\"\"))","v":0},{"$f":"IF(R30>0,R30,P30)","v":619.47733499999993},{"$f":"IF(J30=\"SC024\",N30,IF(ISERROR(S30),\"\",IF(J30=\"PROV SUM\",N30,L30*S30)))","v":13009.024034999999}]
[null,"REPB47293","SCAFFOLD","H"]
[null,"REPB47293","SCAFFOLD","D","Standard Scaffold item: erect; dismantle; basic independent tied working scaffolding; 5 boards wide, including hire period; completely accessible; debris netting to all elevations; double boarded and polythene included as necessary, any fan(s) included as required; rope plus wheel for lifting operations; 3rd handrail included whenever necessary; as per applicable regulations (applies to up to 5 storeys). Measured up to second handrail and by the middle of the scaffold (equidistant from the inside/outside face) including design when required. Rate to include for 12 week hire",null,null,2.1,null,"SC001","M2",245,12.92,3165.4,null,{"$f":"SUMIF('Planned Maint v6.2 CSV File'!A:A,J32,'Planned Maint v6.2 CSV File'!I:I)","v":16.4084},{"$f":"IF(J32=\"PROV SUM\",N32,L32*P32)","v":4020.058},{"$f":"IF(J32=\"Prov Sum\",\"\",IF(MATCH(J32,'Packet Rate Library'!J:J,0),VLOOKUP(J32,'Packet Rate Library'!J:T,9,FALSE),\"\"))","v":0},{"$f":"IF(R32>0,R32,P32)","v":16.4084},{"$f":"IF(J32=\"SC024\",N32,IF(ISERROR(S32),\"\",IF(J32=\"PROV SUM\",N32,L32*S32)))","v":4020.058}]
[null,"REPB47293","SCAFFOLD","D","Scaffold alarm - 1 x sounder, 2 x PIR 1 X key pad (Divided by Number of properties if continuous scaffolds)",null,null,2.5,null,"SC005","unit",1,420,420,null,{"$f":"SUMIF('Planned Maint v6.2 CSV File'!A:A,J33,'Planned Maint v6.2 CSV File'!I:I)","v":533.4},{"$f":"IF(J33=\"PROV SUM\",N33,L33*P33)","v":533.4},{"$f":"IF(J33=\"Prov Sum\",\"\",IF(MATCH(J33,'Packet Rate Library'!J:J,0),VLOOKUP(J33,'Packet Rate Library'!J:T,9,FALSE),\"\"))","v":0},{"$f":"IF(R33>0,R33,P33)","v":533.4},{"$f":"IF(J33=\"SC024\",N33,IF(ISERROR(S33),\"\",IF(J33=\"PROV SUM\",N33,L33*S33)))","v":533.4}]
[null,"REPB47293","SCAFFOLD","D","E/O for additional PIRS",null,null,2.6,null,"SC007","unit",2,50,100,null,{"$f":"SUMIF('Planned Maint v6.2 CSV File'!A:A,J34,'Planned Maint v6.2 CSV File'!I:I)","v":63.5},{"$f":"IF(J34=\"PROV SUM\",N34,L34*P34)","v":127},{"$f":"IF(J34=\"Prov Sum\",\"\",IF(MATCH(J34,'Packet Rate Library'!J:J,0),VLOOKUP(J34,'Packet Rate Library'!J:T,9,FALSE),\"\"))","v":0},{"$f":"IF(R34>0,R34,P34)","v":63.5},{"$f":"IF(J34=\"SC024\",N34,IF(ISERROR(S34),\"\",IF(J34=\"PROV SUM\",N34,L34*S34)))","v":127}]
[null,"REPB47293","SCAFFOLD","D","Scaffold taken through property (protection to surfaces included)",null,null,2.16,null,"SC016","unit",1,379.8,379.8,null,{"$f":"SUMIF('Planned Maint v6.2 CSV File'!A:A,J35,'Planned Maint v6.2 CSV File'!I:I)","v":482.346},{"$f":"IF(J35=\"PROV SUM\",N35,L35*P35)","v":482.346},{"$f":"IF(J35=\"Prov Sum\",\"\",IF(MATCH(J35,'Packet Rate Library'!J:J,0),VLOOKUP(J35,'Packet Rate Library'!J:T,9,FALSE),\"\"))","v":0},{"$f":"IF(R35>0,R35,P35)","v":482.346},{"$f":"IF(J35=\"SC024\",N35,IF(ISERROR(S35),\"\",IF(J35=\"PROV SUM\",N35,L35*S35)))","v":482.346}]
[null,"REPB47293","SCAFFOLD","D","Additional Hire if required - % per week of total scaffolding costs.  This is to be applied in the event an agreed programme exceeding the duration set out above. An example would be large low level blocks of 4 storeys requiring a large programme duration",null,null,null,null,"SC024","unit",null,4.8300000000000003E-2,{"$f":"VLOOKUP(B36,'Project Overheads & Scaffold'!$W:$AI,13,FALSE)","v":0},null,{"$f":"SUMIF('Planned Maint v6.2 CSV File'!A:A,J36,'Planned Maint v6.2 CSV File'!I:I)","v":4.8300000000000003E-2},{"$f":"IF(J36=\"PROV SUM\",N36,L36*P36)","v":0},{"$f":"IF(J36=\"Prov Sum\",\"\",IF(MATCH(J36,'Packet Rate Library'!J:J,0),VLOOKUP(J36,'Packet Rate Library'!J:T,9,FALSE),\"\"))","v":{"$error":"#N/A"}},{"$f":"IF(R36>0,R36,P36)","v":{"$error":"#N/A"}},{"$f":"IF(J36=\"SC024\",N36,IF(ISERROR(S36),\"\",IF(J36=\"PROV SUM\",N36,L36*S36)))","v":0}]
[null,"REPB47293","ESTATE WORKS","H"]
[null,"REPB47293","ESTATE WORKS","D","Path: Excavate 250mm below required finished level, remove waste and debris, level and compact bottoms of excavations and fill, 150mm hardcore bed, blinded and ne 100mm concrete trowelled smooth including dishing to gullies and the like and all formwork.",null,null,7.4000000000000199,null,"0030AA","SM",20,58.8,1176,null,{"$f":"SUMIF('Planned Maint v6.2 CSV File'!A:A,J38,'Planned Maint v6.2 CSV File'!I:I)","v":48.351239999999997},{"$f":"IF(J38=\"PROV SUM\",N38,L38*P38)","v":967.02479999999991},{"$f":"IF(J38=\"Prov Sum\",\"\",IF(MATCH(J38,'Packet Rate Library'!J:J,0),VLOOKUP(J38,'Packet Rate Library'!J:T,9,FALSE),\"\"))","v":0},{"$f":"IF(R38>0,R38,P38)","v":48.351239999999997},{"$f":"IF(J38=\"SC024\",N38,IF(ISERROR(S38),\"\",IF(J38=\"PROV SUM\",N38,L38*S38)))","v":967.02479999999991}]
[null,"REPB47293","ESTATE WORKS","D","Chainlink: Renew chainlink fencing 0.9m high on existing posts, including removal of old and remove from site to approved tip, supply and fix new galvanised or plastic coated steel chainlink wire fencing including three 2.50mm diameter galvanised mild steel line wires and all fittings, ties etc. (measured per metre run of fencing).",null,null,7.1210000000000102,null,"0174AA","LM",10,8.39,83.9,null,{"$f":"SUMIF('Planned Maint v6.2 CSV File'!A:A,J39,'Planned Maint v6.2 CSV File'!I:I)","v":6.8881899999999998},68.881900000000002,{"$f":"IF(J39=\"Prov Sum\",\"\",IF(MATCH(J39,'Packet Rate Library'!J:J,0),VLOOKUP(J39,'Packet Rate Library'!J:T,9,FALSE),\"\"))","v":0},6.8881899999999998,68.881900000000002]
[null,"REPB47293","ESTATE WORKS","D","Fracture: Remove any applied finish and cut out bricks as necessary to either side of fracture, one face only, stitch in new bricks, bed and point to match existing in cement lime mortar (1:1:6), and make good any applied finishes, and remove waste and debris (measured over mean general line of fracture).",null,null,7.2440000000000504,null,"1019AA","LM",1,44.12,44.12,null,{"$f":"SUMIF('Planned Maint v6.2 CSV File'!A:A,J40,'Planned Maint v6.2 CSV File'!I:I)","v":31.986999999999998},31.986999999999998,{"$f":"IF(J40=\"Prov Sum\",\"\",IF(MATCH(J40,'Packet Rate Library'!J:J,0),VLOOKUP(J40,'Packet Rate Library'!J:T,9,FALSE),\"\"))","v":0},31.986999999999998,31.986999999999998]
[null,"REPB47293","ESTATE WORKS","D","Wall: Cut out bricks from face of wall, clean and clear away, lay upto 15 No. new common bricks in cement lime mortar (1:1:6), bond, bed and point to match existing and remove waste and debris.",null,null,7.2450000000000498,null,"1019AB","IT",13,18.93,246.09,null,{"$f":"SUMIF('Planned Maint v6.2 CSV File'!A:A,J41,'Planned Maint v6.2 CSV File'!I:I)","v":13.72425},178.41524999999999,{"$f":"IF(J41=\"Prov Sum\",\"\",IF(MATCH(J41,'Packet Rate Library'!J:J,0),VLOOKUP(J41,'Packet Rate Library'!J:T,9,FALSE),\"\"))","v":0},13.72425,178.41524999999999]
[null,"REPB47293","ESTATE WORKS","D","Wall: Cut out bricks from face of wall, clean and clear away, lay over 15 No. new facing bricks up to 2sm in area in cement lime mortar (1:1:6), bond, bed and point to match existing and remove waste and debris.",null,null,7.24800000000005,null,"1019BB","IT",1,114.45,114.45,null,{"$f":"SUMIF('Planned Maint v6.2 CSV File'!A:A,J42,'Planned Maint v6.2 CSV File'!I:I)","v":82.976249999999993},82.976249999999993,{"$f":"IF(J42=\"Prov Sum\",\"\",IF(MATCH(J42,'Packet Rate Library'!J:J,0),VLOOKUP(J42,'Packet Rate Library'!J:T,9,FALSE),\"\"))","v":0},82.976249999999993,82.976249999999993]
[null,"REPB47293","ESTATE WORKS","D","Wall: Rake out existing joints of brickwork min 12mm and repoint brickwork in mortar to match existing and remove waste and debris.",null,null,7.2530000000000499,null,"1021AA","SM",20,20.13,402.6,null,{"$f":"SUMIF('Planned Maint v6.2 CSV File'!A:A,J43,'Planned Maint v6.2 CSV File'!I:I)","v":14.594249999999999},291.88499999999999,{"$f":"IF(J43=\"Prov Sum\",\"\",IF(MATCH(J43,'Packet Rate Library'!J:J,0),VLOOKUP(J43,'Packet Rate Library'!J:T,9,FALSE),\"\"))","v":0},14.594249999999999,291.88499999999999]
[null,"REPB47293","ESTATE WORKS","D","PROVISIONAL SUM: Paving slab: Renew cracked slabs and re-align to attain even surface (SM 4).",null,null,7.3159999999999998,null,"PROV SUM","SUM",1,400,400,null,{"$f":"SUMIF('Planned Maint v6.2 CSV File'!A:A,J44,'Planned Maint v6.2 CSV File'!I:I)","v":0},400,{"$f":"IF(J44=\"Prov Sum\",\"\",IF(MATCH(J44,'Packet Rate Library'!J:J,0),VLOOKUP(J44,'Packet Rate Library'!J:T,9,FALSE),\"\"))","v":""},"",400]
[null,"REPB47293","ESTATE WORKS","D","PROVISIONAL SUM: Timber gate: Renew timber gate leading to the flank (IT 1).",null,null,7.3170000000000002,null,"PROV SUM","SUM",1,150,150,null,{"$f":"SUMIF('Planned Maint v6.2 CSV File'!A:A,J45,'Planned Maint v6.2 CSV File'!I:I)","v":0},150,{"$f":"IF(J45=\"Prov Sum\",\"\",IF(MATCH(J45,'Packet Rate Library'!J:J,0),VLOOKUP(J45,'Packet Rate Library'!J:T,9,FALSE),\"\"))","v":""},"",150]
[null,"REPB47293","FRA WORKS","H"]
[null,"REPB47293","FRA WORKS","D","Door:Renew front door with any size panelled, glazed or partially glazed or similar proprietary high performance GRP door, prefinished, preglazed, and prehung to and including proprietary door frame and cill, including  new mortice lock, door furniture, keeps, pair of bolts, cylinder nightlatch and pull, security restraint device, proprietary letter plate, numerals, proprietary weathermould, fix frame and cill to struycture, seal around frame and cill, make good  and remove waste and debris.",null,null,11,null,"3221CB","Item",1,1212.5,1212.5,null,{"$f":"SUMIF('Planned Maint v6.2 CSV File'!A:A,J47,'Planned Maint v6.2 CSV File'!I:I)","v":1074.8812499999999},{"$f":"IF(J47=\"PROV SUM\",N47,L47*P47)","v":1074.8812499999999},{"$f":"IF(J47=\"Prov Sum\",\"\",IF(MATCH(J47,'Packet Rate Library'!J:J,0),VLOOKUP(J47,'Packet Rate Library'!J:T,9,FALSE),\"\"))","v":0},{"$f":"IF(R47>0,R47,P47)","v":1074.8812499999999},{"$f":"IF(J47=\"SC024\",N47,IF(ISERROR(S47),\"\",IF(J47=\"PROV SUM\",N47,L47*S47)))","v":1074.8812499999999}]
[null,"REPB47293","FRA WORKS","D","Door:Renew internal door with any size single half-hour fire check glazed door having 3.2mm luan, white Meranti or other approved plywood facing both sides and 9mm hardwood lipping on long edges, including remove existing door and hinges, remove and refit door stops as necessary, fit and hang new door on 1.50 pairs of 100mm steel butt hinges, make good or alter recesses on frame, door complete with all ironmongery, intumescent strips and smoke seals, glazed, redecorate to match existing and remove waste and debris.",null,null,13,null,"3300FC","Item",2,222.2,444.4,null,{"$f":"SUMIF('Planned Maint v6.2 CSV File'!A:A,J48,'Planned Maint v6.2 CSV File'!I:I)","v":196.98029999999997},393.96059999999994,{"$f":"IF(J48=\"Prov Sum\",\"\",IF(MATCH(J48,'Packet Rate Library'!J:J,0),VLOOKUP(J48,'Packet Rate Library'!J:T,9,FALSE),\"\"))","v":0},196.98029999999997,393.96059999999994]
[null,"REPB47293","FRA WORKS","D","Fire Upgrading Coating:Remove all existing defective paint to plastered or rendered wall surfaces back to a solid edge, feather off and repair any defective areas with a high quality filler as necessary, spot prime filled or bare areas with afire upgrading primer, remove any existing graffiti with a graffiti removal system, wash down, rinse, clean off and apply one full coat of fire upgrading primer at a coverage rate of 10sm per litre, apply two full coats of fire upgrading finish at a coverage rate of 10sm per litre.",null,null,27,null,"4801AB","Item",1,22.53,22.53,null,{"$f":"SUMIF('Planned Maint v6.2 CSV File'!A:A,J49,'Planned Maint v6.2 CSV File'!I:I)","v":19.150500000000001},19.150500000000001,{"$f":"IF(J49=\"Prov Sum\",\"\",IF(MATCH(J49,'Packet Rate Library'!J:J,0),VLOOKUP(J49,'Packet Rate Library'!J:T,9,FALSE),\"\"))","v":0},19.150500000000001,19.150500000000001]
[null,"REPB47293","FRA WORKS","D","Fire Upgrading Coating:Strip off existing multi layer paint coatings to existing plastered or rendered soffits with a proprietary paint stripper, scrape off or remove with a proprietary paint scraper, wash down,rinse,  spot prime filled or bare areas with afire upgrading primer, remove any existing graffiti with a graffiti removal system, clean off and apply one full coat of primer at a coverage rate of 10sm per litre, apply one full coats of colourcoat complete with decorative flakes, and apply one full coat of gloss or satin lacquer finish at a coverage rate of 10sm per litre.",null,null,41,null,"4804AD","Item",1,29.34,29.34,null,{"$f":"SUMIF('Planned Maint v6.2 CSV File'!A:A,J50,'Planned Maint v6.2 CSV File'!I:I)","v":24.939},24.939,{"$f":"IF(J50=\"Prov Sum\",\"\",IF(MATCH(J50,'Packet Rate Library'!J:J,0),VLOOKUP(J50,'Packet Rate Library'!J:T,9,FALSE),\"\"))","v":0},24.939,24.939]
[null,"REPB47293","FRA WORKS","D","Fire Upgrading Coating:Remove all existing defective paint to general surfaces of woodwork not exceeding 300mm girth, back to a solid edge, feather off and repair any defective areas with a high quality filler as necessary, spot prime filled or bare areas with afire upgrading primer, remove any existing graffiti with a graffiti removal system, wash down, rinse, clean off and apply one full coat of fire upgrading primer at a coverage rate of 10sm per litre, apply two full coats of fire upgrading finish at a coverage rate of 10sm per litre.",null,null,43,null,"4805AB","Item",1,20.399999999999999,20.399999999999999,null,{"$f":"SUMIF('Planned Maint v6.2 CSV File'!A:A,J51,'Planned Maint v6.2 CSV File'!I:I)","v":17.34},17.34,{"$f":"IF(J51=\"Prov Sum\",\"\",IF(MATCH(J51,'Packet Rate Library'!J:J,0),VLOOKUP(J51,'Packet Rate Library'!J:T,9,FALSE),\"\"))","v":0},17.34,17.34]
[null,"REPB47293","FRA WORKS","D","Fire Upgrading Coating:Remove all existing defective paint to general surfaces of timber doors back to a solid edge, feather off and repair any defective areas with a high quality filler as necessary, spot prime filled or bare areas with afire upgrading primer, remove any existing graffiti with a graffiti removal system, wash down, rinse, clean off and apply one full coat of fire upgrading primer at a coverage rate of 10sm per litre, apply two full coats of fire upgrading finish at a coverage rate of 10sm per litre.",null,null,44,null,"4805AC","Item",1,35.86,35.86,null,{"$f":"SUMIF('Planned Maint v6.2 CSV File'!A:A,J52,'Planned Maint v6.2 CSV File'!I:I)","v":30.480999999999998},30.480999999999998,{"$f":"IF(J52=\"Prov Sum\",\"\",IF(MATCH(J52,'Packet Rate Library'!J:J,0),VLOOKUP(J52,'Packet Rate Library'!J:T,9,FALSE),\"\"))","v":0},30.480999999999998,30.480999999999998]
[null,"REPB47293","FRA WORKS","D","Fire Alarm:Install L2 type fire alarm installation complete to BS5839:Part6 1995, control panel, circuits, call points, automatic detectors and sounders, builders work, make good, test, commission, and remove waste and debris.",null,null,93,null,"8711GA","Item",1,550,550,null,{"$f":"SUMIF('Planned Maint v6.2 CSV File'!A:A,J53,'Planned Maint v6.2 CSV File'!I:I)","v":440},440,{"$f":"IF(J53=\"Prov Sum\",\"\",IF(MATCH(J53,'Packet Rate Library'!J:J,0),VLOOKUP(J53,'Packet Rate Library'!J:T,9,FALSE),\"\"))","v":0},440,440]
[null,"REPB47293","FRA WORKS","D","Intumescent Strip:Renew or supply and fix new 22x4mm intumescent strip, half hour application, with integral cold smoke seal and setting into groove in timber frame or door.",null,null,104,null,"3431AC","Item",2,3.44,6.88,null,{"$f":"SUMIF('Planned Maint v6.2 CSV File'!A:A,J54,'Planned Maint v6.2 CSV File'!I:I)","v":3.0495599999999996},6.0991199999999992,{"$f":"IF(J54=\"Prov Sum\",\"\",IF(MATCH(J54,'Packet Rate Library'!J:J,0),VLOOKUP(J54,'Packet Rate Library'!J:T,9,FALSE),\"\"))","v":0},3.0495599999999996,6.0991199999999992]
[null,"REPB47293","FRA WORKS","D","Smoke Detector:Renew existing with mains operated optical smoke detector with rechargeable DC battery or condensor back up self contained type to BS 5446 kitemark certified with hush button, including back plate and all necessary connections to existing wiring, test and make good on completion, where interlinked detectors are replaced new detectors must be compatible with existing, and remove waste and debris.",null,null,115,null,"8720FA","Item",3,70.11,210.32999999999998,null,{"$f":"SUMIF('Planned Maint v6.2 CSV File'!A:A,J55,'Planned Maint v6.2 CSV File'!I:I)","v":56.088000000000001},168.26400000000001,{"$f":"IF(J55=\"Prov Sum\",\"\",IF(MATCH(J55,'Packet Rate Library'!J:J,0),VLOOKUP(J55,'Packet Rate Library'!J:T,9,FALSE),\"\"))","v":0},56.088000000000001,168.26400000000001]
[null,"REPB47293","FRA WORKS","D","Emergency Lighting:Install emergency lighting installation to block of dwellings or scheme, strip out any existing installation and equipment, supply and install self contained non-maintained emergency uminaries and emergency exit signs, connect by specified cable to local lighting circuit, all builders work and make good all works disturbed, test and commission, and remove waste and debris (Per Dwelling in Scheme)",null,null,126,null,"8810XA","Item",1,300,300,null,{"$f":"SUMIF('Planned Maint v6.2 CSV File'!A:A,J56,'Planned Maint v6.2 CSV File'!I:I)","v":240},240,{"$f":"IF(J56=\"Prov Sum\",\"\",IF(MATCH(J56,'Packet Rate Library'!J:J,0),VLOOKUP(J56,'Packet Rate Library'!J:T,9,FALSE),\"\"))","v":0},240,240]
[null,"REPB47293","FRA WORKS","D","Closer:Renew or supply and fix Perko type concealed door closer screwed to door and frame, including remove and refix door or door stop as necessary.",null,null,175,null,"3905BA","Item",2,9.81,19.62,null,{"$f":"SUMIF('Planned Maint v6.2 CSV File'!A:A,J57,'Planned Maint v6.2 CSV File'!I:I)","v":8.6965649999999997},17.393129999999999,{"$f":"IF(J57=\"Prov Sum\",\"\",IF(MATCH(J57,'Packet Rate Library'!J:J,0),VLOOKUP(J57,'Packet Rate Library'!J:T,9,FALSE),\"\"))","v":0},8.6965649999999997,17.393129999999999]
[null,"REPB47293","FRA WORKS","D","Partition:Supply and erect or renew stud partition comprising ne 50x100mm sole and head plate, noggins and studs fixed with nails or plugged and screwed to walls, and pack out and scribe, 12.5mm butt jointed plasterboard and 3mm plaster skim coat and all labours to both faces.",null,null,180,null,"3013AB","Item",1,62.11,62.11,null,{"$f":"SUMIF('Planned Maint v6.2 CSV File'!A:A,J58,'Planned Maint v6.2 CSV File'!I:I)","v":55.060514999999995},55.060514999999995,{"$f":"IF(J58=\"Prov Sum\",\"\",IF(MATCH(J58,'Packet Rate Library'!J:J,0),VLOOKUP(J58,'Packet Rate Library'!J:T,9,FALSE),\"\"))","v":0},55.060514999999995,55.060514999999995]
[null,"REPB47293","FRA WORKS","D","Test:Carry out test of domestic installation to occupied property complete comprising continuity, insulation resistance, polarity, earth fault loop impedance and operation of residual current operated device, disconnect, repair and renew as necessary after removal of illegal wiring and components, and provide report and NICEIC/ECA test certificate to the Client’s Representative, and remove waste and debris.",null,null,186,null,"8950AA","Item",1,86.88,86.88,null,{"$f":"SUMIF('Planned Maint v6.2 CSV File'!A:A,J59,'Planned Maint v6.2 CSV File'!I:I)","v":69.504000000000005},69.504000000000005,{"$f":"IF(J59=\"Prov Sum\",\"\",IF(MATCH(J59,'Packet Rate Library'!J:J,0),VLOOKUP(J59,'Packet Rate Library'!J:T,9,FALSE),\"\"))","v":0},69.504000000000005,69.504000000000005]
[null,"REPB47293","FRA WORKS","D","Door and Frame:Renew internal door and frincluding remove existing door, hinges and frame, install 32mm door frame with 25x32mm stops, fit and hang new any size FD30S plywood faced fire check flush door on 1.5 pairs of 100mm steel hinges, make good or alter recesses on frame, door complete with all ironmongery, intumescent strips and smoke seals, make good and prepare door and frame for decoration and remove waste and debris.",null,null,189,null,"3300DA","Item",1,152.85,152.85,null,{"$f":"SUMIF('Planned Maint v6.2 CSV File'!A:A,J60,'Planned Maint v6.2 CSV File'!I:I)","v":135.50152499999999},135.50152499999999,{"$f":"IF(J60=\"Prov Sum\",\"\",IF(MATCH(J60,'Packet Rate Library'!J:J,0),VLOOKUP(J60,'Packet Rate Library'!J:T,9,FALSE),\"\"))","v":0},135.50152499999999,135.50152499999999]
[null,"REPB47293","FRA WORKS","D","Provisional Sum: Allow provisional sum for additional works to the fire alarm system.",null,null,190,null,"PROV SUM","Item",1,1500,1500,null,{"$f":"SUMIF('Planned Maint v6.2 CSV File'!A:A,J61,'Planned Maint v6.2 CSV File'!I:I)","v":0},1500,{"$f":"IF(J61=\"Prov Sum\",\"\",IF(MATCH(J61,'Packet Rate Library'!J:J,0),VLOOKUP(J61,'Packet Rate Library'!J:T,9,FALSE),\"\"))","v":""},"",1500]
[null,"REPB47293","FRA WORKS","D","Provisional Sum: Allow provisional sum for additional works to clear waste and debris from fire escape routes. ",null,null,191,null,"PROV SUM","Item",1,100,100,null,{"$f":"SUMIF('Planned Maint v6.2 CSV File'!A:A,J62,'Planned Maint v6.2 CSV File'!I:I)","v":0},100,{"$f":"IF(J62=\"Prov Sum\",\"\",IF(MATCH(J62,'Packet Rate Library'!J:J,0),VLOOKUP(J62,'Packet Rate Library'!J:T,9,FALSE),\"\"))","v":""},"",100]
[null,"REPB47293","FRA WORKS","D","Provisional Sum: Allow provisional sum for additional fire stopping works",null,null,192,null,"PROV SUM","Item",1,100,100,null,{"$f":"SUMIF('Planned Maint v6.2 CSV File'!A:A,J63,'Planned Maint v6.2 CSV File'!I:I)","v":0},100,{"$f":"IF(J63=\"Prov Sum\",\"\",IF(MATCH(J63,'Packet Rate Library'!J:J,0),VLOOKUP(J63,'Packet Rate Library'!J:T,9,FALSE),\"\"))","v":""},"",100]
[null,"REPB47293","FRA WORKS","D","Provisional Sum: Allow provisional sum for additional signage",null,null,193,null,"PROV SUM","Item",1,100,100,null,{"$f":"SUMIF('Planned Maint v6.2 CSV File'!A:A,J64,'Planned Maint v6.2 CSV File'!I:I)","v":0},100,{"$f":"IF(J64=\"Prov Sum\",\"\",IF(MATCH(J64,'Packet Rate Library'!J:J,0),VLOOKUP(J64,'Packet Rate Library'!J:T,9,FALSE),\"\"))","v":""},"",100]
[null,"REPB47293","FRA WORKS","D","Provisional Sum: Allow provisional sum for additional electrical works",null,null,194,null,"PROV SUM","Item",1,350,350,null,{"$f":"SUMIF('Planned Maint v6.2 CSV File'!A:A,J65,'Planned Maint v6.2 CSV File'!I:I)","v":0},350,{"$f":"IF(J65=\"Prov Sum\",\"\",IF(MATCH(J65,'Packet Rate Library'!J:J,0),VLOOKUP(J65,'Packet Rate Library'!J:T,9,FALSE),\"\"))","v":""},"",350]

{"sheet":"19 Ascham Street Flats A-B","index":21,"n_rows":65,"n_cols":20,"rows_kept":65,"cut":false,"hidden":false,"merged":[[4,15,4,19]]}
[null,null,null,null,null,null,null,null,null,null,null,null,null,null,null,{"$f":"SUMIF('Planned Maint v6.2 CSV File'!A:A,J1,'Planned Maint v6.2 CSV File'!I:I)","v":0},{"$f":"IF(J1=\"PROV SUM\",N1,L1*P1)","v":0},{"$f":"IF(J1=\"Prov Sum\",\"\",IF(MATCH(J1,'Packet Rate Library'!J:J,0),VLOOKUP(J1,'Packet Rate Library'!J:T,9,FALSE),\"\"))","v":{"$error":"#N/A"}},{"$f":"IF(R1>0,R1,P1)","v":{"$error":"#N/A"}},{"$f":"IF(J1=\"SC024\",N1,IF(ISERROR(S1),\"\",IF(J1=\"PROV SUM\",N1,L1*S1)))","v":""}]
[]
[]
["19 ASCHAM STREET FLATS A-B"]
[]
["Requirement","REPB47025","Requirement Type","Rowtype (H=Header, D=Detail)","Description","Works Order Commencement Date","Works Order Completion Date","Specification  Ref. Item No.'s","Works Order Delivery Date","SOR Code","SOR Unit","SOR Qty","SOR Cost","Total Cost",null,"Rate (max)","Cost (max)","Modified price","Tendered rate","Tendered total"]
[]
[" ","REPB47025","ENERGY EFFICIENY","H"]
[null,"REPB47025","ENERGY EFFICIENY","D","Contractor to access and undertake survey of loft space in accordance with the Project Brief in order to assess level of current loft insulation. Including submittion of a survey report supported by photographic evidance to CM/PM. Where insulation levels are less then 200mm, Contractor to provide cost proposal to upgrade insulation in accordance with NHF SoR Planned Maintenance Version 6.2.",null,null,9.1,null,"ADD001","IT",1,null,null,null,{"$f":"SUMIF('Planned Maint v6.2 CSV File'!A:A,J9,'Planned Maint v6.2 CSV File'!I:I)","v":0},{"$f":"IF(J9=\"PROV SUM\",N9,L9*P9)","v":0},{"$f":"IF(J9=\"Prov Sum\",\"\",IF(MATCH(J9,'Packet Rate Library'!J:J,0),VLOOKUP(J9,'Packet Rate Library'!J:T,9,FALSE),\"\"))","v":0},{"$f":"IF(R9>0,R9,P9)","v":0},{"$f":"IF(J9=\"SC024\",N9,IF(ISERROR(S9),\"\",IF(J9=\"PROV SUM\",N9,L9*S9)))","v":0}]
[null,"REPB47025","ENERGY EFFICIENY","D","Insulation:Supply and lay ne 270mm thick insulation quilt to loft area including gain access and moving/replacing contents within loft area in order to undertake work. Item 2270AA",null,null,9.1999999999999993,null,"2270AA","SM",46.04,10.86,{"$f":"M10*L10","v":499.99439999999998},null,{"$f":"SUMIF('Planned Maint v6.2 CSV File'!A:A,J10,'Planned Maint v6.2 CSV File'!I:I)","v":8.6880000000000006},{"$f":"IF(J10=\"PROV SUM\",N10,L10*P10)","v":399.99552},{"$f":"IF(J10=\"Prov Sum\",\"\",IF(MATCH(J10,'Packet Rate Library'!J:J,0),VLOOKUP(J10,'Packet Rate Library'!J:T,9,FALSE),\"\"))","v":0},{"$f":"IF(R10>0,R10,P10)","v":8.6880000000000006},{"$f":"IF(J10=\"SC024\",N10,IF(ISERROR(S10),\"\",IF(J10=\"PROV SUM\",N10,L10*S10)))","v":399.99552}]
[null,"REPB47025","ASBESTOS","H"]
[null,"REPB47025","ASBESTOS","D","Refurbishment and Demolition  Survey to Full Property (with upto 5 Nr samples) , flat or house any size",null,null,1.3,null,"A003","Item",1,234,234,null,{"$f":"SUMIF('Planned Maint v6.2 CSV File'!A:A,J12,'Planned Maint v6.2 CSV File'!I:I)","v":222.29999999999998},{"$f":"IF(J12=\"PROV SUM\",N12,L12*P12)","v":222.29999999999998},{"$f":"IF(J12=\"Prov Sum\",\"\",IF(MATCH(J12,'Packet Rate Library'!J:J,0),VLOOKUP(J12,'Packet Rate Library'!J:T,9,FALSE),\"\"))","v":0},{"$f":"IF(R12>0,R12,P12)","v":222.29999999999998},{"$f":"IF(J12=\"SC024\",N12,IF(ISERROR(S12),\"\",IF(J12=\"PROV SUM\",N12,L12*S12)))","v":222.29999999999998}]
[null,"REPB47025","COMMUNAL WORKS","H"]
[null,"REPB47025","COMMUNAL WORKS","D","Hall: Thoroughly clean down all wall and ceiling surfaces to common areas to remove dirt, grease and surface containments, scrape and remove all loose and defective coatings, prime bare areas with one coat of fire retardant primer and apply two coats of Class ‘O’ fire retardant matt paint, prepare and apply two coats of polyurethane lacquer or one undercoat and one gloss coat to all previously decorated timber surfaces to lobby, hall or corridor over 3.00sm ceiling area complete (classified as a single area).",null,null,5.0999999999999996,null,"4540AC","IT",1,480,480,null,{"$f":"SUMIF('Planned Maint v6.2 CSV File'!A:A,J14,'Planned Maint v6.2 CSV File'!I:I)","v":408},{"$f":"IF(J14=\"PROV SUM\",N14,L14*P14)","v":408},{"$f":"IF(J14=\"Prov Sum\",\"\",IF(MATCH(J14,'Packet Rate Library'!J:J,0),VLOOKUP(J14,'Packet Rate Library'!J:T,9,FALSE),\"\"))","v":0},{"$f":"IF(R14>0,R14,P14)","v":408},{"$f":"IF(J14=\"SC024\",N14,IF(ISERROR(S14),\"\",IF(J14=\"PROV SUM\",N14,L14*S14)))","v":408}]
[null,"REPB47025","COMMUNAL WORKS","D","Hall Stairs: Rub down, prepare for and apply two coats of emulsion to ceilings of hall, landing and staircase area complete (3 storey) (classified as a single area).",null,null,5.24,null,"4506AB","IT",1,140.12,140.12,null,{"$f":"SUMIF('Planned Maint v6.2 CSV File'!A:A,J15,'Planned Maint v6.2 CSV File'!I:I)","v":119.102},{"$f":"IF(J15=\"PROV SUM\",N15,L15*P15)","v":119.102},{"$f":"IF(J15=\"Prov Sum\",\"\",IF(MATCH(J15,'Packet Rate Library'!J:J,0),VLOOKUP(J15,'Packet Rate Library'!J:T,9,FALSE),\"\"))","v":0},{"$f":"IF(R15>0,R15,P15)","v":119.102},{"$f":"IF(J15=\"SC024\",N15,IF(ISERROR(S15),\"\",IF(J15=\"PROV SUM\",N15,L15*S15)))","v":119.102}]
[null,"REPB47025","COMMUNAL WORKS","D","Flooring: Take up any covering, clear away, supply and lay minimum 2.0mm felt backed vinyl sheet flooring with adhesive to cement and sand screed, or hardboard including all necessary cutting, all labours and clean off, and remove waste and debris.",null,null,5.1400000000000103,null,"4325AA","SM",4,27.96,111.84,null,{"$f":"SUMIF('Planned Maint v6.2 CSV File'!A:A,J16,'Planned Maint v6.2 CSV File'!I:I)","v":23.553504},{"$f":"IF(J16=\"PROV SUM\",N16,L16*P16)","v":94.214016000000001},{"$f":"IF(J16=\"Prov Sum\",\"\",IF(MATCH(J16,'Packet Rate Library'!J:J,0),VLOOKUP(J16,'Packet Rate Library'!J:T,9,FALSE),\"\"))","v":0},{"$f":"IF(R16>0,R16,P16)","v":23.553504},{"$f":"IF(J16=\"SC024\",N16,IF(ISERROR(S16),\"\",IF(J16=\"PROV SUM\",N16,L16*S16)))","v":94.214016000000001}]
[null,"REPB47025","COMMUNAL WORKS","D","PROVISIONAL SUM: Surface of papered wall will require a quote of paint.",null,null,5.3860000000000001,null,"PROV SUM","SUM",1,300,300,null,{"$f":"SUMIF('Planned Maint v6.2 CSV File'!A:A,J17,'Planned Maint v6.2 CSV File'!I:I)","v":0},{"$f":"IF(J17=\"PROV SUM\",N17,L17*P17)","v":300},{"$f":"IF(J17=\"Prov Sum\",\"\",IF(MATCH(J17,'Packet Rate Library'!J:J,0),VLOOKUP(J17,'Packet Rate Library'!J:T,9,FALSE),\"\"))","v":""},{"$f":"IF(R17>0,R17,P17)","v":""},{"$f":"IF(J17=\"SC024\",N17,IF(ISERROR(S17),\"\",IF(J17=\"PROV SUM\",N17,L17*S17)))","v":300}]
[null,"REPB47025","EXTREP","H"]
[null,"REPB47025","EXTREP","D","Moulding Repairs  0-5no. per property\nFosroc repair mortar or equivalent\nInsitu repairs using straight edge to form moulding repair. \n\n(Girth NE300mm Length NE300mm)",null,null,6.11,null,"FAB071","no",1,79.14,79.14,null,{"$f":"SUMIF('Planned Maint v6.2 CSV File'!A:A,J19,'Planned Maint v6.2 CSV File'!I:I)","v":63.312000000000005},{"$f":"IF(J19=\"PROV SUM\",N19,L19*P19)","v":63.312000000000005},{"$f":"IF(J19=\"Prov Sum\",\"\",IF(MATCH(J19,'Packet Rate Library'!J:J,0),VLOOKUP(J19,'Packet Rate Library'!J:T,9,FALSE),\"\"))","v":0},{"$f":"IF(R19>0,R19,P19)","v":63.312000000000005},{"$f":"IF(J19=\"SC024\",N19,IF(ISERROR(S19),\"\",IF(J19=\"PROV SUM\",N19,L19*S19)))","v":63.312000000000005}]
[null,"REPB47025","EXTREP","D","Fracture: Remove any applied finish and cut out bricks as necessary to either side of fracture, one face only, stitch in new bricks, bed and point to match existing in cement lime mortar (1:1:6), and make good any applied finishes, and remove waste and debris (measured over mean general line of fracture).",null,null,6.82,null,"1019AA","LM",12,44.12,529.44000000000005,null,{"$f":"SUMIF('Planned Maint v6.2 CSV File'!A:A,J20,'Planned Maint v6.2 CSV File'!I:I)","v":31.986999999999998},383.84399999999999,{"$f":"IF(J20=\"Prov Sum\",\"\",IF(MATCH(J20,'Packet Rate Library'!J:J,0),VLOOKUP(J20,'Packet Rate Library'!J:T,9,FALSE),\"\"))","v":0},31.986999999999998,383.84399999999999]
[null,"REPB47025","EXTREP","D","Cills: Prepare, clean off all dust and debris, fill in or resurface cracks or spalled surfaces of concrete with epoxy mortar in surfaces of cills, not exceeding 300mm girth, repair over 5 and ne 10mm deep, and remove waste and debris.",null,null,6.16100000000002,null,"1460AF","LM",10,38.25,382.5,null,{"$f":"SUMIF('Planned Maint v6.2 CSV File'!A:A,J21,'Planned Maint v6.2 CSV File'!I:I)","v":27.731249999999999},277.3125,{"$f":"IF(J21=\"Prov Sum\",\"\",IF(MATCH(J21,'Packet Rate Library'!J:J,0),VLOOKUP(J21,'Packet Rate Library'!J:T,9,FALSE),\"\"))","v":0},27.731249999999999,277.3125]
[null,"REPB47025","EXTREP","D","Walls: Wash down, fill in cracks and holes, sand down and apply one coat of stabilising solution and two coats of smooth or textured  masonry paint to rendered or concrete walls.",null,null,6.1850000000000298,null,"4356BC","SM",25,11.01,275.25,null,{"$f":"SUMIF('Planned Maint v6.2 CSV File'!A:A,J22,'Planned Maint v6.2 CSV File'!I:I)","v":9.3584999999999994},233.96249999999998,{"$f":"IF(J22=\"Prov Sum\",\"\",IF(MATCH(J22,'Packet Rate Library'!J:J,0),VLOOKUP(J22,'Packet Rate Library'!J:T,9,FALSE),\"\"))","v":0},9.3584999999999994,233.96249999999998]
[null,"REPB47025","EXTREP","D","Pipework: Wire brush, prepare for and apply one undercoat and two coats of gloss paint to existing painted surfaces of external pipework ne 300mm girth including brackets.",null,null,6.2180000000000399,null,"4363HA","LM",15,1.73,25.95,null,{"$f":"SUMIF('Planned Maint v6.2 CSV File'!A:A,J23,'Planned Maint v6.2 CSV File'!I:I)","v":1.4704999999999999},22.057499999999997,{"$f":"IF(J23=\"Prov Sum\",\"\",IF(MATCH(J23,'Packet Rate Library'!J:J,0),VLOOKUP(J23,'Packet Rate Library'!J:T,9,FALSE),\"\"))","v":0},1.4704999999999999,22.057499999999997]
[null,"REPB47025","EXTREP","D","Fascias, soffits, Bargeboards and the like:Rub down, prepare for, and apply one undercoat, two coats of gloss paint on existing painted surfaces of facias, soffits, bargeboards and the like ne 300mm girth.",null,null,6.2600000000000504,null,"4381HB","LM",4,3.74,14.96,null,{"$f":"SUMIF('Planned Maint v6.2 CSV File'!A:A,J24,'Planned Maint v6.2 CSV File'!I:I)","v":3.1790000000000003},12.716000000000001,{"$f":"IF(J24=\"Prov Sum\",\"\",IF(MATCH(J24,'Packet Rate Library'!J:J,0),VLOOKUP(J24,'Packet Rate Library'!J:T,9,FALSE),\"\"))","v":0},3.1790000000000003,12.716000000000001]
[null,"REPB47025","EXTREP","D","Window: Rub down, prepare and apply one undercoat and one coat of gloss paint on existing painted surfaces of wooden windows (one side and edges).",null,null,6.2620000000000502,null,"4381JB","SM",15,16.86,252.9,null,{"$f":"SUMIF('Planned Maint v6.2 CSV File'!A:A,J25,'Planned Maint v6.2 CSV File'!I:I)","v":14.331},214.965,{"$f":"IF(J25=\"Prov Sum\",\"\",IF(MATCH(J25,'Packet Rate Library'!J:J,0),VLOOKUP(J25,'Packet Rate Library'!J:T,9,FALSE),\"\"))","v":0},14.331,214.965]
[null,"REPB47025","EXTREP","D","Door: Rub down, prepare for and apply one undercoat and one coat of gloss paint to all existing painted surfaces of any size or type of single glazed timber door (both sides and edges).",null,null,6.2650000000000503,null,"4381LB","IT",2,19.34,38.68,null,{"$f":"SUMIF('Planned Maint v6.2 CSV File'!A:A,J26,'Planned Maint v6.2 CSV File'!I:I)","v":16.439},32.878,{"$f":"IF(J26=\"Prov Sum\",\"\",IF(MATCH(J26,'Packet Rate Library'!J:J,0),VLOOKUP(J26,'Packet Rate Library'!J:T,9,FALSE),\"\"))","v":0},16.439,32.878]
[null,"REPB47025","EXTREP","D","Door: Rub down, prepare for, and apply three coats decorative wood stain on external surfaces of any size/type of single door(both sides and edges)",null,null,6.2760000000000602,null,"4382DB","IT",1,33.520000000000003,33.520000000000003,null,{"$f":"SUMIF('Planned Maint v6.2 CSV File'!A:A,J27,'Planned Maint v6.2 CSV File'!I:I)","v":28.492000000000001},28.492000000000001,{"$f":"IF(J27=\"Prov Sum\",\"\",IF(MATCH(J27,'Packet Rate Library'!J:J,0),VLOOKUP(J27,'Packet Rate Library'!J:T,9,FALSE),\"\"))","v":0},28.492000000000001,28.492000000000001]
[null,"REPB47025","EXTREP","D","Render Repairs: Repair crack in any external render including carefully hack out and make good with cement and sand including applying finish to match existing, and remove waste and debris.",null,null,6.3060000000000702,null,"4230ZA","LM",25,6.87,171.75,null,{"$f":"SUMIF('Planned Maint v6.2 CSV File'!A:A,J28,'Planned Maint v6.2 CSV File'!I:I)","v":4.9807499999999996},124.51874999999998,{"$f":"IF(J28=\"Prov Sum\",\"\",IF(MATCH(J28,'Packet Rate Library'!J:J,0),VLOOKUP(J28,'Packet Rate Library'!J:T,9,FALSE),\"\"))","v":0},4.9807499999999996,124.51874999999998]
[null,"REPB47025","EXTREP","D","PROVISIONAL SUM: Rub down, prepare, spot prime and apply one undercoat and one coat of gloss paint on existing painted general surfaces of woodwork. 4 no",null,null,6.399,null,"PROV SUM","SUM",1,200,200,null,{"$f":"SUMIF('Planned Maint v6.2 CSV File'!A:A,J29,'Planned Maint v6.2 CSV File'!I:I)","v":0},200,{"$f":"IF(J29=\"Prov Sum\",\"\",IF(MATCH(J29,'Packet Rate Library'!J:J,0),VLOOKUP(J29,'Packet Rate Library'!J:T,9,FALSE),\"\"))","v":""},"",200]
[null,"REPB47025","ROOF","H"]
[null,"REPB47025","ROOF","D","Fascia/Soffit/Barge: Refix any size fascia, soffit or bargeboard to existing roof timbers including remove/refix rainwater goods and cabling as necessary, renewal of support battens, all cutting and packing and prepare for redecoration.",null,null,3.63,null,"3030HA","LM",4,11.87,47.48,null,{"$f":"SUMIF('Planned Maint v6.2 CSV File'!A:A,J31,'Planned Maint v6.2 CSV File'!I:I)","v":10.522754999999998},{"$f":"IF(J31=\"PROV SUM\",N31,L31*P31)","v":42.091019999999993},{"$f":"IF(J31=\"Prov Sum\",\"\",IF(MATCH(J31,'Packet Rate Library'!J:J,0),VLOOKUP(J31,'Packet Rate Library'!J:T,9,FALSE),\"\"))","v":0},{"$f":"IF(R31>0,R31,P31)","v":10.522754999999998},{"$f":"IF(J31=\"SC024\",N31,IF(ISERROR(S31),\"\",IF(J31=\"PROV SUM\",N31,L31*S31)))","v":42.091019999999993}]
[null,"REPB47025","ROOF","D","Moss: Carefully remove moss/lichen growth on roof covering of any kind and dispose of debris off site, reistate all disturbed surfaces, replace broken tiles, slates and the like, thoroughly clean out valleys, gutters, downpipes, hoppers etc, prepare and treat the complete roof area with a diluted fungicide solution AKZO or other equal and approved applied strictly in accordance with the manufacturer’s instructions, thoroughly clean out all gutters and the like to remove all chemical residue arising upon completion of the works, and remove waste and debris.",null,null,3.1799999999999899,null,"2115AA","SM",70,10.17,711.9,null,{"$f":"SUMIF('Planned Maint v6.2 CSV File'!A:A,J32,'Planned Maint v6.2 CSV File'!I:I)","v":8.136000000000001},569.5200000000001,{"$f":"IF(J32=\"Prov Sum\",\"\",IF(MATCH(J32,'Packet Rate Library'!J:J,0),VLOOKUP(J32,'Packet Rate Library'!J:T,9,FALSE),\"\"))","v":0},8.136000000000001,569.5200000000001]
[null,"REPB47025","ROOF","D","Secret Gutter: Clear debris and clean down large secret lead or copper gutter or valley, remove waste and debis",null,null,3.1889999999999898,null,"2250CA","LM",10,5.58,55.8,null,{"$f":"SUMIF('Planned Maint v6.2 CSV File'!A:A,J33,'Planned Maint v6.2 CSV File'!I:I)","v":4.4640000000000004},44.64,{"$f":"IF(J33=\"Prov Sum\",\"\",IF(MATCH(J33,'Packet Rate Library'!J:J,0),VLOOKUP(J33,'Packet Rate Library'!J:T,9,FALSE),\"\"))","v":0},4.4640000000000004,44.64]
[null,"REPB47025","ROOF","D","Downpipe: Renew ne 76.5mm cast aluminium downpipe complete to ne 2 storey dwelling with new brackets plugged and screwed to brickwork and all necessary branches, offset projections, hopperheads, shoe, terminal and slate if necessary, cut and make all joints, make good to structure and finishes and prepare for redecoration, and remove waste and debris.",null,null,3.2979999999999801,null,"6013AA","IT",1,148.47999999999999,148.47999999999999,null,{"$f":"SUMIF('Planned Maint v6.2 CSV File'!A:A,J34,'Planned Maint v6.2 CSV File'!I:I)","v":110.03852799999999},110.03852799999999,{"$f":"IF(J34=\"Prov Sum\",\"\",IF(MATCH(J34,'Packet Rate Library'!J:J,0),VLOOKUP(J34,'Packet Rate Library'!J:T,9,FALSE),\"\"))","v":0},110.03852799999999,110.03852799999999]
[null,"REPB47025","ROOF","D","Gutter: Take down any PVCu gutter, remove and refix brackets to fascia and refix gutter to brackets to line and level including all angles, outlets and stop ends and remake all joints.",null,null,3.3239999999999901,null,"6031CA","LM",5,7.33,36.65,null,{"$f":"SUMIF('Planned Maint v6.2 CSV File'!A:A,J35,'Planned Maint v6.2 CSV File'!I:I)","v":5.4322629999999998},27.161314999999998,{"$f":"IF(J35=\"Prov Sum\",\"\",IF(MATCH(J35,'Packet Rate Library'!J:J,0),VLOOKUP(J35,'Packet Rate Library'!J:T,9,FALSE),\"\"))","v":0},5.4322629999999998,27.161314999999998]
[null,"REPB47025","ROOF","D","PROVISIONAL SUM: Clear rainwater downpipes.",null,null,3.4340000000000002,null,"PROV SUM","SUM",1,150,150,null,{"$f":"SUMIF('Planned Maint v6.2 CSV File'!A:A,J36,'Planned Maint v6.2 CSV File'!I:I)","v":0},150,{"$f":"IF(J36=\"Prov Sum\",\"\",IF(MATCH(J36,'Packet Rate Library'!J:J,0),VLOOKUP(J36,'Packet Rate Library'!J:T,9,FALSE),\"\"))","v":""},"",150]
[null,"REPB47025","ROOF","D","PROVISIONAL SUM: Allow for unforseen roof repairs.",null,null,3.4350000000000001,null,"PROV SUM","SUM",1,500,500,null,{"$f":"SUMIF('Planned Maint v6.2 CSV File'!A:A,J37,'Planned Maint v6.2 CSV File'!I:I)","v":0},500,{"$f":"IF(J37=\"Prov Sum\",\"\",IF(MATCH(J37,'Packet Rate Library'!J:J,0),VLOOKUP(J37,'Packet Rate Library'!J:T,9,FALSE),\"\"))","v":""},"",500]
[null,"REPB47025","WINDOWS","H"]
[null,"REPB47025","WINDOWS","D","7. Timber repair system; using window care dry fix/dry flex RP; Conservation Joint;\n\nup to 100mm ",null,null,4.1399999999999997,null,"WIND023","Nr",15,6.75,101.25,null,{"$f":"SUMIF('Planned Maint v6.2 CSV File'!A:A,J39,'Planned Maint v6.2 CSV File'!I:I)","v":6.4124999999999996},{"$f":"IF(J39=\"PROV SUM\",N39,L39*P39)","v":96.1875},{"$f":"IF(J39=\"Prov Sum\",\"\",IF(MATCH(J39,'Packet Rate Library'!J:J,0),VLOOKUP(J39,'Packet Rate Library'!J:T,9,FALSE),\"\"))","v":0},{"$f":"IF(R39>0,R39,P39)","v":6.4124999999999996},{"$f":"IF(J39=\"SC024\",N39,IF(ISERROR(S39),\"\",IF(J39=\"PROV SUM\",N39,L39*S39)))","v":96.1875}]
[null,"REPB47025","WINDOWS","D","Window: Overhaul timber casement window, dismantle as necessary and subsequently reassemble including freeing, easing and adjusting casements to give correct operation, renew sealing gaskets, renew fixing screws, remove, refit or renew ironmongery as necessary, rake out and renew defective putty and mastic, touch up decorations internally to match existing and prepare for redecoration externally, and remove waste and debris.",null,null,4.8899999999999801,null,"3150BA","NO",5,29.05,145.25,null,{"$f":"SUMIF('Planned Maint v6.2 CSV File'!A:A,J40,'Planned Maint v6.2 CSV File'!I:I)","v":25.752824999999998},{"$f":"IF(J40=\"PROV SUM\",N40,L40*P40)","v":128.76412499999998},{"$f":"IF(J40=\"Prov Sum\",\"\",IF(MATCH(J40,'Packet Rate Library'!J:J,0),VLOOKUP(J40,'Packet Rate Library'!J:T,9,FALSE),\"\"))","v":0},{"$f":"IF(R40>0,R40,P40)","v":25.752824999999998},{"$f":"IF(J40=\"SC024\",N40,IF(ISERROR(S40),\"\",IF(J40=\"PROV SUM\",N40,L40*S40)))","v":128.76412499999998}]
[null,"REPB47025","WINDOWS","D","Window: Overhaul timber sash window, renew staff and parting beads, take out sashes and later rehang on appropriate sized new undyed plaited nylon sash cords, renew pocket pieces, wedge and cramp loose sash frames, oil pulleys, ease and adjust sashes, remove, refit or renew ironmongery, rake out and renew defective putty and mastic, touch up decorations internally to match existing and prepare for redecoration externally, and remove waste and debris.",null,null,4.8999999999999799,null,"3150CA","NO",10,35.61,356.1,null,{"$f":"SUMIF('Planned Maint v6.2 CSV File'!A:A,J41,'Planned Maint v6.2 CSV File'!I:I)","v":31.568264999999997},{"$f":"IF(J41=\"PROV SUM\",N41,L41*P41)","v":315.68264999999997},{"$f":"IF(J41=\"Prov Sum\",\"\",IF(MATCH(J41,'Packet Rate Library'!J:J,0),VLOOKUP(J41,'Packet Rate Library'!J:T,9,FALSE),\"\"))","v":0},{"$f":"IF(R41>0,R41,P41)","v":31.568264999999997},{"$f":"IF(J41=\"SC024\",N41,IF(ISERROR(S41),\"\",IF(J41=\"PROV SUM\",N41,L41*S41)))","v":315.68264999999997}]
[null,"REPB47025","SCAFFOLD","H"]
[null,"REPB47025","SCAFFOLD","D","Standard Scaffold item: erect; dismantle; basic independent tied working scaffolding; 5 boards wide, including hire period; completely accessible; debris netting to all elevations; double boarded and polythene included as necessary, any fan(s) included as required; rope plus wheel for lifting operations; 3rd handrail included whenever necessary; as per applicable regulations (applies to up to 5 storeys). Measured up to second handrail and by the middle of the scaffold (equidistant from the inside/outside face) including design when required. Rate to include for 12 week hire",null,null,2.1,null,"SC001","M2",100,12.92,1292,null,{"$f":"SUMIF('Planned Maint v6.2 CSV File'!A:A,J43,'Planned Maint v6.2 CSV File'!I:I)","v":16.4084},{"$f":"IF(J43=\"PROV SUM\",N43,L43*P43)","v":1640.8400000000001},{"$f":"IF(J43=\"Prov Sum\",\"\",IF(MATCH(J43,'Packet Rate Library'!J:J,0),VLOOKUP(J43,'Packet Rate Library'!J:T,9,FALSE),\"\"))","v":0},{"$f":"IF(R43>0,R43,P43)","v":16.4084},{"$f":"IF(J43=\"SC024\",N43,IF(ISERROR(S43),\"\",IF(J43=\"PROV SUM\",N43,L43*S43)))","v":1640.8400000000001}]
[null,"REPB47025","SCAFFOLD","D","Scaffold alarm - 1 x sounder, 2 x PIR 1 X key pad (Divided by Number of properties if continuous scaffolds)",null,null,2.5,null,"SC005","unit",1,420,420,null,{"$f":"SUMIF('Planned Maint v6.2 CSV File'!A:A,J44,'Planned Maint v6.2 CSV File'!I:I)","v":533.4},{"$f":"IF(J44=\"PROV SUM\",N44,L44*P44)","v":533.4},{"$f":"IF(J44=\"Prov Sum\",\"\",IF(MATCH(J44,'Packet Rate Library'!J:J,0),VLOOKUP(J44,'Packet Rate Library'!J:T,9,FALSE),\"\"))","v":0},{"$f":"IF(R44>0,R44,P44)","v":533.4},{"$f":"IF(J44=\"SC024\",N44,IF(ISERROR(S44),\"\",IF(J44=\"PROV SUM\",N44,L44*S44)))","v":533.4}]
[null,"REPB47025","SCAFFOLD","D","E/O for additional PIRS",null,null,2.6,null,"SC007","unit",1,50,50,null,{"$f":"SUMIF('Planned Maint v6.2 CSV File'!A:A,J45,'Planned Maint v6.2 CSV File'!I:I)","v":63.5},{"$f":"IF(J45=\"PROV SUM\",N45,L45*P45)","v":63.5},{"$f":"IF(J45=\"Prov Sum\",\"\",IF(MATCH(J45,'Packet Rate Library'!J:J,0),VLOOKUP(J45,'Packet Rate Library'!J:T,9,FALSE),\"\"))","v":0},{"$f":"IF(R45>0,R45,P45)","v":63.5},{"$f":"IF(J45=\"SC024\",N45,IF(ISERROR(S45),\"\",IF(J45=\"PROV SUM\",N45,L45*S45)))","v":63.5}]
[null,"REPB47025","SCAFFOLD","D","Scaffold taken through property (protection to surfaces included)",null,null,2.16,null,"SC016","unit",1,379.8,379.8,null,{"$f":"SUMIF('Planned Maint v6.2 CSV File'!A:A,J46,'Planned Maint v6.2 CSV File'!I:I)","v":482.346},{"$f":"IF(J46=\"PROV SUM\",N46,L46*P46)","v":482.346},{"$f":"IF(J46=\"Prov Sum\",\"\",IF(MATCH(J46,'Packet Rate Library'!J:J,0),VLOOKUP(J46,'Packet Rate Library'!J:T,9,FALSE),\"\"))","v":0},{"$f":"IF(R46>0,R46,P46)","v":482.346},{"$f":"IF(J46=\"SC024\",N46,IF(ISERROR(S46),\"\",IF(J46=\"PROV SUM\",N46,L46*S46)))","v":482.346}]
[null,"REPB47025","SCAFFOLD","D","Additional Hire if required - % per week of total scaffolding costs.  This is to be applied in the event an agreed programme exceeding the duration set out above. An example would be large low level blocks of 4 storeys requiring a large programme duration",null,null,null,null,"SC024","unit",null,4.8300000000000003E-2,{"$f":"VLOOKUP(B47,'Project Overheads & Scaffold'!$W:$AI,13,FALSE)","v":0},null,{"$f":"SUMIF('Planned Maint v6.2 CSV File'!A:A,J47,'Planned Maint v6.2 CSV File'!I:I)","v":4.8300000000000003E-2},{"$f":"IF(J47=\"PROV SUM\",N47,L47*P47)","v":0},{"$f":"IF(J47=\"Prov Sum\",\"\",IF(MATCH(J47,'Packet Rate Library'!J:J,0),VLOOKUP(J47,'Packet Rate Library'!J:T,9,FALSE),\"\"))","v":{"$error":"#N/A"}},{"$f":"IF(R47>0,R47,P47)","v":{"$error":"#N/A"}},{"$f":"IF(J47=\"SC024\",N47,IF(ISERROR(S47),\"\",IF(J47=\"PROV SUM\",N47,L47*S47)))","v":0}]
[null,"REPB47025","ESTATE WORKS","H"]
[null,"REPB47025","ESTATE WORKS","D","Fracture: Remove any applied finish and cut out bricks as necessary to either side of fracture, one face only, stitch in new bricks, bed and point to match existing in cement lime mortar (1:1:6), and make good any applied finishes, and remove waste and debris (measured over mean general line of fracture).",null,null,7.2440000000000504,null,"1019AA","LM",17,44.12,750.04,null,{"$f":"SUMIF('Planned Maint v6.2 CSV File'!A:A,J49,'Planned Maint v6.2 CSV File'!I:I)","v":31.986999999999998},{"$f":"IF(J49=\"PROV SUM\",N49,L49*P49)","v":543.779},{"$f":"IF(J49=\"Prov Sum\",\"\",IF(MATCH(J49,'Packet Rate Library'!J:J,0),VLOOKUP(J49,'Packet Rate Library'!J:T,9,FALSE),\"\"))","v":0},{"$f":"IF(R49>0,R49,P49)","v":31.986999999999998},{"$f":"IF(J49=\"SC024\",N49,IF(ISERROR(S49),\"\",IF(J49=\"PROV SUM\",N49,L49*S49)))","v":543.779}]
[null,"REPB47025","ESTATE WORKS","D","PROVISIONAL SUM: Repair and treat concrete stair cracks. IT 1no.",null,null,7.3159999999999998,null,"PROV SUM","SUM",1,200,200,null,{"$f":"SUMIF('Planned Maint v6.2 CSV File'!A:A,J50,'Planned Maint v6.2 CSV File'!I:I)","v":0},{"$f":"IF(J50=\"PROV SUM\",N50,L50*P50)","v":200},{"$f":"IF(J50=\"Prov Sum\",\"\",IF(MATCH(J50,'Packet Rate Library'!J:J,0),VLOOKUP(J50,'Packet Rate Library'!J:T,9,FALSE),\"\"))","v":""},{"$f":"IF(R50>0,R50,P50)","v":""},{"$f":"IF(J50=\"SC024\",N50,IF(ISERROR(S50),\"\",IF(J50=\"PROV SUM\",N50,L50*S50)))","v":200}]
[null,"REPB47025","ESTATE WORKS","D","PROVISIONAL SUM: Repair or renew concrete ground paving with cracks at front elevation. SM 30",null,null,7.3170000000000002,null,"PROV SUM","SUM",1,800,800,null,{"$f":"SUMIF('Planned Maint v6.2 CSV File'!A:A,J51,'Planned Maint v6.2 CSV File'!I:I)","v":0},{"$f":"IF(J51=\"PROV SUM\",N51,L51*P51)","v":800},{"$f":"IF(J51=\"Prov Sum\",\"\",IF(MATCH(J51,'Packet Rate Library'!J:J,0),VLOOKUP(J51,'Packet Rate Library'!J:T,9,FALSE),\"\"))","v":""},{"$f":"IF(R51>0,R51,P51)","v":""},{"$f":"IF(J51=\"SC024\",N51,IF(ISERROR(S51),\"\",IF(J51=\"PROV SUM\",N51,L51*S51)))","v":800}]
[null,"REPB47025","ESTATE WORKS","D","PROVISIONAL SUM: Renew cast concrete floor at rear of property. SM 30",null,null,7.3179999999999996,null,"PROV SUM","SUM",1,800,800,null,{"$f":"SUMIF('Planned Maint v6.2 CSV File'!A:A,J52,'Planned Maint v6.2 CSV File'!I:I)","v":0},{"$f":"IF(J52=\"PROV SUM\",N52,L52*P52)","v":800},{"$f":"IF(J52=\"Prov Sum\",\"\",IF(MATCH(J52,'Packet Rate Library'!J:J,0),VLOOKUP(J52,'Packet Rate Library'!J:T,9,FALSE),\"\"))","v":""},{"$f":"IF(R52>0,R52,P52)","v":""},{"$f":"IF(J52=\"SC024\",N52,IF(ISERROR(S52),\"\",IF(J52=\"PROV SUM\",N52,L52*S52)))","v":800}]
[null,"REPB47025","FRA WORKS","H"]
[null,"REPB47025","FRA WORKS","D","Door:Renew internal door with any size single half-hour fire check glazed door having 3.2mm luan, white Meranti or other approved plywood facing both sides and 9mm hardwood lipping on long edges, including remove existing door and hinges, remove and refit door stops as necessary, fit and hang new door on 1.50 pairs of 100mm steel butt hinges, make good or alter recesses on frame, door complete with all ironmongery, intumescent strips and smoke seals, glazed, redecorate to match existing and remove waste and debris.",null,null,13,null,"3300FC","Item",2,222.2,444.4,null,{"$f":"SUMIF('Planned Maint v6.2 CSV File'!A:A,J54,'Planned Maint v6.2 CSV File'!I:I)","v":196.98029999999997},{"$f":"IF(J54=\"PROV SUM\",N54,L54*P54)","v":393.96059999999994},{"$f":"IF(J54=\"Prov Sum\",\"\",IF(MATCH(J54,'Packet Rate Library'!J:J,0),VLOOKUP(J54,'Packet Rate Library'!J:T,9,FALSE),\"\"))","v":0},{"$f":"IF(R54>0,R54,P54)","v":196.98029999999997},{"$f":"IF(J54=\"SC024\",N54,IF(ISERROR(S54),\"\",IF(J54=\"PROV SUM\",N54,L54*S54)))","v":393.96059999999994}]
[null,"REPB47025","FRA WORKS","D","Fire Upgrading Coating:Remove all existing defective paint to plastered or rendered wall surfaces back to a solid edge, feather off and repair any defective areas with a high quality filler as necessary, spot prime filled or bare areas with afire upgrading primer, remove any existing graffiti with a graffiti removal system, wash down, rinse, clean off and apply one full coat of fire upgrading primer at a coverage rate of 10sm per litre, apply two full coats of fire upgrading finish at a coverage rate of 10sm per litre.",null,null,27,null,"4801AB","Item",1,22.53,22.53,null,{"$f":"SUMIF('Planned Maint v6.2 CSV File'!A:A,J55,'Planned Maint v6.2 CSV File'!I:I)","v":19.150500000000001},19.150500000000001,{"$f":"IF(J55=\"Prov Sum\",\"\",IF(MATCH(J55,'Packet Rate Library'!J:J,0),VLOOKUP(J55,'Packet Rate Library'!J:T,9,FALSE),\"\"))","v":0},19.150500000000001,19.150500000000001]
[null,"REPB47025","FRA WORKS","D","Fire Upgrading Coating:Strip off existing multi layer paint coatings to existing plastered or rendered soffits with a proprietary paint stripper, scrape off or remove with a proprietary paint scraper, wash down,rinse,  spot prime filled or bare areas with afire upgrading primer, remove any existing graffiti with a graffiti removal system, clean off and apply one full coat of primer at a coverage rate of 10sm per litre, apply one full coats of colourcoat complete with decorative flakes, and apply one full coat of gloss or satin lacquer finish at a coverage rate of 10sm per litre.",null,null,41,null,"4804AD","Item",1,29.34,29.34,null,{"$f":"SUMIF('Planned Maint v6.2 CSV File'!A:A,J56,'Planned Maint v6.2 CSV File'!I:I)","v":24.939},24.939,{"$f":"IF(J56=\"Prov Sum\",\"\",IF(MATCH(J56,'Packet Rate Library'!J:J,0),VLOOKUP(J56,'Packet Rate Library'!J:T,9,FALSE),\"\"))","v":0},24.939,24.939]
[null,"REPB47025","FRA WORKS","D","Intumescent Strip:Renew or supply and fix new 22x4mm intumescent strip, half hour application, with integral cold smoke seal and setting into groove in timber frame or door.",null,null,104,null,"3431AC","Item",2,3.44,6.88,null,{"$f":"SUMIF('Planned Maint v6.2 CSV File'!A:A,J57,'Planned Maint v6.2 CSV File'!I:I)","v":3.0495599999999996},6.0991199999999992,{"$f":"IF(J57=\"Prov Sum\",\"\",IF(MATCH(J57,'Packet Rate Library'!J:J,0),VLOOKUP(J57,'Packet Rate Library'!J:T,9,FALSE),\"\"))","v":0},3.0495599999999996,6.0991199999999992]
[null,"REPB47025","FRA WORKS","D","Smoke Detector:Renew existing with mains operated optical smoke detector with rechargeable DC battery or condensor back up self contained type to BS 5446 kitemark certified with hush button, including back plate and all necessary connections to existing wiring, test and make good on completion, where interlinked detectors are replaced new detectors must be compatible with existing, and remove waste and debris.",null,null,115,null,"8720FA","Item",2,70.11,140.22,null,{"$f":"SUMIF('Planned Maint v6.2 CSV File'!A:A,J58,'Planned Maint v6.2 CSV File'!I:I)","v":56.088000000000001},112.176,{"$f":"IF(J58=\"Prov Sum\",\"\",IF(MATCH(J58,'Packet Rate Library'!J:J,0),VLOOKUP(J58,'Packet Rate Library'!J:T,9,FALSE),\"\"))","v":0},56.088000000000001,112.176]
[null,"REPB47025","FRA WORKS","D","Partition:Supply and erect or renew stud partition comprising ne 50x100mm sole and head plate, noggins and studs fixed with nails or plugged and screwed to walls, and pack out and scribe, 12.5mm butt jointed plasterboard and 3mm plaster skim coat and all labours to both faces.",null,null,180,null,"3013AB","Item",1,62.11,62.11,null,{"$f":"SUMIF('Planned Maint v6.2 CSV File'!A:A,J59,'Planned Maint v6.2 CSV File'!I:I)","v":55.060514999999995},55.060514999999995,{"$f":"IF(J59=\"Prov Sum\",\"\",IF(MATCH(J59,'Packet Rate Library'!J:J,0),VLOOKUP(J59,'Packet Rate Library'!J:T,9,FALSE),\"\"))","v":0},55.060514999999995,55.060514999999995]
[null,"REPB47025","FRA WORKS","D","Test:Carry out test of domestic installation to occupied property complete comprising continuity, insulation resistance, polarity, earth fault loop impedance and operation of residual current operated device, disconnect, repair and renew as necessary after removal of illegal wiring and components, and provide report and NICEIC/ECA test certificate to the Client’s Representative, and remove waste and debris.",null,null,186,null,"8950AA","Item",1,86.88,86.88,null,{"$f":"SUMIF('Planned Maint v6.2 CSV File'!A:A,J60,'Planned Maint v6.2 CSV File'!I:I)","v":69.504000000000005},69.504000000000005,{"$f":"IF(J60=\"Prov Sum\",\"\",IF(MATCH(J60,'Packet Rate Library'!J:J,0),VLOOKUP(J60,'Packet Rate Library'!J:T,9,FALSE),\"\"))","v":0},69.504000000000005,69.504000000000005]
[null,"REPB47025","FRA WORKS","D","Provisional Sum: Allow provisional sum for additional works to the fire alarm system.",null,null,190,null,"PROV SUM","Item",1,1500,1500,null,{"$f":"SUMIF('Planned Maint v6.2 CSV File'!A:A,J61,'Planned Maint v6.2 CSV File'!I:I)","v":0},1500,{"$f":"IF(J61=\"Prov Sum\",\"\",IF(MATCH(J61,'Packet Rate Library'!J:J,0),VLOOKUP(J61,'Packet Rate Library'!J:T,9,FALSE),\"\"))","v":""},"",1500]
[null,"REPB47025","FRA WORKS","D","Provisional Sum: Allow provisional sum for additional works to clear waste and debris from fire escape routes. ",null,null,191,null,"PROV SUM","Item",1,100,100,null,{"$f":"SUMIF('Planned Maint v6.2 CSV File'!A:A,J62,'Planned Maint v6.2 CSV File'!I:I)","v":0},100,{"$f":"IF(J62=\"Prov Sum\",\"\",IF(MATCH(J62,'Packet Rate Library'!J:J,0),VLOOKUP(J62,'Packet Rate Library'!J:T,9,FALSE),\"\"))","v":""},"",100]
[null,"REPB47025","FRA WORKS","D","Provisional Sum: Allow provisional sum for additional fire stopping works",null,null,192,null,"PROV SUM","Item",1,100,100,null,{"$f":"SUMIF('Planned Maint v6.2 CSV File'!A:A,J63,'Planned Maint v6.2 CSV File'!I:I)","v":0},100,{"$f":"IF(J63=\"Prov Sum\",\"\",IF(MATCH(J63,'Packet Rate Library'!J:J,0),VLOOKUP(J63,'Packet Rate Library'!J:T,9,FALSE),\"\"))","v":""},"",100]
[null,"REPB47025","FRA WORKS","D","Provisional Sum: Allow provisional sum for additional signage",null,null,193,null,"PROV SUM","Item",1,100,100,null,{"$f":"SUMIF('Planned Maint v6.2 CSV File'!A:A,J64,'Planned Maint v6.2 CSV File'!I:I)","v":0},100,{"$f":"IF(J64=\"Prov Sum\",\"\",IF(MATCH(J64,'Packet Rate Library'!J:J,0),VLOOKUP(J64,'Packet Rate Library'!J:T,9,FALSE),\"\"))","v":""},"",100]
[null,"REPB47025","FRA WORKS","D","Provisional Sum: Allow provisional sum for additional electrical works",null,null,194,null,"PROV SUM","Item",1,350,350,null,{"$f":"SUMIF('Planned Maint v6.2 CSV File'!A:A,J65,'Planned Maint v6.2 CSV File'!I:I)","v":0},350,{"$f":"IF(J65=\"Prov Sum\",\"\",IF(MATCH(J65,'Packet Rate Library'!J:J,0),VLOOKUP(J65,'Packet Rate Library'!J:T,9,FALSE),\"\"))","v":""},"",350]

{"sheet":"66LevertonStreet(Flats A-B) ","index":22,"n_rows":39,"n_cols":20,"rows_kept":39,"cut":false,"hidden":false,"merged":[[4,15,4,19]]}
[null,null,null,null,null,null,null,null,null,null,null,null,null,null,null,{"$f":"SUMIF('Planned Maint v6.2 CSV File'!A:A,J1,'Planned Maint v6.2 CSV File'!I:I)","v":0},{"$f":"IF(J1=\"PROV SUM\",N1,L1*P1)","v":0},{"$f":"IF(J1=\"Prov Sum\",\"\",IF(MATCH(J1,'Packet Rate Library'!J:J,0),VLOOKUP(J1,'Packet Rate Library'!J:T,9,FALSE),\"\"))","v":{"$error":"#N/A"}},{"$f":"IF(R1>0,R1,P1)","v":{"$error":"#N/A"}},{"$f":"IF(J1=\"SC024\",N1,IF(ISERROR(S1),\"\",IF(J1=\"PROV SUM\",N1,L1*S1)))","v":""}]
[]
[]
["66 Leverton Street, (Flats A-B)"]
[]
["Requirement","REPB47684","Requirement Type","Rowtype (H=Header, D=Detail)","Description","Works Order Commencement Date","Works Order Completion Date","Specification  Ref. Item No.'s","Works Order Delivery Date","SOR Code","SOR Unit","SOR Qty","SOR Cost","Total Cost",null,"Rate (max)","Cost (max)","Modified price","Tendered rate","Tendered total"]
[]
[" ","REPB47684","ENERGY EFFICIENY","H"]
[null,"REPB47684","ENERGY EFFICIENY","D","Contractor to access and undertake survey of loft space in accordance with the Project Brief in order to assess level of current loft insulation. Including submittion of a survey report supported by photographic evidance to CM/PM. Where insulation levels are less then 200mm, Contractor to provide cost proposal to upgrade insulation in accordance with NHF SoR Planned Maintenance Version 6.2.",null,null,9.1,null,"ADD001","IT",1,null,null,null,{"$f":"SUMIF('Planned Maint v6.2 CSV File'!A:A,J9,'Planned Maint v6.2 CSV File'!I:I)","v":0},{"$f":"IF(J9=\"PROV SUM\",N9,L9*P9)","v":0},{"$f":"IF(J9=\"Prov Sum\",\"\",IF(MATCH(J9,'Packet Rate Library'!J:J,0),VLOOKUP(J9,'Packet Rate Library'!J:T,9,FALSE),\"\"))","v":0},{"$f":"IF(R9>0,R9,P9)","v":0},{"$f":"IF(J9=\"SC024\",N9,IF(ISERROR(S9),\"\",IF(J9=\"PROV SUM\",N9,L9*S9)))","v":0}]
[null,"REPB47684","ENERGY EFFICIENY","D","Insulation:Supply and lay ne 270mm thick insulation quilt to loft area including gain access and moving/replacing contents within loft area in order to undertake work. Item 2270AA",null,null,9.1999999999999993,null,"2270AA","SM",46.04,10.86,{"$f":"M10*L10","v":499.99439999999998},null,{"$f":"SUMIF('Planned Maint v6.2 CSV File'!A:A,J10,'Planned Maint v6.2 CSV File'!I:I)","v":8.6880000000000006},{"$f":"IF(J10=\"PROV SUM\",N10,L10*P10)","v":399.99552},{"$f":"IF(J10=\"Prov Sum\",\"\",IF(MATCH(J10,'Packet Rate Library'!J:J,0),VLOOKUP(J10,'Packet Rate Library'!J:T,9,FALSE),\"\"))","v":0},{"$f":"IF(R10>0,R10,P10)","v":8.6880000000000006},{"$f":"IF(J10=\"SC024\",N10,IF(ISERROR(S10),\"\",IF(J10=\"PROV SUM\",N10,L10*S10)))","v":399.99552}]
[null,"REPB47684","ASBESTOS","H"]
[null,"REPB47684","ASBESTOS","D","Refurbishment and Demolition  Survey to Full Property (with upto 5 Nr samples) , flat or house any size",null,null,1.3,null,"A003","Item",1,234,234,null,{"$f":"SUMIF('Planned Maint v6.2 CSV File'!A:A,J12,'Planned Maint v6.2 CSV File'!I:I)","v":222.29999999999998},{"$f":"IF(J12=\"PROV SUM\",N12,L12*P12)","v":222.29999999999998},{"$f":"IF(J12=\"Prov Sum\",\"\",IF(MATCH(J12,'Packet Rate Library'!J:J,0),VLOOKUP(J12,'Packet Rate Library'!J:T,9,FALSE),\"\"))","v":0},{"$f":"IF(R12>0,R12,P12)","v":222.29999999999998},{"$f":"IF(J12=\"SC024\",N12,IF(ISERROR(S12),\"\",IF(J12=\"PROV SUM\",N12,L12*S12)))","v":222.29999999999998}]
[null,"REPB47684","COMMUNAL WORKS","H"]
[null,"REPB47684","COMMUNAL WORKS","D","Hall: Thoroughly clean down all wall and ceiling surfaces to common areas to remove dirt, grease and surface containments, scrape and remove all loose and defective coatings, prime bare areas with one coat of fire retardant primer and apply two coats of Class ‘O’ fire retardant matt paint, prepare and apply two coats of polyurethane lacquer or one undercoat and one gloss coat to all previously decorated timber surfaces to lobby, hall or corridor over 3.00sm ceiling area complete (classified as a single area).",null,null,5.0999999999999996,null,"4540AC","IT",1,480,480,null,{"$f":"SUMIF('Planned Maint v6.2 CSV File'!A:A,J14,'Planned Maint v6.2 CSV File'!I:I)","v":408},{"$f":"IF(J14=\"PROV SUM\",N14,L14*P14)","v":408},{"$f":"IF(J14=\"Prov Sum\",\"\",IF(MATCH(J14,'Packet Rate Library'!J:J,0),VLOOKUP(J14,'Packet Rate Library'!J:T,9,FALSE),\"\"))","v":0},{"$f":"IF(R14>0,R14,P14)","v":408},{"$f":"IF(J14=\"SC024\",N14,IF(ISERROR(S14),\"\",IF(J14=\"PROV SUM\",N14,L14*S14)))","v":408}]
[null,"REPB47684","COMMUNAL WORKS","D","Floor Tiles: Hack off vinyl floor tiles, supply and lay new ne 300x300x2.00mm vinyl tiles with adhesive in patch including all necessary cutting of tiles and clean off and remove waste and debris.",null,null,5.1350000000000096,null,"4323BA","SM",4,21.11,84.44,null,{"$f":"SUMIF('Planned Maint v6.2 CSV File'!A:A,J15,'Planned Maint v6.2 CSV File'!I:I)","v":17.783064},{"$f":"IF(J15=\"PROV SUM\",N15,L15*P15)","v":71.132255999999998},{"$f":"IF(J15=\"Prov Sum\",\"\",IF(MATCH(J15,'Packet Rate Library'!J:J,0),VLOOKUP(J15,'Packet Rate Library'!J:T,9,FALSE),\"\"))","v":0},{"$f":"IF(R15>0,R15,P15)","v":17.783064},{"$f":"IF(J15=\"SC024\",N15,IF(ISERROR(S15),\"\",IF(J15=\"PROV SUM\",N15,L15*S15)))","v":71.132255999999998}]
[null,"REPB47684","EXTREP","H"]
[null,"REPB47684","EXTREP","D","Wall: Rake out existing joints of brickwork min 12mm and repoint brickwork in mortar to match existing and remove waste and debris.",null,null,6.91,null,"1021AA","SM",4,20.13,80.52,null,{"$f":"SUMIF('Planned Maint v6.2 CSV File'!A:A,J17,'Planned Maint v6.2 CSV File'!I:I)","v":14.594249999999999},{"$f":"IF(J17=\"PROV SUM\",N17,L17*P17)","v":58.376999999999995},{"$f":"IF(J17=\"Prov Sum\",\"\",IF(MATCH(J17,'Packet Rate Library'!J:J,0),VLOOKUP(J17,'Packet Rate Library'!J:T,9,FALSE),\"\"))","v":0},{"$f":"IF(R17>0,R17,P17)","v":14.594249999999999},{"$f":"IF(J17=\"SC024\",N17,IF(ISERROR(S17),\"\",IF(J17=\"PROV SUM\",N17,L17*S17)))","v":58.376999999999995}]
[null,"REPB47684","EXTREP","D","Walls:Wash down, fill in cracks and holes, sand down and apply one coat of stabilising solution and two coats of smooth or textured masonry paint to brickwork surfaces of walls.",null,null,6.1860000000000301,null,"4356BD","SM",6,11.63,69.78,null,{"$f":"SUMIF('Planned Maint v6.2 CSV File'!A:A,J18,'Planned Maint v6.2 CSV File'!I:I)","v":9.8855000000000004},59.313000000000002,{"$f":"IF(J18=\"Prov Sum\",\"\",IF(MATCH(J18,'Packet Rate Library'!J:J,0),VLOOKUP(J18,'Packet Rate Library'!J:T,9,FALSE),\"\"))","v":0},9.8855000000000004,59.313000000000002]
[null,"REPB47684","EXTREP","D","Gates:Rub down, prepare for, and apply one undercoat, two coats of gloss paint on existing painted surfaces of gates and posts (measured both sides).",null,null,6.2580000000000497,null,"4381FA","SM",1,12.41,12.41,null,{"$f":"SUMIF('Planned Maint v6.2 CSV File'!A:A,J19,'Planned Maint v6.2 CSV File'!I:I)","v":10.548500000000001},10.548500000000001,{"$f":"IF(J19=\"Prov Sum\",\"\",IF(MATCH(J19,'Packet Rate Library'!J:J,0),VLOOKUP(J19,'Packet Rate Library'!J:T,9,FALSE),\"\"))","v":0},10.548500000000001,10.548500000000001]
[null,"REPB47684","EXTREP","D","Window:Rub down, prepare and apply one undercoat and one coat of gloss paint on existing painted surfaces of wooden windows (one side and edges).",null,null,6.2620000000000502,null,"4381JB","SM",20,16.86,337.2,null,{"$f":"SUMIF('Planned Maint v6.2 CSV File'!A:A,J20,'Planned Maint v6.2 CSV File'!I:I)","v":14.331},286.62,{"$f":"IF(J20=\"Prov Sum\",\"\",IF(MATCH(J20,'Packet Rate Library'!J:J,0),VLOOKUP(J20,'Packet Rate Library'!J:T,9,FALSE),\"\"))","v":0},14.331,286.62]
[null,"REPB47684","EXTREP","D","Frame:Rub down, prepare and apply one undercoat and one coat of gloss paint on existing painted timber frame ne 300mm girth.",null,null,6.2630000000000496,null,"4381KA","LM",42,3.81,160.02000000000001,null,{"$f":"SUMIF('Planned Maint v6.2 CSV File'!A:A,J21,'Planned Maint v6.2 CSV File'!I:I)","v":3.2385000000000002},136.017,{"$f":"IF(J21=\"Prov Sum\",\"\",IF(MATCH(J21,'Packet Rate Library'!J:J,0),VLOOKUP(J21,'Packet Rate Library'!J:T,9,FALSE),\"\"))","v":0},3.2385000000000002,136.017]
[null,"REPB47684","EXTREP","D","Door:Rub down, prepare for and apply one undercoat and one coat of gloss paint to all existing painted surfaces of any size or type of single glazed timber door (one sides and edges).",null,null,6.26400000000005,null,"4381LA","IT",2,9.67,19.34,null,{"$f":"SUMIF('Planned Maint v6.2 CSV File'!A:A,J22,'Planned Maint v6.2 CSV File'!I:I)","v":8.2195},16.439,{"$f":"IF(J22=\"Prov Sum\",\"\",IF(MATCH(J22,'Packet Rate Library'!J:J,0),VLOOKUP(J22,'Packet Rate Library'!J:T,9,FALSE),\"\"))","v":0},8.2195,16.439]
[null,"REPB47684","EXTREP","D","Provisional Sum Lintel: Cut out and remove existing lintol from brick wall, prepare to receive new including all necessary propping and temporary supports, and supply and fix new stone lintol.",null,null,6.399,null,"PROV SUM","SUM",1,500,500,null,{"$f":"SUMIF('Planned Maint v6.2 CSV File'!A:A,J23,'Planned Maint v6.2 CSV File'!I:I)","v":0},500,{"$f":"IF(J23=\"Prov Sum\",\"\",IF(MATCH(J23,'Packet Rate Library'!J:J,0),VLOOKUP(J23,'Packet Rate Library'!J:T,9,FALSE),\"\"))","v":""},"",500]
[null,"REPB47684","ROOF","H"]
[null,"REPB47684","ROOF","D","Slate:Renew any size and type of natural roof slates including double course at eaves cloaked verges, ridge, hips and valley tiles, supply and install proprietary ventilation units in roof, renew all code 6 lead flashings, aprons chimney gutters and the like wedged and pointed, renew valley gutter and valley board as necessary including all labours, cutting etc including renew roofing felt and battens and install restraint straps togables and elevational gables, install ‘glidevale’ secret gutter to abutment to adjacent property, and remove waste and debris.",null,null,3.21999999999999,null,"2034AD","SM",40,138.28,5531.2,null,{"$f":"SUMIF('Planned Maint v6.2 CSV File'!A:A,J25,'Planned Maint v6.2 CSV File'!I:I)","v":110.62400000000001},{"$f":"IF(J25=\"PROV SUM\",N25,L25*P25)","v":4424.96},{"$f":"IF(J25=\"Prov Sum\",\"\",IF(MATCH(J25,'Packet Rate Library'!J:J,0),VLOOKUP(J25,'Packet Rate Library'!J:T,9,FALSE),\"\"))","v":0},{"$f":"IF(R25>0,R25,P25)","v":110.62400000000001},{"$f":"IF(J25=\"SC024\",N25,IF(ISERROR(S25),\"\",IF(J25=\"PROV SUM\",N25,L25*S25)))","v":4424.96}]
[null,"REPB47684","WINDOWS","H"]
[null,"REPB47684","WINDOWS","D","Window: Renew window with purpose made hardwood double hung cased box frame and sashes complete with 2 sashes, factory applied base stain, compressible weatherstripping, glazing beads, ironmongery, remove existing and fix new into prepared opening, bed in mortar, point with sealant, double glazed and make good all finishes, decorate to match existing internally and prepare for redecoration externally, and remove waste and debris.",null,null,4.4199999999999902,null,"3115AA","SM",3,698.79,2096.37,null,{"$f":"SUMIF('Planned Maint v6.2 CSV File'!A:A,J27,'Planned Maint v6.2 CSV File'!I:I)","v":619.47733499999993},{"$f":"IF(J27=\"PROV SUM\",N27,L27*P27)","v":1858.4320049999997},{"$f":"IF(J27=\"Prov Sum\",\"\",IF(MATCH(J27,'Packet Rate Library'!J:J,0),VLOOKUP(J27,'Packet Rate Library'!J:T,9,FALSE),\"\"))","v":0},{"$f":"IF(R27>0,R27,P27)","v":619.47733499999993},{"$f":"IF(J27=\"SC024\",N27,IF(ISERROR(S27),\"\",IF(J27=\"PROV SUM\",N27,L27*S27)))","v":1858.4320049999997}]
[null,"REPB47684","WINDOWS","D","Window: Overhaul sash window, renew staff and parting beads, take out sashes and later rehang on spiral sash balances, renew pocket pieces, wedge and cramp loose sash frames, ease and adjust sashes, remove, refit or renew ironmongery, rake out and renew defective putty and mastic, touch up decorations internally to match existing and prepare for redecoration externally, and remove waste and debris.",null,null,4.9099999999999797,null,"3150CB","NO",7,98.99,692.93,null,{"$f":"SUMIF('Planned Maint v6.2 CSV File'!A:A,J28,'Planned Maint v6.2 CSV File'!I:I)","v":87.754634999999993},{"$f":"IF(J28=\"PROV SUM\",N28,L28*P28)","v":614.28244499999994},{"$f":"IF(J28=\"Prov Sum\",\"\",IF(MATCH(J28,'Packet Rate Library'!J:J,0),VLOOKUP(J28,'Packet Rate Library'!J:T,9,FALSE),\"\"))","v":0},{"$f":"IF(R28>0,R28,P28)","v":87.754634999999993},{"$f":"IF(J28=\"SC024\",N28,IF(ISERROR(S28),\"\",IF(J28=\"PROV SUM\",N28,L28*S28)))","v":614.28244499999994}]
[null,"REPB47684","WINDOWS","D","Window: Check operation of all fittings and operating mechanisms to PVCu window complete including lubricate and adjust as necessary.",null,null,4.1149999999999904,null,"3181AH","IT",2,4.8099999999999996,9.6199999999999992,null,{"$f":"SUMIF('Planned Maint v6.2 CSV File'!A:A,J29,'Planned Maint v6.2 CSV File'!I:I)","v":4.2640649999999996},{"$f":"IF(J29=\"PROV SUM\",N29,L29*P29)","v":8.5281299999999991},{"$f":"IF(J29=\"Prov Sum\",\"\",IF(MATCH(J29,'Packet Rate Library'!J:J,0),VLOOKUP(J29,'Packet Rate Library'!J:T,9,FALSE),\"\"))","v":0},{"$f":"IF(R29>0,R29,P29)","v":4.2640649999999996},{"$f":"IF(J29=\"SC024\",N29,IF(ISERROR(S29),\"\",IF(J29=\"PROV SUM\",N29,L29*S29)))","v":8.5281299999999991}]
[null,"REPB47684","WINDOWS","D","Window: Overhaul any type of PVCu window, dismantle as necessary and subsequently reassemble including freeing, easing and adjusting casements to give correct operation, renew fixing screws, remove, refit or renew ironmongery as necessary, check, lubricate operating mechanism, renew gaskets, make good and test.",null,null,4.1289999999999898,null,"3181BA","NO",2,28.43,56.86,null,{"$f":"SUMIF('Planned Maint v6.2 CSV File'!A:A,J30,'Planned Maint v6.2 CSV File'!I:I)","v":25.203194999999997},{"$f":"IF(J30=\"PROV SUM\",N30,L30*P30)","v":50.406389999999995},{"$f":"IF(J30=\"Prov Sum\",\"\",IF(MATCH(J30,'Packet Rate Library'!J:J,0),VLOOKUP(J30,'Packet Rate Library'!J:T,9,FALSE),\"\"))","v":0},{"$f":"IF(R30>0,R30,P30)","v":25.203194999999997},{"$f":"IF(J30=\"SC024\",N30,IF(ISERROR(S30),\"\",IF(J30=\"PROV SUM\",N30,L30*S30)))","v":50.406389999999995}]
[null,"REPB47684","SCAFFOLD","H"]
[null,"REPB47684","SCAFFOLD","D","Standard Scaffold item: erect; dismantle; basic independent tied working scaffolding; 5 boards wide, including hire period; completely accessible; debris netting to all elevations; double boarded and polythene included as necessary, any fan(s) included as required; rope plus wheel for lifting operations; 3rd handrail included whenever necessary; as per applicable regulations (applies to up to 5 storeys). Measured up to second handrail and by the middle of the scaffold (equidistant from the inside/outside face) including design when required. Rate to include for 12 week hire",null,null,2.1,null,"SC001","M2",117,12.92,1511.64,null,{"$f":"SUMIF('Planned Maint v6.2 CSV File'!A:A,J32,'Planned Maint v6.2 CSV File'!I:I)","v":16.4084},{"$f":"IF(J32=\"PROV SUM\",N32,L32*P32)","v":1919.7828},{"$f":"IF(J32=\"Prov Sum\",\"\",IF(MATCH(J32,'Packet Rate Library'!J:J,0),VLOOKUP(J32,'Packet Rate Library'!J:T,9,FALSE),\"\"))","v":0},{"$f":"IF(R32>0,R32,P32)","v":16.4084},{"$f":"IF(J32=\"SC024\",N32,IF(ISERROR(S32),\"\",IF(J32=\"PROV SUM\",N32,L32*S32)))","v":1919.7828}]
[null,"REPB47684","SCAFFOLD","D","Scaffold alarm - 1 x sounder, 2 x PIR 1 X key pad (Divided by Number of properties if continuous scaffolds)",null,null,2.5,null,"SC005","unit",1,420,420,null,{"$f":"SUMIF('Planned Maint v6.2 CSV File'!A:A,J33,'Planned Maint v6.2 CSV File'!I:I)","v":533.4},{"$f":"IF(J33=\"PROV SUM\",N33,L33*P33)","v":533.4},{"$f":"IF(J33=\"Prov Sum\",\"\",IF(MATCH(J33,'Packet Rate Library'!J:J,0),VLOOKUP(J33,'Packet Rate Library'!J:T,9,FALSE),\"\"))","v":0},{"$f":"IF(R33>0,R33,P33)","v":533.4},{"$f":"IF(J33=\"SC024\",N33,IF(ISERROR(S33),\"\",IF(J33=\"PROV SUM\",N33,L33*S33)))","v":533.4}]
[null,"REPB47684","SCAFFOLD","D","E/O for additional PIRS",null,null,2.6,null,"SC007","unit",1,50,50,null,{"$f":"SUMIF('Planned Maint v6.2 CSV File'!A:A,J34,'Planned Maint v6.2 CSV File'!I:I)","v":63.5},{"$f":"IF(J34=\"PROV SUM\",N34,L34*P34)","v":63.5},{"$f":"IF(J34=\"Prov Sum\",\"\",IF(MATCH(J34,'Packet Rate Library'!J:J,0),VLOOKUP(J34,'Packet Rate Library'!J:T,9,FALSE),\"\"))","v":0},{"$f":"IF(R34>0,R34,P34)","v":63.5},{"$f":"IF(J34=\"SC024\",N34,IF(ISERROR(S34),\"\",IF(J34=\"PROV SUM\",N34,L34*S34)))","v":63.5}]
[null,"REPB47684","SCAFFOLD","D","Scaffold taken up&over the roof",null,null,2.17,null,"SC017","unit",1,842,842,null,{"$f":"SUMIF('Planned Maint v6.2 CSV File'!A:A,J35,'Planned Maint v6.2 CSV File'!I:I)","v":1069.3399999999999},{"$f":"IF(J35=\"PROV SUM\",N35,L35*P35)","v":1069.3399999999999},{"$f":"IF(J35=\"Prov Sum\",\"\",IF(MATCH(J35,'Packet Rate Library'!J:J,0),VLOOKUP(J35,'Packet Rate Library'!J:T,9,FALSE),\"\"))","v":0},{"$f":"IF(R35>0,R35,P35)","v":1069.3399999999999},{"$f":"IF(J35=\"SC024\",N35,IF(ISERROR(S35),\"\",IF(J35=\"PROV SUM\",N35,L35*S35)))","v":1069.3399999999999}]
[null,"REPB47684","SCAFFOLD","D","Additional Hire if required - % per week of total scaffolding costs.  This is to be applied in the event an agreed programme exceeding the duration set out above. An example would be large low level blocks of 4 storeys requiring a large programme duration",null,null,null,null,"SC024","unit",null,4.8300000000000003E-2,{"$f":"VLOOKUP(B36,'Project Overheads & Scaffold'!$W:$AI,13,FALSE)","v":0},null,{"$f":"SUMIF('Planned Maint v6.2 CSV File'!A:A,J36,'Planned Maint v6.2 CSV File'!I:I)","v":4.8300000000000003E-2},{"$f":"IF(J36=\"PROV SUM\",N36,L36*P36)","v":0},{"$f":"IF(J36=\"Prov Sum\",\"\",IF(MATCH(J36,'Packet Rate Library'!J:J,0),VLOOKUP(J36,'Packet Rate Library'!J:T,9,FALSE),\"\"))","v":{"$error":"#N/A"}},{"$f":"IF(R36>0,R36,P36)","v":{"$error":"#N/A"}},{"$f":"IF(J36=\"SC024\",N36,IF(ISERROR(S36),\"\",IF(J36=\"PROV SUM\",N36,L36*S36)))","v":0}]
[null,"REPB47684","ESTATE WORKS","H"]
[null,"REPB47684","ESTATE WORKS","D","Path:Excavate 250mm below required finished level, remove waste and debris, level and compact bottoms of excavations and fill, 150mm hardcore bed, blinded and ne 100mm concrete trowelled smooth including dishing to gullies and the like and all formwork.",null,null,7.4000000000000199,null,"0030AA","SM",16,58.8,940.8,null,{"$f":"SUMIF('Planned Maint v6.2 CSV File'!A:A,J38,'Planned Maint v6.2 CSV File'!I:I)","v":48.351239999999997},{"$f":"IF(J38=\"PROV SUM\",N38,L38*P38)","v":773.61983999999995},{"$f":"IF(J38=\"Prov Sum\",\"\",IF(MATCH(J38,'Packet Rate Library'!J:J,0),VLOOKUP(J38,'Packet Rate Library'!J:T,9,FALSE),\"\"))","v":0},{"$f":"IF(R38>0,R38,P38)","v":48.351239999999997},{"$f":"IF(J38=\"SC024\",N38,IF(ISERROR(S38),\"\",IF(J38=\"PROV SUM\",N38,L38*S38)))","v":773.61983999999995}]
[null,"REPB47684","ESTATE WORKS","D","Wall: Demolish as necessary, clean off and clear away, rebuild one and a half brick wall in common bricks, bed and point in cement lime mortar (1:1:6) to match existing and remove waste and debris.",null,null,7.2170000000000396,null,"1015AC","SM",31,169.05,5240.55,null,{"$f":"SUMIF('Planned Maint v6.2 CSV File'!A:A,J39,'Planned Maint v6.2 CSV File'!I:I)","v":122.56125},{"$f":"IF(J39=\"PROV SUM\",N39,L39*P39)","v":3799.3987499999998},{"$f":"IF(J39=\"Prov Sum\",\"\",IF(MATCH(J39,'Packet Rate Library'!J:J,0),VLOOKUP(J39,'Packet Rate Library'!J:T,9,FALSE),\"\"))","v":0},{"$f":"IF(R39>0,R39,P39)","v":122.56125},{"$f":"IF(J39=\"SC024\",N39,IF(ISERROR(S39),\"\",IF(J39=\"PROV SUM\",N39,L39*S39)))","v":3799.3987499999998}]

{"sheet":"13 Oseney Crescent ","index":23,"n_rows":59,"n_cols":20,"rows_kept":59,"cut":false,"hidden":false,"merged":[[4,15,4,19]]}
[null,null,null,null,null,null,null,null,null,null,null,null,null,null,null,{"$f":"SUMIF('Planned Maint v6.2 CSV File'!A:A,J1,'Planned Maint v6.2 CSV File'!I:I)","v":0},{"$f":"IF(J1=\"PROV SUM\",N1,L1*P1)","v":0},{"$f":"IF(J1=\"Prov Sum\",\"\",IF(MATCH(J1,'Packet Rate Library'!J:J,0),VLOOKUP(J1,'Packet Rate Library'!J:T,9,FALSE),\"\"))","v":{"$error":"#N/A"}},{"$f":"IF(R1>0,R1,P1)","v":{"$error":"#N/A"}},{"$f":"IF(J1=\"SC024\",N1,IF(ISERROR(S1),\"\",IF(J1=\"PROV SUM\",N1,L1*S1)))","v":""}]
[]
[]
["13 OSENEY CRESCENT, (FLATS A-D)"]
[]
["Requirement","REPB47732","Requirement Type","Rowtype (H=Header, D=Detail)","Description","Works Order Commencement Date","Works Order Completion Date","Specification  Ref. Item No.'s","Works Order Delivery Date","SOR Code","SOR Unit","SOR Qty","SOR Cost","Total Cost",null,"Rate (max)","Cost (max)","Modified price","Tendered rate","Tendered total"]
[]
[" ","REPB47732","ENERGY EFFICIENY","H"]
[null,"REPB47732","ENERGY EFFICIENY","D","Contractor to access and undertake survey of loft space in accordance with the Project Brief in order to assess level of current loft insulation. Including submittion of a survey report supported by photographic evidance to CM/PM. Where insulation levels are less then 200mm, Contractor to provide cost proposal to upgrade insulation in accordance with NHF SoR Planned Maintenance Version 6.2.",null,null,9.1,null,"ADD001","IT",1,null,null,null,{"$f":"SUMIF('Planned Maint v6.2 CSV File'!A:A,J9,'Planned Maint v6.2 CSV File'!I:I)","v":0},{"$f":"IF(J9=\"PROV SUM\",N9,L9*P9)","v":0},{"$f":"IF(J9=\"Prov Sum\",\"\",IF(MATCH(J9,'Packet Rate Library'!J:J,0),VLOOKUP(J9,'Packet Rate Library'!J:T,9,FALSE),\"\"))","v":0},{"$f":"IF(R9>0,R9,P9)","v":0},{"$f":"IF(J9=\"SC024\",N9,IF(ISERROR(S9),\"\",IF(J9=\"PROV SUM\",N9,L9*S9)))","v":0}]
[null,"REPB47732","ENERGY EFFICIENY","D","Insulation:Supply and lay ne 270mm thick insulation quilt to loft area including gain access and moving/replacing contents within loft area in order to undertake work. Item 2270AA",null,null,9.1999999999999993,null,"2270AA","SM",46.04,10.86,{"$f":"M10*L10","v":499.99439999999998},null,{"$f":"SUMIF('Planned Maint v6.2 CSV File'!A:A,J10,'Planned Maint v6.2 CSV File'!I:I)","v":8.6880000000000006},{"$f":"IF(J10=\"PROV SUM\",N10,L10*P10)","v":399.99552},{"$f":"IF(J10=\"Prov Sum\",\"\",IF(MATCH(J10,'Packet Rate Library'!J:J,0),VLOOKUP(J10,'Packet Rate Library'!J:T,9,FALSE),\"\"))","v":0},{"$f":"IF(R10>0,R10,P10)","v":8.6880000000000006},{"$f":"IF(J10=\"SC024\",N10,IF(ISERROR(S10),\"\",IF(J10=\"PROV SUM\",N10,L10*S10)))","v":399.99552}]
[null,"REPB47732","ASBESTOS","H"]
[null,"REPB47732","ASBESTOS","D","Refurbishment and Demolition  Survey to Full Property (with upto 5 Nr samples) , flat or house any size",null,null,1.3,null,"A003","Item",1,234,234,null,{"$f":"SUMIF('Planned Maint v6.2 CSV File'!A:A,J12,'Planned Maint v6.2 CSV File'!I:I)","v":222.29999999999998},{"$f":"IF(J12=\"PROV SUM\",N12,L12*P12)","v":222.29999999999998},{"$f":"IF(J12=\"Prov Sum\",\"\",IF(MATCH(J12,'Packet Rate Library'!J:J,0),VLOOKUP(J12,'Packet Rate Library'!J:T,9,FALSE),\"\"))","v":0},{"$f":"IF(R12>0,R12,P12)","v":222.29999999999998},{"$f":"IF(J12=\"SC024\",N12,IF(ISERROR(S12),\"\",IF(J12=\"PROV SUM\",N12,L12*S12)))","v":222.29999999999998}]
[null,"REPB47732","COMMUNAL WORKS","H"]
[null,"REPB47732","COMMUNAL WORKS","D","PROVISIONAL SUM: Hall Stairs: Thoroughly clean down all wall and ceiling surfaces to common areas to remove dirt, grease and surface containments, scrape and remove all loose and defective coatings, prime bare areas with one coat of fire retardant primer and apply two coats of Class ‘O’ fire retardant matt paint, prepare and apply two coats of polyurethane lacquer or one undercoat and one gloss coat to all previously decorated timber surfaces to hall, landing and staircase areas complete (2 storey) (classified as a single area).",null,null,5.3879999999999999,null,"PROV SUM","SUM",1,900,900,null,{"$f":"SUMIF('Planned Maint v6.2 CSV File'!A:A,J14,'Planned Maint v6.2 CSV File'!I:I)","v":0},{"$f":"IF(J14=\"PROV SUM\",N14,L14*P14)","v":900},{"$f":"IF(J14=\"Prov Sum\",\"\",IF(MATCH(J14,'Packet Rate Library'!J:J,0),VLOOKUP(J14,'Packet Rate Library'!J:T,9,FALSE),\"\"))","v":""},{"$f":"IF(R14>0,R14,P14)","v":""},{"$f":"IF(J14=\"SC024\",N14,IF(ISERROR(S14),\"\",IF(J14=\"PROV SUM\",N14,L14*S14)))","v":900}]
[null,"REPB47732","COMMUNAL WORKS","D","PROVISIONAL SUM: Sheet Flooring: Supply and lay minimum 2.0mm felt backed vinyl sheet flooring with adhesive to and including supply and lay approved sheet sub base including all necessary cutting, all labours and clean off, and remove waste and debris.",null,null,5.3890000000000002,null,"PROV SUM","SUM",1,500,500,null,{"$f":"SUMIF('Planned Maint v6.2 CSV File'!A:A,J15,'Planned Maint v6.2 CSV File'!I:I)","v":0},{"$f":"IF(J15=\"PROV SUM\",N15,L15*P15)","v":500},{"$f":"IF(J15=\"Prov Sum\",\"\",IF(MATCH(J15,'Packet Rate Library'!J:J,0),VLOOKUP(J15,'Packet Rate Library'!J:T,9,FALSE),\"\"))","v":""},{"$f":"IF(R15>0,R15,P15)","v":""},{"$f":"IF(J15=\"SC024\",N15,IF(ISERROR(S15),\"\",IF(J15=\"PROV SUM\",N15,L15*S15)))","v":500}]
[null,"REPB47732","EXTREP","H"]
[null,"REPB47732","EXTREP","D","Wall: Rake out existing joints of brickwork min 12mm and repoint brickwork in mortar to match existing and remove waste and debris.",null,null,6.91,null,"1021AA","SM",2,20.13,40.26,null,{"$f":"SUMIF('Planned Maint v6.2 CSV File'!A:A,J17,'Planned Maint v6.2 CSV File'!I:I)","v":14.594249999999999},{"$f":"IF(J17=\"PROV SUM\",N17,L17*P17)","v":29.188499999999998},{"$f":"IF(J17=\"Prov Sum\",\"\",IF(MATCH(J17,'Packet Rate Library'!J:J,0),VLOOKUP(J17,'Packet Rate Library'!J:T,9,FALSE),\"\"))","v":0},{"$f":"IF(R17>0,R17,P17)","v":14.594249999999999},{"$f":"IF(J17=\"SC024\",N17,IF(ISERROR(S17),\"\",IF(J17=\"PROV SUM\",N17,L17*S17)))","v":29.188499999999998}]
[null,"REPB47732","EXTREP","D","Walls: Wash down, fill in cracks and holes, sand smooth and apply two coats of smooth finish masonry paint to rendered or concrete surfaces of walls.",null,null,6.1940000000000301,null,"4360BA","SM",60,7.02,421.2,null,{"$f":"SUMIF('Planned Maint v6.2 CSV File'!A:A,J18,'Planned Maint v6.2 CSV File'!I:I)","v":5.9669999999999996},358.02,{"$f":"IF(J18=\"Prov Sum\",\"\",IF(MATCH(J18,'Packet Rate Library'!J:J,0),VLOOKUP(J18,'Packet Rate Library'!J:T,9,FALSE),\"\"))","v":0},5.9669999999999996,358.02]
[null,"REPB47732","EXTREP","D","Gates: Wire brush, prepare for and apply one undercoat and two coats of gloss paint to both sides of existing painted surface of any size/type single metal gate including all edges and all surfaces of posts.",null,null,6.2140000000000404,null,"4363DA","IT",1,16.98,16.98,null,{"$f":"SUMIF('Planned Maint v6.2 CSV File'!A:A,J19,'Planned Maint v6.2 CSV File'!I:I)","v":14.433},14.433,{"$f":"IF(J19=\"Prov Sum\",\"\",IF(MATCH(J19,'Packet Rate Library'!J:J,0),VLOOKUP(J19,'Packet Rate Library'!J:T,9,FALSE),\"\"))","v":0},14.433,14.433]
[null,"REPB47732","EXTREP","D","Balustrading: Wire brush, prepare for and apply one undercoat and two coats of gloss paint on existing painted surfaces ornamental metal balustrading, railings or gates (measured both sides).",null,null,6.2150000000000398,null,"4363EA","SM",1,16.079999999999998,16.079999999999998,null,{"$f":"SUMIF('Planned Maint v6.2 CSV File'!A:A,J20,'Planned Maint v6.2 CSV File'!I:I)","v":13.667999999999997},13.667999999999997,{"$f":"IF(J20=\"Prov Sum\",\"\",IF(MATCH(J20,'Packet Rate Library'!J:J,0),VLOOKUP(J20,'Packet Rate Library'!J:T,9,FALSE),\"\"))","v":0},13.667999999999997,13.667999999999997]
[null,"REPB47732","EXTREP","D","Pipework: Wire brush, prepare for and apply one undercoat and two coats of gloss paint to existing painted surfaces of external pipework ne 300mm girth including brackets.",null,null,6.2180000000000399,null,"4363HA","LM",12,1.73,20.76,null,{"$f":"SUMIF('Planned Maint v6.2 CSV File'!A:A,J21,'Planned Maint v6.2 CSV File'!I:I)","v":1.4704999999999999},17.646000000000001,{"$f":"IF(J21=\"Prov Sum\",\"\",IF(MATCH(J21,'Packet Rate Library'!J:J,0),VLOOKUP(J21,'Packet Rate Library'!J:T,9,FALSE),\"\"))","v":0},1.4704999999999999,17.646000000000001]
[null,"REPB47732","EXTREP","D","Window: Rub down, prepare and apply one coat of primer, one undercoat and two coats of gloss paint on surfaces of wooden windowsl (one side and edges).",null,null,6.2360000000000504,null,"4380BA","SM",18,25.87,465.66,null,{"$f":"SUMIF('Planned Maint v6.2 CSV File'!A:A,J22,'Planned Maint v6.2 CSV File'!I:I)","v":21.9895},395.81099999999998,{"$f":"IF(J22=\"Prov Sum\",\"\",IF(MATCH(J22,'Packet Rate Library'!J:J,0),VLOOKUP(J22,'Packet Rate Library'!J:T,9,FALSE),\"\"))","v":0},21.9895,395.81099999999998]
[null,"REPB47732","EXTREP","D","Frame: Rub down, prepare and apply one coat of primer, one undercoat and two coats of gloss paint on timber frame ne 300mm girth.",null,null,6.2370000000000498,null,"4380CA","LM",6,6.28,37.68,null,{"$f":"SUMIF('Planned Maint v6.2 CSV File'!A:A,J23,'Planned Maint v6.2 CSV File'!I:I)","v":5.3380000000000001},32.027999999999999,{"$f":"IF(J23=\"Prov Sum\",\"\",IF(MATCH(J23,'Packet Rate Library'!J:J,0),VLOOKUP(J23,'Packet Rate Library'!J:T,9,FALSE),\"\"))","v":0},5.3380000000000001,32.027999999999999]
[null,"REPB47732","EXTREP","D","Door: Rub down, prepare for and apply one coat of primer, one undercoat and two coats of gloss paint to all surfaces of any size or type of single glazed timber door. (one sides and edges).",null,null,6.2380000000000502,null,"4380DA","IT",1,20.71,20.71,null,{"$f":"SUMIF('Planned Maint v6.2 CSV File'!A:A,J24,'Planned Maint v6.2 CSV File'!I:I)","v":17.6035},17.6035,{"$f":"IF(J24=\"Prov Sum\",\"\",IF(MATCH(J24,'Packet Rate Library'!J:J,0),VLOOKUP(J24,'Packet Rate Library'!J:T,9,FALSE),\"\"))","v":0},17.6035,17.6035]
[null,"REPB47732","EXTREP","D","Fascias, soffits, Bargeboards and the like: Rub down, prepare for, and apply one undercoat, two coats of gloss paint on existing painted surfaces of facias, soffits, bargeboards and the like ne 300mm girth.",null,null,6.2600000000000504,null,"4381HB","LM",6,3.74,22.44,null,{"$f":"SUMIF('Planned Maint v6.2 CSV File'!A:A,J25,'Planned Maint v6.2 CSV File'!I:I)","v":3.1790000000000003},19.074000000000002,{"$f":"IF(J25=\"Prov Sum\",\"\",IF(MATCH(J25,'Packet Rate Library'!J:J,0),VLOOKUP(J25,'Packet Rate Library'!J:T,9,FALSE),\"\"))","v":0},3.1790000000000003,19.074000000000002]
[null,"REPB47732","EXTREP","D","PROVISIONAL SUM: Decorative Mouldings (Multifaceted) using the Fosroc HB and Fosroc FC repair mortar systems \n\nGirth NE150mm Length EX 500mm",null,null,6.399,null,"PROV SUM","SUM",1,200,200,null,{"$f":"SUMIF('Planned Maint v6.2 CSV File'!A:A,J26,'Planned Maint v6.2 CSV File'!I:I)","v":0},200,{"$f":"IF(J26=\"Prov Sum\",\"\",IF(MATCH(J26,'Packet Rate Library'!J:J,0),VLOOKUP(J26,'Packet Rate Library'!J:T,9,FALSE),\"\"))","v":""},"",200]
[null,"REPB47732","EXTREP","D","PROVISIONAL SUM: Wall: Rake out existing joints of brickwork min 12mm and repoint brickwork in mortar to match existing and remove waste and debris.",null,null,6.4,null,"PROV SUM","SUM",1,40,40,null,{"$f":"SUMIF('Planned Maint v6.2 CSV File'!A:A,J27,'Planned Maint v6.2 CSV File'!I:I)","v":0},40,{"$f":"IF(J27=\"Prov Sum\",\"\",IF(MATCH(J27,'Packet Rate Library'!J:J,0),VLOOKUP(J27,'Packet Rate Library'!J:T,9,FALSE),\"\"))","v":""},"",40]
[null,"REPB47732","EXTREP","D","PROVISIONAL SUM: Walls: Wash down, fill in cracks and holes, sand smooth and apply two coats of smooth finish masonry paint to rendered or concrete surfaces of walls.",null,null,6.4009999999999998,null,"PROV SUM","SUM",1,100,100,null,{"$f":"SUMIF('Planned Maint v6.2 CSV File'!A:A,J28,'Planned Maint v6.2 CSV File'!I:I)","v":0},100,{"$f":"IF(J28=\"Prov Sum\",\"\",IF(MATCH(J28,'Packet Rate Library'!J:J,0),VLOOKUP(J28,'Packet Rate Library'!J:T,9,FALSE),\"\"))","v":""},"",100]
[null,"REPB47732","EXTREP","D","PROVISIONAL SUM: Pipework: Wire brush, prepare for and apply one undercoat and two coats of gloss paint to existing painted surfaces of external pipework ne 300mm girth including brackets.",null,null,6.4020000000000001,null,"PROV SUM","SUM",1,20,20,null,{"$f":"SUMIF('Planned Maint v6.2 CSV File'!A:A,J29,'Planned Maint v6.2 CSV File'!I:I)","v":0},20,{"$f":"IF(J29=\"Prov Sum\",\"\",IF(MATCH(J29,'Packet Rate Library'!J:J,0),VLOOKUP(J29,'Packet Rate Library'!J:T,9,FALSE),\"\"))","v":""},"",20]
[null,"REPB47732","EXTREP","D","PROVISIONAL SUM: Window:Rub down, prepare and apply one coat of primer, one undercoat and two coats of gloss paint on surfaces of wooden windowsl (one side and edges).",null,null,6.4029999999999996,null,"PROV SUM","SUM",1,400,400,null,{"$f":"SUMIF('Planned Maint v6.2 CSV File'!A:A,J30,'Planned Maint v6.2 CSV File'!I:I)","v":0},400,{"$f":"IF(J30=\"Prov Sum\",\"\",IF(MATCH(J30,'Packet Rate Library'!J:J,0),VLOOKUP(J30,'Packet Rate Library'!J:T,9,FALSE),\"\"))","v":""},"",400]
[null,"REPB47732","EXTREP","D","PROVISIONAL SUM: Frame: Rub down, prepare and apply one coat of primer, one undercoat and two coats of gloss paint on timber frame ne 300mm girth.",null,null,6.4039999999999999,null,"PROV SUM","SUM",1,70,70,null,{"$f":"SUMIF('Planned Maint v6.2 CSV File'!A:A,J31,'Planned Maint v6.2 CSV File'!I:I)","v":0},70,{"$f":"IF(J31=\"Prov Sum\",\"\",IF(MATCH(J31,'Packet Rate Library'!J:J,0),VLOOKUP(J31,'Packet Rate Library'!J:T,9,FALSE),\"\"))","v":""},"",70]
[null,"REPB47732","EXTREP","D","PROVISIONAL SUM: Door: Rub down, prepare for and apply one coat of primer, one undercoat and two coats of gloss paint to all surfaces of any size or type of single glazed timber door. (one sides and edges).",null,null,6.4050000000000002,null,"PROV SUM","SUM",1,40,40,null,{"$f":"SUMIF('Planned Maint v6.2 CSV File'!A:A,J32,'Planned Maint v6.2 CSV File'!I:I)","v":0},40,{"$f":"IF(J32=\"Prov Sum\",\"\",IF(MATCH(J32,'Packet Rate Library'!J:J,0),VLOOKUP(J32,'Packet Rate Library'!J:T,9,FALSE),\"\"))","v":""},"",40]
[null,"REPB47732","EXTREP","D","PROVISIONAL SUM: Fascias, soffits, Bargeboards and the like: Rub down, prepare for, and apply one undercoat, two coats of gloss paint on existing painted surfaces of facias, soffits, bargeboards and the like ne 300mm girth.",null,null,6.4059999999999997,null,"PROV SUM","SUM",1,20,20,null,{"$f":"SUMIF('Planned Maint v6.2 CSV File'!A:A,J33,'Planned Maint v6.2 CSV File'!I:I)","v":0},20,{"$f":"IF(J33=\"Prov Sum\",\"\",IF(MATCH(J33,'Packet Rate Library'!J:J,0),VLOOKUP(J33,'Packet Rate Library'!J:T,9,FALSE),\"\"))","v":""},"",20]
[null,"REPB47732","ROOF","H"]
[null,"REPB47732","ROOF","D","PROVISIONAL SUM: Overlay with BAUDER Bauderflex System or equivalent inclusive of 15 year guarantee. Voids 1m2 to be deducted Overlay existing mineral surfaced felt with 2 layer torch-on built up felt roofing (including preparation).\n\nUp to 100 m2*",null,null,3.4340000000000002,null,"PROV SUM","SUM",1,1100,1100,null,{"$f":"SUMIF('Planned Maint v6.2 CSV File'!A:A,J35,'Planned Maint v6.2 CSV File'!I:I)","v":0},{"$f":"IF(J35=\"PROV SUM\",N35,L35*P35)","v":1100},{"$f":"IF(J35=\"Prov Sum\",\"\",IF(MATCH(J35,'Packet Rate Library'!J:J,0),VLOOKUP(J35,'Packet Rate Library'!J:T,9,FALSE),\"\"))","v":""},{"$f":"IF(R35>0,R35,P35)","v":""},{"$f":"IF(J35=\"SC024\",N35,IF(ISERROR(S35),\"\",IF(J35=\"PROV SUM\",N35,L35*S35)))","v":1100}]
[null,"REPB47732","ROOF","D","PROVISIONAL SUM: Slate: Overhaul natural slate roof, refix loose slates, renew broken or missing slates to match existing, redress, rewedge and repoint all flashings, aprons, chimney gutters etc, cut out and make good cement weather fillets, repoint in cement mortar (1:3) to all hips, ridges and verges, make good, and remove waste and debris.",null,null,3.4350000000000001,null,"PROV SUM","SUM",1,1400,1400,null,{"$f":"SUMIF('Planned Maint v6.2 CSV File'!A:A,J36,'Planned Maint v6.2 CSV File'!I:I)","v":0},{"$f":"IF(J36=\"PROV SUM\",N36,L36*P36)","v":1400},{"$f":"IF(J36=\"Prov Sum\",\"\",IF(MATCH(J36,'Packet Rate Library'!J:J,0),VLOOKUP(J36,'Packet Rate Library'!J:T,9,FALSE),\"\"))","v":""},{"$f":"IF(R36>0,R36,P36)","v":""},{"$f":"IF(J36=\"SC024\",N36,IF(ISERROR(S36),\"\",IF(J36=\"PROV SUM\",N36,L36*S36)))","v":1400}]
[null,"REPB47732","ROOF","D","PROVISIONAL SUM: Roof Covering: Extra over any renewal or refixing of natural slates for renew roofing felt and battens.",null,null,3.4359999999999999,null,"PROV SUM","SUM",1,200,200,null,{"$f":"SUMIF('Planned Maint v6.2 CSV File'!A:A,J37,'Planned Maint v6.2 CSV File'!I:I)","v":0},{"$f":"IF(J37=\"PROV SUM\",N37,L37*P37)","v":200},{"$f":"IF(J37=\"Prov Sum\",\"\",IF(MATCH(J37,'Packet Rate Library'!J:J,0),VLOOKUP(J37,'Packet Rate Library'!J:T,9,FALSE),\"\"))","v":""},{"$f":"IF(R37>0,R37,P37)","v":""},{"$f":"IF(J37=\"SC024\",N37,IF(ISERROR(S37),\"\",IF(J37=\"PROV SUM\",N37,L37*S37)))","v":200}]
[null,"REPB47732","ROOF","D","PROVISIONAL SUM: Gutter: Clean out debris from gutters to any type of property including flush out and test, rod downpipe including clean out gulley and remove debris from site on completion (per elevation).",null,null,3.4369999999999998,null,"PROV SUM","SUM",1,250,250,null,{"$f":"SUMIF('Planned Maint v6.2 CSV File'!A:A,J38,'Planned Maint v6.2 CSV File'!I:I)","v":0},{"$f":"IF(J38=\"PROV SUM\",N38,L38*P38)","v":250},{"$f":"IF(J38=\"Prov Sum\",\"\",IF(MATCH(J38,'Packet Rate Library'!J:J,0),VLOOKUP(J38,'Packet Rate Library'!J:T,9,FALSE),\"\"))","v":""},{"$f":"IF(R38>0,R38,P38)","v":""},{"$f":"IF(J38=\"SC024\",N38,IF(ISERROR(S38),\"\",IF(J38=\"PROV SUM\",N38,L38*S38)))","v":250}]
[null,"REPB47732","WINDOWS","H"]
[null,"REPB47732","WINDOWS","D","Soft wood timber splice with resin; face splice repair method no. 5.\nRemove old and loose paint as necessary. Cut out decayed timber from windows and frames, piecing in or frame in new wrought softwood with resin to match existing. Leave ready to decorate. \n\nSplice not exc 500 to 1000mm",null,null,4.1100000000000003,null,"WIND017","Nr",2,36.75,73.5,null,{"$f":"SUMIF('Planned Maint v6.2 CSV File'!A:A,J40,'Planned Maint v6.2 CSV File'!I:I)","v":34.912500000000001},{"$f":"IF(J40=\"PROV SUM\",N40,L40*P40)","v":69.825000000000003},{"$f":"IF(J40=\"Prov Sum\",\"\",IF(MATCH(J40,'Packet Rate Library'!J:J,0),VLOOKUP(J40,'Packet Rate Library'!J:T,9,FALSE),\"\"))","v":0},{"$f":"IF(R40>0,R40,P40)","v":34.912500000000001},{"$f":"IF(J40=\"SC024\",N40,IF(ISERROR(S40),\"\",IF(J40=\"PROV SUM\",N40,L40*S40)))","v":69.825000000000003}]
[null,"REPB47732","WINDOWS","D","7. Timber repair system; using window care dry fix/dry flex RP; Conservation Joint; \n\nUp to 50mm ",null,null,4.13,null,"WIND022","Nr",30,4.25,127.5,null,{"$f":"SUMIF('Planned Maint v6.2 CSV File'!A:A,J41,'Planned Maint v6.2 CSV File'!I:I)","v":4.0374999999999996},121.12499999999999,{"$f":"IF(J41=\"Prov Sum\",\"\",IF(MATCH(J41,'Packet Rate Library'!J:J,0),VLOOKUP(J41,'Packet Rate Library'!J:T,9,FALSE),\"\"))","v":0},4.0374999999999996,121.12499999999999]
[null,"REPB47732","WINDOWS","D","7. Timber repair system; using window care dry fix/dry flex RP; Conservation Joint;\n\nup to 100mm ",null,null,4.1399999999999997,null,"WIND023","Nr",5,6.75,33.75,null,{"$f":"SUMIF('Planned Maint v6.2 CSV File'!A:A,J42,'Planned Maint v6.2 CSV File'!I:I)","v":6.4124999999999996},32.0625,{"$f":"IF(J42=\"Prov Sum\",\"\",IF(MATCH(J42,'Packet Rate Library'!J:J,0),VLOOKUP(J42,'Packet Rate Library'!J:T,9,FALSE),\"\"))","v":0},6.4124999999999996,32.0625]
[null,"REPB47732","WINDOWS","D","Window: Overhaul timber sash window, renew staff and parting beads, take out sashes and later rehang on appropriate sized new undyed plaited nylon sash cords, renew pocket pieces, wedge and cramp loose sash frames, oil pulleys, ease and adjust sashes, remove, refit or renew ironmongery, rake out and renew defective putty and mastic, touch up decorations internally to match existing and prepare for redecoration externally, and remove waste and debris.",null,null,4.8999999999999799,null,"3150CA","NO",3,35.61,106.83,null,{"$f":"SUMIF('Planned Maint v6.2 CSV File'!A:A,J43,'Planned Maint v6.2 CSV File'!I:I)","v":31.568264999999997},94.70479499999999,{"$f":"IF(J43=\"Prov Sum\",\"\",IF(MATCH(J43,'Packet Rate Library'!J:J,0),VLOOKUP(J43,'Packet Rate Library'!J:T,9,FALSE),\"\"))","v":0},31.568264999999997,94.70479499999999]
[null,"REPB47732","WINDOWS","D","PROVISIONAL SUM: Soft wood timber splice with resin; face splice repair method no. 5.\nRemove old and loose paint as necessary. Cut out decayed timber from windows and frames, piecing in or frame in new wrought softwood with resin to match existing. Leave ready to decorate. \n\nSplice not exc 500 to 1000mm",null,null,4.2930000000000001,null,"PROV SUM","SUM",1,70,70,null,{"$f":"SUMIF('Planned Maint v6.2 CSV File'!A:A,J44,'Planned Maint v6.2 CSV File'!I:I)","v":0},70,{"$f":"IF(J44=\"Prov Sum\",\"\",IF(MATCH(J44,'Packet Rate Library'!J:J,0),VLOOKUP(J44,'Packet Rate Library'!J:T,9,FALSE),\"\"))","v":""},"",70]
[null,"REPB47732","WINDOWS","D","PROVISIONAL SUM: 7. Timber repair system; using window care dry fix/dry flex RP; Conservation Joint; \n\nUp to 50mm ",null,null,4.2939999999999996,null,"PROV SUM","SUM",1,130,130,null,{"$f":"SUMIF('Planned Maint v6.2 CSV File'!A:A,J45,'Planned Maint v6.2 CSV File'!I:I)","v":0},130,{"$f":"IF(J45=\"Prov Sum\",\"\",IF(MATCH(J45,'Packet Rate Library'!J:J,0),VLOOKUP(J45,'Packet Rate Library'!J:T,9,FALSE),\"\"))","v":""},"",130]
[null,"REPB47732","WINDOWS","D","PROVISIONAL SUM: 7. Timber repair system; using window care dry fix/dry flex RP; Conservation Joint;\n\nup to 100mm ",null,null,4.2949999999999999,null,"PROV SUM","SUM",1,30,30,null,{"$f":"SUMIF('Planned Maint v6.2 CSV File'!A:A,J46,'Planned Maint v6.2 CSV File'!I:I)","v":0},30,{"$f":"IF(J46=\"Prov Sum\",\"\",IF(MATCH(J46,'Packet Rate Library'!J:J,0),VLOOKUP(J46,'Packet Rate Library'!J:T,9,FALSE),\"\"))","v":""},"",30]
[null,"REPB47732","WINDOWS","D","PROVISIONAL SUM: Window: Overhaul timber sash window, renew staff and parting beads, take out sashes and later rehang on appropriate sized new undyed plaited nylon sash cords, renew pocket pieces, wedge and cramp loose sash frames, oil pulleys, ease and adjust sashes, remove, refit or renew ironmongery, rake out and renew defective putty and mastic, touch up decorations internally to match existing and prepare for redecoration externally, and remove waste and debris.",null,null,4.2960000000000003,null,"PROV SUM","SUM",1,100,100,null,{"$f":"SUMIF('Planned Maint v6.2 CSV File'!A:A,J47,'Planned Maint v6.2 CSV File'!I:I)","v":0},100,{"$f":"IF(J47=\"Prov Sum\",\"\",IF(MATCH(J47,'Packet Rate Library'!J:J,0),VLOOKUP(J47,'Packet Rate Library'!J:T,9,FALSE),\"\"))","v":""},"",100]
[null,"REPB47732","SCAFFOLD","H"]
[null,"REPB47732","SCAFFOLD","D","Standard Scaffold item: erect; dismantle; basic independent tied working scaffolding; 5 boards wide, including hire period; completely accessible; debris netting to all elevations; double boarded and polythene included as necessary, any fan(s) included as required; rope plus wheel for lifting operations; 3rd handrail included whenever necessary; as per applicable regulations (applies to up to 5 storeys). Measured up to second handrail and by the middle of the scaffold (equidistant from the inside/outside face) including design when required. Rate to include for 12 week hire",null,null,2.1,null,"SC001","M2",160,12.92,2067.1999999999998,null,{"$f":"SUMIF('Planned Maint v6.2 CSV File'!A:A,J49,'Planned Maint v6.2 CSV File'!I:I)","v":16.4084},{"$f":"IF(J49=\"PROV SUM\",N49,L49*P49)","v":2625.3440000000001},{"$f":"IF(J49=\"Prov Sum\",\"\",IF(MATCH(J49,'Packet Rate Library'!J:J,0),VLOOKUP(J49,'Packet Rate Library'!J:T,9,FALSE),\"\"))","v":0},{"$f":"IF(R49>0,R49,P49)","v":16.4084},{"$f":"IF(J49=\"SC024\",N49,IF(ISERROR(S49),\"\",IF(J49=\"PROV SUM\",N49,L49*S49)))","v":2625.3440000000001}]
[null,"REPB47732","SCAFFOLD","D","Scaffold alarm - 1 x sounder, 2 x PIR 1 X key pad (Divided by Number of properties if continuous scaffolds)",null,null,2.5,null,"SC005","unit",1,420,420,null,{"$f":"SUMIF('Planned Maint v6.2 CSV File'!A:A,J50,'Planned Maint v6.2 CSV File'!I:I)","v":533.4},533.4,{"$f":"IF(J50=\"Prov Sum\",\"\",IF(MATCH(J50,'Packet Rate Library'!J:J,0),VLOOKUP(J50,'Packet Rate Library'!J:T,9,FALSE),\"\"))","v":0},533.4,533.4]
[null,"REPB47732","SCAFFOLD","D","E/O for additional PIRS",null,null,2.6,null,"SC007","unit",1,50,50,null,{"$f":"SUMIF('Planned Maint v6.2 CSV File'!A:A,J51,'Planned Maint v6.2 CSV File'!I:I)","v":63.5},63.5,{"$f":"IF(J51=\"Prov Sum\",\"\",IF(MATCH(J51,'Packet Rate Library'!J:J,0),VLOOKUP(J51,'Packet Rate Library'!J:T,9,FALSE),\"\"))","v":0},63.5,63.5]
[null,"REPB47732","SCAFFOLD","D","Scaffold taken through property (protection to surfaces included)",null,null,2.16,null,"SC016","unit",1,379.8,379.8,null,{"$f":"SUMIF('Planned Maint v6.2 CSV File'!A:A,J52,'Planned Maint v6.2 CSV File'!I:I)","v":482.346},482.346,{"$f":"IF(J52=\"Prov Sum\",\"\",IF(MATCH(J52,'Packet Rate Library'!J:J,0),VLOOKUP(J52,'Packet Rate Library'!J:T,9,FALSE),\"\"))","v":0},482.346,482.346]
[null,"REPB47732","SCAFFOLD","D","Scaffold taken up&over the roof",null,null,2.17,null,"SC017","unit",1,842,842,null,{"$f":"SUMIF('Planned Maint v6.2 CSV File'!A:A,J53,'Planned Maint v6.2 CSV File'!I:I)","v":1069.3399999999999},1069.3399999999999,{"$f":"IF(J53=\"Prov Sum\",\"\",IF(MATCH(J53,'Packet Rate Library'!J:J,0),VLOOKUP(J53,'Packet Rate Library'!J:T,9,FALSE),\"\"))","v":0},1069.3399999999999,1069.3399999999999]
[null,"REPB47732","SCAFFOLD","D","Additional Hire if required - % per week of total scaffolding costs.  This is to be applied in the event an agreed programme exceeding the duration set out above. An example would be large low level blocks of 4 storeys requiring a large programme duration",null,null,null,null,"SC024","unit",null,4.8300000000000003E-2,{"$f":"VLOOKUP(B54,'Project Overheads & Scaffold'!$W:$AI,13,FALSE)","v":0},null,{"$f":"SUMIF('Planned Maint v6.2 CSV File'!A:A,J54,'Planned Maint v6.2 CSV File'!I:I)","v":4.8300000000000003E-2},0,{"$f":"IF(J54=\"Prov Sum\",\"\",IF(MATCH(J54,'Packet Rate Library'!J:J,0),VLOOKUP(J54,'Packet Rate Library'!J:T,9,FALSE),\"\"))","v":{"$error":"#N/A"}},{"$error":"#N/A"},0]
[null,"REPB47732","ESTATE WORKS","H"]
[null,"REPB47732","ESTATE WORKS","D","PROVISIONAL SUM: Fencing: Renew or provide new tanalised timber closeboard fencing including for taking down remnants of existing fence and posts set in concrete, remove from site to approved tip, and set 100x100x1650mm long tanalised softwood posts in concrete at 1.80m centres with two 69x44mm softwood arris rails bolted to posts with 144x20mm vertical boards 1.05m high nailed to rails, provide and fix 25x150mm tanalised softwood gravel board with centre prop. (measured per metre run of fencing).",null,null,7.3159999999999998,null,"PROV SUM","SUM",1,250,250,null,{"$f":"SUMIF('Planned Maint v6.2 CSV File'!A:A,J56,'Planned Maint v6.2 CSV File'!I:I)","v":0},{"$f":"IF(J56=\"PROV SUM\",N56,L56*P56)","v":250},{"$f":"IF(J56=\"Prov Sum\",\"\",IF(MATCH(J56,'Packet Rate Library'!J:J,0),VLOOKUP(J56,'Packet Rate Library'!J:T,9,FALSE),\"\"))","v":""},{"$f":"IF(R56>0,R56,P56)","v":""},{"$f":"IF(J56=\"SC024\",N56,IF(ISERROR(S56),\"\",IF(J56=\"PROV SUM\",N56,L56*S56)))","v":250}]
[null,"REPB47732","ESTATE WORKS","D","PROVISIONAL SUM: Fence Post: Renew tanalised softwood fence post set in hardcore or concrete size 100x100mm and ne 2.40m long including any struts, excavate hole, place hardcore and or concrete, backfill, remove and refix fencing, and remove waste and debris, reinstate paving, gardens and the like as necessary.",null,null,7.3179999999999996,null,"PROV SUM","SUM",1,100,100,null,{"$f":"SUMIF('Planned Maint v6.2 CSV File'!A:A,J57,'Planned Maint v6.2 CSV File'!I:I)","v":0},{"$f":"IF(J57=\"PROV SUM\",N57,L57*P57)","v":100},{"$f":"IF(J57=\"Prov Sum\",\"\",IF(MATCH(J57,'Packet Rate Library'!J:J,0),VLOOKUP(J57,'Packet Rate Library'!J:T,9,FALSE),\"\"))","v":""},{"$f":"IF(R57>0,R57,P57)","v":""},{"$f":"IF(J57=\"SC024\",N57,IF(ISERROR(S57),\"\",IF(J57=\"PROV SUM\",N57,L57*S57)))","v":100}]
[null,"REPB47732","ESTATE WORKS","D","PROVISIONAL SUM: Fracture: Remove any applied finish and cut out bricks as necessary to either side of fracture, one face only, stitch in new bricks, bed and point to match existing in cement lime mortar (1:1:6), and make good any applied finishes, and remove waste and debris (measured over mean general line of fracture).",null,null,7.319,null,"PROV SUM","SUM",1,400,400,null,{"$f":"SUMIF('Planned Maint v6.2 CSV File'!A:A,J58,'Planned Maint v6.2 CSV File'!I:I)","v":0},{"$f":"IF(J58=\"PROV SUM\",N58,L58*P58)","v":400},{"$f":"IF(J58=\"Prov Sum\",\"\",IF(MATCH(J58,'Packet Rate Library'!J:J,0),VLOOKUP(J58,'Packet Rate Library'!J:T,9,FALSE),\"\"))","v":""},{"$f":"IF(R58>0,R58,P58)","v":""},{"$f":"IF(J58=\"SC024\",N58,IF(ISERROR(S58),\"\",IF(J58=\"PROV SUM\",N58,L58*S58)))","v":400}]
[null,"REPB47732","ESTATE WORKS","D","PROVISIONAL SUM: Wall: Rake out existing joints of brickwork min 12mm and repoint brickwork in mortar to match existing and remove waste and debris.",null,null,7.32,null,"PROV SUM","SUM",1,400,400,null,{"$f":"SUMIF('Planned Maint v6.2 CSV File'!A:A,J59,'Planned Maint v6.2 CSV File'!I:I)","v":0},{"$f":"IF(J59=\"PROV SUM\",N59,L59*P59)","v":400},{"$f":"IF(J59=\"Prov Sum\",\"\",IF(MATCH(J59,'Packet Rate Library'!J:J,0),VLOOKUP(J59,'Packet Rate Library'!J:T,9,FALSE),\"\"))","v":""},{"$f":"IF(R59>0,R59,P59)","v":""},{"$f":"IF(J59=\"SC024\",N59,IF(ISERROR(S59),\"\",IF(J59=\"PROV SUM\",N59,L59*S59)))","v":400}]

{"sheet":"29 Grove TerraceFlatsA-C-","index":24,"n_rows":45,"n_cols":20,"rows_kept":45,"cut":false,"hidden":false,"merged":[[4,15,4,19]]}
[null,null,null,null,null,null,null,null,null,null,null,null,null,null,null,{"$f":"SUMIF('Planned Maint v6.2 CSV File'!A:A,J1,'Planned Maint v6.2 CSV File'!I:I)","v":0},{"$f":"IF(J1=\"PROV SUM\",N1,L1*P1)","v":0},{"$f":"IF(J1=\"Prov Sum\",\"\",IF(MATCH(J1,'Packet Rate Library'!J:J,0),VLOOKUP(J1,'Packet Rate Library'!J:T,9,FALSE),\"\"))","v":{"$error":"#N/A"}},{"$f":"IF(R1>0,R1,P1)","v":{"$error":"#N/A"}},{"$f":"IF(J1=\"SC024\",N1,IF(ISERROR(S1),\"\",IF(J1=\"PROV SUM\",N1,L1*S1)))","v":""}]
[]
[]
["29 GROVE TERRACE FLATS A-C"]
[]
["Requirement","REPB47494","Requirement Type","Rowtype (H=Header, D=Detail)","Description","Works Order Commencement Date","Works Order Completion Date","Specification  Ref. Item No.'s","Works Order Delivery Date","SOR Code","SOR Unit","SOR Qty","SOR Cost","Total Cost",null,"Rate (max)","Cost (max)","Modified price","Tendered rate","Tendered total"]
[]
[" ","REPB47494","ENERGY EFFICIENY","H"]
[null,"REPB47494","ENERGY EFFICIENY","D","Contractor to access and undertake survey of loft space in accordance with the Project Brief in order to assess level of current loft insulation. Including submittion of a survey report supported by photographic evidance to CM/PM. Where insulation levels are less then 200mm, Contractor to provide cost proposal to upgrade insulation in accordance with NHF SoR Planned Maintenance Version 6.2.",null,null,9.1,null,"ADD001","IT",1,null,null,null,{"$f":"SUMIF('Planned Maint v6.2 CSV File'!A:A,J9,'Planned Maint v6.2 CSV File'!I:I)","v":0},{"$f":"IF(J9=\"PROV SUM\",N9,L9*P9)","v":0},{"$f":"IF(J9=\"Prov Sum\",\"\",IF(MATCH(J9,'Packet Rate Library'!J:J,0),VLOOKUP(J9,'Packet Rate Library'!J:T,9,FALSE),\"\"))","v":0},{"$f":"IF(R9>0,R9,P9)","v":0},{"$f":"IF(J9=\"SC024\",N9,IF(ISERROR(S9),\"\",IF(J9=\"PROV SUM\",N9,L9*S9)))","v":0}]
[null,"REPB47494","ENERGY EFFICIENY","D","Insulation:Supply and lay ne 270mm thick insulation quilt to loft area including gain access and moving/replacing contents within loft area in order to undertake work. Item 2270AA",null,null,9.1999999999999993,null,"2270AA","SM",46.04,10.86,{"$f":"M10*L10","v":499.99439999999998},null,{"$f":"SUMIF('Planned Maint v6.2 CSV File'!A:A,J10,'Planned Maint v6.2 CSV File'!I:I)","v":8.6880000000000006},{"$f":"IF(J10=\"PROV SUM\",N10,L10*P10)","v":399.99552},{"$f":"IF(J10=\"Prov Sum\",\"\",IF(MATCH(J10,'Packet Rate Library'!J:J,0),VLOOKUP(J10,'Packet Rate Library'!J:T,9,FALSE),\"\"))","v":0},{"$f":"IF(R10>0,R10,P10)","v":8.6880000000000006},{"$f":"IF(J10=\"SC024\",N10,IF(ISERROR(S10),\"\",IF(J10=\"PROV SUM\",N10,L10*S10)))","v":399.99552}]
[null,"REPB47494","ASBESTOS","H"]
[null,"REPB47494","ASBESTOS","D","Refurbishment and Demolition  Survey to Full Property (with upto 5 Nr samples) , flat or house any size",null,null,1.3,null,"A003","Item",1,234,234,null,{"$f":"SUMIF('Planned Maint v6.2 CSV File'!A:A,J12,'Planned Maint v6.2 CSV File'!I:I)","v":222.29999999999998},{"$f":"IF(J12=\"PROV SUM\",N12,L12*P12)","v":222.29999999999998},{"$f":"IF(J12=\"Prov Sum\",\"\",IF(MATCH(J12,'Packet Rate Library'!J:J,0),VLOOKUP(J12,'Packet Rate Library'!J:T,9,FALSE),\"\"))","v":0},{"$f":"IF(R12>0,R12,P12)","v":222.29999999999998},{"$f":"IF(J12=\"SC024\",N12,IF(ISERROR(S12),\"\",IF(J12=\"PROV SUM\",N12,L12*S12)))","v":222.29999999999998}]
[null,"REPB47494","COMMUNAL WORKS","H"]
[null,"REPB47494","COMMUNAL WORKS","D","Hall: Thoroughly clean down all wall and ceiling surfaces to common areas to remove dirt, grease and surface containments, scrape and remove all loose and defective coatings, prime bare areas with one coat of fire retardant primer and apply two coats of Class ‘O’ fire retardant matt paint, prepare and apply two coats of polyurethane lacquer or one undercoat and one gloss coat to all previously decorated timber surfaces to lobby, hall or corridor over 3.00sm ceiling area complete (classified as a single area).",null,null,5.0999999999999996,null,"4540AC","IT",1,480,480,null,{"$f":"SUMIF('Planned Maint v6.2 CSV File'!A:A,J14,'Planned Maint v6.2 CSV File'!I:I)","v":408},{"$f":"IF(J14=\"PROV SUM\",N14,L14*P14)","v":408},{"$f":"IF(J14=\"Prov Sum\",\"\",IF(MATCH(J14,'Packet Rate Library'!J:J,0),VLOOKUP(J14,'Packet Rate Library'!J:T,9,FALSE),\"\"))","v":0},{"$f":"IF(R14>0,R14,P14)","v":408},{"$f":"IF(J14=\"SC024\",N14,IF(ISERROR(S14),\"\",IF(J14=\"PROV SUM\",N14,L14*S14)))","v":408}]
[null,"REPB47494","COMMUNAL WORKS","D","PROVISIONAL SUM: Skirting Board: Decorate skirting board of wood. ",null,null,5.3860000000000001,null,"PROV SUM","SUM",1,300,300,null,{"$f":"SUMIF('Planned Maint v6.2 CSV File'!A:A,J15,'Planned Maint v6.2 CSV File'!I:I)","v":0},{"$f":"IF(J15=\"PROV SUM\",N15,L15*P15)","v":300},{"$f":"IF(J15=\"Prov Sum\",\"\",IF(MATCH(J15,'Packet Rate Library'!J:J,0),VLOOKUP(J15,'Packet Rate Library'!J:T,9,FALSE),\"\"))","v":""},{"$f":"IF(R15>0,R15,P15)","v":""},{"$f":"IF(J15=\"SC024\",N15,IF(ISERROR(S15),\"\",IF(J15=\"PROV SUM\",N15,L15*S15)))","v":300}]
[null,"REPB47494","COMMUNAL WORKS","D","PROVISIONAL SUM: Take up and renew linoleum floor covering. ",null,null,5.3869999999999996,null,"PROV SUM","SUM",1,700,700,null,{"$f":"SUMIF('Planned Maint v6.2 CSV File'!A:A,J16,'Planned Maint v6.2 CSV File'!I:I)","v":0},{"$f":"IF(J16=\"PROV SUM\",N16,L16*P16)","v":700},{"$f":"IF(J16=\"Prov Sum\",\"\",IF(MATCH(J16,'Packet Rate Library'!J:J,0),VLOOKUP(J16,'Packet Rate Library'!J:T,9,FALSE),\"\"))","v":""},{"$f":"IF(R16>0,R16,P16)","v":""},{"$f":"IF(J16=\"SC024\",N16,IF(ISERROR(S16),\"\",IF(J16=\"PROV SUM\",N16,L16*S16)))","v":700}]
[null,"REPB47494","EXTREP","H"]
[null,"REPB47494","EXTREP","D","Moulding Repairs  0-5no. per property\nFosroc repair mortar or equivalent\nInsitu repairs using straight edge to form moulding repair. \n\n(Girth NE300mm Length NE300mm)",null,null,6.11,null,"FAB071","no",5,79.14,395.7,null,{"$f":"SUMIF('Planned Maint v6.2 CSV File'!A:A,J18,'Planned Maint v6.2 CSV File'!I:I)","v":63.312000000000005},{"$f":"IF(J18=\"PROV SUM\",N18,L18*P18)","v":316.56},{"$f":"IF(J18=\"Prov Sum\",\"\",IF(MATCH(J18,'Packet Rate Library'!J:J,0),VLOOKUP(J18,'Packet Rate Library'!J:T,9,FALSE),\"\"))","v":0},{"$f":"IF(R18>0,R18,P18)","v":63.312000000000005},{"$f":"IF(J18=\"SC024\",N18,IF(ISERROR(S18),\"\",IF(J18=\"PROV SUM\",N18,L18*S18)))","v":316.56}]
[null,"REPB47494","EXTREP","D","Fracture: Remove any applied finish and cut out bricks as necessary to either side of fracture, one face only, stitch in new bricks, bed and point to match existing in cement lime mortar (1:1:6), and make good any applied finishes, and remove waste and debris (measured over mean general line of fracture).",null,null,6.82,null,"1019AA","LM",37,44.12,1632.44,null,{"$f":"SUMIF('Planned Maint v6.2 CSV File'!A:A,J19,'Planned Maint v6.2 CSV File'!I:I)","v":31.986999999999998},1183.519,{"$f":"IF(J19=\"Prov Sum\",\"\",IF(MATCH(J19,'Packet Rate Library'!J:J,0),VLOOKUP(J19,'Packet Rate Library'!J:T,9,FALSE),\"\"))","v":0},31.986999999999998,1183.519]
[null,"REPB47494","EXTREP","D","Cills: Prepare, clean off all dust and debris, fill in or resurface cracks or spalled surfaces of concrete with epoxy mortar in surfaces of cills, not exceeding 300mm girth, repair over 5 and ne 10mm deep, and remove waste and debris.",null,null,6.16100000000002,null,"1460AF","LM",12,38.25,459,null,{"$f":"SUMIF('Planned Maint v6.2 CSV File'!A:A,J20,'Planned Maint v6.2 CSV File'!I:I)","v":27.731249999999999},332.77499999999998,{"$f":"IF(J20=\"Prov Sum\",\"\",IF(MATCH(J20,'Packet Rate Library'!J:J,0),VLOOKUP(J20,'Packet Rate Library'!J:T,9,FALSE),\"\"))","v":0},27.731249999999999,332.77499999999998]
[null,"REPB47494","EXTREP","D","Walls:Wash down, fill in cracks and holes, sand smooth and apply two coats of smooth finish masonry paint to rendered or concrete surfaces of walls.",null,null,6.1940000000000301,null,"4360BA","SM",28,7.02,196.56,null,{"$f":"SUMIF('Planned Maint v6.2 CSV File'!A:A,J21,'Planned Maint v6.2 CSV File'!I:I)","v":5.9669999999999996},167.07599999999999,{"$f":"IF(J21=\"Prov Sum\",\"\",IF(MATCH(J21,'Packet Rate Library'!J:J,0),VLOOKUP(J21,'Packet Rate Library'!J:T,9,FALSE),\"\"))","v":0},5.9669999999999996,167.07599999999999]
[null,"REPB47494","EXTREP","D","Balustrading: Wire brush, prepare for and apply one coat of primer, one undercoat, two coats of gloss paint on ornamental metal balustrading, railings or gates (measured both sides).",null,null,6.2040000000000299,null,"4362EA","SM",12,20.51,246.12,null,{"$f":"SUMIF('Planned Maint v6.2 CSV File'!A:A,J22,'Planned Maint v6.2 CSV File'!I:I)","v":17.433500000000002},209.20200000000003,{"$f":"IF(J22=\"Prov Sum\",\"\",IF(MATCH(J22,'Packet Rate Library'!J:J,0),VLOOKUP(J22,'Packet Rate Library'!J:T,9,FALSE),\"\"))","v":0},17.433500000000002,209.20200000000003]
[null,"REPB47494","EXTREP","D","Window: Rub down, prepare and apply one undercoat and one coat of gloss paint on existing painted surfaces of wooden windows (one side and edges).",null,null,6.2620000000000502,null,"4381JB","SM",34,16.86,573.24,null,{"$f":"SUMIF('Planned Maint v6.2 CSV File'!A:A,J23,'Planned Maint v6.2 CSV File'!I:I)","v":14.331},487.25399999999996,{"$f":"IF(J23=\"Prov Sum\",\"\",IF(MATCH(J23,'Packet Rate Library'!J:J,0),VLOOKUP(J23,'Packet Rate Library'!J:T,9,FALSE),\"\"))","v":0},14.331,487.25399999999996]
[null,"REPB47494","EXTREP","D","Door: Rub down, prepare for and apply one undercoat and one coat of gloss paint to all existing painted surfaces of any size or type of single glazed timber door (both sides and edges).",null,null,6.2650000000000503,null,"4381LB","IT",1,19.34,19.34,null,{"$f":"SUMIF('Planned Maint v6.2 CSV File'!A:A,J24,'Planned Maint v6.2 CSV File'!I:I)","v":16.439},16.439,{"$f":"IF(J24=\"Prov Sum\",\"\",IF(MATCH(J24,'Packet Rate Library'!J:J,0),VLOOKUP(J24,'Packet Rate Library'!J:T,9,FALSE),\"\"))","v":0},16.439,16.439]
[null,"REPB47494","EXTREP","D","PROVISIONAL SUM: Rear wall: Complete pebbledash rendering to lower section of wall SM 8.",null,null,6.399,null,"PROV SUM","SUM",1,400,400,null,{"$f":"SUMIF('Planned Maint v6.2 CSV File'!A:A,J25,'Planned Maint v6.2 CSV File'!I:I)","v":0},400,{"$f":"IF(J25=\"Prov Sum\",\"\",IF(MATCH(J25,'Packet Rate Library'!J:J,0),VLOOKUP(J25,'Packet Rate Library'!J:T,9,FALSE),\"\"))","v":""},"",400]
[null,"REPB47494","ROOF","H"]
[null,"REPB47494","ROOF","D","Moss:Carefully remove moss/lichen growth on roof covering of any kind and dispose of debris off site, reistate all disturbed surfaces, replace broken tiles, slates and the like, thoroughly clean out valleys, gutters, downpipes, hoppers etc, prepare and treat the complete roof area with a diluted fungicide solution AKZO or other equal and approved applied strictly in accordance with the manufacturer’s instructions, thoroughly clean out all gutters and the like to remove all chemical residue arising upon completion of the works, and remove waste and debris.",null,null,3.1799999999999899,null,"2115AA","SM",55,10.17,559.35,null,{"$f":"SUMIF('Planned Maint v6.2 CSV File'!A:A,J27,'Planned Maint v6.2 CSV File'!I:I)","v":8.136000000000001},{"$f":"IF(J27=\"PROV SUM\",N27,L27*P27)","v":447.48000000000008},{"$f":"IF(J27=\"Prov Sum\",\"\",IF(MATCH(J27,'Packet Rate Library'!J:J,0),VLOOKUP(J27,'Packet Rate Library'!J:T,9,FALSE),\"\"))","v":0},{"$f":"IF(R27>0,R27,P27)","v":8.136000000000001},{"$f":"IF(J27=\"SC024\",N27,IF(ISERROR(S27),\"\",IF(J27=\"PROV SUM\",N27,L27*S27)))","v":447.48000000000008}]
[null,"REPB47494","ROOF","D","Roofing:Apply sealing compound to cracks to roof or leadwork.",null,null,3.1819999999999902,null,"2150AB","LM",8,5.4,43.2,null,{"$f":"SUMIF('Planned Maint v6.2 CSV File'!A:A,J28,'Planned Maint v6.2 CSV File'!I:I)","v":4.32},{"$f":"IF(J28=\"PROV SUM\",N28,L28*P28)","v":34.56},{"$f":"IF(J28=\"Prov Sum\",\"\",IF(MATCH(J28,'Packet Rate Library'!J:J,0),VLOOKUP(J28,'Packet Rate Library'!J:T,9,FALSE),\"\"))","v":0},{"$f":"IF(R28>0,R28,P28)","v":4.32},{"$f":"IF(J28=\"SC024\",N28,IF(ISERROR(S28),\"\",IF(J28=\"PROV SUM\",N28,L28*S28)))","v":34.56}]
[null,"REPB47494","ROOF","D","Slate: Overhaul fibre cement slate roof, refix loose slates, renew broken or missing slates to match existing, redress, rewedge and repoint all flashings, aprons, chimney gutters etc, cut out and make good cement weather fillets, repoint in cement mortar (1:3) to all hips, ridges and verges, make good, and remove waste and debris.",null,null,3.2069999999999901,null,"2031CA","SM",3,30.56,91.68,null,{"$f":"SUMIF('Planned Maint v6.2 CSV File'!A:A,J29,'Planned Maint v6.2 CSV File'!I:I)","v":24.448},{"$f":"IF(J29=\"PROV SUM\",N29,L29*P29)","v":73.343999999999994},{"$f":"IF(J29=\"Prov Sum\",\"\",IF(MATCH(J29,'Packet Rate Library'!J:J,0),VLOOKUP(J29,'Packet Rate Library'!J:T,9,FALSE),\"\"))","v":0},{"$f":"IF(R29>0,R29,P29)","v":24.448},{"$f":"IF(J29=\"SC024\",N29,IF(ISERROR(S29),\"\",IF(J29=\"PROV SUM\",N29,L29*S29)))","v":73.343999999999994}]
[null,"REPB47494","ROOF","D","Gutter:Clean out debris from gutters to any type of property including flush out and test, rod downpipe including clean out gulley and remove debris from site on completion (per elevation).",null,null,3.3640000000000101,null,"6039BA","IT",1,20.13,20.13,null,{"$f":"SUMIF('Planned Maint v6.2 CSV File'!A:A,J30,'Planned Maint v6.2 CSV File'!I:I)","v":14.918342999999998},{"$f":"IF(J30=\"PROV SUM\",N30,L30*P30)","v":14.918342999999998},{"$f":"IF(J30=\"Prov Sum\",\"\",IF(MATCH(J30,'Packet Rate Library'!J:J,0),VLOOKUP(J30,'Packet Rate Library'!J:T,9,FALSE),\"\"))","v":0},{"$f":"IF(R30>0,R30,P30)","v":14.918342999999998},{"$f":"IF(J30=\"SC024\",N30,IF(ISERROR(S30),\"\",IF(J30=\"PROV SUM\",N30,L30*S30)))","v":14.918342999999998}]
[null,"REPB47494","WINDOWS","H"]
[null,"REPB47494","WINDOWS","D","7. Timber repair system; using window care dry fix/dry flex RP; Conservation Joint;\n\nup to 100mm ",null,null,4.1399999999999997,null,"WIND023","Nr",30,6.75,202.5,null,{"$f":"SUMIF('Planned Maint v6.2 CSV File'!A:A,J32,'Planned Maint v6.2 CSV File'!I:I)","v":6.4124999999999996},{"$f":"IF(J32=\"PROV SUM\",N32,L32*P32)","v":192.375},{"$f":"IF(J32=\"Prov Sum\",\"\",IF(MATCH(J32,'Packet Rate Library'!J:J,0),VLOOKUP(J32,'Packet Rate Library'!J:T,9,FALSE),\"\"))","v":0},{"$f":"IF(R32>0,R32,P32)","v":6.4124999999999996},{"$f":"IF(J32=\"SC024\",N32,IF(ISERROR(S32),\"\",IF(J32=\"PROV SUM\",N32,L32*S32)))","v":192.375}]
[null,"REPB47494","WINDOWS","D","Window: Overhaul timber casement window, dismantle as necessary and subsequently reassemble including freeing, easing and adjusting casements to give correct operation, renew sealing gaskets, renew fixing screws, remove, refit or renew ironmongery as necessary, rake out and renew defective putty and mastic, touch up decorations internally to match existing and prepare for redecoration externally, and remove waste and debris.",null,null,4.8899999999999801,null,"3150BA","NO",4,29.05,116.2,null,{"$f":"SUMIF('Planned Maint v6.2 CSV File'!A:A,J33,'Planned Maint v6.2 CSV File'!I:I)","v":25.752824999999998},{"$f":"IF(J33=\"PROV SUM\",N33,L33*P33)","v":103.01129999999999},{"$f":"IF(J33=\"Prov Sum\",\"\",IF(MATCH(J33,'Packet Rate Library'!J:J,0),VLOOKUP(J33,'Packet Rate Library'!J:T,9,FALSE),\"\"))","v":0},{"$f":"IF(R33>0,R33,P33)","v":25.752824999999998},{"$f":"IF(J33=\"SC024\",N33,IF(ISERROR(S33),\"\",IF(J33=\"PROV SUM\",N33,L33*S33)))","v":103.01129999999999}]
[null,"REPB47494","WINDOWS","D","Window: Overhaul timber sash window, renew staff and parting beads, take out sashes and later rehang on appropriate sized new undyed plaited nylon sash cords, renew pocket pieces, wedge and cramp loose sash frames, oil pulleys, ease and adjust sashes, remove, refit or renew ironmongery, rake out and renew defective putty and mastic, touch up decorations internally to match existing and prepare for redecoration externally, and remove waste and debris.",null,null,4.8999999999999799,null,"3150CA","NO",26,35.61,925.86,null,{"$f":"SUMIF('Planned Maint v6.2 CSV File'!A:A,J34,'Planned Maint v6.2 CSV File'!I:I)","v":31.568264999999997},{"$f":"IF(J34=\"PROV SUM\",N34,L34*P34)","v":820.77488999999991},{"$f":"IF(J34=\"Prov Sum\",\"\",IF(MATCH(J34,'Packet Rate Library'!J:J,0),VLOOKUP(J34,'Packet Rate Library'!J:T,9,FALSE),\"\"))","v":0},{"$f":"IF(R34>0,R34,P34)","v":31.568264999999997},{"$f":"IF(J34=\"SC024\",N34,IF(ISERROR(S34),\"\",IF(J34=\"PROV SUM\",N34,L34*S34)))","v":820.77488999999991}]
[null,"REPB47494","WINDOWS","D","PROVISIONAL SUM: Allow for unforeseen window repairs.",null,null,4.2930000000000001,null,"PROV SUM","SUM",1,300,300,null,{"$f":"SUMIF('Planned Maint v6.2 CSV File'!A:A,J35,'Planned Maint v6.2 CSV File'!I:I)","v":0},{"$f":"IF(J35=\"PROV SUM\",N35,L35*P35)","v":300},{"$f":"IF(J35=\"Prov Sum\",\"\",IF(MATCH(J35,'Packet Rate Library'!J:J,0),VLOOKUP(J35,'Packet Rate Library'!J:T,9,FALSE),\"\"))","v":""},{"$f":"IF(R35>0,R35,P35)","v":""},{"$f":"IF(J35=\"SC024\",N35,IF(ISERROR(S35),\"\",IF(J35=\"PROV SUM\",N35,L35*S35)))","v":300}]
[null,"REPB47494","SCAFFOLD","H"]
[null,"REPB47494","SCAFFOLD","D","Standard Scaffold item: erect; dismantle; basic independent tied working scaffolding; 5 boards wide, including hire period; completely accessible; debris netting to all elevations; double boarded and polythene included as necessary, any fan(s) included as required; rope plus wheel for lifting operations; 3rd handrail included whenever necessary; as per applicable regulations (applies to up to 5 storeys). Measured up to second handrail and by the middle of the scaffold (equidistant from the inside/outside face) including design when required. Rate to include for 12 week hire",null,null,2.1,null,"SC001","M2",256,12.92,3307.52,null,{"$f":"SUMIF('Planned Maint v6.2 CSV File'!A:A,J37,'Planned Maint v6.2 CSV File'!I:I)","v":16.4084},{"$f":"IF(J37=\"PROV SUM\",N37,L37*P37)","v":4200.5504000000001},{"$f":"IF(J37=\"Prov Sum\",\"\",IF(MATCH(J37,'Packet Rate Library'!J:J,0),VLOOKUP(J37,'Packet Rate Library'!J:T,9,FALSE),\"\"))","v":0},{"$f":"IF(R37>0,R37,P37)","v":16.4084},{"$f":"IF(J37=\"SC024\",N37,IF(ISERROR(S37),\"\",IF(J37=\"PROV SUM\",N37,L37*S37)))","v":4200.5504000000001}]
[null,"REPB47494","SCAFFOLD","D","Scaffold alarm - 1 x sounder, 2 x PIR 1 X key pad (Divided by Number of properties if continuous scaffolds)",null,null,2.5,null,"SC005","unit",1,420,420,null,{"$f":"SUMIF('Planned Maint v6.2 CSV File'!A:A,J38,'Planned Maint v6.2 CSV File'!I:I)","v":533.4},{"$f":"IF(J38=\"PROV SUM\",N38,L38*P38)","v":533.4},{"$f":"IF(J38=\"Prov Sum\",\"\",IF(MATCH(J38,'Packet Rate Library'!J:J,0),VLOOKUP(J38,'Packet Rate Library'!J:T,9,FALSE),\"\"))","v":0},{"$f":"IF(R38>0,R38,P38)","v":533.4},{"$f":"IF(J38=\"SC024\",N38,IF(ISERROR(S38),\"\",IF(J38=\"PROV SUM\",N38,L38*S38)))","v":533.4}]
[null,"REPB47494","SCAFFOLD","D","E/O for additional PIRS",null,null,2.6,null,"SC007","unit",2,50,100,null,{"$f":"SUMIF('Planned Maint v6.2 CSV File'!A:A,J39,'Planned Maint v6.2 CSV File'!I:I)","v":63.5},{"$f":"IF(J39=\"PROV SUM\",N39,L39*P39)","v":127},{"$f":"IF(J39=\"Prov Sum\",\"\",IF(MATCH(J39,'Packet Rate Library'!J:J,0),VLOOKUP(J39,'Packet Rate Library'!J:T,9,FALSE),\"\"))","v":0},{"$f":"IF(R39>0,R39,P39)","v":63.5},{"$f":"IF(J39=\"SC024\",N39,IF(ISERROR(S39),\"\",IF(J39=\"PROV SUM\",N39,L39*S39)))","v":127}]
[null,"REPB47494","SCAFFOLD","D","Scaffold taken through property (protection to surfaces included)",null,null,2.16,null,"SC016","unit",1,379.8,379.8,null,{"$f":"SUMIF('Planned Maint v6.2 CSV File'!A:A,J40,'Planned Maint v6.2 CSV File'!I:I)","v":482.346},{"$f":"IF(J40=\"PROV SUM\",N40,L40*P40)","v":482.346},{"$f":"IF(J40=\"Prov Sum\",\"\",IF(MATCH(J40,'Packet Rate Library'!J:J,0),VLOOKUP(J40,'Packet Rate Library'!J:T,9,FALSE),\"\"))","v":0},{"$f":"IF(R40>0,R40,P40)","v":482.346},{"$f":"IF(J40=\"SC024\",N40,IF(ISERROR(S40),\"\",IF(J40=\"PROV SUM\",N40,L40*S40)))","v":482.346}]
[null,"REPB47732","SCAFFOLD","D","Additional Hire if required - % per week of total scaffolding costs.  This is to be applied in the event an agreed programme exceeding the duration set out above. An example would be large low level blocks of 4 storeys requiring a large programme duration",null,null,null,null,"SC024","unit",null,4.8300000000000003E-2,{"$f":"VLOOKUP(B41,'Project Overheads & Scaffold'!$W:$AI,13,FALSE)","v":0},null,{"$f":"SUMIF('Planned Maint v6.2 CSV File'!A:A,J41,'Planned Maint v6.2 CSV File'!I:I)","v":4.8300000000000003E-2},{"$f":"IF(J41=\"PROV SUM\",N41,L41*P41)","v":0},{"$f":"IF(J41=\"Prov Sum\",\"\",IF(MATCH(J41,'Packet Rate Library'!J:J,0),VLOOKUP(J41,'Packet Rate Library'!J:T,9,FALSE),\"\"))","v":{"$error":"#N/A"}},{"$f":"IF(R41>0,R41,P41)","v":{"$error":"#N/A"}},{"$f":"IF(J41=\"SC024\",N41,IF(ISERROR(S41),\"\",IF(J41=\"PROV SUM\",N41,L41*S41)))","v":0}]
[null,"REPB47494","ESTATE WORKS","H"]
[null,"REPB47494","ESTATE WORKS","D","Fencing: Renew or provide new 1.65m tanalised timber vertical board fencing including for taking down remnants of existing fence and posts set in concrete, remove from site to approved tip, and set 125x125mm x 2.65m long softwood posts in concrete at ne 1.80m centres with three 69x44mm softwood rails bolted to posts and 144x20mm vertical boards nailed to rails, softwood gravel board with centre prop (measured per metre run of fencing).",null,null,7.79,null,"0171AD","LM",7,93.18,652.26,null,{"$f":"SUMIF('Planned Maint v6.2 CSV File'!A:A,J43,'Planned Maint v6.2 CSV File'!I:I)","v":76.500780000000006},{"$f":"IF(J43=\"PROV SUM\",N43,L43*P43)","v":535.50546000000008},{"$f":"IF(J43=\"Prov Sum\",\"\",IF(MATCH(J43,'Packet Rate Library'!J:J,0),VLOOKUP(J43,'Packet Rate Library'!J:T,9,FALSE),\"\"))","v":0},{"$f":"IF(R43>0,R43,P43)","v":76.500780000000006},{"$f":"IF(J43=\"SC024\",N43,IF(ISERROR(S43),\"\",IF(J43=\"PROV SUM\",N43,L43*S43)))","v":535.50546000000008}]
[null,"REPB47494","ESTATE WORKS","D","Fracture: Remove any applied finish and cut out bricks as necessary to either side of fracture, one face only, stitch in new bricks, bed and point to match existing in cement lime mortar (1:1:6), and make good any applied finishes, and remove waste and debris (measured over mean general line of fracture).",null,null,7.2440000000000504,null,"1019AA","LM",17,44.12,750.04,null,{"$f":"SUMIF('Planned Maint v6.2 CSV File'!A:A,J44,'Planned Maint v6.2 CSV File'!I:I)","v":31.986999999999998},{"$f":"IF(J44=\"PROV SUM\",N44,L44*P44)","v":543.779},{"$f":"IF(J44=\"Prov Sum\",\"\",IF(MATCH(J44,'Packet Rate Library'!J:J,0),VLOOKUP(J44,'Packet Rate Library'!J:T,9,FALSE),\"\"))","v":0},{"$f":"IF(R44>0,R44,P44)","v":31.986999999999998},{"$f":"IF(J44=\"SC024\",N44,IF(ISERROR(S44),\"\",IF(J44=\"PROV SUM\",N44,L44*S44)))","v":543.779}]
[null,"REPB47494","ESTATE WORKS","D","PROVISIONAL SUM: Paving slab: Re-allign to attain even surfcace. SM 3.",null,null,7.3159999999999998,null,"PROV SUM","SUM",1,400,400,null,{"$f":"SUMIF('Planned Maint v6.2 CSV File'!A:A,J45,'Planned Maint v6.2 CSV File'!I:I)","v":0},{"$f":"IF(J45=\"PROV SUM\",N45,L45*P45)","v":400},{"$f":"IF(J45=\"Prov Sum\",\"\",IF(MATCH(J45,'Packet Rate Library'!J:J,0),VLOOKUP(J45,'Packet Rate Library'!J:T,9,FALSE),\"\"))","v":""},{"$f":"IF(R45>0,R45,P45)","v":""},{"$f":"IF(J45=\"SC024\",N45,IF(ISERROR(S45),\"\",IF(J45=\"PROV SUM\",N45,L45*S45)))","v":400}]

{"sheet":"28 Leighton Road Flats A-B","index":25,"n_rows":65,"n_cols":20,"rows_kept":65,"cut":false,"hidden":false,"merged":[[4,15,4,19]]}
[null,null,null,null,null,null,null,null,null,null,null,null,null,null,null,{"$f":"SUMIF('Planned Maint v6.2 CSV File'!A:A,J1,'Planned Maint v6.2 CSV File'!I:I)","v":0},{"$f":"IF(J1=\"PROV SUM\",N1,L1*P1)","v":0},{"$f":"IF(J1=\"Prov Sum\",\"\",IF(MATCH(J1,'Packet Rate Library'!J:J,0),VLOOKUP(J1,'Packet Rate Library'!J:T,9,FALSE),\"\"))","v":{"$error":"#N/A"}},{"$f":"IF(R1>0,R1,P1)","v":{"$error":"#N/A"}},{"$f":"IF(J1=\"SC024\",N1,IF(ISERROR(S1),\"\",IF(J1=\"PROV SUM\",N1,L1*S1)))","v":""}]
[]
[]
["28 Leighton Road, (Flats A-B)"]
[]
["Requirement","REPB47660","Requirement Type","Rowtype (H=Header, D=Detail)","Description","Works Order Commencement Date","Works Order Completion Date","Specification  Ref. Item No.'s","Works Order Delivery Date","SOR Code","SOR Unit","SOR Qty","SOR Cost","Total Cost",null,"Rate (max)","Cost (max)","Modified price","Tendered rate","Tendered total"]
[]
[" ","REPB47660","ENERGY EFFICIENY","H"]
[null,"REPB47660","ENERGY EFFICIENY","D","Contractor to access and undertake survey of loft space in accordance with the Project Brief in order to assess level of current loft insulation. Including submittion of a survey report supported by photographic evidance to CM/PM. Where insulation levels are less then 200mm, Contractor to provide cost proposal to upgrade insulation in accordance with NHF SoR Planned Maintenance Version 6.2.",null,null,9.1,null,"ADD001","IT",1,null,null,null,{"$f":"SUMIF('Planned Maint v6.2 CSV File'!A:A,J9,'Planned Maint v6.2 CSV File'!I:I)","v":0},{"$f":"IF(J9=\"PROV SUM\",N9,L9*P9)","v":0},{"$f":"IF(J9=\"Prov Sum\",\"\",IF(MATCH(J9,'Packet Rate Library'!J:J,0),VLOOKUP(J9,'Packet Rate Library'!J:T,9,FALSE),\"\"))","v":0},{"$f":"IF(R9>0,R9,P9)","v":0},{"$f":"IF(J9=\"SC024\",N9,IF(ISERROR(S9),\"\",IF(J9=\"PROV SUM\",N9,L9*S9)))","v":0}]
[null,"REPB47660","ENERGY EFFICIENY","D","Insulation:Supply and lay ne 270mm thick insulation quilt to loft area including gain access and moving/replacing contents within loft area in order to undertake work. Item 2270AA",null,null,9.1999999999999993,null,"2270AA","SM",46.04,10.86,{"$f":"M10*L10","v":499.99439999999998},null,{"$f":"SUMIF('Planned Maint v6.2 CSV File'!A:A,J10,'Planned Maint v6.2 CSV File'!I:I)","v":8.6880000000000006},{"$f":"IF(J10=\"PROV SUM\",N10,L10*P10)","v":399.99552},{"$f":"IF(J10=\"Prov Sum\",\"\",IF(MATCH(J10,'Packet Rate Library'!J:J,0),VLOOKUP(J10,'Packet Rate Library'!J:T,9,FALSE),\"\"))","v":0},{"$f":"IF(R10>0,R10,P10)","v":8.6880000000000006},{"$f":"IF(J10=\"SC024\",N10,IF(ISERROR(S10),\"\",IF(J10=\"PROV SUM\",N10,L10*S10)))","v":399.99552}]
[null,"REPB47660","ASBESTOS","H"]
[null,"REPB47660","ASBESTOS","D","Refurbishment and Demolition  Survey to Full Property (with upto 5 Nr samples) , flat or house any size",null,null,1.3,null,"A003","Item",1,234,234,null,{"$f":"SUMIF('Planned Maint v6.2 CSV File'!A:A,J12,'Planned Maint v6.2 CSV File'!I:I)","v":222.29999999999998},{"$f":"IF(J12=\"PROV SUM\",N12,L12*P12)","v":222.29999999999998},{"$f":"IF(J12=\"Prov Sum\",\"\",IF(MATCH(J12,'Packet Rate Library'!J:J,0),VLOOKUP(J12,'Packet Rate Library'!J:T,9,FALSE),\"\"))","v":0},{"$f":"IF(R12>0,R12,P12)","v":222.29999999999998},{"$f":"IF(J12=\"SC024\",N12,IF(ISERROR(S12),\"\",IF(J12=\"PROV SUM\",N12,L12*S12)))","v":222.29999999999998}]
[null,"REPB47660","COMMUNAL WORKS","H"]
[null,"REPB47660","COMMUNAL WORKS","D","Hall: Thoroughly clean down all wall and ceiling surfaces to common areas to remove dirt, grease and surface containments, scrape and remove all loose and defective coatings, prime bare areas with one coat of fire retardant primer and apply two coats of Class ‘O’ fire retardant matt paint, prepare and apply two coats of polyurethane lacquer or one undercoat and one gloss coat to all previously decorated timber surfaces to lobby, hall or corridor over 3.00sm ceiling area complete (classified as a single area).",null,null,5.0999999999999996,null,"4540AC","IT",1,480,480,null,{"$f":"SUMIF('Planned Maint v6.2 CSV File'!A:A,J14,'Planned Maint v6.2 CSV File'!I:I)","v":408},{"$f":"IF(J14=\"PROV SUM\",N14,L14*P14)","v":408},{"$f":"IF(J14=\"Prov Sum\",\"\",IF(MATCH(J14,'Packet Rate Library'!J:J,0),VLOOKUP(J14,'Packet Rate Library'!J:T,9,FALSE),\"\"))","v":0},{"$f":"IF(R14>0,R14,P14)","v":408},{"$f":"IF(J14=\"SC024\",N14,IF(ISERROR(S14),\"\",IF(J14=\"PROV SUM\",N14,L14*S14)))","v":408}]
[null,"REPB47660","COMMUNAL WORKS","D","Carpet: Renew tight woven medium contract grade carpet to domestic areas, take up existing and dispose to tip, prepare sub-base, lay underlay secure all edges with gripper or proprietary adhesive tape, cut and fit around pipes, into alcoves, door openings and the like including all necessary door strips etc., and remove waste and debris.",null,null,5.1540000000000203,null,"4328AC","SM",6,16.28,97.68,null,{"$f":"SUMIF('Planned Maint v6.2 CSV File'!A:A,J15,'Planned Maint v6.2 CSV File'!I:I)","v":13.714272000000001},{"$f":"IF(J15=\"PROV SUM\",N15,L15*P15)","v":82.285632000000007},{"$f":"IF(J15=\"Prov Sum\",\"\",IF(MATCH(J15,'Packet Rate Library'!J:J,0),VLOOKUP(J15,'Packet Rate Library'!J:T,9,FALSE),\"\"))","v":0},{"$f":"IF(R15>0,R15,P15)","v":13.714272000000001},{"$f":"IF(J15=\"SC024\",N15,IF(ISERROR(S15),\"\",IF(J15=\"PROV SUM\",N15,L15*S15)))","v":82.285632000000007}]
[null,"REPB47660","COMMUNAL WORKS","D","PROVISIONAL SUM: Allow for any unforeseen communal works.",null,null,5.3879999999999999,null,"PROV SUM","SUM",1,200,200,null,{"$f":"SUMIF('Planned Maint v6.2 CSV File'!A:A,J16,'Planned Maint v6.2 CSV File'!I:I)","v":0},{"$f":"IF(J16=\"PROV SUM\",N16,L16*P16)","v":200},{"$f":"IF(J16=\"Prov Sum\",\"\",IF(MATCH(J16,'Packet Rate Library'!J:J,0),VLOOKUP(J16,'Packet Rate Library'!J:T,9,FALSE),\"\"))","v":""},{"$f":"IF(R16>0,R16,P16)","v":""},{"$f":"IF(J16=\"SC024\",N16,IF(ISERROR(S16),\"\",IF(J16=\"PROV SUM\",N16,L16*S16)))","v":200}]
[null,"REPB47660","EXTREP","H"]
[null,"REPB47660","EXTREP","D","Lintel: Cut out and remove existing lintol from brick wall, prepare to receive new including all necessary propping and temporary supports, and supply and fix 75x150mm precast concrete lintol reinforced with 2 No. 16mm diameter mild steel bars, bed ends in cement lime mortar (1:1:6), renew dpc and make good brickwork, plasterwork and sealant and or cement fillets, and clear away debris on completion.",null,null,6.1029999999999998,null,"1029AA","LM",1,59.11,59.11,null,{"$f":"SUMIF('Planned Maint v6.2 CSV File'!A:A,J18,'Planned Maint v6.2 CSV File'!I:I)","v":42.854749999999996},{"$f":"IF(J18=\"PROV SUM\",N18,L18*P18)","v":42.854749999999996},{"$f":"IF(J18=\"Prov Sum\",\"\",IF(MATCH(J18,'Packet Rate Library'!J:J,0),VLOOKUP(J18,'Packet Rate Library'!J:T,9,FALSE),\"\"))","v":0},{"$f":"IF(R18>0,R18,P18)","v":42.854749999999996},{"$f":"IF(J18=\"SC024\",N18,IF(ISERROR(S18),\"\",IF(J18=\"PROV SUM\",N18,L18*S18)))","v":42.854749999999996}]
[null,"REPB47660","EXTREP","D","Cills: Prepare, clean off all dust and debris, fill in or resurface cracks or spalled surfaces of concrete with epoxy mortar in surfaces of cills, not exceeding 300mm girth, repair over 5 and ne 10mm deep, and remove waste and debris.",null,null,6.16100000000002,null,"1460AF","LM",8,38.25,306,null,{"$f":"SUMIF('Planned Maint v6.2 CSV File'!A:A,J19,'Planned Maint v6.2 CSV File'!I:I)","v":27.731249999999999},221.85,{"$f":"IF(J19=\"Prov Sum\",\"\",IF(MATCH(J19,'Packet Rate Library'!J:J,0),VLOOKUP(J19,'Packet Rate Library'!J:T,9,FALSE),\"\"))","v":0},27.731249999999999,221.85]
[null,"REPB47660","EXTREP","D","Walls: Prepare and apply two coats smooth or textured masonry paint to external rendered surfaces of walls.",null,null,6.1790000000000296,null,"4356AA","SM",106,10.36,1098.1600000000001,null,{"$f":"SUMIF('Planned Maint v6.2 CSV File'!A:A,J20,'Planned Maint v6.2 CSV File'!I:I)","v":8.8059999999999992},933.43599999999992,{"$f":"IF(J20=\"Prov Sum\",\"\",IF(MATCH(J20,'Packet Rate Library'!J:J,0),VLOOKUP(J20,'Packet Rate Library'!J:T,9,FALSE),\"\"))","v":0},8.8059999999999992,933.43599999999992]
[null,"REPB47660","EXTREP","D","Gates: Wire brush, prepare for and apply one undercoat and two coats of gloss paint to both sides of existing painted surface of any size/type single metal gate including all edges and all surfaces of posts.",null,null,6.2140000000000404,null,"4363DA","IT",1,16.98,16.98,null,{"$f":"SUMIF('Planned Maint v6.2 CSV File'!A:A,J21,'Planned Maint v6.2 CSV File'!I:I)","v":14.433},14.433,{"$f":"IF(J21=\"Prov Sum\",\"\",IF(MATCH(J21,'Packet Rate Library'!J:J,0),VLOOKUP(J21,'Packet Rate Library'!J:T,9,FALSE),\"\"))","v":0},14.433,14.433]
[null,"REPB47660","EXTREP","D","Balustrading: Wire brush, prepare for and apply one undercoat and two coats of gloss paint on existing painted surfaces ornamental metal balustrading, railings or gates (measured both sides).",null,null,6.2150000000000398,null,"4363EA","SM",12,16.079999999999998,192.96,null,{"$f":"SUMIF('Planned Maint v6.2 CSV File'!A:A,J22,'Planned Maint v6.2 CSV File'!I:I)","v":13.667999999999997},164.01599999999996,{"$f":"IF(J22=\"Prov Sum\",\"\",IF(MATCH(J22,'Packet Rate Library'!J:J,0),VLOOKUP(J22,'Packet Rate Library'!J:T,9,FALSE),\"\"))","v":0},13.667999999999997,164.01599999999996]
[null,"REPB47660","EXTREP","D","Window: Rub down, prepare and apply one coat of primer, one undercoat and two coats of gloss paint on surfaces of wooden windowsl (one side and edges).",null,null,6.2360000000000504,null,"4380BA","SM",24,25.87,620.88,null,{"$f":"SUMIF('Planned Maint v6.2 CSV File'!A:A,J23,'Planned Maint v6.2 CSV File'!I:I)","v":21.9895},527.74800000000005,{"$f":"IF(J23=\"Prov Sum\",\"\",IF(MATCH(J23,'Packet Rate Library'!J:J,0),VLOOKUP(J23,'Packet Rate Library'!J:T,9,FALSE),\"\"))","v":0},21.9895,527.74800000000005]
[null,"REPB47660","EXTREP","D","Frame: Rub down, prepare and apply one coat of primer, one undercoat and two coats of gloss paint on timber frame ne 300mm girth.",null,null,6.2370000000000498,null,"4380CA","LM",17,6.28,106.76,null,{"$f":"SUMIF('Planned Maint v6.2 CSV File'!A:A,J24,'Planned Maint v6.2 CSV File'!I:I)","v":5.3380000000000001},90.745999999999995,{"$f":"IF(J24=\"Prov Sum\",\"\",IF(MATCH(J24,'Packet Rate Library'!J:J,0),VLOOKUP(J24,'Packet Rate Library'!J:T,9,FALSE),\"\"))","v":0},5.3380000000000001,90.745999999999995]
[null,"REPB47660","EXTREP","D","Door: Rub down, prepare for and apply one coat of primer, one undercoat and two coats of gloss paint to all surfaces of any size or type of single glazed timber door. (one sides and edges).",null,null,6.2380000000000502,null,"4380DA","IT",4,20.71,82.84,null,{"$f":"SUMIF('Planned Maint v6.2 CSV File'!A:A,J25,'Planned Maint v6.2 CSV File'!I:I)","v":17.6035},70.414000000000001,{"$f":"IF(J25=\"Prov Sum\",\"\",IF(MATCH(J25,'Packet Rate Library'!J:J,0),VLOOKUP(J25,'Packet Rate Library'!J:T,9,FALSE),\"\"))","v":0},17.6035,70.414000000000001]
[null,"REPB47660","EXTREP","D","Wall: Hack off any thickness of render from walls, rake out and prepare brickwork or blockwork to receive rendering and remove waste and debris.",null,null,5.1730000000000196,null,"4210AA","SM",106,12.5,1325,null,{"$f":"SUMIF('Planned Maint v6.2 CSV File'!A:A,J26,'Planned Maint v6.2 CSV File'!I:I)","v":9.0625},960.625,{"$f":"IF(J26=\"Prov Sum\",\"\",IF(MATCH(J26,'Packet Rate Library'!J:J,0),VLOOKUP(J26,'Packet Rate Library'!J:T,9,FALSE),\"\"))","v":0},9.0625,960.625]
[null,"REPB47660","EXTREP","D","Wall: Apply 12mm cement and sand render (1:3) with waterproofing agent to external walls including ‘Decorative’ finish, dub out as necessary with cement and sand and all labours and remove waste and debris.",null,null,5.1770000000000298,null,"4210AE","SM",106,31.33,3320.98,null,{"$f":"SUMIF('Planned Maint v6.2 CSV File'!A:A,J27,'Planned Maint v6.2 CSV File'!I:I)","v":22.71425},2407.7105000000001,{"$f":"IF(J27=\"Prov Sum\",\"\",IF(MATCH(J27,'Packet Rate Library'!J:J,0),VLOOKUP(J27,'Packet Rate Library'!J:T,9,FALSE),\"\"))","v":0},22.71425,2407.7105000000001]
[null,"REPB47660","ROOF","H"]
[null,"REPB47660","ROOF","D","Asphalt: Overhaul asphalt roofing to flat roof area, Including sweep and remove moss, algae and other debris, cut out blisters, cracks and make good in asphalt, prepare and apply two coats of solar reflective paint as necessary, rewedge and redress flashings, clear associated gutters and outlets, and remove waste and debris.",null,null,3.74000000000001,null,"2190GA","SM",42,30.56,1283.52,null,{"$f":"SUMIF('Planned Maint v6.2 CSV File'!A:A,J29,'Planned Maint v6.2 CSV File'!I:I)","v":24.448},{"$f":"IF(J29=\"PROV SUM\",N29,L29*P29)","v":1026.816},{"$f":"IF(J29=\"Prov Sum\",\"\",IF(MATCH(J29,'Packet Rate Library'!J:J,0),VLOOKUP(J29,'Packet Rate Library'!J:T,9,FALSE),\"\"))","v":0},{"$f":"IF(R29>0,R29,P29)","v":24.448},{"$f":"IF(J29=\"SC024\",N29,IF(ISERROR(S29),\"\",IF(J29=\"PROV SUM\",N29,L29*S29)))","v":1026.816}]
[null,"REPB47660","ROOF","D","Gutter: Renew ne 125mm cast iron gutter of any profile including support brackets fixed to fascia including cutting, making joints, line and level, and connections to existing guttering, and rub down, prepare for redecoration to outside of gutter and apply one coat of bitumastic paint to inside of gutter, and remove waste and debris.",null,null,3.3330000000000002,null,"6033AB","LM",6,53.05,318.3,null,{"$f":"SUMIF('Planned Maint v6.2 CSV File'!A:A,J30,'Planned Maint v6.2 CSV File'!I:I)","v":39.315354999999997},{"$f":"IF(J30=\"PROV SUM\",N30,L30*P30)","v":235.89212999999998},{"$f":"IF(J30=\"Prov Sum\",\"\",IF(MATCH(J30,'Packet Rate Library'!J:J,0),VLOOKUP(J30,'Packet Rate Library'!J:T,9,FALSE),\"\"))","v":0},{"$f":"IF(R30>0,R30,P30)","v":39.315354999999997},{"$f":"IF(J30=\"SC024\",N30,IF(ISERROR(S30),\"\",IF(J30=\"PROV SUM\",N30,L30*S30)))","v":235.89212999999998}]
[null,"REPB47660","ROOF","D","Hopper: Clear out blocked hopperhead including rod if necessary, flush out and test and remove debris from site on completion, and remove waste and debris.",null,null,3.36100000000001,null,"6039AB","NO",1,8.0500000000000007,8.0500000000000007,null,{"$f":"SUMIF('Planned Maint v6.2 CSV File'!A:A,J31,'Planned Maint v6.2 CSV File'!I:I)","v":5.9658550000000004},{"$f":"IF(J31=\"PROV SUM\",N31,L31*P31)","v":5.9658550000000004},{"$f":"IF(J31=\"Prov Sum\",\"\",IF(MATCH(J31,'Packet Rate Library'!J:J,0),VLOOKUP(J31,'Packet Rate Library'!J:T,9,FALSE),\"\"))","v":0},{"$f":"IF(R31>0,R31,P31)","v":5.9658550000000004},{"$f":"IF(J31=\"SC024\",N31,IF(ISERROR(S31),\"\",IF(J31=\"PROV SUM\",N31,L31*S31)))","v":5.9658550000000004}]
[null,"REPB47660","ROOF","D","Stack: Renew up to 150mm diameter cast iron soil stack length ne 2m long with existing or new clips or ears including all cutting, remake joints, make good and prepare for redecoration, and remove waste and debris..",null,null,3.3840000000000101,null,"6105AA","NO",6,108.64,651.84,null,{"$f":"SUMIF('Planned Maint v6.2 CSV File'!A:A,J32,'Planned Maint v6.2 CSV File'!I:I)","v":80.513103999999998},{"$f":"IF(J32=\"PROV SUM\",N32,L32*P32)","v":483.07862399999999},{"$f":"IF(J32=\"Prov Sum\",\"\",IF(MATCH(J32,'Packet Rate Library'!J:J,0),VLOOKUP(J32,'Packet Rate Library'!J:T,9,FALSE),\"\"))","v":0},{"$f":"IF(R32>0,R32,P32)","v":80.513103999999998},{"$f":"IF(J32=\"SC024\",N32,IF(ISERROR(S32),\"\",IF(J32=\"PROV SUM\",N32,L32*S32)))","v":483.07862399999999}]
[null,"REPB47660","ROOF","D","Chimney:Renew any thickness of render to chimney, hack off, rake out, prepare and apply 18mm thick two coats cement and sand render trowelled smooth including all labours, and remove waste and debris.",null,null,3.4240000000000199,null,"1200BA","SM",4,33.68,134.72,null,{"$f":"SUMIF('Planned Maint v6.2 CSV File'!A:A,J33,'Planned Maint v6.2 CSV File'!I:I)","v":24.417999999999999},{"$f":"IF(J33=\"PROV SUM\",N33,L33*P33)","v":97.671999999999997},{"$f":"IF(J33=\"Prov Sum\",\"\",IF(MATCH(J33,'Packet Rate Library'!J:J,0),VLOOKUP(J33,'Packet Rate Library'!J:T,9,FALSE),\"\"))","v":0},{"$f":"IF(R33>0,R33,P33)","v":24.417999999999999},{"$f":"IF(J33=\"SC024\",N33,IF(ISERROR(S33),\"\",IF(J33=\"PROV SUM\",N33,L33*S33)))","v":97.671999999999997}]
[null,"REPB47660","WINDOWS","H"]
[null,"REPB47660","WINDOWS","D","Window: Renew window with purpose made softwood double hung cased box frame and sashes complete with 2 sashes, factory applied base stain or primer finish, compressible weatherstripping, glazing beads, ironmongery, remove existing and fix new into prepared opening, bed in mortar, point with sealant, double glazed and make good all finishes, decorate to match existing internally and prepare for redecoration externally, and remove waste and debris.",null,null,4.28,null,"3105AC","SM",3,434.56,1303.68,null,{"$f":"SUMIF('Planned Maint v6.2 CSV File'!A:A,J35,'Planned Maint v6.2 CSV File'!I:I)","v":385.23743999999999},{"$f":"IF(J35=\"PROV SUM\",N35,L35*P35)","v":1155.7123200000001},{"$f":"IF(J35=\"Prov Sum\",\"\",IF(MATCH(J35,'Packet Rate Library'!J:J,0),VLOOKUP(J35,'Packet Rate Library'!J:T,9,FALSE),\"\"))","v":0},{"$f":"IF(R35>0,R35,P35)","v":385.23743999999999},{"$f":"IF(J35=\"SC024\",N35,IF(ISERROR(S35),\"\",IF(J35=\"PROV SUM\",N35,L35*S35)))","v":1155.7123200000001}]
[null,"REPB47660","WINDOWS","D","Window: Overhaul sash window, renew staff and parting beads, take out sashes and later rehang on spiral sash balances, renew pocket pieces, wedge and cramp loose sash frames, ease and adjust sashes, remove, refit or renew ironmongery, rake out and renew defective putty and mastic, touch up decorations internally to match existing and prepare for redecoration externally, and remove waste and debris.",null,null,4.9099999999999797,null,"3150CB","NO",5,98.99,494.95,null,{"$f":"SUMIF('Planned Maint v6.2 CSV File'!A:A,J36,'Planned Maint v6.2 CSV File'!I:I)","v":87.754634999999993},{"$f":"IF(J36=\"PROV SUM\",N36,L36*P36)","v":438.77317499999998},{"$f":"IF(J36=\"Prov Sum\",\"\",IF(MATCH(J36,'Packet Rate Library'!J:J,0),VLOOKUP(J36,'Packet Rate Library'!J:T,9,FALSE),\"\"))","v":0},{"$f":"IF(R36>0,R36,P36)","v":87.754634999999993},{"$f":"IF(J36=\"SC024\",N36,IF(ISERROR(S36),\"\",IF(J36=\"PROV SUM\",N36,L36*S36)))","v":438.77317499999998}]
[null,"REPB47660","SCAFFOLD","H"]
[null,"REPB47660","SCAFFOLD","D","Standard Scaffold item: erect; dismantle; basic independent tied working scaffolding; 5 boards wide, including hire period; completely accessible; debris netting to all elevations; double boarded and polythene included as necessary, any fan(s) included as required; rope plus wheel for lifting operations; 3rd handrail included whenever necessary; as per applicable regulations (applies to up to 5 storeys). Measured up to second handrail and by the middle of the scaffold (equidistant from the inside/outside face) including design when required. Rate to include for 12 week hire",null,null,2.1,null,"SC001","M2",84,12.92,1085.28,null,{"$f":"SUMIF('Planned Maint v6.2 CSV File'!A:A,J38,'Planned Maint v6.2 CSV File'!I:I)","v":16.4084},{"$f":"IF(J38=\"PROV SUM\",N38,L38*P38)","v":1378.3056000000001},{"$f":"IF(J38=\"Prov Sum\",\"\",IF(MATCH(J38,'Packet Rate Library'!J:J,0),VLOOKUP(J38,'Packet Rate Library'!J:T,9,FALSE),\"\"))","v":0},{"$f":"IF(R38>0,R38,P38)","v":16.4084},{"$f":"IF(J38=\"SC024\",N38,IF(ISERROR(S38),\"\",IF(J38=\"PROV SUM\",N38,L38*S38)))","v":1378.3056000000001}]
[null,"REPB47660","SCAFFOLD","D","Scaffold alarm - 1 x sounder, 2 x PIR 1 X key pad (Divided by Number of properties if continuous scaffolds)",null,null,2.5,null,"SC005","unit",1,420,420,null,{"$f":"SUMIF('Planned Maint v6.2 CSV File'!A:A,J39,'Planned Maint v6.2 CSV File'!I:I)","v":533.4},533.4,{"$f":"IF(J39=\"Prov Sum\",\"\",IF(MATCH(J39,'Packet Rate Library'!J:J,0),VLOOKUP(J39,'Packet Rate Library'!J:T,9,FALSE),\"\"))","v":0},533.4,533.4]
[null,"REPB47660","SCAFFOLD","D","E/O for additional PIRS",null,null,2.6,null,"SC007","unit",2,50,100,null,{"$f":"SUMIF('Planned Maint v6.2 CSV File'!A:A,J40,'Planned Maint v6.2 CSV File'!I:I)","v":63.5},127,{"$f":"IF(J40=\"Prov Sum\",\"\",IF(MATCH(J40,'Packet Rate Library'!J:J,0),VLOOKUP(J40,'Packet Rate Library'!J:T,9,FALSE),\"\"))","v":0},63.5,127]
[null,"REPB47660","SCAFFOLD","D","Scaffold to chimney stack n.e. 3.00 girth, n.e. 2.00m high to gable, verge or edge",null,null,2.7,null,"SC008","unit",1,383.72,383.72,null,{"$f":"SUMIF('Planned Maint v6.2 CSV File'!A:A,J41,'Planned Maint v6.2 CSV File'!I:I)","v":487.32440000000003},487.32440000000003,{"$f":"IF(J41=\"Prov Sum\",\"\",IF(MATCH(J41,'Packet Rate Library'!J:J,0),VLOOKUP(J41,'Packet Rate Library'!J:T,9,FALSE),\"\"))","v":0},487.32440000000003,487.32440000000003]
[null,"REPB47660","SCAFFOLD","D","Scaffold taken through property (protection to surfaces included)",null,null,2.16,null,"SC016","unit",1,379.8,379.8,null,{"$f":"SUMIF('Planned Maint v6.2 CSV File'!A:A,J42,'Planned Maint v6.2 CSV File'!I:I)","v":482.346},482.346,{"$f":"IF(J42=\"Prov Sum\",\"\",IF(MATCH(J42,'Packet Rate Library'!J:J,0),VLOOKUP(J42,'Packet Rate Library'!J:T,9,FALSE),\"\"))","v":0},482.346,482.346]
[null,"REPB47660","SCAFFOLD","D","Additional Hire if required - % per week of total scaffolding costs.  This is to be applied in the event an agreed programme exceeding the duration set out above. An example would be large low level blocks of 4 storeys requiring a large programme duration",null,null,null,null,"SC024","unit",null,4.8300000000000003E-2,{"$f":"VLOOKUP(B43,'Project Overheads & Scaffold'!$W:$AI,13,FALSE)","v":0},null,{"$f":"SUMIF('Planned Maint v6.2 CSV File'!A:A,J43,'Planned Maint v6.2 CSV File'!I:I)","v":4.8300000000000003E-2},0,{"$f":"IF(J43=\"Prov Sum\",\"\",IF(MATCH(J43,'Packet Rate Library'!J:J,0),VLOOKUP(J43,'Packet Rate Library'!J:T,9,FALSE),\"\"))","v":{"$error":"#N/A"}},{"$error":"#N/A"},0]
[null,"REPB47660","ESTATE WORKS","H"]
[null,"REPB47660","ESTATE WORKS","D","Wall: Take down one and a half brick wall and remove waste and debris.",null,null,7.1900000000000297,null,"1011AC","SM",3,39.57,118.71,null,{"$f":"SUMIF('Planned Maint v6.2 CSV File'!A:A,J45,'Planned Maint v6.2 CSV File'!I:I)","v":28.68825},{"$f":"IF(J45=\"PROV SUM\",N45,L45*P45)","v":86.064750000000004},{"$f":"IF(J45=\"Prov Sum\",\"\",IF(MATCH(J45,'Packet Rate Library'!J:J,0),VLOOKUP(J45,'Packet Rate Library'!J:T,9,FALSE),\"\"))","v":0},{"$f":"IF(R45>0,R45,P45)","v":28.68825},{"$f":"IF(J45=\"SC024\",N45,IF(ISERROR(S45),\"\",IF(J45=\"PROV SUM\",N45,L45*S45)))","v":86.064750000000004}]
[null,"REPB47660","ESTATE WORKS","D","Wall: Supply and lay new common bricks in one and a half brick wall in cement lime mortar (1:1:6).",null,null,7.19900000000003,null,"1013AC","SM",5,133.41999999999999,667.1,null,{"$f":"SUMIF('Planned Maint v6.2 CSV File'!A:A,J46,'Planned Maint v6.2 CSV File'!I:I)","v":96.729499999999987},{"$f":"IF(J46=\"PROV SUM\",N46,L46*P46)","v":483.64749999999992},{"$f":"IF(J46=\"Prov Sum\",\"\",IF(MATCH(J46,'Packet Rate Library'!J:J,0),VLOOKUP(J46,'Packet Rate Library'!J:T,9,FALSE),\"\"))","v":0},{"$f":"IF(R46>0,R46,P46)","v":96.729499999999987},{"$f":"IF(J46=\"SC024\",N46,IF(ISERROR(S46),\"\",IF(J46=\"PROV SUM\",N46,L46*S46)))","v":483.64749999999992}]
[null,"REPB47660","ESTATE WORKS","D","Coping: Take off precast coping ne 300mm wide, clean mortar from top of wall and coping, bed and point in cement lime mortar (1:1:6) with bonding agent and remove waste and debris.",null,null,7.2980000000000702,null,"1033CA","LM",3,6.04,18.12,null,{"$f":"SUMIF('Planned Maint v6.2 CSV File'!A:A,J47,'Planned Maint v6.2 CSV File'!I:I)","v":4.3789999999999996},{"$f":"IF(J47=\"PROV SUM\",N47,L47*P47)","v":13.136999999999999},{"$f":"IF(J47=\"Prov Sum\",\"\",IF(MATCH(J47,'Packet Rate Library'!J:J,0),VLOOKUP(J47,'Packet Rate Library'!J:T,9,FALSE),\"\"))","v":0},{"$f":"IF(R47>0,R47,P47)","v":4.3789999999999996},{"$f":"IF(J47=\"SC024\",N47,IF(ISERROR(S47),\"\",IF(J47=\"PROV SUM\",N47,L47*S47)))","v":13.136999999999999}]
[null,"REPB47660","ESTATE WORKS","D","Coping: Supply and lay new precast concrete coping ne 300mm wide in section to match existing, bedded and pointed in cement lime mortar (1:1:6) with bonding agent.",null,null,7.30000000000007,null,"1033CC","LM",3,14.27,42.81,null,{"$f":"SUMIF('Planned Maint v6.2 CSV File'!A:A,J48,'Planned Maint v6.2 CSV File'!I:I)","v":10.345749999999999},{"$f":"IF(J48=\"PROV SUM\",N48,L48*P48)","v":31.037249999999997},{"$f":"IF(J48=\"Prov Sum\",\"\",IF(MATCH(J48,'Packet Rate Library'!J:J,0),VLOOKUP(J48,'Packet Rate Library'!J:T,9,FALSE),\"\"))","v":0},{"$f":"IF(R48>0,R48,P48)","v":10.345749999999999},{"$f":"IF(J48=\"SC024\",N48,IF(ISERROR(S48),\"\",IF(J48=\"PROV SUM\",N48,L48*S48)))","v":31.037249999999997}]
[null,"REPB47660","ESTATE WORKS","D","PROVISIONAL SUM: Allow provisional sum for estate works, as no access to rear of property.",null,null,7.3159999999999998,null,"PROV SUM","SUM",1,400,400,null,{"$f":"SUMIF('Planned Maint v6.2 CSV File'!A:A,J49,'Planned Maint v6.2 CSV File'!I:I)","v":0},{"$f":"IF(J49=\"PROV SUM\",N49,L49*P49)","v":400},{"$f":"IF(J49=\"Prov Sum\",\"\",IF(MATCH(J49,'Packet Rate Library'!J:J,0),VLOOKUP(J49,'Packet Rate Library'!J:T,9,FALSE),\"\"))","v":""},{"$f":"IF(R49>0,R49,P49)","v":""},{"$f":"IF(J49=\"SC024\",N49,IF(ISERROR(S49),\"\",IF(J49=\"PROV SUM\",N49,L49*S49)))","v":400}]
[null,"REPB47660","FRA WORKS","H"]
[null,"REPB47660","FRA WORKS","D","Door:Renew internal door with any size single half-hour fire check glazed door having 3.2mm luan, white Meranti or other approved plywood facing both sides and 9mm hardwood lipping on long edges, including remove existing door and hinges, remove and refit door stops as necessary, fit and hang new door on 1.50 pairs of 100mm steel butt hinges, make good or alter recesses on frame, door complete with all ironmongery, intumescent strips and smoke seals, glazed, redecorate to match existing and remove waste and debris.",null,null,18,null,"3300FC","Item",2,222.2,444.4,null,{"$f":"SUMIF('Planned Maint v6.2 CSV File'!A:A,J51,'Planned Maint v6.2 CSV File'!I:I)","v":196.98029999999997},{"$f":"IF(J51=\"PROV SUM\",N51,L51*P51)","v":393.96059999999994},{"$f":"IF(J51=\"Prov Sum\",\"\",IF(MATCH(J51,'Packet Rate Library'!J:J,0),VLOOKUP(J51,'Packet Rate Library'!J:T,9,FALSE),\"\"))","v":0},{"$f":"IF(R51>0,R51,P51)","v":196.98029999999997},{"$f":"IF(J51=\"SC024\",N51,IF(ISERROR(S51),\"\",IF(J51=\"PROV SUM\",N51,L51*S51)))","v":393.96059999999994}]
[null,"REPB47660","FRA WORKS","D","Fire Upgrading Coating:Remove all existing defective paint to plastered or rendered wall surfaces back to a solid edge, feather off and repair any defective areas with a high quality filler as necessary, spot prime filled or bare areas with afire upgrading primer, remove any existing graffiti with a graffiti removal system, wash down, rinse, clean off and apply one full coat of fire upgrading primer at a coverage rate of 10sm per litre, apply two full coats of fire upgrading finish at a coverage rate of 10sm per litre.",null,null,27,null,"4801AB","Item",1,22.53,22.53,null,{"$f":"SUMIF('Planned Maint v6.2 CSV File'!A:A,J52,'Planned Maint v6.2 CSV File'!I:I)","v":19.150500000000001},19.150500000000001,{"$f":"IF(J52=\"Prov Sum\",\"\",IF(MATCH(J52,'Packet Rate Library'!J:J,0),VLOOKUP(J52,'Packet Rate Library'!J:T,9,FALSE),\"\"))","v":0},19.150500000000001,19.150500000000001]
[null,"REPB47660","FRA WORKS","D","Fire Upgrading Coating:Strip off existing multi layer paint coatings to existing plastered or rendered soffits with a proprietary paint stripper, scrape off or remove with a proprietary paint scraper, wash down,rinse,  spot prime filled or bare areas with afire upgrading primer, remove any existing graffiti with a graffiti removal system, clean off and apply one full coat of primer at a coverage rate of 10sm per litre, apply one full coats of colourcoat complete with decorative flakes, and apply one full coat of gloss or satin lacquer finish at a coverage rate of 10sm per litre.",null,null,41,null,"4804AD","Item",1,29.34,29.34,null,{"$f":"SUMIF('Planned Maint v6.2 CSV File'!A:A,J53,'Planned Maint v6.2 CSV File'!I:I)","v":24.939},24.939,{"$f":"IF(J53=\"Prov Sum\",\"\",IF(MATCH(J53,'Packet Rate Library'!J:J,0),VLOOKUP(J53,'Packet Rate Library'!J:T,9,FALSE),\"\"))","v":0},24.939,24.939]
[null,"REPB47660","FRA WORKS","D","Fire Upgrading Coating:Remove all existing defective paint to general surfaces of woodwork not exceeding 300mm girth, back to a solid edge, feather off and repair any defective areas with a high quality filler as necessary, spot prime filled or bare areas with afire upgrading primer, remove any existing graffiti with a graffiti removal system, wash down, rinse, clean off and apply one full coat of fire upgrading primer at a coverage rate of 10sm per litre, apply two full coats of fire upgrading finish at a coverage rate of 10sm per litre.",null,null,43,null,"4805AB","Item",1,20.399999999999999,20.399999999999999,null,{"$f":"SUMIF('Planned Maint v6.2 CSV File'!A:A,J54,'Planned Maint v6.2 CSV File'!I:I)","v":17.34},17.34,{"$f":"IF(J54=\"Prov Sum\",\"\",IF(MATCH(J54,'Packet Rate Library'!J:J,0),VLOOKUP(J54,'Packet Rate Library'!J:T,9,FALSE),\"\"))","v":0},17.34,17.34]
[null,"REPB47660","FRA WORKS","D","Fire Upgrading Coating:Remove all existing defective paint to general surfaces of timber doors back to a solid edge, feather off and repair any defective areas with a high quality filler as necessary, spot prime filled or bare areas with afire upgrading primer, remove any existing graffiti with a graffiti removal system, wash down, rinse, clean off and apply one full coat of fire upgrading primer at a coverage rate of 10sm per litre, apply two full coats of fire upgrading finish at a coverage rate of 10sm per litre.",null,null,44,null,"4805AC","Item",1,35.86,35.86,null,{"$f":"SUMIF('Planned Maint v6.2 CSV File'!A:A,J55,'Planned Maint v6.2 CSV File'!I:I)","v":30.480999999999998},30.480999999999998,{"$f":"IF(J55=\"Prov Sum\",\"\",IF(MATCH(J55,'Packet Rate Library'!J:J,0),VLOOKUP(J55,'Packet Rate Library'!J:T,9,FALSE),\"\"))","v":0},30.480999999999998,30.480999999999998]
[null,"REPB47660","FRA WORKS","D","Intumescent Strip:Renew or supply and fix new 22x4mm intumescent strip, half hour application, with integral cold smoke seal and setting into groove in timber frame or door.",null,null,104,null,"3431AC","Item",2,3.44,6.88,null,{"$f":"SUMIF('Planned Maint v6.2 CSV File'!A:A,J56,'Planned Maint v6.2 CSV File'!I:I)","v":3.0495599999999996},6.0991199999999992,{"$f":"IF(J56=\"Prov Sum\",\"\",IF(MATCH(J56,'Packet Rate Library'!J:J,0),VLOOKUP(J56,'Packet Rate Library'!J:T,9,FALSE),\"\"))","v":0},3.0495599999999996,6.0991199999999992]
[null,"REPB47660","FRA WORKS","D","Smoke Detector:Renew existing with mains operated optical smoke detector with rechargeable DC battery or condensor back up self contained type to BS 5446 kitemark certified with hush button, including back plate and all necessary connections to existing wiring, test and make good on completion, where interlinked detectors are replaced new detectors must be compatible with existing, and remove waste and debris.",null,null,115,null,"8720FA","Item",2,70.11,140.22,null,{"$f":"SUMIF('Planned Maint v6.2 CSV File'!A:A,J57,'Planned Maint v6.2 CSV File'!I:I)","v":56.088000000000001},112.176,{"$f":"IF(J57=\"Prov Sum\",\"\",IF(MATCH(J57,'Packet Rate Library'!J:J,0),VLOOKUP(J57,'Packet Rate Library'!J:T,9,FALSE),\"\"))","v":0},56.088000000000001,112.176]
[null,"REPB47660","FRA WORKS","D","Closer:Renew or supply and fix Perko type concealed door closer screwed to door and frame, including remove and refix door or door stop as necessary.",null,null,175,null,"3905BA","Item",2,9.81,19.62,null,{"$f":"SUMIF('Planned Maint v6.2 CSV File'!A:A,J58,'Planned Maint v6.2 CSV File'!I:I)","v":8.6965649999999997},17.393129999999999,{"$f":"IF(J58=\"Prov Sum\",\"\",IF(MATCH(J58,'Packet Rate Library'!J:J,0),VLOOKUP(J58,'Packet Rate Library'!J:T,9,FALSE),\"\"))","v":0},8.6965649999999997,17.393129999999999]
[null,"REPB47660","FRA WORKS","D","Partition:Supply and erect or renew stud partition comprising ne 50x100mm sole and head plate, noggins and studs fixed with nails or plugged and screwed to walls, and pack out and scribe, 12.5mm butt jointed plasterboard and 3mm plaster skim coat and all labours to both faces.",null,null,180,null,"3013AB","Item",1,62.11,62.11,null,{"$f":"SUMIF('Planned Maint v6.2 CSV File'!A:A,J59,'Planned Maint v6.2 CSV File'!I:I)","v":55.060514999999995},55.060514999999995,{"$f":"IF(J59=\"Prov Sum\",\"\",IF(MATCH(J59,'Packet Rate Library'!J:J,0),VLOOKUP(J59,'Packet Rate Library'!J:T,9,FALSE),\"\"))","v":0},55.060514999999995,55.060514999999995]
[null,"REPB47660","FRA WORKS","D","Test:Carry out test of domestic installation to occupied property complete comprising continuity, insulation resistance, polarity, earth fault loop impedance and operation of residual current operated device, disconnect, repair and renew as necessary after removal of illegal wiring and components, and provide report and NICEIC/ECA test certificate to the Client’s Representative, and remove waste and debris.",null,null,186,null,"8950AA","Item",1,86.88,86.88,null,{"$f":"SUMIF('Planned Maint v6.2 CSV File'!A:A,J60,'Planned Maint v6.2 CSV File'!I:I)","v":69.504000000000005},69.504000000000005,{"$f":"IF(J60=\"Prov Sum\",\"\",IF(MATCH(J60,'Packet Rate Library'!J:J,0),VLOOKUP(J60,'Packet Rate Library'!J:T,9,FALSE),\"\"))","v":0},69.504000000000005,69.504000000000005]
[null,"REPB47660","FRA WORKS","D","Provisional Sum: Allow provisional sum for additional works to the fire alarm system.",null,null,190,null,"PROV SUM","Item",1,1500,1500,null,{"$f":"SUMIF('Planned Maint v6.2 CSV File'!A:A,J61,'Planned Maint v6.2 CSV File'!I:I)","v":0},1500,{"$f":"IF(J61=\"Prov Sum\",\"\",IF(MATCH(J61,'Packet Rate Library'!J:J,0),VLOOKUP(J61,'Packet Rate Library'!J:T,9,FALSE),\"\"))","v":""},"",1500]
[null,"REPB47660","FRA WORKS","D","Provisional Sum: Allow provisional sum for additional works to clear waste and debris from fire escape routes. ",null,null,191,null,"PROV SUM","Item",1,100,100,null,{"$f":"SUMIF('Planned Maint v6.2 CSV File'!A:A,J62,'Planned Maint v6.2 CSV File'!I:I)","v":0},100,{"$f":"IF(J62=\"Prov Sum\",\"\",IF(MATCH(J62,'Packet Rate Library'!J:J,0),VLOOKUP(J62,'Packet Rate Library'!J:T,9,FALSE),\"\"))","v":""},"",100]
[null,"REPB47660","FRA WORKS","D","Provisional Sum: Allow provisional sum for additional fire stopping works",null,null,192,null,"PROV SUM","Item",1,100,100,null,{"$f":"SUMIF('Planned Maint v6.2 CSV File'!A:A,J63,'Planned Maint v6.2 CSV File'!I:I)","v":0},100,{"$f":"IF(J63=\"Prov Sum\",\"\",IF(MATCH(J63,'Packet Rate Library'!J:J,0),VLOOKUP(J63,'Packet Rate Library'!J:T,9,FALSE),\"\"))","v":""},"",100]
[null,"REPB47660","FRA WORKS","D","Provisional Sum: Allow provisional sum for additional signage",null,null,193,null,"PROV SUM","Item",1,100,100,null,{"$f":"SUMIF('Planned Maint v6.2 CSV File'!A:A,J64,'Planned Maint v6.2 CSV File'!I:I)","v":0},100,{"$f":"IF(J64=\"Prov Sum\",\"\",IF(MATCH(J64,'Packet Rate Library'!J:J,0),VLOOKUP(J64,'Packet Rate Library'!J:T,9,FALSE),\"\"))","v":""},"",100]
[null,"REPB47660","FRA WORKS","D","Provisional Sum: Allow provisional sum for additional electrical works",null,null,194,null,"PROV SUM","Item",1,350,350,null,{"$f":"SUMIF('Planned Maint v6.2 CSV File'!A:A,J65,'Planned Maint v6.2 CSV File'!I:I)","v":0},350,{"$f":"IF(J65=\"Prov Sum\",\"\",IF(MATCH(J65,'Packet Rate Library'!J:J,0),VLOOKUP(J65,'Packet Rate Library'!J:T,9,FALSE),\"\"))","v":""},"",350]

{"sheet":"13 Mortimer Terrace","index":26,"n_rows":51,"n_cols":20,"rows_kept":51,"cut":false,"hidden":false,"merged":[[4,15,4,19]]}
[null,null,null,null,null,null,null,null,null,null,null,null,null,null,null,{"$f":"SUMIF('Planned Maint v6.2 CSV File'!A:A,J1,'Planned Maint v6.2 CSV File'!I:I)","v":0},{"$f":"IF(J1=\"PROV SUM\",N1,L1*P1)","v":0},{"$f":"IF(J1=\"Prov Sum\",\"\",IF(MATCH(J1,'Packet Rate Library'!J:J,0),VLOOKUP(J1,'Packet Rate Library'!J:T,9,FALSE),\"\"))","v":{"$error":"#N/A"}},{"$f":"IF(R1>0,R1,P1)","v":{"$error":"#N/A"}},{"$f":"IF(J1=\"SC024\",N1,IF(ISERROR(S1),\"\",IF(J1=\"PROV SUM\",N1,L1*S1)))","v":""}]
[]
[]
["13 MORTIMER TERRACE (FLATS A-C)"]
[]
["Requirement","REPB47715","Requirement Type","Rowtype (H=Header, D=Detail)","Description","Works Order Commencement Date","Works Order Completion Date","Specification  Ref. Item No.'s","Works Order Delivery Date","SOR Code","SOR Unit","SOR Qty","SOR Cost","Total Cost",null,"Rate (max)","Cost (max)","Modified price","Tendered rate","Tendered total"]
[]
[" ","REPB47715","ENERGY EFFICIENY","H"]
[null,"REPB47715","ENERGY EFFICIENY","D","Contractor to access and undertake survey of loft space in accordance with the Project Brief in order to assess level of current loft insulation. Including submittion of a survey report supported by photographic evidance to CM/PM. Where insulation levels are less then 200mm, Contractor to provide cost proposal to upgrade insulation in accordance with NHF SoR Planned Maintenance Version 6.2.",null,null,9.1,null,"ADD001","IT",1,null,null,null,{"$f":"SUMIF('Planned Maint v6.2 CSV File'!A:A,J9,'Planned Maint v6.2 CSV File'!I:I)","v":0},{"$f":"IF(J9=\"PROV SUM\",N9,L9*P9)","v":0},{"$f":"IF(J9=\"Prov Sum\",\"\",IF(MATCH(J9,'Packet Rate Library'!J:J,0),VLOOKUP(J9,'Packet Rate Library'!J:T,9,FALSE),\"\"))","v":0},{"$f":"IF(R9>0,R9,P9)","v":0},{"$f":"IF(J9=\"SC024\",N9,IF(ISERROR(S9),\"\",IF(J9=\"PROV SUM\",N9,L9*S9)))","v":0}]
[null,"REPB47715","ENERGY EFFICIENY","D","Insulation:Supply and lay ne 270mm thick insulation quilt to loft area including gain access and moving/replacing contents within loft area in order to undertake work. Item 2270AA",null,null,9.1999999999999993,null,"2270AA","SM",46.04,10.86,{"$f":"M10*L10","v":499.99439999999998},null,{"$f":"SUMIF('Planned Maint v6.2 CSV File'!A:A,J10,'Planned Maint v6.2 CSV File'!I:I)","v":8.6880000000000006},{"$f":"IF(J10=\"PROV SUM\",N10,L10*P10)","v":399.99552},{"$f":"IF(J10=\"Prov Sum\",\"\",IF(MATCH(J10,'Packet Rate Library'!J:J,0),VLOOKUP(J10,'Packet Rate Library'!J:T,9,FALSE),\"\"))","v":0},{"$f":"IF(R10>0,R10,P10)","v":8.6880000000000006},{"$f":"IF(J10=\"SC024\",N10,IF(ISERROR(S10),\"\",IF(J10=\"PROV SUM\",N10,L10*S10)))","v":399.99552}]
[null,"REPB47715","ASBESTOS","H"]
[null,"REPB47715","ASBESTOS","D","Refurbishment and Demolition  Survey to Full Property (with upto 5 Nr samples) , flat or house any size",null,null,1.3,null,"A003","Item",1,234,234,null,{"$f":"SUMIF('Planned Maint v6.2 CSV File'!A:A,J12,'Planned Maint v6.2 CSV File'!I:I)","v":222.29999999999998},{"$f":"IF(J12=\"PROV SUM\",N12,L12*P12)","v":222.29999999999998},{"$f":"IF(J12=\"Prov Sum\",\"\",IF(MATCH(J12,'Packet Rate Library'!J:J,0),VLOOKUP(J12,'Packet Rate Library'!J:T,9,FALSE),\"\"))","v":0},{"$f":"IF(R12>0,R12,P12)","v":222.29999999999998},{"$f":"IF(J12=\"SC024\",N12,IF(ISERROR(S12),\"\",IF(J12=\"PROV SUM\",N12,L12*S12)))","v":222.29999999999998}]
[null,"REPB47715","COMMUNAL WORKS","H"]
[null,"REPB47715","COMMUNAL WORKS","D","Hall: Thoroughly clean down all wall and ceiling surfaces to common areas to remove dirt, grease and surface containments, scrape and remove all loose and defective coatings, prime bare areas with one coat of fire retardant primer and apply two coats of Class ‘O’ fire retardant matt paint, prepare and apply two coats of polyurethane lacquer or one undercoat and one gloss coat to all previously decorated timber surfaces to lobby, hall or corridor over 3.00sm ceiling area complete (classified as a single area).",null,null,5.0999999999999996,null,"4540AC","IT",1,480,480,null,{"$f":"SUMIF('Planned Maint v6.2 CSV File'!A:A,J14,'Planned Maint v6.2 CSV File'!I:I)","v":408},{"$f":"IF(J14=\"PROV SUM\",N14,L14*P14)","v":408},{"$f":"IF(J14=\"Prov Sum\",\"\",IF(MATCH(J14,'Packet Rate Library'!J:J,0),VLOOKUP(J14,'Packet Rate Library'!J:T,9,FALSE),\"\"))","v":0},{"$f":"IF(R14>0,R14,P14)","v":408},{"$f":"IF(J14=\"SC024\",N14,IF(ISERROR(S14),\"\",IF(J14=\"PROV SUM\",N14,L14*S14)))","v":408}]
[null,"REPB47715","COMMUNAL WORKS","D","Carpet: Renew tight woven medium contract grade carpet to domestic areas, take up existing and dispose to tip, prepare sub-base, lay underlay secure all edges with gripper or proprietary adhesive tape, cut and fit around pipes, into alcoves, door openings and the like including all necessary door strips etc., and remove waste and debris.",null,null,5.1540000000000203,null,"4328AC","SM",20,16.28,325.60000000000002,null,{"$f":"SUMIF('Planned Maint v6.2 CSV File'!A:A,J15,'Planned Maint v6.2 CSV File'!I:I)","v":13.714272000000001},{"$f":"IF(J15=\"PROV SUM\",N15,L15*P15)","v":274.28543999999999},{"$f":"IF(J15=\"Prov Sum\",\"\",IF(MATCH(J15,'Packet Rate Library'!J:J,0),VLOOKUP(J15,'Packet Rate Library'!J:T,9,FALSE),\"\"))","v":0},{"$f":"IF(R15>0,R15,P15)","v":13.714272000000001},{"$f":"IF(J15=\"SC024\",N15,IF(ISERROR(S15),\"\",IF(J15=\"PROV SUM\",N15,L15*S15)))","v":274.28543999999999}]
[null,"REPB47715","COMMUNAL WORKS","D","Nosing: Take off and refix any size or type of nosing to step including drilling and plugging as necessary.",null,null,5.1570000000000196,null,"4329CA","NO",16,9.6199999999999992,153.91999999999999,null,{"$f":"SUMIF('Planned Maint v6.2 CSV File'!A:A,J16,'Planned Maint v6.2 CSV File'!I:I)","v":8.1038879999999995},{"$f":"IF(J16=\"PROV SUM\",N16,L16*P16)","v":129.66220799999999},{"$f":"IF(J16=\"Prov Sum\",\"\",IF(MATCH(J16,'Packet Rate Library'!J:J,0),VLOOKUP(J16,'Packet Rate Library'!J:T,9,FALSE),\"\"))","v":0},{"$f":"IF(R16>0,R16,P16)","v":8.1038879999999995},{"$f":"IF(J16=\"SC024\",N16,IF(ISERROR(S16),\"\",IF(J16=\"PROV SUM\",N16,L16*S16)))","v":129.66220799999999}]
[null,"REPB47715","COMMUNAL WORKS","D","Frame: Renew external door frame with softwood door frame, rebated and with fanlight over, to suit any size single door, remove existing door and set aside, remove existing frame and bed new frame in mortar, plugged and screwed to brickwork and point with sealant, rehang door including ease and adjust, refix lock keep including housing out, make good all works disturbed including refix or renew internal beads, architraves etc., glaze to fanlight and decorate to match existing internally and prepare for redecoration externally, and remove waste and debris.",null,null,5.2950000000000603,null,"3411AC","NO",1,197.62,197.62,null,{"$f":"SUMIF('Planned Maint v6.2 CSV File'!A:A,J17,'Planned Maint v6.2 CSV File'!I:I)","v":175.19012999999998},{"$f":"IF(J17=\"PROV SUM\",N17,L17*P17)","v":175.19012999999998},{"$f":"IF(J17=\"Prov Sum\",\"\",IF(MATCH(J17,'Packet Rate Library'!J:J,0),VLOOKUP(J17,'Packet Rate Library'!J:T,9,FALSE),\"\"))","v":0},{"$f":"IF(R17>0,R17,P17)","v":175.19012999999998},{"$f":"IF(J17=\"SC024\",N17,IF(ISERROR(S17),\"\",IF(J17=\"PROV SUM\",N17,L17*S17)))","v":175.19012999999998}]
[null,"REPB47715","EXTREP","H"]
[null,"REPB47715","EXTREP","D","Wall: Rake out existing joints of brickwork min 12mm and repoint brickwork in mortar to match existing and remove waste and debris.",null,null,6.91,null,"1021AA","SM",3,20.13,60.39,null,{"$f":"SUMIF('Planned Maint v6.2 CSV File'!A:A,J19,'Planned Maint v6.2 CSV File'!I:I)","v":14.594249999999999},{"$f":"IF(J19=\"PROV SUM\",N19,L19*P19)","v":43.782749999999993},{"$f":"IF(J19=\"Prov Sum\",\"\",IF(MATCH(J19,'Packet Rate Library'!J:J,0),VLOOKUP(J19,'Packet Rate Library'!J:T,9,FALSE),\"\"))","v":0},{"$f":"IF(R19>0,R19,P19)","v":14.594249999999999},{"$f":"IF(J19=\"SC024\",N19,IF(ISERROR(S19),\"\",IF(J19=\"PROV SUM\",N19,L19*S19)))","v":43.782749999999993}]
[null,"REPB47715","EXTREP","D","Walls: Wash down, fill in cracks and holes, sand down and apply one coat of stabilising solution and two coats of smooth or textured masonry paint to brickwork surfaces of walls.",null,null,6.1860000000000301,null,"4356BD","SM",12,11.63,139.56,null,{"$f":"SUMIF('Planned Maint v6.2 CSV File'!A:A,J20,'Planned Maint v6.2 CSV File'!I:I)","v":9.8855000000000004},118.626,{"$f":"IF(J20=\"Prov Sum\",\"\",IF(MATCH(J20,'Packet Rate Library'!J:J,0),VLOOKUP(J20,'Packet Rate Library'!J:T,9,FALSE),\"\"))","v":0},9.8855000000000004,118.626]
[null,"REPB47715","EXTREP","D","Balustrading: Wire brush, prepare for and apply one coat of primer, one undercoat, two coats of gloss paint on ornamental metal balustrading, railings or gates (measured both sides).",null,null,6.2040000000000299,null,"4362EA","SM",6,20.51,123.06,null,{"$f":"SUMIF('Planned Maint v6.2 CSV File'!A:A,J21,'Planned Maint v6.2 CSV File'!I:I)","v":17.433500000000002},104.60100000000001,{"$f":"IF(J21=\"Prov Sum\",\"\",IF(MATCH(J21,'Packet Rate Library'!J:J,0),VLOOKUP(J21,'Packet Rate Library'!J:T,9,FALSE),\"\"))","v":0},17.433500000000002,104.60100000000001]
[null,"REPB47715","EXTREP","D","Window: Rub down, prepare and apply one undercoat and two coats of gloss paint on existing painted surfaces of wooden windows. (one side and edges).",null,null,6.2490000000000503,null,"4381BB","SM",22,24.54,539.88,null,{"$f":"SUMIF('Planned Maint v6.2 CSV File'!A:A,J22,'Planned Maint v6.2 CSV File'!I:I)","v":20.858999999999998},458.89799999999997,{"$f":"IF(J22=\"Prov Sum\",\"\",IF(MATCH(J22,'Packet Rate Library'!J:J,0),VLOOKUP(J22,'Packet Rate Library'!J:T,9,FALSE),\"\"))","v":0},20.858999999999998,458.89799999999997]
[null,"REPB47715","EXTREP","D","Frame: Rub down, prepare and apply one undercoat and two coats of gloss paint on existing painted timber frame ne 300mm girth.",null,null,6.2500000000000497,null,"4381CA","LM",30,5.84,175.2,null,{"$f":"SUMIF('Planned Maint v6.2 CSV File'!A:A,J23,'Planned Maint v6.2 CSV File'!I:I)","v":4.9639999999999995},148.91999999999999,{"$f":"IF(J23=\"Prov Sum\",\"\",IF(MATCH(J23,'Packet Rate Library'!J:J,0),VLOOKUP(J23,'Packet Rate Library'!J:T,9,FALSE),\"\"))","v":0},4.9639999999999995,148.91999999999999]
[null,"REPB47715","EXTREP","D","Door: Rub down, prepare for, and apply three coats decorative wood stain on external surfaces of any size/type of single door(both sides and edges)",null,null,6.2760000000000602,null,"4382DB","IT",1,33.520000000000003,33.520000000000003,null,{"$f":"SUMIF('Planned Maint v6.2 CSV File'!A:A,J24,'Planned Maint v6.2 CSV File'!I:I)","v":28.492000000000001},28.492000000000001,{"$f":"IF(J24=\"Prov Sum\",\"\",IF(MATCH(J24,'Packet Rate Library'!J:J,0),VLOOKUP(J24,'Packet Rate Library'!J:T,9,FALSE),\"\"))","v":0},28.492000000000001,28.492000000000001]
[null,"REPB47715","ROOF","H"]
[null,"REPB47715"]
[null,"REPB47715","WINDOWS","H"]
[null,"REPB47715","WINDOWS","D","Window: Overhaul timber casement window, dismantle as necessary and subsequently reassemble including freeing, easing and adjusting casements to give correct operation, renew sealing gaskets, renew fixing screws, remove, refit or renew ironmongery as necessary, rake out and renew defective putty and mastic, touch up decorations internally to match existing and prepare for redecoration externally, and remove waste and debris.",null,null,4.8899999999999801,null,"3150BA","NO",5,29.05,145.25,null,{"$f":"SUMIF('Planned Maint v6.2 CSV File'!A:A,J28,'Planned Maint v6.2 CSV File'!I:I)","v":25.752824999999998},{"$f":"IF(J28=\"PROV SUM\",N28,L28*P28)","v":128.76412499999998},{"$f":"IF(J28=\"Prov Sum\",\"\",IF(MATCH(J28,'Packet Rate Library'!J:J,0),VLOOKUP(J28,'Packet Rate Library'!J:T,9,FALSE),\"\"))","v":0},{"$f":"IF(R28>0,R28,P28)","v":25.752824999999998},{"$f":"IF(J28=\"SC024\",N28,IF(ISERROR(S28),\"\",IF(J28=\"PROV SUM\",N28,L28*S28)))","v":128.76412499999998}]
[null,"REPB47715","WINDOWS","D","Window: Overhaul timber sash window, renew staff and parting beads, take out sashes and later rehang on appropriate sized new undyed plaited nylon sash cords, renew pocket pieces, wedge and cramp loose sash frames, oil pulleys, ease and adjust sashes, remove, refit or renew ironmongery, rake out and renew defective putty and mastic, touch up decorations internally to match existing and prepare for redecoration externally, and remove waste and debris.",null,null,4.8999999999999799,null,"3150CA","NO",6,35.61,213.66,null,{"$f":"SUMIF('Planned Maint v6.2 CSV File'!A:A,J29,'Planned Maint v6.2 CSV File'!I:I)","v":31.568264999999997},{"$f":"IF(J29=\"PROV SUM\",N29,L29*P29)","v":189.40958999999998},{"$f":"IF(J29=\"Prov Sum\",\"\",IF(MATCH(J29,'Packet Rate Library'!J:J,0),VLOOKUP(J29,'Packet Rate Library'!J:T,9,FALSE),\"\"))","v":0},{"$f":"IF(R29>0,R29,P29)","v":31.568264999999997},{"$f":"IF(J29=\"SC024\",N29,IF(ISERROR(S29),\"\",IF(J29=\"PROV SUM\",N29,L29*S29)))","v":189.40958999999998}]
[null,"REPB47715","SCAFFOLD","H"]
[null,"REPB47715","SCAFFOLD","D","Standard Scaffold item: erect; dismantle; basic independent tied working scaffolding; 5 boards wide, including hire period; completely accessible; debris netting to all elevations; double boarded and polythene included as necessary, any fan(s) included as required; rope plus wheel for lifting operations; 3rd handrail included whenever necessary; as per applicable regulations (applies to up to 5 storeys). Measured up to second handrail and by the middle of the scaffold (equidistant from the inside/outside face) including design when required. Rate to include for 12 week hire",null,null,2.1,null,"SC001","M2",170,12.92,2196.4,null,{"$f":"SUMIF('Planned Maint v6.2 CSV File'!A:A,J31,'Planned Maint v6.2 CSV File'!I:I)","v":16.4084},{"$f":"IF(J31=\"PROV SUM\",N31,L31*P31)","v":2789.4279999999999},{"$f":"IF(J31=\"Prov Sum\",\"\",IF(MATCH(J31,'Packet Rate Library'!J:J,0),VLOOKUP(J31,'Packet Rate Library'!J:T,9,FALSE),\"\"))","v":0},{"$f":"IF(R31>0,R31,P31)","v":16.4084},{"$f":"IF(J31=\"SC024\",N31,IF(ISERROR(S31),\"\",IF(J31=\"PROV SUM\",N31,L31*S31)))","v":2789.4279999999999}]
[null,"REPB47715","SCAFFOLD","D","Scaffold alarm - 1 x sounder, 2 x PIR 1 X key pad (Divided by Number of properties if continuous scaffolds)",null,null,2.5,null,"SC005","unit",1,420,420,null,{"$f":"SUMIF('Planned Maint v6.2 CSV File'!A:A,J32,'Planned Maint v6.2 CSV File'!I:I)","v":533.4},{"$f":"IF(J32=\"PROV SUM\",N32,L32*P32)","v":533.4},{"$f":"IF(J32=\"Prov Sum\",\"\",IF(MATCH(J32,'Packet Rate Library'!J:J,0),VLOOKUP(J32,'Packet Rate Library'!J:T,9,FALSE),\"\"))","v":0},{"$f":"IF(R32>0,R32,P32)","v":533.4},{"$f":"IF(J32=\"SC024\",N32,IF(ISERROR(S32),\"\",IF(J32=\"PROV SUM\",N32,L32*S32)))","v":533.4}]
[null,"REPB47715","SCAFFOLD","D","E/O for additional PIRS",null,null,2.6,null,"SC007","unit",1,50,50,null,{"$f":"SUMIF('Planned Maint v6.2 CSV File'!A:A,J33,'Planned Maint v6.2 CSV File'!I:I)","v":63.5},{"$f":"IF(J33=\"PROV SUM\",N33,L33*P33)","v":63.5},{"$f":"IF(J33=\"Prov Sum\",\"\",IF(MATCH(J33,'Packet Rate Library'!J:J,0),VLOOKUP(J33,'Packet Rate Library'!J:T,9,FALSE),\"\"))","v":0},{"$f":"IF(R33>0,R33,P33)","v":63.5},{"$f":"IF(J33=\"SC024\",N33,IF(ISERROR(S33),\"\",IF(J33=\"PROV SUM\",N33,L33*S33)))","v":63.5}]
[null,"REPB47715","SCAFFOLD","D","Additional Hire if required - % per week of total scaffolding costs.  This is to be applied in the event an agreed programme exceeding the duration set out above. An example would be large low level blocks of 4 storeys requiring a large programme duration",null,null,null,null,"SC024","unit",null,4.8300000000000003E-2,{"$f":"VLOOKUP(B34,'Project Overheads & Scaffold'!$W:$AI,13,FALSE)","v":0},null,{"$f":"SUMIF('Planned Maint v6.2 CSV File'!A:A,J34,'Planned Maint v6.2 CSV File'!I:I)","v":4.8300000000000003E-2},{"$f":"IF(J34=\"PROV SUM\",N34,L34*P34)","v":0},{"$f":"IF(J34=\"Prov Sum\",\"\",IF(MATCH(J34,'Packet Rate Library'!J:J,0),VLOOKUP(J34,'Packet Rate Library'!J:T,9,FALSE),\"\"))","v":{"$error":"#N/A"}},{"$f":"IF(R34>0,R34,P34)","v":{"$error":"#N/A"}},{"$f":"IF(J34=\"SC024\",N34,IF(ISERROR(S34),\"\",IF(J34=\"PROV SUM\",N34,L34*S34)))","v":0}]
[null,"REPB47715","ESTATE WORKS","H"]
[null,"REPB47715","FRA WORKS","H"]
[null,"REPB47715","FRA WORKS","D","Door:Renew internal door with any size single half-hour fire check glazed door having 3.2mm luan, white Meranti or other approved plywood facing both sides and 9mm hardwood lipping on long edges, including remove existing door and hinges, remove and refit door stops as necessary, fit and hang new door on 1.50 pairs of 100mm steel butt hinges, make good or alter recesses on frame, door complete with all ironmongery, intumescent strips and smoke seals, glass, make good and prepare door for decoration and make good decorations to frame, and remove waste and debris.",null,null,13,null,"3300BD","Item",2,180.78,361.56,null,{"$f":"SUMIF('Planned Maint v6.2 CSV File'!A:A,J37,'Planned Maint v6.2 CSV File'!I:I)","v":160.26147},{"$f":"IF(J37=\"PROV SUM\",N37,L37*P37)","v":320.52294000000001},{"$f":"IF(J37=\"Prov Sum\",\"\",IF(MATCH(J37,'Packet Rate Library'!J:J,0),VLOOKUP(J37,'Packet Rate Library'!J:T,9,FALSE),\"\"))","v":0},{"$f":"IF(R37>0,R37,P37)","v":160.26147},{"$f":"IF(J37=\"SC024\",N37,IF(ISERROR(S37),\"\",IF(J37=\"PROV SUM\",N37,L37*S37)))","v":320.52294000000001}]
[null,"REPB47715","FRA WORKS","D","Fire Upgrading Coating:Remove all existing defective paint to plastered or rendered wall surfaces back to a solid edge, feather off and repair any defective areas with a high quality filler as necessary, spot prime filled or bare areas with afire upgrading primer, remove any existing graffiti with a graffiti removal system, wash down, rinse, clean off and apply one full coat of fire upgrading primer at a coverage rate of 10sm per litre, apply two full coats of fire upgrading finish at a coverage rate of 10sm per litre.",null,null,27,null,"4801AB","Item",1,22.53,22.53,null,{"$f":"SUMIF('Planned Maint v6.2 CSV File'!A:A,J38,'Planned Maint v6.2 CSV File'!I:I)","v":19.150500000000001},19.150500000000001,{"$f":"IF(J38=\"Prov Sum\",\"\",IF(MATCH(J38,'Packet Rate Library'!J:J,0),VLOOKUP(J38,'Packet Rate Library'!J:T,9,FALSE),\"\"))","v":0},19.150500000000001,19.150500000000001]
[null,"REPB47715","FRA WORKS","D","Fire Upgrading Coating:Strip off existing multi layer paint coatings to existing plastered or rendered soffits with a proprietary paint stripper, scrape off or remove with a proprietary paint scraper, wash down,rinse,  spot prime filled or bare areas with afire upgrading primer, remove any existing graffiti with a graffiti removal system, clean off and apply one full coat of primer at a coverage rate of 10sm per litre, apply one full coats of colourcoat complete with decorative flakes, and apply one full coat of gloss or satin lacquer finish at a coverage rate of 10sm per litre.",null,null,41,null,"4804AD","Item",1,29.34,29.34,null,{"$f":"SUMIF('Planned Maint v6.2 CSV File'!A:A,J39,'Planned Maint v6.2 CSV File'!I:I)","v":24.939},24.939,{"$f":"IF(J39=\"Prov Sum\",\"\",IF(MATCH(J39,'Packet Rate Library'!J:J,0),VLOOKUP(J39,'Packet Rate Library'!J:T,9,FALSE),\"\"))","v":0},24.939,24.939]
[null,"REPB47715","FRA WORKS","D","Fire Upgrading Coating:Remove all existing defective paint to general surfaces of woodwork not exceeding 300mm girth, back to a solid edge, feather off and repair any defective areas with a high quality filler as necessary, spot prime filled or bare areas with afire upgrading primer, remove any existing graffiti with a graffiti removal system, wash down, rinse, clean off and apply one full coat of fire upgrading primer at a coverage rate of 10sm per litre, apply two full coats of fire upgrading finish at a coverage rate of 10sm per litre.",null,null,43,null,"4805AB","Item",1,20.399999999999999,20.399999999999999,null,{"$f":"SUMIF('Planned Maint v6.2 CSV File'!A:A,J40,'Planned Maint v6.2 CSV File'!I:I)","v":17.34},17.34,{"$f":"IF(J40=\"Prov Sum\",\"\",IF(MATCH(J40,'Packet Rate Library'!J:J,0),VLOOKUP(J40,'Packet Rate Library'!J:T,9,FALSE),\"\"))","v":0},17.34,17.34]
[null,"REPB47715","FRA WORKS","D","Fire Alarm:Install L2 type fire alarm installation complete to BS5839:Part6 1995, control panel, circuits, call points, automatic detectors and sounders, builders work, make good, test, commission, and remove waste and debris.",null,null,93,null,"8711GA","Item",1,550,550,null,{"$f":"SUMIF('Planned Maint v6.2 CSV File'!A:A,J41,'Planned Maint v6.2 CSV File'!I:I)","v":440},440,{"$f":"IF(J41=\"Prov Sum\",\"\",IF(MATCH(J41,'Packet Rate Library'!J:J,0),VLOOKUP(J41,'Packet Rate Library'!J:T,9,FALSE),\"\"))","v":0},440,440]
[null,"REPB47715","FRA WORKS","D","Intumescent Strip:Renew or supply and fix new 22x4mm intumescent strip, half hour application, with integral cold smoke seal and setting into groove in timber frame or door.",null,null,104,null,"3431AC","Item",3,3.44,10.32,null,{"$f":"SUMIF('Planned Maint v6.2 CSV File'!A:A,J42,'Planned Maint v6.2 CSV File'!I:I)","v":3.0495599999999996},9.1486799999999988,{"$f":"IF(J42=\"Prov Sum\",\"\",IF(MATCH(J42,'Packet Rate Library'!J:J,0),VLOOKUP(J42,'Packet Rate Library'!J:T,9,FALSE),\"\"))","v":0},3.0495599999999996,9.1486799999999988]
[null,"REPB47715","FRA WORKS","D","Smoke Detector:Renew existing with mains operated optical smoke detector with rechargeable DC battery or condensor back up self contained type to BS 5446 kitemark certified with hush button, including back plate and all necessary connections to existing wiring, test and make good on completion, where interlinked detectors are replaced new detectors must be compatible with existing, and remove waste and debris.",null,null,115,null,"8720FA","Item",3,70.11,210.32999999999998,null,{"$f":"SUMIF('Planned Maint v6.2 CSV File'!A:A,J43,'Planned Maint v6.2 CSV File'!I:I)","v":56.088000000000001},168.26400000000001,{"$f":"IF(J43=\"Prov Sum\",\"\",IF(MATCH(J43,'Packet Rate Library'!J:J,0),VLOOKUP(J43,'Packet Rate Library'!J:T,9,FALSE),\"\"))","v":0},56.088000000000001,168.26400000000001]
[null,"REPB47715","FRA WORKS","D","Closer:Renew or supply and fix Perko type concealed door closer screwed to door and frame, including remove and refix door or door stop as necessary.",null,null,175,null,"3905BA","Item",3,9.81,29.43,null,{"$f":"SUMIF('Planned Maint v6.2 CSV File'!A:A,J44,'Planned Maint v6.2 CSV File'!I:I)","v":8.6965649999999997},26.089694999999999,{"$f":"IF(J44=\"Prov Sum\",\"\",IF(MATCH(J44,'Packet Rate Library'!J:J,0),VLOOKUP(J44,'Packet Rate Library'!J:T,9,FALSE),\"\"))","v":0},8.6965649999999997,26.089694999999999]
[null,"REPB47715","FRA WORKS","D","Partition:Supply and erect or renew stud partition comprising ne 50x100mm sole and head plate, noggins and studs fixed with nails or plugged and screwed to walls, and pack out and scribe, 12.5mm butt jointed plasterboard and 3mm plaster skim coat and all labours to both faces.",null,null,180,null,"3013AB","Item",1,62.11,62.11,null,{"$f":"SUMIF('Planned Maint v6.2 CSV File'!A:A,J45,'Planned Maint v6.2 CSV File'!I:I)","v":55.060514999999995},55.060514999999995,{"$f":"IF(J45=\"Prov Sum\",\"\",IF(MATCH(J45,'Packet Rate Library'!J:J,0),VLOOKUP(J45,'Packet Rate Library'!J:T,9,FALSE),\"\"))","v":0},55.060514999999995,55.060514999999995]
[null,"REPB47715","FRA WORKS","D","Test:Carry out test of domestic installation to occupied property complete comprising continuity, insulation resistance, polarity, earth fault loop impedance and operation of residual current operated device, disconnect, repair and renew as necessary after removal of illegal wiring and components, and provide report and NICEIC/ECA test certificate to the Client’s Representative, and remove waste and debris.",null,null,186,null,"8950AA","Item",1,86.88,86.88,null,{"$f":"SUMIF('Planned Maint v6.2 CSV File'!A:A,J46,'Planned Maint v6.2 CSV File'!I:I)","v":69.504000000000005},69.504000000000005,{"$f":"IF(J46=\"Prov Sum\",\"\",IF(MATCH(J46,'Packet Rate Library'!J:J,0),VLOOKUP(J46,'Packet Rate Library'!J:T,9,FALSE),\"\"))","v":0},69.504000000000005,69.504000000000005]
[null,"REPB47715","FRA WORKS","D","Provisional Sum: Allow provisional sum for additional works to the fire alarm system.",null,null,190,null,"PROV SUM","Item",1,1500,1500,null,{"$f":"SUMIF('Planned Maint v6.2 CSV File'!A:A,J47,'Planned Maint v6.2 CSV File'!I:I)","v":0},1500,{"$f":"IF(J47=\"Prov Sum\",\"\",IF(MATCH(J47,'Packet Rate Library'!J:J,0),VLOOKUP(J47,'Packet Rate Library'!J:T,9,FALSE),\"\"))","v":""},"",1500]
[null,"REPB47715","FRA WORKS","D","Provisional Sum: Allow provisional sum for additional works to clear waste and debris from fire escape routes. ",null,null,191,null,"PROV SUM","Item",1,100,100,null,{"$f":"SUMIF('Planned Maint v6.2 CSV File'!A:A,J48,'Planned Maint v6.2 CSV File'!I:I)","v":0},100,{"$f":"IF(J48=\"Prov Sum\",\"\",IF(MATCH(J48,'Packet Rate Library'!J:J,0),VLOOKUP(J48,'Packet Rate Library'!J:T,9,FALSE),\"\"))","v":""},"",100]
[null,"REPB47715","FRA WORKS","D","Provisional Sum: Allow provisional sum for additional fire stopping works",null,null,192,null,"PROV SUM","Item",1,100,100,null,{"$f":"SUMIF('Planned Maint v6.2 CSV File'!A:A,J49,'Planned Maint v6.2 CSV File'!I:I)","v":0},100,{"$f":"IF(J49=\"Prov Sum\",\"\",IF(MATCH(J49,'Packet Rate Library'!J:J,0),VLOOKUP(J49,'Packet Rate Library'!J:T,9,FALSE),\"\"))","v":""},"",100]
[null,"REPB47715","FRA WORKS","D","Provisional Sum: Allow provisional sum for additional signage",null,null,193,null,"PROV SUM","Item",1,100,100,null,{"$f":"SUMIF('Planned Maint v6.2 CSV File'!A:A,J50,'Planned Maint v6.2 CSV File'!I:I)","v":0},100,{"$f":"IF(J50=\"Prov Sum\",\"\",IF(MATCH(J50,'Packet Rate Library'!J:J,0),VLOOKUP(J50,'Packet Rate Library'!J:T,9,FALSE),\"\"))","v":""},"",100]
[null,"REPB47715","FRA WORKS","D","Provisional Sum: Allow provisional sum for additional electrical works",null,null,194,null,"PROV SUM","Item",1,350,350,null,{"$f":"SUMIF('Planned Maint v6.2 CSV File'!A:A,J51,'Planned Maint v6.2 CSV File'!I:I)","v":0},350,{"$f":"IF(J51=\"Prov Sum\",\"\",IF(MATCH(J51,'Packet Rate Library'!J:J,0),VLOOKUP(J51,'Packet Rate Library'!J:T,9,FALSE),\"\"))","v":""},"",350]

{"sheet":"13 Winscombe Terrace","index":27,"n_rows":44,"n_cols":20,"rows_kept":44,"cut":false,"hidden":false,"merged":[[4,15,4,19]]}
[null,null,null,null,null,null,null,null,null,null,null,null,null,null,null,{"$f":"SUMIF('Planned Maint v6.2 CSV File'!A:A,J1,'Planned Maint v6.2 CSV File'!I:I)","v":0},{"$f":"IF(J1=\"PROV SUM\",N1,L1*P1)","v":0},{"$f":"IF(J1=\"Prov Sum\",\"\",IF(MATCH(J1,'Packet Rate Library'!J:J,0),VLOOKUP(J1,'Packet Rate Library'!J:T,9,FALSE),\"\"))","v":{"$error":"#N/A"}},{"$f":"IF(R1>0,R1,P1)","v":{"$error":"#N/A"}},{"$f":"IF(J1=\"SC024\",N1,IF(ISERROR(S1),\"\",IF(J1=\"PROV SUM\",N1,L1*S1)))","v":""}]
[]
[]
["13 WINSCOMBE TERRACE (FLATS A-B)"]
[]
["Requirement","REPB47886","Requirement Type","Rowtype (H=Header, D=Detail)","Description","Works Order Commencement Date","Works Order Completion Date","Specification  Ref. Item No.'s","Works Order Delivery Date","SOR Code","SOR Unit","SOR Qty","SOR Cost","Total Cost",null,"Rate (max)","Cost (max)","Modified price","Tendered rate","Tendered total"]
[]
[" ","REPB47886","ENERGY EFFICIENY","H"]
[null,"REPB47886","ENERGY EFFICIENY","D","Contractor to access and undertake survey of loft space in accordance with the Project Brief in order to assess level of current loft insulation. Including submittion of a survey report supported by photographic evidance to CM/PM. Where insulation levels are less then 200mm, Contractor to provide cost proposal to upgrade insulation in accordance with NHF SoR Planned Maintenance Version 6.2.",null,null,9.1,null,"ADD001","IT",1,null,null,null,{"$f":"SUMIF('Planned Maint v6.2 CSV File'!A:A,J9,'Planned Maint v6.2 CSV File'!I:I)","v":0},{"$f":"IF(J9=\"PROV SUM\",N9,L9*P9)","v":0},{"$f":"IF(J9=\"Prov Sum\",\"\",IF(MATCH(J9,'Packet Rate Library'!J:J,0),VLOOKUP(J9,'Packet Rate Library'!J:T,9,FALSE),\"\"))","v":0},{"$f":"IF(R9>0,R9,P9)","v":0},{"$f":"IF(J9=\"SC024\",N9,IF(ISERROR(S9),\"\",IF(J9=\"PROV SUM\",N9,L9*S9)))","v":0}]
[null,"REPB47886","ENERGY EFFICIENY","D","Insulation:Supply and lay ne 270mm thick insulation quilt to loft area including gain access and moving/replacing contents within loft area in order to undertake work. Item 2270AA",null,null,9.1999999999999993,null,"2270AA","SM",46.04,10.86,{"$f":"M10*L10","v":499.99439999999998},null,{"$f":"SUMIF('Planned Maint v6.2 CSV File'!A:A,J10,'Planned Maint v6.2 CSV File'!I:I)","v":8.6880000000000006},{"$f":"IF(J10=\"PROV SUM\",N10,L10*P10)","v":399.99552},{"$f":"IF(J10=\"Prov Sum\",\"\",IF(MATCH(J10,'Packet Rate Library'!J:J,0),VLOOKUP(J10,'Packet Rate Library'!J:T,9,FALSE),\"\"))","v":0},{"$f":"IF(R10>0,R10,P10)","v":8.6880000000000006},{"$f":"IF(J10=\"SC024\",N10,IF(ISERROR(S10),\"\",IF(J10=\"PROV SUM\",N10,L10*S10)))","v":399.99552}]
[null,"REPB47886","ASBESTOS","H"]
[null,"REPB47886","ASBESTOS","D","Refurbishment and Demolition  Survey to Full Property (with upto 5 Nr samples) , flat or house any size",null,null,1.3,null,"A003","Item",1,234,234,null,{"$f":"SUMIF('Planned Maint v6.2 CSV File'!A:A,J12,'Planned Maint v6.2 CSV File'!I:I)","v":222.29999999999998},{"$f":"IF(J12=\"PROV SUM\",N12,L12*P12)","v":222.29999999999998},{"$f":"IF(J12=\"Prov Sum\",\"\",IF(MATCH(J12,'Packet Rate Library'!J:J,0),VLOOKUP(J12,'Packet Rate Library'!J:T,9,FALSE),\"\"))","v":0},{"$f":"IF(R12>0,R12,P12)","v":222.29999999999998},{"$f":"IF(J12=\"SC024\",N12,IF(ISERROR(S12),\"\",IF(J12=\"PROV SUM\",N12,L12*S12)))","v":222.29999999999998}]
[null,"REPB47886","COMMUNAL WORKS","H"]
[null,"REPB47886","COMMUNAL WORKS","D","Hall: Thoroughly clean down all wall and ceiling surfaces to common areas to remove dirt, grease and surface containments, scrape and remove all loose and defective coatings, prime bare areas with one coat of fire retardant primer and apply two coats of Class ‘O’ fire retardant matt paint, prepare and apply two coats of polyurethane lacquer or one undercoat and one gloss coat to all previously decorated timber surfaces to lobby, hall or corridor over 3.00sm ceiling area complete (classified as a single area).",null,null,5.0999999999999996,null,"4540AC","IT",1,480,480,null,{"$f":"SUMIF('Planned Maint v6.2 CSV File'!A:A,J14,'Planned Maint v6.2 CSV File'!I:I)","v":408},{"$f":"IF(J14=\"PROV SUM\",N14,L14*P14)","v":408},{"$f":"IF(J14=\"Prov Sum\",\"\",IF(MATCH(J14,'Packet Rate Library'!J:J,0),VLOOKUP(J14,'Packet Rate Library'!J:T,9,FALSE),\"\"))","v":0},{"$f":"IF(R14>0,R14,P14)","v":408},{"$f":"IF(J14=\"SC024\",N14,IF(ISERROR(S14),\"\",IF(J14=\"PROV SUM\",N14,L14*S14)))","v":408}]
[null,"REPB47886","EXTREP","H"]
[null,"REPB47886","EXTREP","D","Wall: Rake out existing joints of brickwork min 12mm and repoint brickwork in mortar to match existing and remove waste and debris.",null,null,6.91,null,"1021AA","SM",2,20.13,40.26,null,{"$f":"SUMIF('Planned Maint v6.2 CSV File'!A:A,J16,'Planned Maint v6.2 CSV File'!I:I)","v":14.594249999999999},{"$f":"IF(J16=\"PROV SUM\",N16,L16*P16)","v":29.188499999999998},{"$f":"IF(J16=\"Prov Sum\",\"\",IF(MATCH(J16,'Packet Rate Library'!J:J,0),VLOOKUP(J16,'Packet Rate Library'!J:T,9,FALSE),\"\"))","v":0},{"$f":"IF(R16>0,R16,P16)","v":14.594249999999999},{"$f":"IF(J16=\"SC024\",N16,IF(ISERROR(S16),\"\",IF(J16=\"PROV SUM\",N16,L16*S16)))","v":29.188499999999998}]
[null,"REPB47886","EXTREP","D","Walls: Wash down, fill in cracks and holes, sand down and apply one undercoat and one coat of gloss paint to rendered or concrete walls.",null,null,6.1970000000000303,null,"4361AB","SM",6,15.71,94.26,null,{"$f":"SUMIF('Planned Maint v6.2 CSV File'!A:A,J17,'Planned Maint v6.2 CSV File'!I:I)","v":13.3535},80.121000000000009,{"$f":"IF(J17=\"Prov Sum\",\"\",IF(MATCH(J17,'Packet Rate Library'!J:J,0),VLOOKUP(J17,'Packet Rate Library'!J:T,9,FALSE),\"\"))","v":0},13.3535,80.121000000000009]
[null,"REPB47886","EXTREP","D","Balustrading: Wire brush, prepare for and apply one coat of primer, one undercoat, two coats of gloss paint on ornamental metal balustrading, railings or gates (measured both sides).",null,null,6.2040000000000299,null,"4362EA","SM",5,20.51,102.55,null,{"$f":"SUMIF('Planned Maint v6.2 CSV File'!A:A,J18,'Planned Maint v6.2 CSV File'!I:I)","v":17.433500000000002},87.167500000000018,{"$f":"IF(J18=\"Prov Sum\",\"\",IF(MATCH(J18,'Packet Rate Library'!J:J,0),VLOOKUP(J18,'Packet Rate Library'!J:T,9,FALSE),\"\"))","v":0},17.433500000000002,87.167500000000018]
[null,"REPB47886","EXTREP","D","Window: Rub down, prepare and apply one coat of primer, one undercoat and two coats of gloss paint on surfaces of wooden windowsl (one side and edges).",null,null,6.2360000000000504,null,"4380BA","SM",10,25.87,258.7,null,{"$f":"SUMIF('Planned Maint v6.2 CSV File'!A:A,J19,'Planned Maint v6.2 CSV File'!I:I)","v":21.9895},219.89499999999998,{"$f":"IF(J19=\"Prov Sum\",\"\",IF(MATCH(J19,'Packet Rate Library'!J:J,0),VLOOKUP(J19,'Packet Rate Library'!J:T,9,FALSE),\"\"))","v":0},21.9895,219.89499999999998]
[null,"REPB47886","EXTREP","D","Frame: Rub down, prepare and apply one coat of primer, one undercoat and two coats of gloss paint on timber frame ne 300mm girth.",null,null,6.2370000000000498,null,"4380CA","LM",14,6.28,87.92,null,{"$f":"SUMIF('Planned Maint v6.2 CSV File'!A:A,J20,'Planned Maint v6.2 CSV File'!I:I)","v":5.3380000000000001},74.731999999999999,{"$f":"IF(J20=\"Prov Sum\",\"\",IF(MATCH(J20,'Packet Rate Library'!J:J,0),VLOOKUP(J20,'Packet Rate Library'!J:T,9,FALSE),\"\"))","v":0},5.3380000000000001,74.731999999999999]
[null,"REPB47886","EXTREP","D","Door: Rub down, prepare for and apply one coat of primer, one undercoat and two coats of gloss paint to all surfaces of any size or type of single glazed timber door. (one sides and edges).",null,null,6.2380000000000502,null,"4380DA","IT",3,20.71,62.13,null,{"$f":"SUMIF('Planned Maint v6.2 CSV File'!A:A,J21,'Planned Maint v6.2 CSV File'!I:I)","v":17.6035},52.810500000000005,{"$f":"IF(J21=\"Prov Sum\",\"\",IF(MATCH(J21,'Packet Rate Library'!J:J,0),VLOOKUP(J21,'Packet Rate Library'!J:T,9,FALSE),\"\"))","v":0},17.6035,52.810500000000005]
[null,"REPB47886","ROOF","H"]
[null,"REPB47886"]
[null,"REPB47886","WINDOWS","H"]
[null,"REPB47886","WINDOWS","D","Window: Overhaul timber casement window, dismantle as necessary and subsequently reassemble including freeing, easing and adjusting casements to give correct operation, renew sealing gaskets, renew fixing screws, remove, refit or renew ironmongery as necessary, rake out and renew defective putty and mastic, touch up decorations internally to match existing and prepare for redecoration externally, and remove waste and debris.",null,null,4.8899999999999801,null,"3150BA","NO",2,29.05,58.1,null,{"$f":"SUMIF('Planned Maint v6.2 CSV File'!A:A,J25,'Planned Maint v6.2 CSV File'!I:I)","v":25.752824999999998},{"$f":"IF(J25=\"PROV SUM\",N25,L25*P25)","v":51.505649999999996},{"$f":"IF(J25=\"Prov Sum\",\"\",IF(MATCH(J25,'Packet Rate Library'!J:J,0),VLOOKUP(J25,'Packet Rate Library'!J:T,9,FALSE),\"\"))","v":0},{"$f":"IF(R25>0,R25,P25)","v":25.752824999999998},{"$f":"IF(J25=\"SC024\",N25,IF(ISERROR(S25),\"\",IF(J25=\"PROV SUM\",N25,L25*S25)))","v":51.505649999999996}]
[null,"REPB47886","WINDOWS","D","Window: Overhaul timber sash window, renew staff and parting beads, take out sashes and later rehang on appropriate sized new undyed plaited nylon sash cords, renew pocket pieces, wedge and cramp loose sash frames, oil pulleys, ease and adjust sashes, remove, refit or renew ironmongery, rake out and renew defective putty and mastic, touch up decorations internally to match existing and prepare for redecoration externally, and remove waste and debris.",null,null,4.8999999999999799,null,"3150CA","NO",5,35.61,178.05,null,{"$f":"SUMIF('Planned Maint v6.2 CSV File'!A:A,J26,'Planned Maint v6.2 CSV File'!I:I)","v":31.568264999999997},{"$f":"IF(J26=\"PROV SUM\",N26,L26*P26)","v":157.84132499999998},{"$f":"IF(J26=\"Prov Sum\",\"\",IF(MATCH(J26,'Packet Rate Library'!J:J,0),VLOOKUP(J26,'Packet Rate Library'!J:T,9,FALSE),\"\"))","v":0},{"$f":"IF(R26>0,R26,P26)","v":31.568264999999997},{"$f":"IF(J26=\"SC024\",N26,IF(ISERROR(S26),\"\",IF(J26=\"PROV SUM\",N26,L26*S26)))","v":157.84132499999998}]
[null,"REPB47886","SCAFFOLD","H"]
[null,"REPB47886","SCAFFOLD","D","Standard Scaffold item: erect; dismantle; basic independent tied working scaffolding; 5 boards wide, including hire period; completely accessible; debris netting to all elevations; double boarded and polythene included as necessary, any fan(s) included as required; rope plus wheel for lifting operations; 3rd handrail included whenever necessary; as per applicable regulations (applies to up to 5 storeys). Measured up to second handrail and by the middle of the scaffold (equidistant from the inside/outside face) including design when required. Rate to include for 12 week hire",null,null,2.1,null,"SC001","M2",140,12.92,1808.8,null,{"$f":"SUMIF('Planned Maint v6.2 CSV File'!A:A,J28,'Planned Maint v6.2 CSV File'!I:I)","v":16.4084},{"$f":"IF(J28=\"PROV SUM\",N28,L28*P28)","v":2297.1759999999999},{"$f":"IF(J28=\"Prov Sum\",\"\",IF(MATCH(J28,'Packet Rate Library'!J:J,0),VLOOKUP(J28,'Packet Rate Library'!J:T,9,FALSE),\"\"))","v":0},{"$f":"IF(R28>0,R28,P28)","v":16.4084},{"$f":"IF(J28=\"SC024\",N28,IF(ISERROR(S28),\"\",IF(J28=\"PROV SUM\",N28,L28*S28)))","v":2297.1759999999999}]
[null,"REPB47886","SCAFFOLD","D","Scaffold alarm - 1 x sounder, 2 x PIR 1 X key pad (Divided by Number of properties if continuous scaffolds)",null,null,2.5,null,"SC005","unit",1,420,420,null,{"$f":"SUMIF('Planned Maint v6.2 CSV File'!A:A,J29,'Planned Maint v6.2 CSV File'!I:I)","v":533.4},{"$f":"IF(J29=\"PROV SUM\",N29,L29*P29)","v":533.4},{"$f":"IF(J29=\"Prov Sum\",\"\",IF(MATCH(J29,'Packet Rate Library'!J:J,0),VLOOKUP(J29,'Packet Rate Library'!J:T,9,FALSE),\"\"))","v":0},{"$f":"IF(R29>0,R29,P29)","v":533.4},{"$f":"IF(J29=\"SC024\",N29,IF(ISERROR(S29),\"\",IF(J29=\"PROV SUM\",N29,L29*S29)))","v":533.4}]
[null,"REPB47886","SCAFFOLD","D","E/O for additional PIRS",null,null,2.6,null,"SC007","unit",1,50,50,null,{"$f":"SUMIF('Planned Maint v6.2 CSV File'!A:A,J30,'Planned Maint v6.2 CSV File'!I:I)","v":63.5},{"$f":"IF(J30=\"PROV SUM\",N30,L30*P30)","v":63.5},{"$f":"IF(J30=\"Prov Sum\",\"\",IF(MATCH(J30,'Packet Rate Library'!J:J,0),VLOOKUP(J30,'Packet Rate Library'!J:T,9,FALSE),\"\"))","v":0},{"$f":"IF(R30>0,R30,P30)","v":63.5},{"$f":"IF(J30=\"SC024\",N30,IF(ISERROR(S30),\"\",IF(J30=\"PROV SUM\",N30,L30*S30)))","v":63.5}]
[null,"REPB47886","SCAFFOLD","D","Scaffold taken through property (protection to surfaces included)",null,null,2.16,null,"SC016","unit",1,379.8,379.8,null,{"$f":"SUMIF('Planned Maint v6.2 CSV File'!A:A,J31,'Planned Maint v6.2 CSV File'!I:I)","v":482.346},{"$f":"IF(J31=\"PROV SUM\",N31,L31*P31)","v":482.346},{"$f":"IF(J31=\"Prov Sum\",\"\",IF(MATCH(J31,'Packet Rate Library'!J:J,0),VLOOKUP(J31,'Packet Rate Library'!J:T,9,FALSE),\"\"))","v":0},{"$f":"IF(R31>0,R31,P31)","v":482.346},{"$f":"IF(J31=\"SC024\",N31,IF(ISERROR(S31),\"\",IF(J31=\"PROV SUM\",N31,L31*S31)))","v":482.346}]
[null,"REPB47886","SCAFFOLD","D","Additional Hire if required - % per week of total scaffolding costs.  This is to be applied in the event an agreed programme exceeding the duration set out above. An example would be large low level blocks of 4 storeys requiring a large programme duration",null,null,null,null,"SC024","unit",null,4.8300000000000003E-2,{"$f":"VLOOKUP(B32,'Project Overheads & Scaffold'!$W:$AI,13,FALSE)","v":0},null,{"$f":"SUMIF('Planned Maint v6.2 CSV File'!A:A,J32,'Planned Maint v6.2 CSV File'!I:I)","v":4.8300000000000003E-2},{"$f":"IF(J32=\"PROV SUM\",N32,L32*P32)","v":0},{"$f":"IF(J32=\"Prov Sum\",\"\",IF(MATCH(J32,'Packet Rate Library'!J:J,0),VLOOKUP(J32,'Packet Rate Library'!J:T,9,FALSE),\"\"))","v":{"$error":"#N/A"}},{"$f":"IF(R32>0,R32,P32)","v":{"$error":"#N/A"}},{"$f":"IF(J32=\"SC024\",N32,IF(ISERROR(S32),\"\",IF(J32=\"PROV SUM\",N32,L32*S32)))","v":0}]
[null,"REPB47886","ESTATE WORKS","H"]
[null,"REPB47886","FRA WORKS","H"]
[null,"REPB47886","FRA WORKS","D","Fire Alarm:Install L2 type fire alarm installation complete to BS5839:Part6 1995, control panel, circuits, call points, automatic detectors and sounders, builders work, make good, test, commission, and remove waste and debris.",null,null,93,null,"8711GA","Item",1,550,550,null,{"$f":"SUMIF('Planned Maint v6.2 CSV File'!A:A,J35,'Planned Maint v6.2 CSV File'!I:I)","v":440},{"$f":"IF(J35=\"PROV SUM\",N35,L35*P35)","v":440},{"$f":"IF(J35=\"Prov Sum\",\"\",IF(MATCH(J35,'Packet Rate Library'!J:J,0),VLOOKUP(J35,'Packet Rate Library'!J:T,9,FALSE),\"\"))","v":0},{"$f":"IF(R35>0,R35,P35)","v":440},{"$f":"IF(J35=\"SC024\",N35,IF(ISERROR(S35),\"\",IF(J35=\"PROV SUM\",N35,L35*S35)))","v":440}]
[null,"REPB47886","FRA WORKS","D","Intumescent Strip:Renew or supply and fix new 22x4mm intumescent strip, half hour application, with integral cold smoke seal and setting into groove in timber frame or door.",null,null,104,null,"3431AC","Item",2,3.44,6.88,null,{"$f":"SUMIF('Planned Maint v6.2 CSV File'!A:A,J36,'Planned Maint v6.2 CSV File'!I:I)","v":3.0495599999999996},6.0991199999999992,{"$f":"IF(J36=\"Prov Sum\",\"\",IF(MATCH(J36,'Packet Rate Library'!J:J,0),VLOOKUP(J36,'Packet Rate Library'!J:T,9,FALSE),\"\"))","v":0},3.0495599999999996,6.0991199999999992]
[null,"REPB47886","FRA WORKS","D","Smoke Detector:Renew existing with mains operated optical smoke detector with rechargeable DC battery or condensor back up self contained type to BS 5446 kitemark certified with hush button, including back plate and all necessary connections to existing wiring, test and make good on completion, where interlinked detectors are replaced new detectors must be compatible with existing, and remove waste and debris.",null,null,115,null,"8720FA","Item",2,70.11,140.22,null,{"$f":"SUMIF('Planned Maint v6.2 CSV File'!A:A,J37,'Planned Maint v6.2 CSV File'!I:I)","v":56.088000000000001},112.176,{"$f":"IF(J37=\"Prov Sum\",\"\",IF(MATCH(J37,'Packet Rate Library'!J:J,0),VLOOKUP(J37,'Packet Rate Library'!J:T,9,FALSE),\"\"))","v":0},56.088000000000001,112.176]
[null,"REPB47886","FRA WORKS","D","Closer:Renew or supply and fix Perko type concealed door closer screwed to door and frame, including remove and refix door or door stop as necessary.",null,null,175,null,"3905BA","Item",2,9.81,19.62,null,{"$f":"SUMIF('Planned Maint v6.2 CSV File'!A:A,J38,'Planned Maint v6.2 CSV File'!I:I)","v":8.6965649999999997},17.393129999999999,{"$f":"IF(J38=\"Prov Sum\",\"\",IF(MATCH(J38,'Packet Rate Library'!J:J,0),VLOOKUP(J38,'Packet Rate Library'!J:T,9,FALSE),\"\"))","v":0},8.6965649999999997,17.393129999999999]
[null,"REPB47886","FRA WORKS","D","Test:Carry out test of domestic installation to occupied property complete comprising continuity, insulation resistance, polarity, earth fault loop impedance and operation of residual current operated device, disconnect, repair and renew as necessary after removal of illegal wiring and components, and provide report and NICEIC/ECA test certificate to the Client’s Representative, and remove waste and debris.",null,null,186,null,"8950AA","Item",1,86.88,86.88,null,{"$f":"SUMIF('Planned Maint v6.2 CSV File'!A:A,J39,'Planned Maint v6.2 CSV File'!I:I)","v":69.504000000000005},69.504000000000005,{"$f":"IF(J39=\"Prov Sum\",\"\",IF(MATCH(J39,'Packet Rate Library'!J:J,0),VLOOKUP(J39,'Packet Rate Library'!J:T,9,FALSE),\"\"))","v":0},69.504000000000005,69.504000000000005]
[null,"REPB47886","FRA WORKS","D","Provisional Sum: Allow provisional sum for additional works to the fire alarm system.",null,null,190,null,"PROV SUM","Item",1,1500,1500,null,{"$f":"SUMIF('Planned Maint v6.2 CSV File'!A:A,J40,'Planned Maint v6.2 CSV File'!I:I)","v":0},1500,{"$f":"IF(J40=\"Prov Sum\",\"\",IF(MATCH(J40,'Packet Rate Library'!J:J,0),VLOOKUP(J40,'Packet Rate Library'!J:T,9,FALSE),\"\"))","v":""},"",1500]
[null,"REPB47886","FRA WORKS","D","Provisional Sum: Allow provisional sum for additional works to clear waste and debris from fire escape routes. ",null,null,191,null,"PROV SUM","Item",1,100,100,null,{"$f":"SUMIF('Planned Maint v6.2 CSV File'!A:A,J41,'Planned Maint v6.2 CSV File'!I:I)","v":0},100,{"$f":"IF(J41=\"Prov Sum\",\"\",IF(MATCH(J41,'Packet Rate Library'!J:J,0),VLOOKUP(J41,'Packet Rate Library'!J:T,9,FALSE),\"\"))","v":""},"",100]
[null,"REPB47886","FRA WORKS","D","Provisional Sum: Allow provisional sum for additional fire stopping works",null,null,192,null,"PROV SUM","Item",1,100,100,null,{"$f":"SUMIF('Planned Maint v6.2 CSV File'!A:A,J42,'Planned Maint v6.2 CSV File'!I:I)","v":0},100,{"$f":"IF(J42=\"Prov Sum\",\"\",IF(MATCH(J42,'Packet Rate Library'!J:J,0),VLOOKUP(J42,'Packet Rate Library'!J:T,9,FALSE),\"\"))","v":""},"",100]
[null,"REPB47886","FRA WORKS","D","Provisional Sum: Allow provisional sum for additional signage",null,null,193,null,"PROV SUM","Item",1,100,100,null,{"$f":"SUMIF('Planned Maint v6.2 CSV File'!A:A,J43,'Planned Maint v6.2 CSV File'!I:I)","v":0},100,{"$f":"IF(J43=\"Prov Sum\",\"\",IF(MATCH(J43,'Packet Rate Library'!J:J,0),VLOOKUP(J43,'Packet Rate Library'!J:T,9,FALSE),\"\"))","v":""},"",100]
[null,"REPB47886","FRA WORKS","D","Provisional Sum: Allow provisional sum for additional electrical works",null,null,194,null,"PROV SUM","Item",1,350,350,null,{"$f":"SUMIF('Planned Maint v6.2 CSV File'!A:A,J44,'Planned Maint v6.2 CSV File'!I:I)","v":0},350,{"$f":"IF(J44=\"Prov Sum\",\"\",IF(MATCH(J44,'Packet Rate Library'!J:J,0),VLOOKUP(J44,'Packet Rate Library'!J:T,9,FALSE),\"\"))","v":""},"",350]